{"text_format":"3","workbook":"xlsx","n_sheets":5,"sheets":["Ek.3-B","Ek.3-C","Ek.3-A","Ek.3-D","Veriler"],"not_rendered":{"images":1,"defined_names":3},"read":"whole","date_system":"1900"}

{"sheet":"Ek.3-B","index":0,"n_rows":134,"n_cols":14,"rows_kept":134,"merged":[[1,0,1,13],[2,0,2,13],[3,0,4,0],[3,1,3,5],[3,6,31,6],[3,7,4,7],[3,8,3,13],[31,0,31,4],[31,7,31,12],[35,0,35,13],[36,0,36,13],[37,0,38,0],[37,1,37,5],[37,6,65,6],[37,7,38,7],[37,8,37,13],[65,0,65,4],[65,7,65,12],[69,0,69,13],[70,0,70,13],[71,0,72,0],[71,1,71,5],[71,6,99,6],[71,7,72,7],[71,8,71,13],[99,0,99,4],[99,7,99,12],[103,0,103,13],[104,0,104,13],[105,0,106,0],[105,1,105,5],[105,6,133,6],[105,7,106,7],[105,8,105,13],[133,0,133,4],[133,7,133,12],[135,0,135,13]]}
[{"$nulls":13},"Ek.3-B / 1"]
["YERLİ KATKI ORANI HESAP CETVELİ                                "]
["B)  Nihai Ürün Doğrudan ve Dolaylı İşçilik Giderleri                                                                                                                                                                                                                                                                                                                                                                                        S / 1"]
["Sıra No","Yerli Girdi",{"$nulls":5},"Sıra No","İthal Girdi"]
[null,"işçilik ","a=Miktar ","Birim","b=Fiyatı(TL)","c= axb= İşçilik Maliyet Tutarı (TL)",null,null,"İşçilik","a=Miktar ","Birim","b=Fiyatı \n(Döviz cinsinden)\n","c=Döviz Kuru","d= axbxc =İşçilik Maliyet Tutarı (TL)"]
[null,"Doğrudan",{"$nulls":6},"Doğrudan"]
[1,{"$nulls":4},{"$f":"IF(C7*E7 = 0, \"\", C7*E7)","v":""},null,1,{"$nulls":5},{"$f":"IF(J7*L7*M7 = 0, \"\", J7*L7*M7)","v":""}]
[2,{"$nulls":4},{"$f":"IF(C8*E8 = 0, \"\", C8*E8)","v":""},null,2,{"$nulls":5},""]
[3,{"$nulls":4},"",null,3,{"$nulls":5},""]
[4,{"$nulls":4},"",null,4,{"$nulls":5},""]
[5,{"$nulls":4},"",null,5,{"$nulls":5},""]
[6,{"$nulls":4},"",null,6,{"$nulls":5},""]
[7,{"$nulls":4},"",null,7,{"$nulls":5},""]
[8,{"$nulls":4},"",null,8,{"$nulls":5},""]
[9,{"$nulls":4},"",null,9,{"$nulls":5},""]
[10,{"$nulls":4},"",null,10,{"$nulls":5},""]
[11,{"$nulls":4},"",null,11,{"$nulls":5},""]
[12,{"$nulls":4},"",null,12,{"$nulls":5},""]
[null,"Dolaylı",{"$nulls":6},"Dolaylı"]
[1,{"$nulls":4},{"$f":"IF(C20*E20 = 0, \"\", C20*E20)","v":""},null,1,{"$nulls":5},""]
[2,{"$nulls":4},{"$f":"IF(C21*E21 = 0, \"\", C21*E21)","v":""},null,2,{"$nulls":5},""]
[3,{"$nulls":4},"",null,3,{"$nulls":5},""]
[4,{"$nulls":4},"",null,4,{"$nulls":5},""]
[5,{"$nulls":4},"",null,5,{"$nulls":5},""]
[6,{"$nulls":4},"",null,6,{"$nulls":5},""]
[7,{"$nulls":4},"",null,7,{"$nulls":5},""]
[8,{"$nulls":4},"",null,8,{"$nulls":5},""]
[9,{"$nulls":4},"",null,9,{"$nulls":5},""]
[10,{"$nulls":4},"",null,10,{"$nulls":5},""]
[11,{"$nulls":4},"",null,11,{"$nulls":5},""]
[12,{"$nulls":4},"",null,12,{"$nulls":5},""]
["Sayfa Toplamı (TL) T3  *(Genel Dip Toplam Ek.3-D sayfasında otomatik hesaplanacaktır.)",{"$nulls":4},{"$f":"IF(SUM(F7:F18,F20:F31)=0,\" \",SUM(F7:F18,F20:F31))","v":" "},null,"Sayfa Toplamı (TL) T4  *(Genel Dip Toplam Ek.3-D sayfasında otomatik hesaplanacaktır.)",{"$nulls":5},{"$f":"IF(SUM(N7:N18,N20:N31)=0,\" \",SUM(N7:N18,N20:N31))","v":" "}]
[]
[]
[]
["YERLİ KATKI ORANI HESAP CETVELİ                                "]
["B)  Nihai Ürün Doğrudan ve Dolaylı İşçilik Giderleri                                                                                                                                                                                                                                                                                                                                                                                        S / 2"]
["Sıra No","Yerli Girdi",{"$nulls":5},"Sıra No","İthal Girdi"]
[null,"işçilik ","a=Miktar ","Birim","b=Fiyatı(TL)","c= axb= İşçilik Maliyet Tutarı (TL)",null,null,"İşçilik","a=Miktar ","Birim","b=Fiyatı \n(Döviz cinsinden)\n","c=Döviz Kuru","d= axbxc =İşçilik Maliyet Tutarı (TL)"]
[null,"Doğrudan",{"$nulls":6},"Doğrudan"]
[{"$f":"A31+1","v":13},{"$nulls":4},{"$f":"IF(C41*E41 = 0, \"\", C41*E41)","v":""},null,{"$f":"H31+1","v":13},{"$nulls":5},{"$f":"IF(J41*L41*M41 = 0, \"\", J41*L41*M41)","v":""}]
[{"$f":"A41+1","v":14},{"$nulls":4},{"$f":"IF(C42*E42 = 0, \"\", C42*E42)","v":""},null,{"$f":"H41+1","v":14},{"$nulls":5},""]
[{"$f":"A42+1","v":15},{"$nulls":4},"",null,{"$f":"H42+1","v":15},{"$nulls":5},""]
[{"$f":"A43+1","v":16},{"$nulls":4},"",null,{"$f":"H43+1","v":16},{"$nulls":5},""]
[17,{"$nulls":4},"",null,17,{"$nulls":5},""]
[18,{"$nulls":4},"",null,18,{"$nulls":5},""]
[19,{"$nulls":4},"",null,19,{"$nulls":5},""]
[20,{"$nulls":4},"",null,20,{"$nulls":5},""]
[21,{"$nulls":4},"",null,21,{"$nulls":5},""]
[22,{"$nulls":4},"",null,22,{"$nulls":5},""]
[23,{"$nulls":4},"",null,23,{"$nulls":5},""]
[24,{"$nulls":4},"",null,24,{"$nulls":5},""]
[null,"Dolaylı",{"$nulls":6},"Dolaylı"]
[{"$f":"A31+1","v":13},{"$nulls":4},{"$f":"IF(C54*E54 = 0, \"\", C54*E54)","v":""},null,{"$f":"H31+1","v":13},{"$nulls":5},""]
[{"$f":"A54+1","v":14},{"$nulls":4},{"$f":"IF(C55*E55 = 0, \"\", C55*E55)","v":""},null,{"$f":"H54+1","v":14},{"$nulls":5},""]
[{"$f":"A55+1","v":15},{"$nulls":4},"",null,{"$f":"H55+1","v":15},{"$nulls":5},""]
[{"$f":"A56+1","v":16},{"$nulls":4},"",null,{"$f":"H56+1","v":16},{"$nulls":5},""]
[17,{"$nulls":4},"",null,17,{"$nulls":5},""]
[18,{"$nulls":4},"",null,18,{"$nulls":5},""]
[19,{"$nulls":4},"",null,19,{"$nulls":5},""]
[20,{"$nulls":4},"",null,20,{"$nulls":5},""]
[21,{"$nulls":4},"",null,21,{"$nulls":5},""]
[22,{"$nulls":4},"",null,22,{"$nulls":5},""]
[23,{"$nulls":4},"",null,23,{"$nulls":5},""]
[24,{"$nulls":4},"",null,24,{"$nulls":5},""]
["Sayfa Toplamı (TL) T3  *(Genel Dip Toplam Ek.3-D sayfasında otomatik hesaplanacaktır.)",{"$nulls":4},{"$f":"IF(SUM(F41:F52,F54:F65)=0,\" \",SUM(F41:F52,F54:F65))","v":" "},null,"Sayfa Toplamı (TL) T4  *(Genel Dip Toplam Ek.3-D sayfasında otomatik hesaplanacaktır.)",{"$nulls":5},{"$f":"IF(SUM(N41:N52,N54:N65)=0,\" \",SUM(N41:N52,N54:N65))","v":" "}]
[]
[]
[]
["YERLİ KATKI ORANI HESAP CETVELİ                                "]
["B)  Nihai Ürün Doğrudan ve Dolaylı İşçilik Giderleri                                                                                                                                                                                                                                                                                                                                                                                       S / 3"]
["Sıra No","Yerli Girdi",{"$nulls":5},"Sıra No","İthal Girdi"]
[null,"işçilik ","a=Miktar ","Birim","b=Fiyatı(TL)","c= axb= İşçilik Maliyet Tutarı (TL)",null,null,"İşçilik","a=Miktar ","Birim","b=Fiyatı \n(Döviz cinsinden)\n","c=Döviz Kuru","d= axbxc =İşçilik Maliyet Tutarı (TL)"]
[null,"Doğrudan",{"$nulls":6},"Doğrudan"]
[{"$f":"A65+1","v":25},{"$nulls":4},{"$f":"IF(C75*E75 = 0, \"\", C75*E75)","v":""},null,{"$f":"H65+1","v":25},{"$nulls":5},{"$f":"IF(J75*L75*M75 = 0, \"\", J75*L75*M75)","v":""}]
[{"$f":"A75+1","v":26},{"$nulls":4},"",null,{"$f":"H75+1","v":26},{"$nulls":5},""]
[{"$f":"A76+1","v":27},{"$nulls":4},"",null,{"$f":"H76+1","v":27},{"$nulls":5},""]
[{"$f":"A77+1","v":28},{"$nulls":4},"",null,{"$f":"H77+1","v":28},{"$nulls":5},""]
[29,{"$nulls":4},"",null,29,{"$nulls":5},""]
[30,{"$nulls":4},"",null,30,{"$nulls":5},""]
[31,{"$nulls":4},"",null,31,{"$nulls":5},""]
[32,{"$nulls":4},"",null,32,{"$nulls":5},""]
[33,{"$nulls":4},"",null,33,{"$nulls":5},""]
[34,{"$nulls":4},"",null,34,{"$nulls":5},""]
[35,{"$nulls":4},"",null,35,{"$nulls":5},""]
[36,{"$nulls":6},36,{"$nulls":5},""]
[null,"Dolaylı",{"$nulls":6},"Dolaylı"]
[{"$f":"A65+1","v":25},{"$nulls":4},{"$f":"IF(C88*E88 = 0, \"\", C88*E88)","v":""},null,{"$f":"H65+1","v":25},{"$nulls":5},""]
[{"$f":"A88+1","v":26},{"$nulls":4},"",null,{"$f":"H88+1","v":26},{"$nulls":5},""]
[{"$f":"A89+1","v":27},{"$nulls":4},"",null,{"$f":"H89+1","v":27},{"$nulls":5},""]
[{"$f":"A90+1","v":28},{"$nulls":4},"",null,{"$f":"H90+1","v":28},{"$nulls":5},""]
[29,{"$nulls":4},"",null,29,{"$nulls":5},""]
[30,{"$nulls":4},"",null,30,{"$nulls":5},""]
[31,{"$nulls":4},"",null,31,{"$nulls":5},""]
[32,{"$nulls":4},"",null,32,{"$nulls":5},""]
[33,{"$nulls":4},"",null,33,{"$nulls":5},""]
[34,{"$nulls":4},"",null,34,{"$nulls":5},""]
[35,{"$nulls":4},"",null,35,{"$nulls":5},""]
[36,{"$nulls":4},"",null,36,{"$nulls":5},""]
["Sayfa Toplamı (TL) T3  *(Genel Dip Toplam Ek.3-D sayfasında otomatik hesaplanacaktır.)",{"$nulls":4},{"$f":"IF(SUM(F75:F86,F88:F99)=0,\" \",SUM(F75:F86,F88:F99))","v":" "},null,"Sayfa Toplamı (TL) T4  *(Genel Dip Toplam Ek.3-D sayfasında otomatik hesaplanacaktır.)",{"$nulls":5},{"$f":"IF(SUM(N75:N86,N88:N99)=0,\" \",SUM(N75:N86,N88:N99))","v":" "}]
[]
[]
[]
["YERLİ KATKI ORANI HESAP CETVELİ                                "]
["B)  Nihai Ürün Doğrudan ve Dolaylı İşçilik Giderleri                                                                                                                                                                                                                                                                                                                                                                                        S / 4"]
["Sıra No","Yerli Girdi",{"$nulls":5},"Sıra No","İthal Girdi"]
[null,"işçilik ","a=Miktar ","Birim","b=Fiyatı(TL)","c= axb= İşçilik Maliyet Tutarı (TL)",null,null,"İşçilik","a=Miktar ","Birim","b=Fiyatı \n(Döviz cinsinden)\n","c=Döviz Kuru","d= axbxc =İşçilik Maliyet Tutarı (TL)"]
[null,"Doğrudan",{"$nulls":6},"Doğrudan"]
[{"$f":"A99+1","v":37},{"$nulls":4},{"$f":"IF(C109*E109 = 0, \"\", C109*E109)","v":""},null,{"$f":"H99+1","v":37},{"$nulls":5},{"$f":"IF(J109*L109*M109 = 0, \"\", J109*L109*M109)","v":""}]
[{"$f":"A109+1","v":38},{"$nulls":4},"",null,{"$f":"H109+1","v":38},{"$nulls":5},""]
[{"$f":"A110+1","v":39},{"$nulls":4},"",null,{"$f":"H110+1","v":39},{"$nulls":5},""]
[{"$f":"A111+1","v":40},{"$nulls":4},"",null,{"$f":"H111+1","v":40},{"$nulls":5},""]
[41,{"$nulls":4},"",null,41,{"$nulls":5},""]
[42,{"$nulls":4},"",null,42,{"$nulls":5},""]
[43,{"$nulls":4},"",null,43,{"$nulls":5},""]
[44,{"$nulls":4},"",null,44,{"$nulls":5},""]
[45,{"$nulls":4},"",null,45,{"$nulls":5},""]
[46,{"$nulls":4},"",null,46,{"$nulls":5},""]
[47,{"$nulls":4},"",null,47,{"$nulls":5},""]
[48,{"$nulls":6},48,{"$nulls":5},""]
[null,"Dolaylı",{"$nulls":6},"Dolaylı"]
[{"$f":"A99+1","v":37},{"$nulls":4},{"$f":"IF(C122*E122 = 0, \"\", C122*E122)","v":""},null,{"$f":"H99+1","v":37},{"$nulls":5},""]
[{"$f":"A122+1","v":38},{"$nulls":4},"",null,{"$f":"H122+1","v":38},{"$nulls":5},""]
[{"$f":"A123+1","v":39},{"$nulls":4},"",null,{"$f":"H123+1","v":39},{"$nulls":5},""]
[{"$f":"A124+1","v":40},{"$nulls":4},"",null,{"$f":"H124+1","v":40},{"$nulls":5},""]
[41,{"$nulls":4},"",null,41,{"$nulls":5},""]
[42,{"$nulls":4},"",null,42,{"$nulls":5},""]
[43,{"$nulls":4},"",null,43,{"$nulls":5},""]
[44,{"$nulls":4},"",null,44,{"$nulls":5},""]
[45,{"$nulls":4},"",null,45,{"$nulls":5},""]
[46,{"$nulls":4},"",null,46,{"$nulls":5},""]
[47,{"$nulls":4},"",null,47,{"$nulls":5},""]
[48,{"$nulls":4},"",null,48,{"$nulls":5},""]
["Sayfa Toplamı (TL) T3  *(Genel Dip Toplam Ek.3-D sayfasında otomatik hesaplanacaktır.)",{"$nulls":4},{"$f":"IF(SUM(F109:F120,F122:F133)=0,\" \",SUM(F109:F120,F122:F133))","v":" "},null,"Sayfa Toplamı (TL) T4  *(Genel Dip Toplam Ek.3-D sayfasında otomatik hesaplanacaktır.)",{"$nulls":5},{"$f":"IF(SUM(N109:N120,N122:N133)=0,\" \",SUM(N109:N120,N122:N133))","v":" "}]

{"sheet":"Ek.3-C","index":1,"n_rows":130,"n_cols":14,"rows_kept":130,"merged":[[1,0,1,13],[2,0,2,13],[3,0,4,0],[3,1,3,5],[3,6,30,6],[3,7,4,7],[3,8,3,13],[30,0,30,4],[30,7,30,12],[32,0,32,13],[34,0,34,13],[35,0,35,13],[36,0,37,0],[36,1,36,5],[36,6,63,6],[36,7,37,7],[36,8,36,13],[63,0,63,4],[63,7,63,12],[65,0,65,13],[67,0,67,13],[68,0,68,13],[69,0,70,0],[69,1,69,5],[69,6,96,6],[69,7,70,7],[69,8,69,13],[96,0,96,4],[96,7,96,12],[98,0,98,13],[100,0,100,13],[101,0,101,13],[102,0,103,0],[102,1,102,5],[102,6,129,6],[102,7,103,7],[102,8,102,13],[129,0,129,4],[129,7,129,12],[131,0,131,13]]}
[{"$nulls":13},"Ek.3-C / 1"]
["YERLİ KATKI ORANI HESAP CETVELİ                                               "]
["C) Nihai Ürün İle İlgili Genel Giderler                                                                                                                                                                                                                                                                                                                                                                                                                                                        S / 1"]
["Sıra No","Yerli Girdi",{"$nulls":5},"Sıra No","İthal Girdi*"]
[null,"Genel Gider Türü","a=Miktar ","Birim","b=Fiyatı(TL)","c= axb= Genel Gider Tutarı (TL)",null,null,"Genel Gider Türü","a=Miktar ","Birim","b=Fiyatı (Döviz cinsinden)","c=Döviz Kuru","d= axbxc= Genel Gider Tutarı (TL)"]
[1,{"$nulls":4},{"$f":"IF(C6*E6 = 0, \"\", C6*E6)","v":""},null,1,{"$nulls":5},{"$f":"IF(J6*L6*M6 = 0, \"\", J6*L6*M6)","v":""}]
[2,{"$nulls":4},{"$f":"IF(C7*E7 = 0, \"\", C7*E7)","v":""},null,2,{"$nulls":5},{"$f":"IF(J7*L7*M7 = 0, \"\", J7*L7*M7)","v":""}]
[3,{"$nulls":4},"",null,3,{"$nulls":5},""]
[4,{"$nulls":4},"",null,4,{"$nulls":5},""]
[5,{"$nulls":4},"",null,5,{"$nulls":5},""]
[6,{"$nulls":4},"",null,6,{"$nulls":5},""]
[7,{"$nulls":4},"",null,7,{"$nulls":5},""]
[8,{"$nulls":4},"",null,8,{"$nulls":5},""]
[9,{"$nulls":4},"",null,9,{"$nulls":5},""]
[10,{"$nulls":4},"",null,10,{"$nulls":5},""]
[11,{"$nulls":4},"",null,11,{"$nulls":5},""]
[12,{"$nulls":4},"",null,12,{"$nulls":5},""]
[13,{"$nulls":4},"",null,13,{"$nulls":5},""]
[14,{"$nulls":4},"",null,14,{"$nulls":5},""]
[15,{"$nulls":4},"",null,15,{"$nulls":5},""]
[16,{"$nulls":4},"",null,16,{"$nulls":5},""]
[17,{"$nulls":4},"",null,17,{"$nulls":5},""]
[18,{"$nulls":4},"",null,18,{"$nulls":5},""]
[19,{"$nulls":4},"",null,19,{"$nulls":5},""]
[20,{"$nulls":4},"",null,20,{"$nulls":5},""]
[21,{"$nulls":4},"",null,21,{"$nulls":5},""]
[22,{"$nulls":4},"",null,22,{"$nulls":5},""]
[23,{"$nulls":4},"",null,23,{"$nulls":5},""]
[24,{"$nulls":4},"",null,24,{"$nulls":5},""]
[25,{"$nulls":4},"",null,25,{"$nulls":5},""]
["Sayfa Toplamı (TL) T5  *(Genel Dip Toplam Ek.3-D sayfasında otomatik hesaplanacaktır.)",{"$nulls":4},{"$f":"IF(SUM(F6:F30)=0, \" \", SUM(F6:F30))","v":" "},null,"Sayfa Toplamı (TL) T6  *(Genel Dip Toplam Ek.3-D sayfasında otomatik hesaplanacaktır.)",{"$nulls":5},{"$f":"IF(SUM(N6:N30)=0, \" \", SUM(N6:N30))","v":" "}]
[]
[]
[{"$nulls":13},"Ek.3-C / 2"]
["YERLİ KATKI ORANI HESAP CETVELİ                                               "]
["C) Nihai Ürün İle İlgili Genel Giderler                                                                                                                                                                                                                                                                                                                                                                                                                                                        S / 2"]
["Sıra No","Yerli Girdi",{"$nulls":5},"Sıra No","İthal Girdi*"]
[null,"Genel Gider Türü","a=Miktar ","Birim","b=Fiyatı(TL)","c= axb= Genel Gider Tutarı (TL)",null,null,"Genel Gider Türü","a=Miktar ","Birim","b=Fiyatı (Döviz cinsinden)","c=Döviz Kuru","d= axbxc= Genel Gider Tutarı (TL)"]
[26,{"$nulls":4},{"$f":"IF(C39*E39 = 0, \"\", C39*E39)","v":""},null,26,{"$nulls":5},{"$f":"IF(J39*L39*M39 = 0, \"\", J39*L39*M39)","v":""}]
[27,{"$nulls":4},{"$f":"IF(C40*E40 = 0, \"\", C40*E40)","v":""},null,27,{"$nulls":5},""]
[28,{"$nulls":4},"",null,28,{"$nulls":5},""]
[29,{"$nulls":4},"",null,29,{"$nulls":5},""]
[30,{"$nulls":4},"",null,30,{"$nulls":5},""]
[31,{"$nulls":4},"",null,31,{"$nulls":5},""]
[32,{"$nulls":4},"",null,32,{"$nulls":5},""]
[33,{"$nulls":4},"",null,33,{"$nulls":5},""]
[34,{"$nulls":4},"",null,34,{"$nulls":5},""]
[35,{"$nulls":4},"",null,35,{"$nulls":5},""]
[36,{"$nulls":4},"",null,36,{"$nulls":5},""]
[37,{"$nulls":4},"",null,37,{"$nulls":5},""]
[38,{"$nulls":4},"",null,38,{"$nulls":5},""]
[39,{"$nulls":4},"",null,39,{"$nulls":5},""]
[40,{"$nulls":4},"",null,40,{"$nulls":5},""]
[41,{"$nulls":4},"",null,41,{"$nulls":5},""]
[42,{"$nulls":4},"",null,42,{"$nulls":5},""]
[43,{"$nulls":4},"",null,43,{"$nulls":5},""]
[44,{"$nulls":4},"",null,44,{"$nulls":5},""]
[45,{"$nulls":4},"",null,45,{"$nulls":5},""]
[46,{"$nulls":4},"",null,46,{"$nulls":5},""]
[47,{"$nulls":4},"",null,47,{"$nulls":5},""]
[48,{"$nulls":4},"",null,48,{"$nulls":5},""]
[49,{"$nulls":4},"",null,49,{"$nulls":5},""]
[50,{"$nulls":4},"",null,50,{"$nulls":5},""]
["Sayfa Toplamı (TL) T5  *(Genel Dip Toplam Ek.3-D sayfasında otomatik hesaplanacaktır.)",{"$nulls":4},{"$f":"IF(SUM(F39:F63)=0, \" \", SUM(F39:F63))","v":" "},null,"Sayfa Toplamı (TL) T6  *(Genel Dip Toplam Ek.3-D sayfasında otomatik hesaplanacaktır.)",{"$nulls":5},{"$f":"IF(SUM(N39:N63)=0, \" \", SUM(N39:N63))","v":" "}]
[]
[]
[{"$nulls":13},"Ek.3-C / 3"]
["YERLİ KATKI ORANI HESAP CETVELİ                                               "]
["C) Nihai Ürün İle İlgili Genel Giderler                                                                                                                                                                                                                                                                                                                                                                                                                                                        S / 3"]
["Sıra No","Yerli Girdi",{"$nulls":5},"Sıra No","İthal Girdi*"]
[null,"Genel Gider Türü","a=Miktar ","Birim","b=Fiyatı(TL)","c= axb= Genel Gider Tutarı (TL)",null,null,"Genel Gider Türü","a=Miktar ","Birim","b=Fiyatı (Döviz cinsinden)","c=Döviz Kuru","d= axbxc= Genel Gider Tutarı (TL)"]
[51,{"$nulls":4},{"$f":"IF(C72*E72 = 0, \"\", C72*E72)","v":""},null,51,{"$nulls":5},{"$f":"IF(J72*L72*M72 = 0, \"\", J72*L72*M72)","v":""}]
[52,{"$nulls":4},{"$f":"IF(C73*E73 = 0, \"\", C73*E73)","v":""},null,52,{"$nulls":5},""]
[53,{"$nulls":4},"",null,53,{"$nulls":5},""]
[54,{"$nulls":4},"",null,54,{"$nulls":5},""]
[55,{"$nulls":4},"",null,55,{"$nulls":5},""]
[56,{"$nulls":4},"",null,56,{"$nulls":5},""]
[57,{"$nulls":4},"",null,57,{"$nulls":5},""]
[58,{"$nulls":4},"",null,58,{"$nulls":5},""]
[59,{"$nulls":4},"",null,59,{"$nulls":5},""]
[60,{"$nulls":4},"",null,60,{"$nulls":5},""]
[61,{"$nulls":4},"",null,61,{"$nulls":5},""]
[62,{"$nulls":4},"",null,62,{"$nulls":5},""]
[63,{"$nulls":4},"",null,63,{"$nulls":5},""]
[64,{"$nulls":4},"",null,64,{"$nulls":5},""]
[65,{"$nulls":4},"",null,65,{"$nulls":5},""]
[66,{"$nulls":4},"",null,66,{"$nulls":5},""]
[67,{"$nulls":4},"",null,67,{"$nulls":5},""]
[68,{"$nulls":4},"",null,68,{"$nulls":5},""]
[69,{"$nulls":4},"",null,69,{"$nulls":5},""]
[70,{"$nulls":4},"",null,70,{"$nulls":5},""]
[71,{"$nulls":4},"",null,71,{"$nulls":5},""]
[72,{"$nulls":4},"",null,72,{"$nulls":5},""]
[73,{"$nulls":4},"",null,73,{"$nulls":5},""]
[74,{"$nulls":4},"",null,74,{"$nulls":5},""]
[75,{"$nulls":4},"",null,75,{"$nulls":5},""]
["Sayfa Toplamı (TL) T5  *(Genel Dip Toplam Ek.3-D sayfasında otomatik hesaplanacaktır.)",{"$nulls":4},{"$f":"IF(SUM(F72:F96)=0, \" \", SUM(F72:F96))","v":" "},null,"Sayfa Toplamı (TL) T6  *(Genel Dip Toplam Ek.3-D sayfasında otomatik hesaplanacaktır.)",{"$nulls":5},{"$f":"IF(SUM(N72:N96)=0, \" \", SUM(N72:N96))","v":" "}]
[]
[]
[{"$nulls":13},"Ek.3-C / 4"]
["YERLİ KATKI ORANI HESAP CETVELİ                                               "]
["C) Nihai Ürün İle İlgili Genel Giderler                                                                                                                                                                                                                                                                                                                                                                                                                                                        S / 4"]
["Sıra No","Yerli Girdi",{"$nulls":5},"Sıra No","İthal Girdi*"]
[null,"Genel Gider Türü","a=Miktar ","Birim","b=Fiyatı(TL)","c= axb= Genel Gider Tutarı (TL)",null,null,"Genel Gider Türü","a=Miktar ","Birim","b=Fiyatı (Döviz cinsinden)","c=Döviz Kuru","d= axbxc= Genel Gider Tutarı (TL)"]
[76,{"$nulls":4},{"$f":"IF(C105*E105 = 0, \"\", C105*E105)","v":""},null,76,{"$nulls":5},{"$f":"IF(J105*L105*M105 = 0, \"\", J105*L105*M105)","v":""}]
[77,{"$nulls":4},{"$f":"IF(C106*E106 = 0, \"\", C106*E106)","v":""},null,77,{"$nulls":5},""]
[78,{"$nulls":4},"",null,78,{"$nulls":5},""]
[79,{"$nulls":4},"",null,79,{"$nulls":5},""]
[80,{"$nulls":4},"",null,80,{"$nulls":5},""]
[81,{"$nulls":4},"",null,81,{"$nulls":5},""]
[82,{"$nulls":4},"",null,82,{"$nulls":5},""]
[83,{"$nulls":4},"",null,83,{"$nulls":5},""]
[84,{"$nulls":4},"",null,84,{"$nulls":5},""]
[85,{"$nulls":4},"",null,85,{"$nulls":5},""]
[86,{"$nulls":4},"",null,86,{"$nulls":5},""]
[87,{"$nulls":4},"",null,87,{"$nulls":5},""]
[88,{"$nulls":4},"",null,88,{"$nulls":5},""]
[89,{"$nulls":4},"",null,89,{"$nulls":5},""]
[90,{"$nulls":4},"",null,90,{"$nulls":5},""]
[91,{"$nulls":4},"",null,91,{"$nulls":5},""]
[92,{"$nulls":4},"",null,92,{"$nulls":5},""]
[93,{"$nulls":4},"",null,93,{"$nulls":5},""]
[94,{"$nulls":4},"",null,94,{"$nulls":5},""]
[95,{"$nulls":4},"",null,95,{"$nulls":5},""]
[96,{"$nulls":4},"",null,96,{"$nulls":5},""]
[97,{"$nulls":4},"",null,97,{"$nulls":5},""]
[98,{"$nulls":4},"",null,98,{"$nulls":5},""]
[99,{"$nulls":4},"",null,99,{"$nulls":5},""]
[100,{"$nulls":4},"",null,100,{"$nulls":5},""]
["Sayfa Toplamı (TL) T5  *(Genel Dip Toplam Ek.3-D sayfasında otomatik hesaplanacaktır.)",{"$nulls":4},{"$f":"IF(SUM(F105:F129)=0, \" \", SUM(F105:F129))","v":" "},null,"Sayfa Toplamı (TL) T6  *(Genel Dip Toplam Ek.3-D sayfasında otomatik hesaplanacaktır.)",{"$nulls":5},{"$f":"IF(SUM(N105:N129)=0, \" \", SUM(N105:N129))","v":" "}]

{"sheet":"Ek.3-A","index":2,"n_rows":950,"n_cols":21,"rows_kept":950,"merged":[[0,0,0,20],[1,0,1,16],[2,1,2,2],[3,1,3,2],[3,16,3,17],[4,1,4,2],[5,1,5,2],[6,1,6,2],[7,1,7,2],[8,1,8,2],[9,1,9,2],[10,1,10,2],[11,1,11,2],[12,1,12,2],[13,1,13,2],[14,1,14,2],[15,1,15,2],[16,1,16,2],[17,1,17,2],[18,1,18,2],[18,16,18,17],[19,1,19,2],[20,1,20,2],[21,1,21,2],[22,1,22,2],[23,1,23,2],[24,1,24,2],[25,1,25,2],[26,1,26,2],[27,1,27,2],[28,1,28,2],[29,1,29,2],[30,1,30,2],[31,1,31,2],[32,1,32,2],[35,0,35,16],[37,0,37,20],[38,0,38,20],[39,0,39,16],[40,1,40,2],[41,1,41,2],[41,16,41,17],[42,1,42,2],[43,1,43,2],[44,1,44,2],[45,1,45,2],[46,1,46,2],[47,1,47,2],[48,1,48,2],[49,1,49,2],[50,1,50,2],[51,1,51,2],[52,1,52,2],[53,1,53,2],[54,1,54,2],[55,1,55,2],[56,1,56,2],[56,16,56,17],[57,1,57,2],[58,1,58,2],[59,1,59,2],[60,1,60,2],[61,1,61,2],[62,1,62,2],[63,1,63,2],[64,1,64,2],[65,1,65,2],[66,1,66,2],[67,1,67,2],[68,1,68,2],[69,1,69,2],[70,1,70,2],[73,0,73,16],[75,0,75,20],[76,0,76,20],[77,0,77,16],[78,1,78,2],[79,1,79,2],[79,16,79,17],[80,1,80,2],[81,1,81,2],[82,1,82,2],[83,1,83,2],[84,1,84,2],[85,1,85,2],[86,1,86,2],[87,1,87,2],[88,1,88,2],[89,1,89,2],[90,1,90,2],[91,1,91,2],[92,1,92,2],[93,1,93,2],[94,1,94,2],[94,16,94,17],[95,1,95,2],[96,1,96,2],[97,1,97,2],[98,1,98,2],[99,1,99,2],[100,1,100,2],[101,1,101,2],[102,1,102,2],[103,1,103,2],[104,1,104,2],[105,1,105,2],[106,1,106,2],[107,1,107,2],[108,1,108,2],[111,0,111,16],[113,0,113,20],[114,0,114,20],[115,0,115,16],[116,1,116,2],[117,1,117,2],[117,16,117,17],[118,1,118,2],[119,1,119,2],[120,1,120,2],[121,1,121,2],[122,1,122,2],[123,1,123,2],[124,1,124,2],[125,1,125,2],[126,1,126,2],[127,1,127,2],[128,1,128,2],[129,1,129,2],[130,1,130,2],[131,1,131,2],[132,1,132,2],[132,16,132,17],[133,1,133,2],[134,1,134,2],[135,1,135,2],[136,1,136,2],[137,1,137,2],[138,1,138,2],[139,1,139,2],[140,1,140,2],[141,1,141,2],[142,1,142,2],[143,1,143,2],[144,1,144,2],[145,1,145,2],[146,1,146,2],[149,0,149,16],[151,0,151,20],[152,0,152,20],[153,0,153,16],[154,1,154,2],[155,1,155,2],[155,16,155,17],[156,1,156,2],[157,1,157,2],[158,1,158,2],[159,1,159,2],[160,1,160,2],[161,1,161,2],[162,1,162,2],[163,1,163,2],[164,1,164,2],[165,1,165,2],[166,1,166,2],[167,1,167,2],[168,1,168,2],[169,1,169,2],[170,1,170,2],[170,16,170,17],[171,1,171,2],[172,1,172,2],[173,1,173,2],[174,1,174,2],[175,1,175,2],[176,1,176,2],[177,1,177,2],[178,1,178,2],[179,1,179,2],[180,1,180,2],[181,1,181,2],[182,1,182,2],[183,1,183,2],[184,1,184,2],[187,0,187,16],[189,0,189,20],[190,0,190,20],[191,0,191,16],[192,1,192,2],[193,1,193,2],[193,16,193,17],[194,1,194,2],[195,1,195,2],[196,1,196,2],[197,1,197,2],[198,1,198,2],[199,1,199,2],[200,1,200,2],[201,1,201,2],[202,1,202,2],[203,1,203,2],[204,1,204,2],[205,1,205,2],[206,1,206,2],[207,1,207,2],[208,1,208,2],[208,16,208,17],[209,1,209,2],[210,1,210,2],[211,1,211,2],[212,1,212,2],[213,1,213,2],[214,1,214,2],[215,1,215,2],[216,1,216,2],[217,1,217,2],[218,1,218,2],[219,1,219,2],[220,1,220,2],[221,1,221,2],[222,1,222,2],[225,0,225,16],[227,0,227,20],[228,0,228,20],[229,0,229,16],[230,1,230,2],[231,1,231,2],[231,16,231,17],[232,1,232,2],[233,1,233,2],[234,1,234,2],[235,1,235,2],[236,1,236,2],[237,1,237,2],[238,1,238,2],[239,1,239,2],[240,1,240,2],[241,1,241,2],[242,1,242,2],[243,1,243,2],[244,1,244,2],[245,1,245,2],[246,1,246,2],[246,16,246,17],[247,1,247,2],[248,1,248,2],[249,1,249,2],[250,1,250,2],[251,1,251,2],[252,1,252,2],[253,1,253,2],[254,1,254,2],[255,1,255,2],[256,1,256,2],[257,1,257,2],[258,1,258,2],[259,1,259,2],[260,1,260,2],[263,0,263,16],[265,0,265,20],[266,0,266,20],[267,0,267,16],[268,1,268,2],[269,1,269,2],[269,16,269,17],[270,1,270,2],[271,1,271,2],[272,1,272,2],[273,1,273,2],[274,1,274,2],[275,1,275,2],[276,1,276,2],[277,1,277,2],[278,1,278,2],[279,1,279,2],[280,1,280,2],[281,1,281,2],[282,1,282,2],[283,1,283,2],[284,1,284,2],[284,16,284,17],[285,1,285,2],[286,1,286,2],[287,1,287,2],[288,1,288,2],[289,1,289,2],[290,1,290,2],[291,1,291,2],[292,1,292,2],[293,1,293,2],[294,1,294,2],[295,1,295,2],[296,1,296,2],[297,1,297,2],[298,1,298,2],[301,0,301,16],[303,0,303,20],[304,0,304,20],[305,0,305,16],[306,1,306,2],[307,1,307,2],[307,16,307,17],[308,1,308,2],[309,1,309,2],[310,1,310,2],[311,1,311,2],[312,1,312,2],[313,1,313,2],[314,1,314,2],[315,1,315,2],[316,1,316,2],[317,1,317,2],[318,1,318,2],[319,1,319,2],[320,1,320,2],[321,1,321,2],[322,1,322,2],[322,16,322,17],[323,1,323,2],[324,1,324,2],[325,1,325,2],[326,1,326,2],[327,1,327,2],[328,1,328,2],[329,1,329,2],[330,1,330,2],[331,1,331,2],[332,1,332,2],[333,1,333,2],[334,1,334,2],[335,1,335,2],[336,1,336,2],[339,0,339,16],[341,0,341,20],[342,0,342,20],[343,0,343,16],[344,1,344,2],[345,1,345,2],[345,16,345,17],[346,1,346,2],[347,1,347,2],[348,1,348,2],[349,1,349,2],[350,1,350,2],[351,1,351,2],[352,1,352,2],[353,1,353,2],[354,1,354,2],[355,1,355,2],[356,1,356,2],[357,1,357,2],[358,1,358,2],[359,1,359,2],[360,1,360,2],[360,16,360,17],[361,1,361,2],[362,1,362,2],[363,1,363,2],[364,1,364,2],[365,1,365,2],[366,1,366,2],[367,1,367,2],[368,1,368,2],[369,1,369,2],[370,1,370,2],[371,1,371,2],[372,1,372,2],[373,1,373,2],[374,1,374,2],[377,0,377,16],[379,0,379,20],[380,0,380,20],[381,0,381,16],[382,1,382,2],[383,1,383,2],[383,16,383,17],[384,1,384,2],[385,1,385,2],[386,1,386,2],[387,1,387,2],[388,1,388,2],[389,1,389,2],[390,1,390,2],[391,1,391,2],[392,1,392,2],[393,1,393,2],[394,1,394,2],[395,1,395,2],[396,1,396,2],[397,1,397,2],[398,1,398,2],[398,16,398,17],[399,1,399,2],[400,1,400,2],[401,1,401,2],[402,1,402,2],[403,1,403,2],[404,1,404,2],[405,1,405,2],[406,1,406,2],[407,1,407,2],[408,1,408,2],[409,1,409,2],[410,1,410,2],[411,1,411,2],[412,1,412,2],[415,0,415,16],[417,0,417,20],[418,0,418,20],[419,0,419,16],[420,1,420,2],[421,1,421,2],[421,16,421,17],[422,1,422,2],[423,1,423,2],[424,1,424,2],[425,1,425,2],[426,1,426,2],[427,1,427,2],[428,1,428,2],[429,1,429,2],[430,1,430,2],[431,1,431,2],[432,1,432,2],[433,1,433,2],[434,1,434,2],[435,1,435,2],[436,1,436,2],[436,16,436,17],[437,1,437,2],[438,1,438,2],[439,1,439,2],[440,1,440,2],[441,1,441,2],[442,1,442,2],[443,1,443,2],[444,1,444,2],[445,1,445,2],[446,1,446,2],[447,1,447,2],[448,1,448,2],[449,1,449,2],[450,1,450,2],[453,0,453,16],[455,0,455,20],[456,0,456,20],[457,0,457,16],[458,1,458,2],[459,1,459,2],[459,16,459,17],[460,1,460,2],[461,1,461,2],[462,1,462,2],[463,1,463,2],[464,1,464,2],[465,1,465,2],[466,1,466,2],[467,1,467,2],[468,1,468,2],[469,1,469,2],[470,1,470,2],[471,1,471,2],[472,1,472,2],[473,1,473,2],[474,1,474,2],[474,16,474,17],[475,1,475,2],[476,1,476,2],[477,1,477,2],[478,1,478,2],[479,1,479,2],[480,1,480,2],[481,1,481,2],[482,1,482,2],[483,1,483,2],[484,1,484,2],[485,1,485,2],[486,1,486,2],[487,1,487,2],[488,1,488,2],[491,0,491,16],[493,0,493,20],[494,0,494,20],[495,0,495,16],[496,1,496,2],[497,1,497,2],[497,16,497,17],[498,1,498,2],[499,1,499,2],[500,1,500,2],[501,1,501,2],[502,1,502,2],[503,1,503,2],[504,1,504,2],[505,1,505,2],[506,1,506,2],[507,1,507,2],[508,1,508,2],[509,1,509,2],[510,1,510,2],[511,1,511,2],[512,1,512,2],[512,16,512,17],[513,1,513,2],[514,1,514,2],[515,1,515,2],[516,1,516,2],[517,1,517,2],[518,1,518,2],[519,1,519,2],[520,1,520,2],[521,1,521,2],[522,1,522,2],[523,1,523,2],[524,1,524,2],[525,1,525,2],[526,1,526,2],[529,0,529,16],[531,0,531,20],[532,0,532,20],[533,0,533,16],[534,1,534,2],[535,1,535,2],[535,16,535,17],[536,1,536,2],[537,1,537,2],[538,1,538,2],[539,1,539,2],[540,1,540,2],[541,1,541,2],[542,1,542,2],[543,1,543,2],[544,1,544,2],[545,1,545,2],[546,1,546,2],[547,1,547,2],[548,1,548,2],[549,1,549,2],[550,1,550,2],[550,16,550,17],[551,1,551,2],[552,1,552,2],[553,1,553,2],[554,1,554,2],[555,1,555,2],[556,1,556,2],[557,1,557,2],[558,1,558,2],[559,1,559,2],[560,1,560,2],[561,1,561,2],[562,1,562,2],[563,1,563,2],[564,1,564,2],[567,0,567,16],[569,0,569,20],[570,0,570,20],[571,0,571,16],[572,1,572,2],[573,1,573,2],[573,16,573,17],[574,1,574,2],[575,1,575,2],[576,1,576,2],[577,1,577,2],[578,1,578,2],[579,1,579,2],[580,1,580,2],[581,1,581,2],[582,1,582,2],[583,1,583,2],[584,1,584,2],[585,1,585,2],[586,1,586,2],[587,1,587,2],[588,1,588,2],[588,16,588,17],[589,1,589,2],[590,1,590,2],[591,1,591,2],[592,1,592,2],[593,1,593,2],[594,1,594,2],[595,1,595,2],[596,1,596,2],[597,1,597,2],[598,1,598,2],[599,1,599,2],[600,1,600,2],[601,1,601,2],[602,1,602,2],[605,0,605,16],[607,0,607,20],[608,0,608,20],[609,0,609,16],[610,1,610,2],[611,1,611,2],[611,16,611,17],[612,1,612,2],[613,1,613,2],[614,1,614,2],[615,1,615,2],[616,1,616,2],[617,1,617,2],[618,1,618,2],[619,1,619,2],[620,1,620,2],[621,1,621,2],[622,1,622,2],[623,1,623,2],[624,1,624,2],[625,1,625,2],[626,1,626,2],[626,16,626,17],[627,1,627,2],[628,1,628,2],[629,1,629,2],[630,1,630,2],[631,1,631,2],[632,1,632,2],[633,1,633,2],[634,1,634,2],[635,1,635,2],[636,1,636,2],[637,1,637,2],[638,1,638,2],[639,1,639,2],[640,1,640,2],[643,0,643,16],[645,0,645,20],[646,0,646,20],[647,0,647,16],[648,1,648,2],[649,1,649,2],[649,16,649,17],[650,1,650,2],[651,1,651,2],[652,1,652,2],[653,1,653,2],[654,1,654,2],[655,1,655,2],[656,1,656,2],[657,1,657,2],[658,1,658,2],[659,1,659,2],[660,1,660,2],[661,1,661,2],[662,1,662,2],[663,1,663,2],[664,1,664,2],[664,16,664,17],[665,1,665,2],[666,1,666,2],[667,1,667,2],[668,1,668,2],[669,1,669,2],[670,1,670,2],[671,1,671,2],[672,1,672,2],[673,1,673,2],[674,1,674,2],[675,1,675,2],[676,1,676,2],[677,1,677,2],[678,1,678,2],[681,0,681,16],[683,0,683,20],[684,0,684,20],[685,0,685,16],[686,1,686,2],[687,1,687,2],[687,16,687,17],[688,1,688,2],[689,1,689,2],[690,1,690,2],[691,1,691,2],[692,1,692,2],[693,1,693,2],[694,1,694,2],[695,1,695,2],[696,1,696,2],[697,1,697,2],[698,1,698,2],[699,1,699,2],[700,1,700,2],[701,1,701,2],[702,1,702,2],[702,16,702,17],[703,1,703,2],[704,1,704,2],[705,1,705,2],[706,1,706,2],[707,1,707,2],[708,1,708,2],[709,1,709,2],[710,1,710,2],[711,1,711,2],[712,1,712,2],[713,1,713,2],[714,1,714,2],[715,1,715,2],[716,1,716,2],[719,0,719,16],[721,0,721,20],[722,0,722,20],[723,0,723,16],[724,1,724,2],[725,1,725,2],[725,16,725,17],[726,1,726,2],[727,1,727,2],[728,1,728,2],[729,1,729,2],[730,1,730,2],[731,1,731,2],[732,1,732,2],[733,1,733,2],[734,1,734,2],[735,1,735,2],[736,1,736,2],[737,1,737,2],[738,1,738,2],[739,1,739,2],[740,1,740,2],[740,16,740,17],[741,1,741,2],[742,1,742,2],[743,1,743,2],[744,1,744,2],[745,1,745,2],[746,1,746,2],[747,1,747,2],[748,1,748,2],[749,1,749,2],[750,1,750,2],[751,1,751,2],[752,1,752,2],[753,1,753,2],[754,1,754,2],[757,0,757,16],[759,0,759,20],[760,0,760,20],[761,0,761,16],[762,1,762,2],[763,1,763,2],[763,16,763,17],[764,1,764,2],[765,1,765,2],[766,1,766,2],[767,1,767,2],[768,1,768,2],[769,1,769,2],[770,1,770,2],[771,1,771,2],[772,1,772,2],[773,1,773,2],[774,1,774,2],[775,1,775,2],[776,1,776,2],[777,1,777,2],[778,1,778,2],[778,16,778,17],[779,1,779,2],[780,1,780,2],[781,1,781,2],[782,1,782,2],[783,1,783,2],[784,1,784,2],[785,1,785,2],[786,1,786,2],[787,1,787,2],[788,1,788,2],[789,1,789,2],[790,1,790,2],[791,1,791,2],[792,1,792,2],[795,0,795,16],[797,0,797,20],[798,0,798,20],[799,0,799,16],[800,1,800,2],[801,1,801,2],[801,16,801,17],[802,1,802,2],[803,1,803,2],[804,1,804,2],[805,1,805,2],[806,1,806,2],[807,1,807,2],[808,1,808,2],[809,1,809,2],[810,1,810,2],[811,1,811,2],[812,1,812,2],[813,1,813,2],[814,1,814,2],[815,1,815,2],[816,1,816,2],[816,16,816,17],[817,1,817,2],[818,1,818,2],[819,1,819,2],[820,1,820,2],[821,1,821,2],[822,1,822,2],[823,1,823,2],[824,1,824,2],[825,1,825,2],[826,1,826,2],[827,1,827,2],[828,1,828,2],[829,1,829,2],[830,1,830,2],[833,0,833,16],[835,0,835,20],[836,0,836,20],[837,0,837,16],[838,1,838,2],[839,1,839,2],[839,16,839,17],[840,1,840,2],[841,1,841,2],[842,1,842,2],[843,1,843,2],[844,1,844,2],[845,1,845,2],[846,1,846,2],[847,1,847,2],[848,1,848,2],[849,1,849,2],[850,1,850,2],[851,1,851,2],[852,1,852,2],[853,1,853,2],[854,1,854,2],[854,16,854,17],[855,1,855,2],[856,1,856,2],[857,1,857,2],[858,1,858,2],[859,1,859,2],[860,1,860,2],[861,1,861,2],[862,1,862,2],[863,1,863,2],[864,1,864,2],[865,1,865,2],[866,1,866,2],[867,1,867,2],[868,1,868,2],[871,0,871,16],[873,0,873,20],[874,0,874,20],[875,0,875,16],[876,1,876,2],[877,1,877,2],[877,16,877,17],[878,1,878,2],[879,1,879,2],[880,1,880,2],[881,1,881,2],[882,1,882,2],[883,1,883,2],[884,1,884,2],[885,1,885,2],[886,1,886,2],[887,1,887,2],[888,1,888,2],[889,1,889,2],[890,1,890,2],[891,1,891,2],[892,1,892,2],[892,16,892,17],[893,1,893,2],[894,1,894,2],[895,1,895,2],[896,1,896,2],[897,1,897,2],[898,1,898,2],[899,1,899,2],[900,1,900,2],[901,1,901,2],[902,1,902,2],[903,1,903,2],[904,1,904,2],[905,1,905,2],[906,1,906,2],[909,0,909,16],[911,0,911,20],[912,0,912,20],[913,0,913,16],[914,1,914,2],[915,1,915,2],[915,16,915,17],[916,1,916,2],[917,1,917,2],[918,1,918,2],[919,1,919,2],[920,1,920,2],[921,1,921,2],[922,1,922,2],[923,1,923,2],[924,1,924,2],[925,1,925,2],[926,1,926,2],[927,1,927,2],[928,1,928,2],[929,1,929,2],[930,1,930,2],[930,16,930,17],[931,1,931,2],[932,1,932,2],[933,1,933,2],[934,1,934,2],[935,1,935,2],[936,1,936,2],[937,1,937,2],[938,1,938,2],[939,1,939,2],[940,1,940,2],[941,1,941,2],[942,1,942,2],[943,1,943,2],[944,1,944,2],[947,0,947,16],[949,0,949,20]]}
["YERLİ KATKI ORANI HESAP CETVELİ                      "]
["A) Nihai Ürün Doğrudan ve Dolaylı Malzeme Giderleri                                                                                                                                                                                                                                                                                                                                                                                                                                         ",{"$nulls":18},"S",1]
["Sıra No","Malzeme adı / Faturadaki Ürün Adı",null,"Üretici Unvanı","GTİP Kodu                             (İthal girdiler için)","Gtip Katsayısı","Miktar ","Birim","Fiyatı \n(TL/Döviz)\n","Döviz Kuru               (TL ise 1 alınız)","Fatura Tutarı (TL)","Girdi Maliyet Yüzdesi (%)","Girdi yüzdesi %0,5 altında olan girdiler için %10 sınır kontrolü","Girdi yüzdesi %0,5 altında olan girdiler için %10 sınır kontrolü","SSB/  Müstahsil                (E/H)","YKO (%) (Manuel girilmeli)","Geçerli Yerli Oranı (%)","Yerli Maliyet Tutarı                            (T1)","Yerli Maliyet Tutarı (T1)","Yerli Maliyet Tutarı (T1)","İthal Maliyet Tutarı               (T2)"]
[null,"Doğrudan Girdi                                                         (Dolaylı girdiniz varsa en son 25. sayfaya doldurunuz)"]
[1,{"$nulls":4},{"$f":"IF(AND(E5<>\"\",U5<>\"\",K5<>0),U5/K5,\"\")","v":""},{"$nulls":4},{"$f":"IF(AND(G5<>0, I5<>0, J5<>0), G5*I5*J5, \"\")","v":""},{"$f":"IF(K5=\"\", \"\", K5/Veriler!$T$1)","v":""},{"$f":"IF(E5<>\"\", \"İthal Girdi\", IF(Veriler!P5=\"\", \"\", IF(Veriler!O5=\"H\", \"%0,5 üzerindedir\", IF(Veriler!P5>0.1, \"%10 sınırı aşılmıştır.\", \"Uygun\"))))","v":"%0,5 üzerindedir"},{"$f":"IF(L5=\"\",\" \",M5)","v":" "},null,null,{"$f":"IFERROR(IF(AND(S5<>\"\",K5<>\"\",K5<>0,S5<>0),S5/K5,\"\"),\" \")","v":""},{"$f":"IFERROR(IF(L5<=0.005,IF(E5=\"\",K5,0),IF(E5<>\"\",0,IF(O5=\"\",0,IF(O5=\"H\",0,IF(P5<Veriler!$F$2,K5*Veriler!$F$2,K5*P5))))),\" \")","v":0},{"$f":"IF(Veriler!P5<=0.1, R5, IF(AND(Veriler!P5>0.1, E5=\"\", O5=\"E\"), IF(P5>Veriler!$F$2, P5*R5, IF(P5<Veriler!$F$2, Veriler!$F$2*R5, P5*R5)), 0))","v":0},{"$f":"IF(S5=0,\" \",S5)","v":" "},{"$f":"IFERROR(IF(N5=\"%10 sınırı aşılmıştır.\",K5-S5,IFERROR(IF(E5=\"\",IF(R5=1,0,IF(K5-R5=0,\"\",K5-R5)),IF(Veriler!I5=\"\",K5,IF(K5*Veriler!I5=0,\"\",K5*Veriler!I5))),K5)),0)","v":""}]
[2,{"$nulls":4},"",{"$nulls":4},{"$f":"IF(AND(G6<>0, I6<>0, J6<>0), G6*I6*J6, \"\")","v":""},{"$f":"IF(K6=\"\", \"\", K6/Veriler!$T$1)","v":""},{"$f":"IF(E6<>\"\", \"İthal Girdi\", IF(Veriler!P6=\"\", \"\", IF(Veriler!O6=\"H\", \"%0,5 üzerindedir\", IF(Veriler!P6>0.1, \"%10 sınırı aşılmıştır.\", \"Uygun\"))))","v":"%0,5 üzerindedir"}," ",null,null,"",{"$f":"IFERROR(IF(L6<=0.005,IF(E6=\"\",K6,0),IF(E6<>\"\",0,IF(O6=\"\",0,IF(O6=\"H\",0,IF(P6<Veriler!$F$2,K6*Veriler!$F$2,K6*P6))))),\" \")","v":0},{"$f":"IF(Veriler!P6<=0.1, R6, IF(AND(Veriler!P6>0.1, E6=\"\", O6=\"E\"), IF(P6>Veriler!$F$2, P6*R6, IF(P6<Veriler!$F$2, Veriler!$F$2*R6, P6*R6)), 0))","v":0},{"$f":"IF(S6=0,\" \",S6)","v":" "},{"$f":"IFERROR(IF(N6=\"%10 sınırı aşılmıştır.\",K6-S6,IFERROR(IF(E6=\"\",IF(R6=1,0,IF(K6-R6=0,\"\",K6-R6)),IF(Veriler!I6=\"\",K6,IF(K6*Veriler!I6=0,\"\",K6*Veriler!I6))),K6)),0)","v":""}]
[3,{"$nulls":4},"",{"$nulls":4},"",{"$f":"IF(K7=\"\", \"\", K7/Veriler!$T$1)","v":""},{"$f":"IF(E7<>\"\", \"İthal Girdi\", IF(Veriler!P7=\"\", \"\", IF(Veriler!O7=\"H\", \"%0,5 üzerindedir\", IF(Veriler!P7>0.1, \"%10 sınırı aşılmıştır.\", \"Uygun\"))))","v":"%0,5 üzerindedir"}," ",null,null,"",{"$f":"IFERROR(IF(L7<=0.005,IF(E7=\"\",K7,0),IF(E7<>\"\",0,IF(O7=\"\",0,IF(O7=\"H\",0,IF(P7<Veriler!$F$2,K7*Veriler!$F$2,K7*P7))))),\" \")","v":0},{"$f":"IF(Veriler!P7<=0.1, R7, IF(AND(Veriler!P7>0.1, E7=\"\", O7=\"E\"), IF(P7>Veriler!$F$2, P7*R7, IF(P7<Veriler!$F$2, Veriler!$F$2*R7, P7*R7)), 0))","v":0}," ",{"$f":"IFERROR(IF(N7=\"%10 sınırı aşılmıştır.\",K7-S7,IFERROR(IF(E7=\"\",IF(R7=1,0,IF(K7-R7=0,\"\",K7-R7)),IF(Veriler!I7=\"\",K7,IF(K7*Veriler!I7=0,\"\",K7*Veriler!I7))),K7)),0)","v":""}]
[4,{"$nulls":4},"",{"$nulls":4},"",{"$f":"IF(K8=\"\", \"\", K8/Veriler!$T$1)","v":""},{"$f":"IF(E8<>\"\", \"İthal Girdi\", IF(Veriler!P8=\"\", \"\", IF(Veriler!O8=\"H\", \"%0,5 üzerindedir\", IF(Veriler!P8>0.1, \"%10 sınırı aşılmıştır.\", \"Uygun\"))))","v":"%0,5 üzerindedir"}," ",null,null,"",{"$f":"IFERROR(IF(L8<=0.005,IF(E8=\"\",K8,0),IF(E8<>\"\",0,IF(O8=\"\",0,IF(O8=\"H\",0,IF(P8<Veriler!$F$2,K8*Veriler!$F$2,K8*P8))))),\" \")","v":0},{"$f":"IF(Veriler!P8<=0.1, R8, IF(AND(Veriler!P8>0.1, E8=\"\", O8=\"E\"), IF(P8>Veriler!$F$2, P8*R8, IF(P8<Veriler!$F$2, Veriler!$F$2*R8, P8*R8)), 0))","v":0}," ",{"$f":"IFERROR(IF(N8=\"%10 sınırı aşılmıştır.\",K8-S8,IFERROR(IF(E8=\"\",IF(R8=1,0,IF(K8-R8=0,\"\",K8-R8)),IF(Veriler!I8=\"\",K8,IF(K8*Veriler!I8=0,\"\",K8*Veriler!I8))),K8)),0)","v":""}]
[5,{"$nulls":4},"",{"$nulls":4},"",{"$f":"IF(K9=\"\", \"\", K9/Veriler!$T$1)","v":""},{"$f":"IF(E9<>\"\", \"İthal Girdi\", IF(Veriler!P9=\"\", \"\", IF(Veriler!O9=\"H\", \"%0,5 üzerindedir\", IF(Veriler!P9>0.1, \"%10 sınırı aşılmıştır.\", \"Uygun\"))))","v":"%0,5 üzerindedir"}," ",null,null,"",{"$f":"IFERROR(IF(L9<=0.005,IF(E9=\"\",K9,0),IF(E9<>\"\",0,IF(O9=\"\",0,IF(O9=\"H\",0,IF(P9<Veriler!$F$2,K9*Veriler!$F$2,K9*P9))))),\" \")","v":0},{"$f":"IF(Veriler!P9<=0.1, R9, IF(AND(Veriler!P9>0.1, E9=\"\", O9=\"E\"), IF(P9>Veriler!$F$2, P9*R9, IF(P9<Veriler!$F$2, Veriler!$F$2*R9, P9*R9)), 0))","v":0}," ",{"$f":"IFERROR(IF(N9=\"%10 sınırı aşılmıştır.\",K9-S9,IFERROR(IF(E9=\"\",IF(R9=1,0,IF(K9-R9=0,\"\",K9-R9)),IF(Veriler!I9=\"\",K9,IF(K9*Veriler!I9=0,\"\",K9*Veriler!I9))),K9)),0)","v":""}]
[6,{"$nulls":4},"",{"$nulls":4},"",{"$f":"IF(K10=\"\", \"\", K10/Veriler!$T$1)","v":""},{"$f":"IF(E10<>\"\", \"İthal Girdi\", IF(Veriler!P10=\"\", \"\", IF(Veriler!O10=\"H\", \"%0,5 üzerindedir\", IF(Veriler!P10>0.1, \"%10 sınırı aşılmıştır.\", \"Uygun\"))))","v":"%0,5 üzerindedir"}," ",null,null,"",{"$f":"IFERROR(IF(L10<=0.005,IF(E10=\"\",K10,0),IF(E10<>\"\",0,IF(O10=\"\",0,IF(O10=\"H\",0,IF(P10<Veriler!$F$2,K10*Veriler!$F$2,K10*P10))))),\" \")","v":0},{"$f":"IF(Veriler!P10<=0.1, R10, IF(AND(Veriler!P10>0.1, E10=\"\", O10=\"E\"), IF(P10>Veriler!$F$2, P10*R10, IF(P10<Veriler!$F$2, Veriler!$F$2*R10, P10*R10)), 0))","v":0}," ",{"$f":"IFERROR(IF(N10=\"%10 sınırı aşılmıştır.\",K10-S10,IFERROR(IF(E10=\"\",IF(R10=1,0,IF(K10-R10=0,\"\",K10-R10)),IF(Veriler!I10=\"\",K10,IF(K10*Veriler!I10=0,\"\",K10*Veriler!I10))),K10)),0)","v":""}]
[7,{"$nulls":4},"",{"$nulls":4},"",{"$f":"IF(K11=\"\", \"\", K11/Veriler!$T$1)","v":""},{"$f":"IF(E11<>\"\", \"İthal Girdi\", IF(Veriler!P11=\"\", \"\", IF(Veriler!O11=\"H\", \"%0,5 üzerindedir\", IF(Veriler!P11>0.1, \"%10 sınırı aşılmıştır.\", \"Uygun\"))))","v":"%0,5 üzerindedir"}," ",null,null,"",{"$f":"IFERROR(IF(L11<=0.005,IF(E11=\"\",K11,0),IF(E11<>\"\",0,IF(O11=\"\",0,IF(O11=\"H\",0,IF(P11<Veriler!$F$2,K11*Veriler!$F$2,K11*P11))))),\" \")","v":0},{"$f":"IF(Veriler!P11<=0.1, R11, IF(AND(Veriler!P11>0.1, E11=\"\", O11=\"E\"), IF(P11>Veriler!$F$2, P11*R11, IF(P11<Veriler!$F$2, Veriler!$F$2*R11, P11*R11)), 0))","v":0}," ",{"$f":"IFERROR(IF(N11=\"%10 sınırı aşılmıştır.\",K11-S11,IFERROR(IF(E11=\"\",IF(R11=1,0,IF(K11-R11=0,\"\",K11-R11)),IF(Veriler!I11=\"\",K11,IF(K11*Veriler!I11=0,\"\",K11*Veriler!I11))),K11)),0)","v":""}]
[8,{"$nulls":4},"",{"$nulls":4},"",{"$f":"IF(K12=\"\", \"\", K12/Veriler!$T$1)","v":""},{"$f":"IF(E12<>\"\", \"İthal Girdi\", IF(Veriler!P12=\"\", \"\", IF(Veriler!O12=\"H\", \"%0,5 üzerindedir\", IF(Veriler!P12>0.1, \"%10 sınırı aşılmıştır.\", \"Uygun\"))))","v":"%0,5 üzerindedir"}," ",null,null,"",{"$f":"IFERROR(IF(L12<=0.005,IF(E12=\"\",K12,0),IF(E12<>\"\",0,IF(O12=\"\",0,IF(O12=\"H\",0,IF(P12<Veriler!$F$2,K12*Veriler!$F$2,K12*P12))))),\" \")","v":0},{"$f":"IF(Veriler!P12<=0.1, R12, IF(AND(Veriler!P12>0.1, E12=\"\", O12=\"E\"), IF(P12>Veriler!$F$2, P12*R12, IF(P12<Veriler!$F$2, Veriler!$F$2*R12, P12*R12)), 0))","v":0}," ",{"$f":"IFERROR(IF(N12=\"%10 sınırı aşılmıştır.\",K12-S12,IFERROR(IF(E12=\"\",IF(R12=1,0,IF(K12-R12=0,\"\",K12-R12)),IF(Veriler!I12=\"\",K12,IF(K12*Veriler!I12=0,\"\",K12*Veriler!I12))),K12)),0)","v":""}]
[9,{"$nulls":4},"",{"$nulls":4},"",{"$f":"IF(K13=\"\", \"\", K13/Veriler!$T$1)","v":""},{"$f":"IF(E13<>\"\", \"İthal Girdi\", IF(Veriler!P13=\"\", \"\", IF(Veriler!O13=\"H\", \"%0,5 üzerindedir\", IF(Veriler!P13>0.1, \"%10 sınırı aşılmıştır.\", \"Uygun\"))))","v":"%0,5 üzerindedir"}," ",null,null,"",{"$f":"IFERROR(IF(L13<=0.005,IF(E13=\"\",K13,0),IF(E13<>\"\",0,IF(O13=\"\",0,IF(O13=\"H\",0,IF(P13<Veriler!$F$2,K13*Veriler!$F$2,K13*P13))))),\" \")","v":0},{"$f":"IF(Veriler!P13<=0.1, R13, IF(AND(Veriler!P13>0.1, E13=\"\", O13=\"E\"), IF(P13>Veriler!$F$2, P13*R13, IF(P13<Veriler!$F$2, Veriler!$F$2*R13, P13*R13)), 0))","v":0}," ",{"$f":"IFERROR(IF(N13=\"%10 sınırı aşılmıştır.\",K13-S13,IFERROR(IF(E13=\"\",IF(R13=1,0,IF(K13-R13=0,\"\",K13-R13)),IF(Veriler!I13=\"\",K13,IF(K13*Veriler!I13=0,\"\",K13*Veriler!I13))),K13)),0)","v":""}]
[10,{"$nulls":4},"",{"$nulls":4},"",{"$f":"IF(K14=\"\", \"\", K14/Veriler!$T$1)","v":""},{"$f":"IF(E14<>\"\", \"İthal Girdi\", IF(Veriler!P14=\"\", \"\", IF(Veriler!O14=\"H\", \"%0,5 üzerindedir\", IF(Veriler!P14>0.1, \"%10 sınırı aşılmıştır.\", \"Uygun\"))))","v":"%0,5 üzerindedir"}," ",null,null,"",{"$f":"IFERROR(IF(L14<=0.005,IF(E14=\"\",K14,0),IF(E14<>\"\",0,IF(O14=\"\",0,IF(O14=\"H\",0,IF(P14<Veriler!$F$2,K14*Veriler!$F$2,K14*P14))))),\" \")","v":0},{"$f":"IF(Veriler!P14<=0.1, R14, IF(AND(Veriler!P14>0.1, E14=\"\", O14=\"E\"), IF(P14>Veriler!$F$2, P14*R14, IF(P14<Veriler!$F$2, Veriler!$F$2*R14, P14*R14)), 0))","v":0}," ",{"$f":"IFERROR(IF(N14=\"%10 sınırı aşılmıştır.\",K14-S14,IFERROR(IF(E14=\"\",IF(R14=1,0,IF(K14-R14=0,\"\",K14-R14)),IF(Veriler!I14=\"\",K14,IF(K14*Veriler!I14=0,\"\",K14*Veriler!I14))),K14)),0)","v":""}]
[11,{"$nulls":4},"",{"$nulls":4},"",{"$f":"IF(K15=\"\", \"\", K15/Veriler!$T$1)","v":""},{"$f":"IF(E15<>\"\", \"İthal Girdi\", IF(Veriler!P15=\"\", \"\", IF(Veriler!O15=\"H\", \"%0,5 üzerindedir\", IF(Veriler!P15>0.1, \"%10 sınırı aşılmıştır.\", \"Uygun\"))))","v":"%0,5 üzerindedir"}," ",null,null,"",{"$f":"IFERROR(IF(L15<=0.005,IF(E15=\"\",K15,0),IF(E15<>\"\",0,IF(O15=\"\",0,IF(O15=\"H\",0,IF(P15<Veriler!$F$2,K15*Veriler!$F$2,K15*P15))))),\" \")","v":0},{"$f":"IF(Veriler!P15<=0.1, R15, IF(AND(Veriler!P15>0.1, E15=\"\", O15=\"E\"), IF(P15>Veriler!$F$2, P15*R15, IF(P15<Veriler!$F$2, Veriler!$F$2*R15, P15*R15)), 0))","v":0}," ",{"$f":"IFERROR(IF(N15=\"%10 sınırı aşılmıştır.\",K15-S15,IFERROR(IF(E15=\"\",IF(R15=1,0,IF(K15-R15=0,\"\",K15-R15)),IF(Veriler!I15=\"\",K15,IF(K15*Veriler!I15=0,\"\",K15*Veriler!I15))),K15)),0)","v":""}]
[12,{"$nulls":4},"",{"$nulls":4},"",{"$f":"IF(K16=\"\", \"\", K16/Veriler!$T$1)","v":""},{"$f":"IF(E16<>\"\", \"İthal Girdi\", IF(Veriler!P16=\"\", \"\", IF(Veriler!O16=\"H\", \"%0,5 üzerindedir\", IF(Veriler!P16>0.1, \"%10 sınırı aşılmıştır.\", \"Uygun\"))))","v":"%0,5 üzerindedir"}," ",null,null,"",{"$f":"IFERROR(IF(L16<=0.005,IF(E16=\"\",K16,0),IF(E16<>\"\",0,IF(O16=\"\",0,IF(O16=\"H\",0,IF(P16<Veriler!$F$2,K16*Veriler!$F$2,K16*P16))))),\" \")","v":0},{"$f":"IF(Veriler!P16<=0.1, R16, IF(AND(Veriler!P16>0.1, E16=\"\", O16=\"E\"), IF(P16>Veriler!$F$2, P16*R16, IF(P16<Veriler!$F$2, Veriler!$F$2*R16, P16*R16)), 0))","v":0}," ",{"$f":"IFERROR(IF(N16=\"%10 sınırı aşılmıştır.\",K16-S16,IFERROR(IF(E16=\"\",IF(R16=1,0,IF(K16-R16=0,\"\",K16-R16)),IF(Veriler!I16=\"\",K16,IF(K16*Veriler!I16=0,\"\",K16*Veriler!I16))),K16)),0)","v":""}]
[13,{"$nulls":4},"",{"$nulls":4},"",{"$f":"IF(K17=\"\", \"\", K17/Veriler!$T$1)","v":""},{"$f":"IF(E17<>\"\", \"İthal Girdi\", IF(Veriler!P17=\"\", \"\", IF(Veriler!O17=\"H\", \"%0,5 üzerindedir\", IF(Veriler!P17>0.1, \"%10 sınırı aşılmıştır.\", \"Uygun\"))))","v":"%0,5 üzerindedir"}," ",null,null,"",{"$f":"IFERROR(IF(L17<=0.005,IF(E17=\"\",K17,0),IF(E17<>\"\",0,IF(O17=\"\",0,IF(O17=\"H\",0,IF(P17<Veriler!$F$2,K17*Veriler!$F$2,K17*P17))))),\" \")","v":0},{"$f":"IF(Veriler!P17<=0.1, R17, IF(AND(Veriler!P17>0.1, E17=\"\", O17=\"E\"), IF(P17>Veriler!$F$2, P17*R17, IF(P17<Veriler!$F$2, Veriler!$F$2*R17, P17*R17)), 0))","v":0}," ",{"$f":"IFERROR(IF(N17=\"%10 sınırı aşılmıştır.\",K17-S17,IFERROR(IF(E17=\"\",IF(R17=1,0,IF(K17-R17=0,\"\",K17-R17)),IF(Veriler!I17=\"\",K17,IF(K17*Veriler!I17=0,\"\",K17*Veriler!I17))),K17)),0)","v":""}]
[14,{"$nulls":4},"",{"$nulls":4},"",{"$f":"IF(K18=\"\", \"\", K18/Veriler!$T$1)","v":""},{"$f":"IF(E18<>\"\", \"İthal Girdi\", IF(Veriler!P18=\"\", \"\", IF(Veriler!O18=\"H\", \"%0,5 üzerindedir\", IF(Veriler!P18>0.1, \"%10 sınırı aşılmıştır.\", \"Uygun\"))))","v":"%0,5 üzerindedir"}," ",null,null,"",{"$f":"IFERROR(IF(L18<=0.005,IF(E18=\"\",K18,0),IF(E18<>\"\",0,IF(O18=\"\",0,IF(O18=\"H\",0,IF(P18<Veriler!$F$2,K18*Veriler!$F$2,K18*P18))))),\" \")","v":0},{"$f":"IF(Veriler!P18<=0.1, R18, IF(AND(Veriler!P18>0.1, E18=\"\", O18=\"E\"), IF(P18>Veriler!$F$2, P18*R18, IF(P18<Veriler!$F$2, Veriler!$F$2*R18, P18*R18)), 0))","v":0}," ",{"$f":"IFERROR(IF(N18=\"%10 sınırı aşılmıştır.\",K18-S18,IFERROR(IF(E18=\"\",IF(R18=1,0,IF(K18-R18=0,\"\",K18-R18)),IF(Veriler!I18=\"\",K18,IF(K18*Veriler!I18=0,\"\",K18*Veriler!I18))),K18)),0)","v":""}]
[null,"Dolaylı"]
[{"$f":"A18+1","v":15},{"$nulls":4},{"$f":"IF(AND(E20<>\"\",U20<>\"\",K20<>0),U20/K20,\"\")","v":""},{"$nulls":4},{"$f":"IF(AND(G20<>0, I20<>0, J20<>0), G20*I20*J20, \"\")","v":""},{"$f":"IF(K20=\"\", \"\", K20/Veriler!$T$1)","v":""},{"$f":"IF(E20<>\"\", \"İthal Girdi\", IF(Veriler!P20=\"\", \"\", IF(Veriler!O20=\"H\", \"%0,5 üzerindedir\", IF(Veriler!P20>0.1, \"%10 sınırı aşılmıştır.\", \"Uygun\"))))","v":"%0,5 üzerindedir"},{"$f":"IF(L20=\"\",\" \",M20)","v":" "},null,null,{"$f":"IFERROR(IF(AND(S20<>\"\",K20<>\"\",K20<>0,S20<>0),S20/K20,\"\"),\" \")","v":""},{"$f":"IFERROR(IF(L20<=0.005,IF(E20=\"\",K20,0),IF(E20<>\"\",0,IF(O20=\"\",0,IF(O20=\"H\",0,IF(P20<Veriler!$F$2,K20*Veriler!$F$2,K20*P20))))),\" \")","v":0},{"$f":"IF(Veriler!P20<=0.1, R20, IF(AND(Veriler!P20>0.1, E20=\"\", O20=\"E\"), IF(P20>Veriler!$F$2, P20*R20, IF(P20<Veriler!$F$2, Veriler!$F$2*R20, P20*R20)), 0))","v":0},{"$f":"IF(S20=0,\" \",S20)","v":" "},{"$f":"IFERROR(IF(N20=\"%10 sınırı aşılmıştır.\",K20-S20,IFERROR(IF(E20=\"\",IF(R20=1,0,IF(K20-R20=0,\"\",K20-R20)),IF(Veriler!I20=\"\",K20,IF(K20*Veriler!I20=0,\"\",K20*Veriler!I20))),K20)),0)","v":""}]
[{"$f":"A20+1","v":16},{"$nulls":4},"",{"$nulls":4},"",{"$f":"IF(K21=\"\", \"\", K21/Veriler!$T$1)","v":""},{"$f":"IF(E21<>\"\", \"İthal Girdi\", IF(Veriler!P21=\"\", \"\", IF(Veriler!O21=\"H\", \"%0,5 üzerindedir\", IF(Veriler!P21>0.1, \"%10 sınırı aşılmıştır.\", \"Uygun\"))))","v":"%0,5 üzerindedir"}," ",null,null,"",{"$f":"IFERROR(IF(L21<=0.005,IF(E21=\"\",K21,0),IF(E21<>\"\",0,IF(O21=\"\",0,IF(O21=\"H\",0,IF(P21<Veriler!$F$2,K21*Veriler!$F$2,K21*P21))))),\" \")","v":0},{"$f":"IF(Veriler!P21<=0.1, R21, IF(AND(Veriler!P21>0.1, E21=\"\", O21=\"E\"), IF(P21>Veriler!$F$2, P21*R21, IF(P21<Veriler!$F$2, Veriler!$F$2*R21, P21*R21)), 0))","v":0}," ",{"$f":"IFERROR(IF(N21=\"%10 sınırı aşılmıştır.\",K21-S21,IFERROR(IF(E21=\"\",IF(R21=1,0,IF(K21-R21=0,\"\",K21-R21)),IF(Veriler!I21=\"\",K21,IF(K21*Veriler!I21=0,\"\",K21*Veriler!I21))),K21)),0)","v":""}]
[{"$f":"A21+1","v":17},{"$nulls":4},"",{"$nulls":4},"",{"$f":"IF(K22=\"\", \"\", K22/Veriler!$T$1)","v":""},{"$f":"IF(E22<>\"\", \"İthal Girdi\", IF(Veriler!P22=\"\", \"\", IF(Veriler!O22=\"H\", \"%0,5 üzerindedir\", IF(Veriler!P22>0.1, \"%10 sınırı aşılmıştır.\", \"Uygun\"))))","v":"%0,5 üzerindedir"}," ",null,null,"",{"$f":"IFERROR(IF(L22<=0.005,IF(E22=\"\",K22,0),IF(E22<>\"\",0,IF(O22=\"\",0,IF(O22=\"H\",0,IF(P22<Veriler!$F$2,K22*Veriler!$F$2,K22*P22))))),\" \")","v":0},{"$f":"IF(Veriler!P22<=0.1, R22, IF(AND(Veriler!P22>0.1, E22=\"\", O22=\"E\"), IF(P22>Veriler!$F$2, P22*R22, IF(P22<Veriler!$F$2, Veriler!$F$2*R22, P22*R22)), 0))","v":0}," ",{"$f":"IFERROR(IF(N22=\"%10 sınırı aşılmıştır.\",K22-S22,IFERROR(IF(E22=\"\",IF(R22=1,0,IF(K22-R22=0,\"\",K22-R22)),IF(Veriler!I22=\"\",K22,IF(K22*Veriler!I22=0,\"\",K22*Veriler!I22))),K22)),0)","v":""}]
[18,{"$nulls":4},"",{"$nulls":4},"",{"$f":"IF(K23=\"\", \"\", K23/Veriler!$T$1)","v":""},{"$f":"IF(E23<>\"\", \"İthal Girdi\", IF(Veriler!P23=\"\", \"\", IF(Veriler!O23=\"H\", \"%0,5 üzerindedir\", IF(Veriler!P23>0.1, \"%10 sınırı aşılmıştır.\", \"Uygun\"))))","v":"%0,5 üzerindedir"}," ",null,null,"",{"$f":"IFERROR(IF(L23<=0.005,IF(E23=\"\",K23,0),IF(E23<>\"\",0,IF(O23=\"\",0,IF(O23=\"H\",0,IF(P23<Veriler!$F$2,K23*Veriler!$F$2,K23*P23))))),\" \")","v":0},{"$f":"IF(Veriler!P23<=0.1, R23, IF(AND(Veriler!P23>0.1, E23=\"\", O23=\"E\"), IF(P23>Veriler!$F$2, P23*R23, IF(P23<Veriler!$F$2, Veriler!$F$2*R23, P23*R23)), 0))","v":0}," ",{"$f":"IFERROR(IF(N23=\"%10 sınırı aşılmıştır.\",K23-S23,IFERROR(IF(E23=\"\",IF(R23=1,0,IF(K23-R23=0,\"\",K23-R23)),IF(Veriler!I23=\"\",K23,IF(K23*Veriler!I23=0,\"\",K23*Veriler!I23))),K23)),0)","v":""}]
[19,{"$nulls":4},"",{"$nulls":4},"",{"$f":"IF(K24=\"\", \"\", K24/Veriler!$T$1)","v":""},{"$f":"IF(E24<>\"\", \"İthal Girdi\", IF(Veriler!P24=\"\", \"\", IF(Veriler!O24=\"H\", \"%0,5 üzerindedir\", IF(Veriler!P24>0.1, \"%10 sınırı aşılmıştır.\", \"Uygun\"))))","v":"%0,5 üzerindedir"}," ",null,null,"",{"$f":"IFERROR(IF(L24<=0.005,IF(E24=\"\",K24,0),IF(E24<>\"\",0,IF(O24=\"\",0,IF(O24=\"H\",0,IF(P24<Veriler!$F$2,K24*Veriler!$F$2,K24*P24))))),\" \")","v":0},{"$f":"IF(Veriler!P24<=0.1, R24, IF(AND(Veriler!P24>0.1, E24=\"\", O24=\"E\"), IF(P24>Veriler!$F$2, P24*R24, IF(P24<Veriler!$F$2, Veriler!$F$2*R24, P24*R24)), 0))","v":0}," ",{"$f":"IFERROR(IF(N24=\"%10 sınırı aşılmıştır.\",K24-S24,IFERROR(IF(E24=\"\",IF(R24=1,0,IF(K24-R24=0,\"\",K24-R24)),IF(Veriler!I24=\"\",K24,IF(K24*Veriler!I24=0,\"\",K24*Veriler!I24))),K24)),0)","v":""}]
[20,{"$nulls":4},"",{"$nulls":4},"",{"$f":"IF(K25=\"\", \"\", K25/Veriler!$T$1)","v":""},{"$f":"IF(E25<>\"\", \"İthal Girdi\", IF(Veriler!P25=\"\", \"\", IF(Veriler!O25=\"H\", \"%0,5 üzerindedir\", IF(Veriler!P25>0.1, \"%10 sınırı aşılmıştır.\", \"Uygun\"))))","v":"%0,5 üzerindedir"}," ",null,null,"",{"$f":"IFERROR(IF(L25<=0.005,IF(E25=\"\",K25,0),IF(E25<>\"\",0,IF(O25=\"\",0,IF(O25=\"H\",0,IF(P25<Veriler!$F$2,K25*Veriler!$F$2,K25*P25))))),\" \")","v":0},{"$f":"IF(Veriler!P25<=0.1, R25, IF(AND(Veriler!P25>0.1, E25=\"\", O25=\"E\"), IF(P25>Veriler!$F$2, P25*R25, IF(P25<Veriler!$F$2, Veriler!$F$2*R25, P25*R25)), 0))","v":0}," ",{"$f":"IFERROR(IF(N25=\"%10 sınırı aşılmıştır.\",K25-S25,IFERROR(IF(E25=\"\",IF(R25=1,0,IF(K25-R25=0,\"\",K25-R25)),IF(Veriler!I25=\"\",K25,IF(K25*Veriler!I25=0,\"\",K25*Veriler!I25))),K25)),0)","v":""}]
[21,{"$nulls":4},"",{"$nulls":4},"",{"$f":"IF(K26=\"\", \"\", K26/Veriler!$T$1)","v":""},{"$f":"IF(E26<>\"\", \"İthal Girdi\", IF(Veriler!P26=\"\", \"\", IF(Veriler!O26=\"H\", \"%0,5 üzerindedir\", IF(Veriler!P26>0.1, \"%10 sınırı aşılmıştır.\", \"Uygun\"))))","v":"%0,5 üzerindedir"}," ",null,null,"",{"$f":"IFERROR(IF(L26<=0.005,IF(E26=\"\",K26,0),IF(E26<>\"\",0,IF(O26=\"\",0,IF(O26=\"H\",0,IF(P26<Veriler!$F$2,K26*Veriler!$F$2,K26*P26))))),\" \")","v":0},{"$f":"IF(Veriler!P26<=0.1, R26, IF(AND(Veriler!P26>0.1, E26=\"\", O26=\"E\"), IF(P26>Veriler!$F$2, P26*R26, IF(P26<Veriler!$F$2, Veriler!$F$2*R26, P26*R26)), 0))","v":0}," ",{"$f":"IFERROR(IF(N26=\"%10 sınırı aşılmıştır.\",K26-S26,IFERROR(IF(E26=\"\",IF(R26=1,0,IF(K26-R26=0,\"\",K26-R26)),IF(Veriler!I26=\"\",K26,IF(K26*Veriler!I26=0,\"\",K26*Veriler!I26))),K26)),0)","v":""}]
[22,{"$nulls":4},"",{"$nulls":4},"",{"$f":"IF(K27=\"\", \"\", K27/Veriler!$T$1)","v":""},{"$f":"IF(E27<>\"\", \"İthal Girdi\", IF(Veriler!P27=\"\", \"\", IF(Veriler!O27=\"H\", \"%0,5 üzerindedir\", IF(Veriler!P27>0.1, \"%10 sınırı aşılmıştır.\", \"Uygun\"))))","v":"%0,5 üzerindedir"}," ",null,null,"",{"$f":"IFERROR(IF(L27<=0.005,IF(E27=\"\",K27,0),IF(E27<>\"\",0,IF(O27=\"\",0,IF(O27=\"H\",0,IF(P27<Veriler!$F$2,K27*Veriler!$F$2,K27*P27))))),\" \")","v":0},{"$f":"IF(Veriler!P27<=0.1, R27, IF(AND(Veriler!P27>0.1, E27=\"\", O27=\"E\"), IF(P27>Veriler!$F$2, P27*R27, IF(P27<Veriler!$F$2, Veriler!$F$2*R27, P27*R27)), 0))","v":0}," ",{"$f":"IFERROR(IF(N27=\"%10 sınırı aşılmıştır.\",K27-S27,IFERROR(IF(E27=\"\",IF(R27=1,0,IF(K27-R27=0,\"\",K27-R27)),IF(Veriler!I27=\"\",K27,IF(K27*Veriler!I27=0,\"\",K27*Veriler!I27))),K27)),0)","v":""}]
[23,{"$nulls":4},"",{"$nulls":4},"",{"$f":"IF(K28=\"\", \"\", K28/Veriler!$T$1)","v":""},{"$f":"IF(E28<>\"\", \"İthal Girdi\", IF(Veriler!P28=\"\", \"\", IF(Veriler!O28=\"H\", \"%0,5 üzerindedir\", IF(Veriler!P28>0.1, \"%10 sınırı aşılmıştır.\", \"Uygun\"))))","v":"%0,5 üzerindedir"}," ",null,null,"",{"$f":"IFERROR(IF(L28<=0.005,IF(E28=\"\",K28,0),IF(E28<>\"\",0,IF(O28=\"\",0,IF(O28=\"H\",0,IF(P28<Veriler!$F$2,K28*Veriler!$F$2,K28*P28))))),\" \")","v":0},{"$f":"IF(Veriler!P28<=0.1, R28, IF(AND(Veriler!P28>0.1, E28=\"\", O28=\"E\"), IF(P28>Veriler!$F$2, P28*R28, IF(P28<Veriler!$F$2, Veriler!$F$2*R28, P28*R28)), 0))","v":0}," ",{"$f":"IFERROR(IF(N28=\"%10 sınırı aşılmıştır.\",K28-S28,IFERROR(IF(E28=\"\",IF(R28=1,0,IF(K28-R28=0,\"\",K28-R28)),IF(Veriler!I28=\"\",K28,IF(K28*Veriler!I28=0,\"\",K28*Veriler!I28))),K28)),0)","v":""}]
[24,{"$nulls":4},"",{"$nulls":4},"",{"$f":"IF(K29=\"\", \"\", K29/Veriler!$T$1)","v":""},{"$f":"IF(E29<>\"\", \"İthal Girdi\", IF(Veriler!P29=\"\", \"\", IF(Veriler!O29=\"H\", \"%0,5 üzerindedir\", IF(Veriler!P29>0.1, \"%10 sınırı aşılmıştır.\", \"Uygun\"))))","v":"%0,5 üzerindedir"}," ",null,null,"",{"$f":"IFERROR(IF(L29<=0.005,IF(E29=\"\",K29,0),IF(E29<>\"\",0,IF(O29=\"\",0,IF(O29=\"H\",0,IF(P29<Veriler!$F$2,K29*Veriler!$F$2,K29*P29))))),\" \")","v":0},{"$f":"IF(Veriler!P29<=0.1, R29, IF(AND(Veriler!P29>0.1, E29=\"\", O29=\"E\"), IF(P29>Veriler!$F$2, P29*R29, IF(P29<Veriler!$F$2, Veriler!$F$2*R29, P29*R29)), 0))","v":0}," ",{"$f":"IFERROR(IF(N29=\"%10 sınırı aşılmıştır.\",K29-S29,IFERROR(IF(E29=\"\",IF(R29=1,0,IF(K29-R29=0,\"\",K29-R29)),IF(Veriler!I29=\"\",K29,IF(K29*Veriler!I29=0,\"\",K29*Veriler!I29))),K29)),0)","v":""}]
[25,{"$nulls":4},"",{"$nulls":4},"",{"$f":"IF(K30=\"\", \"\", K30/Veriler!$T$1)","v":""},{"$f":"IF(E30<>\"\", \"İthal Girdi\", IF(Veriler!P30=\"\", \"\", IF(Veriler!O30=\"H\", \"%0,5 üzerindedir\", IF(Veriler!P30>0.1, \"%10 sınırı aşılmıştır.\", \"Uygun\"))))","v":"%0,5 üzerindedir"}," ",null,null,"",{"$f":"IFERROR(IF(L30<=0.005,IF(E30=\"\",K30,0),IF(E30<>\"\",0,IF(O30=\"\",0,IF(O30=\"H\",0,IF(P30<Veriler!$F$2,K30*Veriler!$F$2,K30*P30))))),\" \")","v":0},{"$f":"IF(Veriler!P30<=0.1, R30, IF(AND(Veriler!P30>0.1, E30=\"\", O30=\"E\"), IF(P30>Veriler!$F$2, P30*R30, IF(P30<Veriler!$F$2, Veriler!$F$2*R30, P30*R30)), 0))","v":0}," ",{"$f":"IFERROR(IF(N30=\"%10 sınırı aşılmıştır.\",K30-S30,IFERROR(IF(E30=\"\",IF(R30=1,0,IF(K30-R30=0,\"\",K30-R30)),IF(Veriler!I30=\"\",K30,IF(K30*Veriler!I30=0,\"\",K30*Veriler!I30))),K30)),0)","v":""}]
[26,{"$nulls":4},"",{"$nulls":4},"",{"$f":"IF(K31=\"\", \"\", K31/Veriler!$T$1)","v":""},{"$f":"IF(E31<>\"\", \"İthal Girdi\", IF(Veriler!P31=\"\", \"\", IF(Veriler!O31=\"H\", \"%0,5 üzerindedir\", IF(Veriler!P31>0.1, \"%10 sınırı aşılmıştır.\", \"Uygun\"))))","v":"%0,5 üzerindedir"}," ",null,null,"",{"$f":"IFERROR(IF(L31<=0.005,IF(E31=\"\",K31,0),IF(E31<>\"\",0,IF(O31=\"\",0,IF(O31=\"H\",0,IF(P31<Veriler!$F$2,K31*Veriler!$F$2,K31*P31))))),\" \")","v":0},{"$f":"IF(Veriler!P31<=0.1, R31, IF(AND(Veriler!P31>0.1, E31=\"\", O31=\"E\"), IF(P31>Veriler!$F$2, P31*R31, IF(P31<Veriler!$F$2, Veriler!$F$2*R31, P31*R31)), 0))","v":0}," ",{"$f":"IFERROR(IF(N31=\"%10 sınırı aşılmıştır.\",K31-S31,IFERROR(IF(E31=\"\",IF(R31=1,0,IF(K31-R31=0,\"\",K31-R31)),IF(Veriler!I31=\"\",K31,IF(K31*Veriler!I31=0,\"\",K31*Veriler!I31))),K31)),0)","v":""}]
[27,{"$nulls":4},"",{"$nulls":4},"",{"$f":"IF(K32=\"\", \"\", K32/Veriler!$T$1)","v":""},{"$f":"IF(E32<>\"\", \"İthal Girdi\", IF(Veriler!P32=\"\", \"\", IF(Veriler!O32=\"H\", \"%0,5 üzerindedir\", IF(Veriler!P32>0.1, \"%10 sınırı aşılmıştır.\", \"Uygun\"))))","v":"%0,5 üzerindedir"}," ",null,null,"",{"$f":"IFERROR(IF(L32<=0.005,IF(E32=\"\",K32,0),IF(E32<>\"\",0,IF(O32=\"\",0,IF(O32=\"H\",0,IF(P32<Veriler!$F$2,K32*Veriler!$F$2,K32*P32))))),\" \")","v":0},{"$f":"IF(Veriler!P32<=0.1, R32, IF(AND(Veriler!P32>0.1, E32=\"\", O32=\"E\"), IF(P32>Veriler!$F$2, P32*R32, IF(P32<Veriler!$F$2, Veriler!$F$2*R32, P32*R32)), 0))","v":0}," ",{"$f":"IFERROR(IF(N32=\"%10 sınırı aşılmıştır.\",K32-S32,IFERROR(IF(E32=\"\",IF(R32=1,0,IF(K32-R32=0,\"\",K32-R32)),IF(Veriler!I32=\"\",K32,IF(K32*Veriler!I32=0,\"\",K32*Veriler!I32))),K32)),0)","v":""}]
[28,{"$nulls":4},"",{"$nulls":4},"",{"$f":"IF(K33=\"\", \"\", K33/Veriler!$T$1)","v":""},{"$f":"IF(E33<>\"\", \"İthal Girdi\", IF(Veriler!P33=\"\", \"\", IF(Veriler!O33=\"H\", \"%0,5 üzerindedir\", IF(Veriler!P33>0.1, \"%10 sınırı aşılmıştır.\", \"Uygun\"))))","v":"%0,5 üzerindedir"}," ",null,null,"",{"$f":"IFERROR(IF(L33<=0.005,IF(E33=\"\",K33,0),IF(E33<>\"\",0,IF(O33=\"\",0,IF(O33=\"H\",0,IF(P33<Veriler!$F$2,K33*Veriler!$F$2,K33*P33))))),\" \")","v":0},{"$f":"IF(Veriler!P33<=0.1, R33, IF(AND(Veriler!P33>0.1, E33=\"\", O33=\"E\"), IF(P33>Veriler!$F$2, P33*R33, IF(P33<Veriler!$F$2, Veriler!$F$2*R33, P33*R33)), 0))","v":0}," ",{"$f":"IFERROR(IF(N33=\"%10 sınırı aşılmıştır.\",K33-S33,IFERROR(IF(E33=\"\",IF(R33=1,0,IF(K33-R33=0,\"\",K33-R33)),IF(Veriler!I33=\"\",K33,IF(K33*Veriler!I33=0,\"\",K33*Veriler!I33))),K33)),0)","v":""}]
[{"$nulls":10},{"$f":"SUM(K5:K18,K20:K33)","v":0}]
[{"$nulls":17},"T1","T1","T1","T2"]
["Sayfa Toplamı (TL)  *(Genel Dip Toplam Ek.3-D sayfasında otomatik hesaplanacaktır.)",{"$nulls":16},{"$f":"SUM(R5:R18,R20:R33)","v":0},{"$f":"IF(SUM(S5:S18,S20:S33)=0,\" \",SUM(S5:S18,S20:S33))","v":" "},{"$f":"IF(SUM(T5:T18,T20:T33)=0,\" \",SUM(T5:T18,T20:T33))","v":" "},{"$f":"IF(SUM(U5:U18,U20:U33)=0,\" \",SUM(U5:U18,U20:U33))","v":" "}]
[]
[{"$f":"A76","v":"R02"}]
["YERLİ KATKI ORANI HESAP CETVELİ                      ",{"$nulls":13},false]
["A) Nihai Ürün Doğrudan ve Dolaylı Malzeme Giderleri                                                                                                                                                                                                                                                                                                                                                                                                                                         ",{"$nulls":18},"S",{"$f":"U2+1","v":2}]
["Sıra No","Malzeme adı / Faturadaki Ürün Adı",null,"Üretici Unvanı","GTİP Kodu                             (İthal girdiler için)","Gtip Katsayısı","Miktar ","Birim","Fiyatı \n(TL/Döviz)\n","Döviz Kuru               (TL ise 1 alınız)","Fatura Tutarı (TL)","Girdi Maliyet Yüzdesi (%)","Girdi yüzdesi %0,5 altında olan girdiler için %10 sınır kontrolü","Girdi yüzdesi %0,5 altında olan girdiler için %10 sınır kontrolü","SSB/  Müstahsil                (E/H)","YKO (%) (Manuel girilmeli)","Geçerli Yerli Oranı (%)","Yerli Maliyet Tutarı                            (T1)","Yerli Maliyet Tutarı (T1)","Yerli Maliyet Tutarı (T1)","İthal Maliyet Tutarı               (T2)"]
[null,"Doğrudan Girdi                                                         (Dolaylı girdiniz varsa en son 25. sayfaya doldurunuz)"]
[{"$f":"A33+1","v":29},{"$nulls":4},{"$f":"IF(AND(E43<>\"\",U43<>\"\",K43<>0),U43/K43,\"\")","v":""},{"$nulls":4},{"$f":"IF(AND(G43<>0, I43<>0, J43<>0), G43*I43*J43, \"\")","v":""},{"$f":"IF(K43=\"\", \"\", K43/Veriler!$T$1)","v":""},{"$f":"IF(E43<>\"\", \"İthal Girdi\", IF(Veriler!P43=\"\", \"\", IF(Veriler!O43=\"H\", \"%0,5 üzerindedir\", IF(Veriler!P43>0.1, \"%10 sınırı aşılmıştır.\", \"Uygun\"))))","v":"%0,5 üzerindedir"},{"$f":"IF(L43=\"\",\" \",M43)","v":" "},null,null,{"$f":"IFERROR(IF(AND(S43<>\"\",K43<>\"\",K43<>0,S43<>0),S43/K43,\"\"),\" \")","v":""},{"$f":"IFERROR(IF(L43<=0.005,IF(E43=\"\",K43,0),IF(E43<>\"\",0,IF(O43=\"\",0,IF(O43=\"H\",0,IF(P43<Veriler!$F$2,K43*Veriler!$F$2,K43*P43))))),\" \")","v":0},{"$f":"IF(Veriler!P43<=0.1, R43, IF(AND(Veriler!P43>0.1, E43=\"\", O43=\"E\"), IF(P43>Veriler!$F$2, P43*R43, IF(P43<Veriler!$F$2, Veriler!$F$2*R43, P43*R43)), 0))","v":0},{"$f":"IF(S43=0,\" \",S43)","v":" "},{"$f":"IFERROR(IF(N43=\"%10 sınırı aşılmıştır.\",K43-S43,IFERROR(IF(E43=\"\",IF(R43=1,0,IF(K43-R43=0,\"\",K43-R43)),IF(Veriler!I43=\"\",K43,IF(K43*Veriler!I43=0,\"\",K43*Veriler!I43))),K43)),0)","v":""}]
[{"$f":"A43+1","v":30},{"$nulls":4},"",{"$nulls":4},"",{"$f":"IF(K44=\"\", \"\", K44/Veriler!$T$1)","v":""},{"$f":"IF(E44<>\"\", \"İthal Girdi\", IF(Veriler!P44=\"\", \"\", IF(Veriler!O44=\"H\", \"%0,5 üzerindedir\", IF(Veriler!P44>0.1, \"%10 sınırı aşılmıştır.\", \"Uygun\"))))","v":"%0,5 üzerindedir"}," ",null,null,"",{"$f":"IFERROR(IF(L44<=0.005,IF(E44=\"\",K44,0),IF(E44<>\"\",0,IF(O44=\"\",0,IF(O44=\"H\",0,IF(P44<Veriler!$F$2,K44*Veriler!$F$2,K44*P44))))),\" \")","v":0},{"$f":"IF(Veriler!P44<=0.1, R44, IF(AND(Veriler!P44>0.1, E44=\"\", O44=\"E\"), IF(P44>Veriler!$F$2, P44*R44, IF(P44<Veriler!$F$2, Veriler!$F$2*R44, P44*R44)), 0))","v":0}," ",{"$f":"IFERROR(IF(N44=\"%10 sınırı aşılmıştır.\",K44-S44,IFERROR(IF(E44=\"\",IF(R44=1,0,IF(K44-R44=0,\"\",K44-R44)),IF(Veriler!I44=\"\",K44,IF(K44*Veriler!I44=0,\"\",K44*Veriler!I44))),K44)),0)","v":""}]
[{"$f":"A44+1","v":31},{"$nulls":4},"",{"$nulls":4},"",{"$f":"IF(K45=\"\", \"\", K45/Veriler!$T$1)","v":""},{"$f":"IF(E45<>\"\", \"İthal Girdi\", IF(Veriler!P45=\"\", \"\", IF(Veriler!O45=\"H\", \"%0,5 üzerindedir\", IF(Veriler!P45>0.1, \"%10 sınırı aşılmıştır.\", \"Uygun\"))))","v":"%0,5 üzerindedir"}," ",null,null,"",{"$f":"IFERROR(IF(L45<=0.005,IF(E45=\"\",K45,0),IF(E45<>\"\",0,IF(O45=\"\",0,IF(O45=\"H\",0,IF(P45<Veriler!$F$2,K45*Veriler!$F$2,K45*P45))))),\" \")","v":0},{"$f":"IF(Veriler!P45<=0.1, R45, IF(AND(Veriler!P45>0.1, E45=\"\", O45=\"E\"), IF(P45>Veriler!$F$2, P45*R45, IF(P45<Veriler!$F$2, Veriler!$F$2*R45, P45*R45)), 0))","v":0}," ",{"$f":"IFERROR(IF(N45=\"%10 sınırı aşılmıştır.\",K45-S45,IFERROR(IF(E45=\"\",IF(R45=1,0,IF(K45-R45=0,\"\",K45-R45)),IF(Veriler!I45=\"\",K45,IF(K45*Veriler!I45=0,\"\",K45*Veriler!I45))),K45)),0)","v":""}]
[32,{"$nulls":4},"",{"$nulls":4},"",{"$f":"IF(K46=\"\", \"\", K46/Veriler!$T$1)","v":""},{"$f":"IF(E46<>\"\", \"İthal Girdi\", IF(Veriler!P46=\"\", \"\", IF(Veriler!O46=\"H\", \"%0,5 üzerindedir\", IF(Veriler!P46>0.1, \"%10 sınırı aşılmıştır.\", \"Uygun\"))))","v":"%0,5 üzerindedir"}," ",null,null,"",{"$f":"IFERROR(IF(L46<=0.005,IF(E46=\"\",K46,0),IF(E46<>\"\",0,IF(O46=\"\",0,IF(O46=\"H\",0,IF(P46<Veriler!$F$2,K46*Veriler!$F$2,K46*P46))))),\" \")","v":0},{"$f":"IF(Veriler!P46<=0.1, R46, IF(AND(Veriler!P46>0.1, E46=\"\", O46=\"E\"), IF(P46>Veriler!$F$2, P46*R46, IF(P46<Veriler!$F$2, Veriler!$F$2*R46, P46*R46)), 0))","v":0}," ",{"$f":"IFERROR(IF(N46=\"%10 sınırı aşılmıştır.\",K46-S46,IFERROR(IF(E46=\"\",IF(R46=1,0,IF(K46-R46=0,\"\",K46-R46)),IF(Veriler!I46=\"\",K46,IF(K46*Veriler!I46=0,\"\",K46*Veriler!I46))),K46)),0)","v":""}]
[33,{"$nulls":4},"",{"$nulls":4},"",{"$f":"IF(K47=\"\", \"\", K47/Veriler!$T$1)","v":""},{"$f":"IF(E47<>\"\", \"İthal Girdi\", IF(Veriler!P47=\"\", \"\", IF(Veriler!O47=\"H\", \"%0,5 üzerindedir\", IF(Veriler!P47>0.1, \"%10 sınırı aşılmıştır.\", \"Uygun\"))))","v":"%0,5 üzerindedir"}," ",null,null,"",{"$f":"IFERROR(IF(L47<=0.005,IF(E47=\"\",K47,0),IF(E47<>\"\",0,IF(O47=\"\",0,IF(O47=\"H\",0,IF(P47<Veriler!$F$2,K47*Veriler!$F$2,K47*P47))))),\" \")","v":0},{"$f":"IF(Veriler!P47<=0.1, R47, IF(AND(Veriler!P47>0.1, E47=\"\", O47=\"E\"), IF(P47>Veriler!$F$2, P47*R47, IF(P47<Veriler!$F$2, Veriler!$F$2*R47, P47*R47)), 0))","v":0}," ",{"$f":"IFERROR(IF(N47=\"%10 sınırı aşılmıştır.\",K47-S47,IFERROR(IF(E47=\"\",IF(R47=1,0,IF(K47-R47=0,\"\",K47-R47)),IF(Veriler!I47=\"\",K47,IF(K47*Veriler!I47=0,\"\",K47*Veriler!I47))),K47)),0)","v":""}]
[34,{"$nulls":4},"",{"$nulls":4},"",{"$f":"IF(K48=\"\", \"\", K48/Veriler!$T$1)","v":""},{"$f":"IF(E48<>\"\", \"İthal Girdi\", IF(Veriler!P48=\"\", \"\", IF(Veriler!O48=\"H\", \"%0,5 üzerindedir\", IF(Veriler!P48>0.1, \"%10 sınırı aşılmıştır.\", \"Uygun\"))))","v":"%0,5 üzerindedir"}," ",null,null,"",{"$f":"IFERROR(IF(L48<=0.005,IF(E48=\"\",K48,0),IF(E48<>\"\",0,IF(O48=\"\",0,IF(O48=\"H\",0,IF(P48<Veriler!$F$2,K48*Veriler!$F$2,K48*P48))))),\" \")","v":0},{"$f":"IF(Veriler!P48<=0.1, R48, IF(AND(Veriler!P48>0.1, E48=\"\", O48=\"E\"), IF(P48>Veriler!$F$2, P48*R48, IF(P48<Veriler!$F$2, Veriler!$F$2*R48, P48*R48)), 0))","v":0}," ",{"$f":"IFERROR(IF(N48=\"%10 sınırı aşılmıştır.\",K48-S48,IFERROR(IF(E48=\"\",IF(R48=1,0,IF(K48-R48=0,\"\",K48-R48)),IF(Veriler!I48=\"\",K48,IF(K48*Veriler!I48=0,\"\",K48*Veriler!I48))),K48)),0)","v":""}]
[35,{"$nulls":4},"",{"$nulls":4},"",{"$f":"IF(K49=\"\", \"\", K49/Veriler!$T$1)","v":""},{"$f":"IF(E49<>\"\", \"İthal Girdi\", IF(Veriler!P49=\"\", \"\", IF(Veriler!O49=\"H\", \"%0,5 üzerindedir\", IF(Veriler!P49>0.1, \"%10 sınırı aşılmıştır.\", \"Uygun\"))))","v":"%0,5 üzerindedir"}," ",null,null,"",{"$f":"IFERROR(IF(L49<=0.005,IF(E49=\"\",K49,0),IF(E49<>\"\",0,IF(O49=\"\",0,IF(O49=\"H\",0,IF(P49<Veriler!$F$2,K49*Veriler!$F$2,K49*P49))))),\" \")","v":0},{"$f":"IF(Veriler!P49<=0.1, R49, IF(AND(Veriler!P49>0.1, E49=\"\", O49=\"E\"), IF(P49>Veriler!$F$2, P49*R49, IF(P49<Veriler!$F$2, Veriler!$F$2*R49, P49*R49)), 0))","v":0}," ",{"$f":"IFERROR(IF(N49=\"%10 sınırı aşılmıştır.\",K49-S49,IFERROR(IF(E49=\"\",IF(R49=1,0,IF(K49-R49=0,\"\",K49-R49)),IF(Veriler!I49=\"\",K49,IF(K49*Veriler!I49=0,\"\",K49*Veriler!I49))),K49)),0)","v":""}]
[36,{"$nulls":4},"",{"$nulls":4},"",{"$f":"IF(K50=\"\", \"\", K50/Veriler!$T$1)","v":""},{"$f":"IF(E50<>\"\", \"İthal Girdi\", IF(Veriler!P50=\"\", \"\", IF(Veriler!O50=\"H\", \"%0,5 üzerindedir\", IF(Veriler!P50>0.1, \"%10 sınırı aşılmıştır.\", \"Uygun\"))))","v":"%0,5 üzerindedir"}," ",null,null,"",{"$f":"IFERROR(IF(L50<=0.005,IF(E50=\"\",K50,0),IF(E50<>\"\",0,IF(O50=\"\",0,IF(O50=\"H\",0,IF(P50<Veriler!$F$2,K50*Veriler!$F$2,K50*P50))))),\" \")","v":0},{"$f":"IF(Veriler!P50<=0.1, R50, IF(AND(Veriler!P50>0.1, E50=\"\", O50=\"E\"), IF(P50>Veriler!$F$2, P50*R50, IF(P50<Veriler!$F$2, Veriler!$F$2*R50, P50*R50)), 0))","v":0}," ",{"$f":"IFERROR(IF(N50=\"%10 sınırı aşılmıştır.\",K50-S50,IFERROR(IF(E50=\"\",IF(R50=1,0,IF(K50-R50=0,\"\",K50-R50)),IF(Veriler!I50=\"\",K50,IF(K50*Veriler!I50=0,\"\",K50*Veriler!I50))),K50)),0)","v":""}]
[37,{"$nulls":4},"",{"$nulls":4},"",{"$f":"IF(K51=\"\", \"\", K51/Veriler!$T$1)","v":""},{"$f":"IF(E51<>\"\", \"İthal Girdi\", IF(Veriler!P51=\"\", \"\", IF(Veriler!O51=\"H\", \"%0,5 üzerindedir\", IF(Veriler!P51>0.1, \"%10 sınırı aşılmıştır.\", \"Uygun\"))))","v":"%0,5 üzerindedir"}," ",null,null,"",{"$f":"IFERROR(IF(L51<=0.005,IF(E51=\"\",K51,0),IF(E51<>\"\",0,IF(O51=\"\",0,IF(O51=\"H\",0,IF(P51<Veriler!$F$2,K51*Veriler!$F$2,K51*P51))))),\" \")","v":0},{"$f":"IF(Veriler!P51<=0.1, R51, IF(AND(Veriler!P51>0.1, E51=\"\", O51=\"E\"), IF(P51>Veriler!$F$2, P51*R51, IF(P51<Veriler!$F$2, Veriler!$F$2*R51, P51*R51)), 0))","v":0}," ",{"$f":"IFERROR(IF(N51=\"%10 sınırı aşılmıştır.\",K51-S51,IFERROR(IF(E51=\"\",IF(R51=1,0,IF(K51-R51=0,\"\",K51-R51)),IF(Veriler!I51=\"\",K51,IF(K51*Veriler!I51=0,\"\",K51*Veriler!I51))),K51)),0)","v":""}]
[38,{"$nulls":4},"",{"$nulls":4},"",{"$f":"IF(K52=\"\", \"\", K52/Veriler!$T$1)","v":""},{"$f":"IF(E52<>\"\", \"İthal Girdi\", IF(Veriler!P52=\"\", \"\", IF(Veriler!O52=\"H\", \"%0,5 üzerindedir\", IF(Veriler!P52>0.1, \"%10 sınırı aşılmıştır.\", \"Uygun\"))))","v":"%0,5 üzerindedir"}," ",null,null,"",{"$f":"IFERROR(IF(L52<=0.005,IF(E52=\"\",K52,0),IF(E52<>\"\",0,IF(O52=\"\",0,IF(O52=\"H\",0,IF(P52<Veriler!$F$2,K52*Veriler!$F$2,K52*P52))))),\" \")","v":0},{"$f":"IF(Veriler!P52<=0.1, R52, IF(AND(Veriler!P52>0.1, E52=\"\", O52=\"E\"), IF(P52>Veriler!$F$2, P52*R52, IF(P52<Veriler!$F$2, Veriler!$F$2*R52, P52*R52)), 0))","v":0}," ",{"$f":"IFERROR(IF(N52=\"%10 sınırı aşılmıştır.\",K52-S52,IFERROR(IF(E52=\"\",IF(R52=1,0,IF(K52-R52=0,\"\",K52-R52)),IF(Veriler!I52=\"\",K52,IF(K52*Veriler!I52=0,\"\",K52*Veriler!I52))),K52)),0)","v":""}]
[39,{"$nulls":4},"",{"$nulls":4},"",{"$f":"IF(K53=\"\", \"\", K53/Veriler!$T$1)","v":""},{"$f":"IF(E53<>\"\", \"İthal Girdi\", IF(Veriler!P53=\"\", \"\", IF(Veriler!O53=\"H\", \"%0,5 üzerindedir\", IF(Veriler!P53>0.1, \"%10 sınırı aşılmıştır.\", \"Uygun\"))))","v":"%0,5 üzerindedir"}," ",null,null,"",{"$f":"IFERROR(IF(L53<=0.005,IF(E53=\"\",K53,0),IF(E53<>\"\",0,IF(O53=\"\",0,IF(O53=\"H\",0,IF(P53<Veriler!$F$2,K53*Veriler!$F$2,K53*P53))))),\" \")","v":0},{"$f":"IF(Veriler!P53<=0.1, R53, IF(AND(Veriler!P53>0.1, E53=\"\", O53=\"E\"), IF(P53>Veriler!$F$2, P53*R53, IF(P53<Veriler!$F$2, Veriler!$F$2*R53, P53*R53)), 0))","v":0}," ",{"$f":"IFERROR(IF(N53=\"%10 sınırı aşılmıştır.\",K53-S53,IFERROR(IF(E53=\"\",IF(R53=1,0,IF(K53-R53=0,\"\",K53-R53)),IF(Veriler!I53=\"\",K53,IF(K53*Veriler!I53=0,\"\",K53*Veriler!I53))),K53)),0)","v":""}]
[40,{"$nulls":4},"",{"$nulls":4},"",{"$f":"IF(K54=\"\", \"\", K54/Veriler!$T$1)","v":""},{"$f":"IF(E54<>\"\", \"İthal Girdi\", IF(Veriler!P54=\"\", \"\", IF(Veriler!O54=\"H\", \"%0,5 üzerindedir\", IF(Veriler!P54>0.1, \"%10 sınırı aşılmıştır.\", \"Uygun\"))))","v":"%0,5 üzerindedir"}," ",null,null,"",{"$f":"IFERROR(IF(L54<=0.005,IF(E54=\"\",K54,0),IF(E54<>\"\",0,IF(O54=\"\",0,IF(O54=\"H\",0,IF(P54<Veriler!$F$2,K54*Veriler!$F$2,K54*P54))))),\" \")","v":0},{"$f":"IF(Veriler!P54<=0.1, R54, IF(AND(Veriler!P54>0.1, E54=\"\", O54=\"E\"), IF(P54>Veriler!$F$2, P54*R54, IF(P54<Veriler!$F$2, Veriler!$F$2*R54, P54*R54)), 0))","v":0}," ",{"$f":"IFERROR(IF(N54=\"%10 sınırı aşılmıştır.\",K54-S54,IFERROR(IF(E54=\"\",IF(R54=1,0,IF(K54-R54=0,\"\",K54-R54)),IF(Veriler!I54=\"\",K54,IF(K54*Veriler!I54=0,\"\",K54*Veriler!I54))),K54)),0)","v":""}]
[41,{"$nulls":4},"",{"$nulls":4},"",{"$f":"IF(K55=\"\", \"\", K55/Veriler!$T$1)","v":""},{"$f":"IF(E55<>\"\", \"İthal Girdi\", IF(Veriler!P55=\"\", \"\", IF(Veriler!O55=\"H\", \"%0,5 üzerindedir\", IF(Veriler!P55>0.1, \"%10 sınırı aşılmıştır.\", \"Uygun\"))))","v":"%0,5 üzerindedir"}," ",null,null,"",{"$f":"IFERROR(IF(L55<=0.005,IF(E55=\"\",K55,0),IF(E55<>\"\",0,IF(O55=\"\",0,IF(O55=\"H\",0,IF(P55<Veriler!$F$2,K55*Veriler!$F$2,K55*P55))))),\" \")","v":0},{"$f":"IF(Veriler!P55<=0.1, R55, IF(AND(Veriler!P55>0.1, E55=\"\", O55=\"E\"), IF(P55>Veriler!$F$2, P55*R55, IF(P55<Veriler!$F$2, Veriler!$F$2*R55, P55*R55)), 0))","v":0}," ",{"$f":"IFERROR(IF(N55=\"%10 sınırı aşılmıştır.\",K55-S55,IFERROR(IF(E55=\"\",IF(R55=1,0,IF(K55-R55=0,\"\",K55-R55)),IF(Veriler!I55=\"\",K55,IF(K55*Veriler!I55=0,\"\",K55*Veriler!I55))),K55)),0)","v":""}]
[42,{"$nulls":4},"",{"$nulls":4},"",{"$f":"IF(K56=\"\", \"\", K56/Veriler!$T$1)","v":""},{"$f":"IF(E56<>\"\", \"İthal Girdi\", IF(Veriler!P56=\"\", \"\", IF(Veriler!O56=\"H\", \"%0,5 üzerindedir\", IF(Veriler!P56>0.1, \"%10 sınırı aşılmıştır.\", \"Uygun\"))))","v":"%0,5 üzerindedir"}," ",null,null,"",{"$f":"IFERROR(IF(L56<=0.005,IF(E56=\"\",K56,0),IF(E56<>\"\",0,IF(O56=\"\",0,IF(O56=\"H\",0,IF(P56<Veriler!$F$2,K56*Veriler!$F$2,K56*P56))))),\" \")","v":0},{"$f":"IF(Veriler!P56<=0.1, R56, IF(AND(Veriler!P56>0.1, E56=\"\", O56=\"E\"), IF(P56>Veriler!$F$2, P56*R56, IF(P56<Veriler!$F$2, Veriler!$F$2*R56, P56*R56)), 0))","v":0}," ",{"$f":"IFERROR(IF(N56=\"%10 sınırı aşılmıştır.\",K56-S56,IFERROR(IF(E56=\"\",IF(R56=1,0,IF(K56-R56=0,\"\",K56-R56)),IF(Veriler!I56=\"\",K56,IF(K56*Veriler!I56=0,\"\",K56*Veriler!I56))),K56)),0)","v":""}]
[null,"Dolaylı"]
[{"$f":"A56+1","v":43},{"$nulls":4},{"$f":"IF(AND(E58<>\"\",U58<>\"\",K58<>0),U58/K58,\"\")","v":""},{"$nulls":4},{"$f":"IF(AND(G58<>0, I58<>0, J58<>0), G58*I58*J58, \"\")","v":""},{"$f":"IF(K58=\"\", \"\", K58/Veriler!$T$1)","v":""},{"$f":"IF(E58<>\"\", \"İthal Girdi\", IF(Veriler!P58=\"\", \"\", IF(Veriler!O58=\"H\", \"%0,5 üzerindedir\", IF(Veriler!P58>0.1, \"%10 sınırı aşılmıştır.\", \"Uygun\"))))","v":"%0,5 üzerindedir"},{"$f":"IF(L58=\"\",\" \",M58)","v":" "},null,null,{"$f":"IFERROR(IF(AND(S58<>\"\",K58<>\"\",K58<>0,S58<>0),S58/K58,\"\"),\" \")","v":""},{"$f":"IFERROR(IF(L58<=0.005,IF(E58=\"\",K58,0),IF(E58<>\"\",0,IF(O58=\"\",0,IF(O58=\"H\",0,IF(P58<Veriler!$F$2,K58*Veriler!$F$2,K58*P58))))),\" \")","v":0},{"$f":"IF(Veriler!P58<=0.1, R58, IF(AND(Veriler!P58>0.1, E58=\"\", O58=\"E\"), IF(P58>Veriler!$F$2, P58*R58, IF(P58<Veriler!$F$2, Veriler!$F$2*R58, P58*R58)), 0))","v":0},{"$f":"IF(S58=0,\" \",S58)","v":" "},{"$f":"IFERROR(IF(N58=\"%10 sınırı aşılmıştır.\",K58-S58,IFERROR(IF(E58=\"\",IF(R58=1,0,IF(K58-R58=0,\"\",K58-R58)),IF(Veriler!I58=\"\",K58,IF(K58*Veriler!I58=0,\"\",K58*Veriler!I58))),K58)),0)","v":""}]
[{"$f":"A58+1","v":44},{"$nulls":4},"",{"$nulls":4},"",{"$f":"IF(K59=\"\", \"\", K59/Veriler!$T$1)","v":""},{"$f":"IF(E59<>\"\", \"İthal Girdi\", IF(Veriler!P59=\"\", \"\", IF(Veriler!O59=\"H\", \"%0,5 üzerindedir\", IF(Veriler!P59>0.1, \"%10 sınırı aşılmıştır.\", \"Uygun\"))))","v":"%0,5 üzerindedir"}," ",null,null,"",{"$f":"IFERROR(IF(L59<=0.005,IF(E59=\"\",K59,0),IF(E59<>\"\",0,IF(O59=\"\",0,IF(O59=\"H\",0,IF(P59<Veriler!$F$2,K59*Veriler!$F$2,K59*P59))))),\" \")","v":0},{"$f":"IF(Veriler!P59<=0.1, R59, IF(AND(Veriler!P59>0.1, E59=\"\", O59=\"E\"), IF(P59>Veriler!$F$2, P59*R59, IF(P59<Veriler!$F$2, Veriler!$F$2*R59, P59*R59)), 0))","v":0}," ",{"$f":"IFERROR(IF(N59=\"%10 sınırı aşılmıştır.\",K59-S59,IFERROR(IF(E59=\"\",IF(R59=1,0,IF(K59-R59=0,\"\",K59-R59)),IF(Veriler!I59=\"\",K59,IF(K59*Veriler!I59=0,\"\",K59*Veriler!I59))),K59)),0)","v":""}]
[{"$f":"A59+1","v":45},{"$nulls":4},"",{"$nulls":4},"",{"$f":"IF(K60=\"\", \"\", K60/Veriler!$T$1)","v":""},{"$f":"IF(E60<>\"\", \"İthal Girdi\", IF(Veriler!P60=\"\", \"\", IF(Veriler!O60=\"H\", \"%0,5 üzerindedir\", IF(Veriler!P60>0.1, \"%10 sınırı aşılmıştır.\", \"Uygun\"))))","v":"%0,5 üzerindedir"}," ",null,null,"",{"$f":"IFERROR(IF(L60<=0.005,IF(E60=\"\",K60,0),IF(E60<>\"\",0,IF(O60=\"\",0,IF(O60=\"H\",0,IF(P60<Veriler!$F$2,K60*Veriler!$F$2,K60*P60))))),\" \")","v":0},{"$f":"IF(Veriler!P60<=0.1, R60, IF(AND(Veriler!P60>0.1, E60=\"\", O60=\"E\"), IF(P60>Veriler!$F$2, P60*R60, IF(P60<Veriler!$F$2, Veriler!$F$2*R60, P60*R60)), 0))","v":0}," ",{"$f":"IFERROR(IF(N60=\"%10 sınırı aşılmıştır.\",K60-S60,IFERROR(IF(E60=\"\",IF(R60=1,0,IF(K60-R60=0,\"\",K60-R60)),IF(Veriler!I60=\"\",K60,IF(K60*Veriler!I60=0,\"\",K60*Veriler!I60))),K60)),0)","v":""}]
[46,{"$nulls":4},"",{"$nulls":4},"",{"$f":"IF(K61=\"\", \"\", K61/Veriler!$T$1)","v":""},{"$f":"IF(E61<>\"\", \"İthal Girdi\", IF(Veriler!P61=\"\", \"\", IF(Veriler!O61=\"H\", \"%0,5 üzerindedir\", IF(Veriler!P61>0.1, \"%10 sınırı aşılmıştır.\", \"Uygun\"))))","v":"%0,5 üzerindedir"}," ",null,null,"",{"$f":"IFERROR(IF(L61<=0.005,IF(E61=\"\",K61,0),IF(E61<>\"\",0,IF(O61=\"\",0,IF(O61=\"H\",0,IF(P61<Veriler!$F$2,K61*Veriler!$F$2,K61*P61))))),\" \")","v":0},{"$f":"IF(Veriler!P61<=0.1, R61, IF(AND(Veriler!P61>0.1, E61=\"\", O61=\"E\"), IF(P61>Veriler!$F$2, P61*R61, IF(P61<Veriler!$F$2, Veriler!$F$2*R61, P61*R61)), 0))","v":0}," ",{"$f":"IFERROR(IF(N61=\"%10 sınırı aşılmıştır.\",K61-S61,IFERROR(IF(E61=\"\",IF(R61=1,0,IF(K61-R61=0,\"\",K61-R61)),IF(Veriler!I61=\"\",K61,IF(K61*Veriler!I61=0,\"\",K61*Veriler!I61))),K61)),0)","v":""}]
[47,{"$nulls":4},"",{"$nulls":4},"",{"$f":"IF(K62=\"\", \"\", K62/Veriler!$T$1)","v":""},{"$f":"IF(E62<>\"\", \"İthal Girdi\", IF(Veriler!P62=\"\", \"\", IF(Veriler!O62=\"H\", \"%0,5 üzerindedir\", IF(Veriler!P62>0.1, \"%10 sınırı aşılmıştır.\", \"Uygun\"))))","v":"%0,5 üzerindedir"}," ",null,null,"",{"$f":"IFERROR(IF(L62<=0.005,IF(E62=\"\",K62,0),IF(E62<>\"\",0,IF(O62=\"\",0,IF(O62=\"H\",0,IF(P62<Veriler!$F$2,K62*Veriler!$F$2,K62*P62))))),\" \")","v":0},{"$f":"IF(Veriler!P62<=0.1, R62, IF(AND(Veriler!P62>0.1, E62=\"\", O62=\"E\"), IF(P62>Veriler!$F$2, P62*R62, IF(P62<Veriler!$F$2, Veriler!$F$2*R62, P62*R62)), 0))","v":0}," ",{"$f":"IFERROR(IF(N62=\"%10 sınırı aşılmıştır.\",K62-S62,IFERROR(IF(E62=\"\",IF(R62=1,0,IF(K62-R62=0,\"\",K62-R62)),IF(Veriler!I62=\"\",K62,IF(K62*Veriler!I62=0,\"\",K62*Veriler!I62))),K62)),0)","v":""}]
[48,{"$nulls":4},"",{"$nulls":4},"",{"$f":"IF(K63=\"\", \"\", K63/Veriler!$T$1)","v":""},{"$f":"IF(E63<>\"\", \"İthal Girdi\", IF(Veriler!P63=\"\", \"\", IF(Veriler!O63=\"H\", \"%0,5 üzerindedir\", IF(Veriler!P63>0.1, \"%10 sınırı aşılmıştır.\", \"Uygun\"))))","v":"%0,5 üzerindedir"}," ",null,null,"",{"$f":"IFERROR(IF(L63<=0.005,IF(E63=\"\",K63,0),IF(E63<>\"\",0,IF(O63=\"\",0,IF(O63=\"H\",0,IF(P63<Veriler!$F$2,K63*Veriler!$F$2,K63*P63))))),\" \")","v":0},{"$f":"IF(Veriler!P63<=0.1, R63, IF(AND(Veriler!P63>0.1, E63=\"\", O63=\"E\"), IF(P63>Veriler!$F$2, P63*R63, IF(P63<Veriler!$F$2, Veriler!$F$2*R63, P63*R63)), 0))","v":0}," ",{"$f":"IFERROR(IF(N63=\"%10 sınırı aşılmıştır.\",K63-S63,IFERROR(IF(E63=\"\",IF(R63=1,0,IF(K63-R63=0,\"\",K63-R63)),IF(Veriler!I63=\"\",K63,IF(K63*Veriler!I63=0,\"\",K63*Veriler!I63))),K63)),0)","v":""}]
[49,{"$nulls":4},"",{"$nulls":4},"",{"$f":"IF(K64=\"\", \"\", K64/Veriler!$T$1)","v":""},{"$f":"IF(E64<>\"\", \"İthal Girdi\", IF(Veriler!P64=\"\", \"\", IF(Veriler!O64=\"H\", \"%0,5 üzerindedir\", IF(Veriler!P64>0.1, \"%10 sınırı aşılmıştır.\", \"Uygun\"))))","v":"%0,5 üzerindedir"}," ",null,null,"",{"$f":"IFERROR(IF(L64<=0.005,IF(E64=\"\",K64,0),IF(E64<>\"\",0,IF(O64=\"\",0,IF(O64=\"H\",0,IF(P64<Veriler!$F$2,K64*Veriler!$F$2,K64*P64))))),\" \")","v":0},{"$f":"IF(Veriler!P64<=0.1, R64, IF(AND(Veriler!P64>0.1, E64=\"\", O64=\"E\"), IF(P64>Veriler!$F$2, P64*R64, IF(P64<Veriler!$F$2, Veriler!$F$2*R64, P64*R64)), 0))","v":0}," ",{"$f":"IFERROR(IF(N64=\"%10 sınırı aşılmıştır.\",K64-S64,IFERROR(IF(E64=\"\",IF(R64=1,0,IF(K64-R64=0,\"\",K64-R64)),IF(Veriler!I64=\"\",K64,IF(K64*Veriler!I64=0,\"\",K64*Veriler!I64))),K64)),0)","v":""}]
[50,{"$nulls":4},"",{"$nulls":4},"",{"$f":"IF(K65=\"\", \"\", K65/Veriler!$T$1)","v":""},{"$f":"IF(E65<>\"\", \"İthal Girdi\", IF(Veriler!P65=\"\", \"\", IF(Veriler!O65=\"H\", \"%0,5 üzerindedir\", IF(Veriler!P65>0.1, \"%10 sınırı aşılmıştır.\", \"Uygun\"))))","v":"%0,5 üzerindedir"}," ",null,null,"",{"$f":"IFERROR(IF(L65<=0.005,IF(E65=\"\",K65,0),IF(E65<>\"\",0,IF(O65=\"\",0,IF(O65=\"H\",0,IF(P65<Veriler!$F$2,K65*Veriler!$F$2,K65*P65))))),\" \")","v":0},{"$f":"IF(Veriler!P65<=0.1, R65, IF(AND(Veriler!P65>0.1, E65=\"\", O65=\"E\"), IF(P65>Veriler!$F$2, P65*R65, IF(P65<Veriler!$F$2, Veriler!$F$2*R65, P65*R65)), 0))","v":0}," ",{"$f":"IFERROR(IF(N65=\"%10 sınırı aşılmıştır.\",K65-S65,IFERROR(IF(E65=\"\",IF(R65=1,0,IF(K65-R65=0,\"\",K65-R65)),IF(Veriler!I65=\"\",K65,IF(K65*Veriler!I65=0,\"\",K65*Veriler!I65))),K65)),0)","v":""}]
[51,{"$nulls":4},"",{"$nulls":4},"",{"$f":"IF(K66=\"\", \"\", K66/Veriler!$T$1)","v":""},{"$f":"IF(E66<>\"\", \"İthal Girdi\", IF(Veriler!P66=\"\", \"\", IF(Veriler!O66=\"H\", \"%0,5 üzerindedir\", IF(Veriler!P66>0.1, \"%10 sınırı aşılmıştır.\", \"Uygun\"))))","v":"%0,5 üzerindedir"}," ",null,null,"",{"$f":"IFERROR(IF(L66<=0.005,IF(E66=\"\",K66,0),IF(E66<>\"\",0,IF(O66=\"\",0,IF(O66=\"H\",0,IF(P66<Veriler!$F$2,K66*Veriler!$F$2,K66*P66))))),\" \")","v":0},{"$f":"IF(Veriler!P66<=0.1, R66, IF(AND(Veriler!P66>0.1, E66=\"\", O66=\"E\"), IF(P66>Veriler!$F$2, P66*R66, IF(P66<Veriler!$F$2, Veriler!$F$2*R66, P66*R66)), 0))","v":0}," ",{"$f":"IFERROR(IF(N66=\"%10 sınırı aşılmıştır.\",K66-S66,IFERROR(IF(E66=\"\",IF(R66=1,0,IF(K66-R66=0,\"\",K66-R66)),IF(Veriler!I66=\"\",K66,IF(K66*Veriler!I66=0,\"\",K66*Veriler!I66))),K66)),0)","v":""}]
[52,{"$nulls":4},"",{"$nulls":4},"",{"$f":"IF(K67=\"\", \"\", K67/Veriler!$T$1)","v":""},{"$f":"IF(E67<>\"\", \"İthal Girdi\", IF(Veriler!P67=\"\", \"\", IF(Veriler!O67=\"H\", \"%0,5 üzerindedir\", IF(Veriler!P67>0.1, \"%10 sınırı aşılmıştır.\", \"Uygun\"))))","v":"%0,5 üzerindedir"}," ",null,null,"",{"$f":"IFERROR(IF(L67<=0.005,IF(E67=\"\",K67,0),IF(E67<>\"\",0,IF(O67=\"\",0,IF(O67=\"H\",0,IF(P67<Veriler!$F$2,K67*Veriler!$F$2,K67*P67))))),\" \")","v":0},{"$f":"IF(Veriler!P67<=0.1, R67, IF(AND(Veriler!P67>0.1, E67=\"\", O67=\"E\"), IF(P67>Veriler!$F$2, P67*R67, IF(P67<Veriler!$F$2, Veriler!$F$2*R67, P67*R67)), 0))","v":0}," ",{"$f":"IFERROR(IF(N67=\"%10 sınırı aşılmıştır.\",K67-S67,IFERROR(IF(E67=\"\",IF(R67=1,0,IF(K67-R67=0,\"\",K67-R67)),IF(Veriler!I67=\"\",K67,IF(K67*Veriler!I67=0,\"\",K67*Veriler!I67))),K67)),0)","v":""}]
[53,{"$nulls":4},"",{"$nulls":4},"",{"$f":"IF(K68=\"\", \"\", K68/Veriler!$T$1)","v":""},{"$f":"IF(E68<>\"\", \"İthal Girdi\", IF(Veriler!P68=\"\", \"\", IF(Veriler!O68=\"H\", \"%0,5 üzerindedir\", IF(Veriler!P68>0.1, \"%10 sınırı aşılmıştır.\", \"Uygun\"))))","v":"%0,5 üzerindedir"}," ",null,null,"",{"$f":"IFERROR(IF(L68<=0.005,IF(E68=\"\",K68,0),IF(E68<>\"\",0,IF(O68=\"\",0,IF(O68=\"H\",0,IF(P68<Veriler!$F$2,K68*Veriler!$F$2,K68*P68))))),\" \")","v":0},{"$f":"IF(Veriler!P68<=0.1, R68, IF(AND(Veriler!P68>0.1, E68=\"\", O68=\"E\"), IF(P68>Veriler!$F$2, P68*R68, IF(P68<Veriler!$F$2, Veriler!$F$2*R68, P68*R68)), 0))","v":0}," ",{"$f":"IFERROR(IF(N68=\"%10 sınırı aşılmıştır.\",K68-S68,IFERROR(IF(E68=\"\",IF(R68=1,0,IF(K68-R68=0,\"\",K68-R68)),IF(Veriler!I68=\"\",K68,IF(K68*Veriler!I68=0,\"\",K68*Veriler!I68))),K68)),0)","v":""}]
[54,{"$nulls":4},"",{"$nulls":4},"",{"$f":"IF(K69=\"\", \"\", K69/Veriler!$T$1)","v":""},{"$f":"IF(E69<>\"\", \"İthal Girdi\", IF(Veriler!P69=\"\", \"\", IF(Veriler!O69=\"H\", \"%0,5 üzerindedir\", IF(Veriler!P69>0.1, \"%10 sınırı aşılmıştır.\", \"Uygun\"))))","v":"%0,5 üzerindedir"}," ",null,null,"",{"$f":"IFERROR(IF(L69<=0.005,IF(E69=\"\",K69,0),IF(E69<>\"\",0,IF(O69=\"\",0,IF(O69=\"H\",0,IF(P69<Veriler!$F$2,K69*Veriler!$F$2,K69*P69))))),\" \")","v":0},{"$f":"IF(Veriler!P69<=0.1, R69, IF(AND(Veriler!P69>0.1, E69=\"\", O69=\"E\"), IF(P69>Veriler!$F$2, P69*R69, IF(P69<Veriler!$F$2, Veriler!$F$2*R69, P69*R69)), 0))","v":0}," ",{"$f":"IFERROR(IF(N69=\"%10 sınırı aşılmıştır.\",K69-S69,IFERROR(IF(E69=\"\",IF(R69=1,0,IF(K69-R69=0,\"\",K69-R69)),IF(Veriler!I69=\"\",K69,IF(K69*Veriler!I69=0,\"\",K69*Veriler!I69))),K69)),0)","v":""}]
[55,{"$nulls":4},"",{"$nulls":4},"",{"$f":"IF(K70=\"\", \"\", K70/Veriler!$T$1)","v":""},{"$f":"IF(E70<>\"\", \"İthal Girdi\", IF(Veriler!P70=\"\", \"\", IF(Veriler!O70=\"H\", \"%0,5 üzerindedir\", IF(Veriler!P70>0.1, \"%10 sınırı aşılmıştır.\", \"Uygun\"))))","v":"%0,5 üzerindedir"}," ",null,null,"",{"$f":"IFERROR(IF(L70<=0.005,IF(E70=\"\",K70,0),IF(E70<>\"\",0,IF(O70=\"\",0,IF(O70=\"H\",0,IF(P70<Veriler!$F$2,K70*Veriler!$F$2,K70*P70))))),\" \")","v":0},{"$f":"IF(Veriler!P70<=0.1, R70, IF(AND(Veriler!P70>0.1, E70=\"\", O70=\"E\"), IF(P70>Veriler!$F$2, P70*R70, IF(P70<Veriler!$F$2, Veriler!$F$2*R70, P70*R70)), 0))","v":0}," ",{"$f":"IFERROR(IF(N70=\"%10 sınırı aşılmıştır.\",K70-S70,IFERROR(IF(E70=\"\",IF(R70=1,0,IF(K70-R70=0,\"\",K70-R70)),IF(Veriler!I70=\"\",K70,IF(K70*Veriler!I70=0,\"\",K70*Veriler!I70))),K70)),0)","v":""}]
[56,{"$nulls":4},"",{"$nulls":4},"",{"$f":"IF(K71=\"\", \"\", K71/Veriler!$T$1)","v":""},{"$f":"IF(E71<>\"\", \"İthal Girdi\", IF(Veriler!P71=\"\", \"\", IF(Veriler!O71=\"H\", \"%0,5 üzerindedir\", IF(Veriler!P71>0.1, \"%10 sınırı aşılmıştır.\", \"Uygun\"))))","v":"%0,5 üzerindedir"}," ",null,null,"",{"$f":"IFERROR(IF(L71<=0.005,IF(E71=\"\",K71,0),IF(E71<>\"\",0,IF(O71=\"\",0,IF(O71=\"H\",0,IF(P71<Veriler!$F$2,K71*Veriler!$F$2,K71*P71))))),\" \")","v":0},{"$f":"IF(Veriler!P71<=0.1, R71, IF(AND(Veriler!P71>0.1, E71=\"\", O71=\"E\"), IF(P71>Veriler!$F$2, P71*R71, IF(P71<Veriler!$F$2, Veriler!$F$2*R71, P71*R71)), 0))","v":0}," ",{"$f":"IFERROR(IF(N71=\"%10 sınırı aşılmıştır.\",K71-S71,IFERROR(IF(E71=\"\",IF(R71=1,0,IF(K71-R71=0,\"\",K71-R71)),IF(Veriler!I71=\"\",K71,IF(K71*Veriler!I71=0,\"\",K71*Veriler!I71))),K71)),0)","v":""}]
[{"$nulls":10},{"$f":"SUM(K43:K56,K58:K71)","v":0}]
[{"$nulls":17},"T1","T1","T1","T2"]
["Sayfa Toplamı (TL)  *(Genel Dip Toplam Ek.3-D sayfasında otomatik hesaplanacaktır.)",{"$nulls":16},{"$f":"SUM(R36,R43:R56,R58:R71)","v":0},{"$f":"IF(SUM(S43:S56,S58:S71)=0,\" \",SUM(S43:S56,S58:S71))","v":" "},{"$f":"IF(SUM(T43:T56,T58:T71)=0,\" \",SUM(T43:T56,T58:T71))","v":" "},{"$f":"IF(SUM(U43:U56,U58:U71)=0,\" \",SUM(U43:U56,U58:U71))","v":" "}]
[]
[{"$f":"A114","v":"R02"}]
["YERLİ KATKI ORANI HESAP CETVELİ                      ",{"$nulls":13},false]
["A) Nihai Ürün Doğrudan ve Dolaylı Malzeme Giderleri                                                                                                                                                                                                                                                                                                                                                                                                                                         ",{"$nulls":18},"S",{"$f":"U40+1","v":3}]
["Sıra No","Malzeme adı / Faturadaki Ürün Adı",null,"Üretici Unvanı","GTİP Kodu                             (İthal girdiler için)","Gtip Katsayısı","Miktar ","Birim","Fiyatı \n(TL/Döviz)\n","Döviz Kuru               (TL ise 1 alınız)","Fatura Tutarı (TL)","Girdi Maliyet Yüzdesi (%)","Girdi yüzdesi %0,5 altında olan girdiler için %10 sınır kontrolü","Girdi yüzdesi %0,5 altında olan girdiler için %10 sınır kontrolü","SSB/  Müstahsil                (E/H)","YKO (%) (Manuel girilmeli)","Geçerli Yerli Oranı (%)","Yerli Maliyet Tutarı                            (T1)","Yerli Maliyet Tutarı (T1)","Yerli Maliyet Tutarı (T1)","İthal Maliyet Tutarı               (T2)"]
[null,"Doğrudan Girdi                                                         (Dolaylı girdiniz varsa en son 25. sayfaya doldurunuz)"]
[{"$f":"A71+1","v":57},{"$nulls":4},{"$f":"IF(AND(E81<>\"\",U81<>\"\",K81<>0),U81/K81,\"\")","v":""},{"$nulls":4},{"$f":"IF(AND(G81<>0, I81<>0, J81<>0), G81*I81*J81, \"\")","v":""},{"$f":"IF(K81=\"\", \"\", K81/Veriler!$T$1)","v":""},{"$f":"IF(E81<>\"\", \"İthal Girdi\", IF(Veriler!P81=\"\", \"\", IF(Veriler!O81=\"H\", \"%0,5 üzerindedir\", IF(Veriler!P81>0.1, \"%10 sınırı aşılmıştır.\", \"Uygun\"))))","v":"%0,5 üzerindedir"},{"$f":"IF(L81=\"\",\" \",M81)","v":" "},null,null,{"$f":"IFERROR(IF(AND(S81<>\"\",K81<>\"\",K81<>0,S81<>0),S81/K81,\"\"),\" \")","v":""},{"$f":"IFERROR(IF(L81<=0.005,IF(E81=\"\",K81,0),IF(E81<>\"\",0,IF(O81=\"\",0,IF(O81=\"H\",0,IF(P81<Veriler!$F$2,K81*Veriler!$F$2,K81*P81))))),\" \")","v":0},{"$f":"IF(Veriler!P81<=0.1, R81, IF(AND(Veriler!P81>0.1, E81=\"\", O81=\"E\"), IF(P81>Veriler!$F$2, P81*R81, IF(P81<Veriler!$F$2, Veriler!$F$2*R81, P81*R81)), 0))","v":0},{"$f":"IF(S81=0,\" \",S81)","v":" "},{"$f":"IFERROR(IF(N81=\"%10 sınırı aşılmıştır.\",K81-S81,IFERROR(IF(E81=\"\",IF(R81=1,0,IF(K81-R81=0,\"\",K81-R81)),IF(Veriler!I81=\"\",K81,IF(K81*Veriler!I81=0,\"\",K81*Veriler!I81))),K81)),0)","v":""}]
[{"$f":"A81+1","v":58},{"$nulls":4},"",{"$nulls":4},"",{"$f":"IF(K82=\"\", \"\", K82/Veriler!$T$1)","v":""},{"$f":"IF(E82<>\"\", \"İthal Girdi\", IF(Veriler!P82=\"\", \"\", IF(Veriler!O82=\"H\", \"%0,5 üzerindedir\", IF(Veriler!P82>0.1, \"%10 sınırı aşılmıştır.\", \"Uygun\"))))","v":"%0,5 üzerindedir"}," ",null,null,"",{"$f":"IFERROR(IF(L82<=0.005,IF(E82=\"\",K82,0),IF(E82<>\"\",0,IF(O82=\"\",0,IF(O82=\"H\",0,IF(P82<Veriler!$F$2,K82*Veriler!$F$2,K82*P82))))),\" \")","v":0},{"$f":"IF(Veriler!P82<=0.1, R82, IF(AND(Veriler!P82>0.1, E82=\"\", O82=\"E\"), IF(P82>Veriler!$F$2, P82*R82, IF(P82<Veriler!$F$2, Veriler!$F$2*R82, P82*R82)), 0))","v":0}," ",{"$f":"IFERROR(IF(N82=\"%10 sınırı aşılmıştır.\",K82-S82,IFERROR(IF(E82=\"\",IF(R82=1,0,IF(K82-R82=0,\"\",K82-R82)),IF(Veriler!I82=\"\",K82,IF(K82*Veriler!I82=0,\"\",K82*Veriler!I82))),K82)),0)","v":""}]
[{"$f":"A82+1","v":59},{"$nulls":4},"",{"$nulls":4},"",{"$f":"IF(K83=\"\", \"\", K83/Veriler!$T$1)","v":""},{"$f":"IF(E83<>\"\", \"İthal Girdi\", IF(Veriler!P83=\"\", \"\", IF(Veriler!O83=\"H\", \"%0,5 üzerindedir\", IF(Veriler!P83>0.1, \"%10 sınırı aşılmıştır.\", \"Uygun\"))))","v":"%0,5 üzerindedir"}," ",null,null,"",{"$f":"IFERROR(IF(L83<=0.005,IF(E83=\"\",K83,0),IF(E83<>\"\",0,IF(O83=\"\",0,IF(O83=\"H\",0,IF(P83<Veriler!$F$2,K83*Veriler!$F$2,K83*P83))))),\" \")","v":0},{"$f":"IF(Veriler!P83<=0.1, R83, IF(AND(Veriler!P83>0.1, E83=\"\", O83=\"E\"), IF(P83>Veriler!$F$2, P83*R83, IF(P83<Veriler!$F$2, Veriler!$F$2*R83, P83*R83)), 0))","v":0}," ",{"$f":"IFERROR(IF(N83=\"%10 sınırı aşılmıştır.\",K83-S83,IFERROR(IF(E83=\"\",IF(R83=1,0,IF(K83-R83=0,\"\",K83-R83)),IF(Veriler!I83=\"\",K83,IF(K83*Veriler!I83=0,\"\",K83*Veriler!I83))),K83)),0)","v":""}]
[60,{"$nulls":4},"",{"$nulls":4},"",{"$f":"IF(K84=\"\", \"\", K84/Veriler!$T$1)","v":""},{"$f":"IF(E84<>\"\", \"İthal Girdi\", IF(Veriler!P84=\"\", \"\", IF(Veriler!O84=\"H\", \"%0,5 üzerindedir\", IF(Veriler!P84>0.1, \"%10 sınırı aşılmıştır.\", \"Uygun\"))))","v":"%0,5 üzerindedir"}," ",null,null,"",{"$f":"IFERROR(IF(L84<=0.005,IF(E84=\"\",K84,0),IF(E84<>\"\",0,IF(O84=\"\",0,IF(O84=\"H\",0,IF(P84<Veriler!$F$2,K84*Veriler!$F$2,K84*P84))))),\" \")","v":0},{"$f":"IF(Veriler!P84<=0.1, R84, IF(AND(Veriler!P84>0.1, E84=\"\", O84=\"E\"), IF(P84>Veriler!$F$2, P84*R84, IF(P84<Veriler!$F$2, Veriler!$F$2*R84, P84*R84)), 0))","v":0}," ",{"$f":"IFERROR(IF(N84=\"%10 sınırı aşılmıştır.\",K84-S84,IFERROR(IF(E84=\"\",IF(R84=1,0,IF(K84-R84=0,\"\",K84-R84)),IF(Veriler!I84=\"\",K84,IF(K84*Veriler!I84=0,\"\",K84*Veriler!I84))),K84)),0)","v":""}]
[61,{"$nulls":4},"",{"$nulls":4},"",{"$f":"IF(K85=\"\", \"\", K85/Veriler!$T$1)","v":""},{"$f":"IF(E85<>\"\", \"İthal Girdi\", IF(Veriler!P85=\"\", \"\", IF(Veriler!O85=\"H\", \"%0,5 üzerindedir\", IF(Veriler!P85>0.1, \"%10 sınırı aşılmıştır.\", \"Uygun\"))))","v":"%0,5 üzerindedir"}," ",null,null,"",{"$f":"IFERROR(IF(L85<=0.005,IF(E85=\"\",K85,0),IF(E85<>\"\",0,IF(O85=\"\",0,IF(O85=\"H\",0,IF(P85<Veriler!$F$2,K85*Veriler!$F$2,K85*P85))))),\" \")","v":0},{"$f":"IF(Veriler!P85<=0.1, R85, IF(AND(Veriler!P85>0.1, E85=\"\", O85=\"E\"), IF(P85>Veriler!$F$2, P85*R85, IF(P85<Veriler!$F$2, Veriler!$F$2*R85, P85*R85)), 0))","v":0}," ",{"$f":"IFERROR(IF(N85=\"%10 sınırı aşılmıştır.\",K85-S85,IFERROR(IF(E85=\"\",IF(R85=1,0,IF(K85-R85=0,\"\",K85-R85)),IF(Veriler!I85=\"\",K85,IF(K85*Veriler!I85=0,\"\",K85*Veriler!I85))),K85)),0)","v":""}]
[62,{"$nulls":4},"",{"$nulls":4},"",{"$f":"IF(K86=\"\", \"\", K86/Veriler!$T$1)","v":""},{"$f":"IF(E86<>\"\", \"İthal Girdi\", IF(Veriler!P86=\"\", \"\", IF(Veriler!O86=\"H\", \"%0,5 üzerindedir\", IF(Veriler!P86>0.1, \"%10 sınırı aşılmıştır.\", \"Uygun\"))))","v":"%0,5 üzerindedir"}," ",null,null,"",{"$f":"IFERROR(IF(L86<=0.005,IF(E86=\"\",K86,0),IF(E86<>\"\",0,IF(O86=\"\",0,IF(O86=\"H\",0,IF(P86<Veriler!$F$2,K86*Veriler!$F$2,K86*P86))))),\" \")","v":0},{"$f":"IF(Veriler!P86<=0.1, R86, IF(AND(Veriler!P86>0.1, E86=\"\", O86=\"E\"), IF(P86>Veriler!$F$2, P86*R86, IF(P86<Veriler!$F$2, Veriler!$F$2*R86, P86*R86)), 0))","v":0}," ",{"$f":"IFERROR(IF(N86=\"%10 sınırı aşılmıştır.\",K86-S86,IFERROR(IF(E86=\"\",IF(R86=1,0,IF(K86-R86=0,\"\",K86-R86)),IF(Veriler!I86=\"\",K86,IF(K86*Veriler!I86=0,\"\",K86*Veriler!I86))),K86)),0)","v":""}]
[63,{"$nulls":4},"",{"$nulls":4},"",{"$f":"IF(K87=\"\", \"\", K87/Veriler!$T$1)","v":""},{"$f":"IF(E87<>\"\", \"İthal Girdi\", IF(Veriler!P87=\"\", \"\", IF(Veriler!O87=\"H\", \"%0,5 üzerindedir\", IF(Veriler!P87>0.1, \"%10 sınırı aşılmıştır.\", \"Uygun\"))))","v":"%0,5 üzerindedir"}," ",null,null,"",{"$f":"IFERROR(IF(L87<=0.005,IF(E87=\"\",K87,0),IF(E87<>\"\",0,IF(O87=\"\",0,IF(O87=\"H\",0,IF(P87<Veriler!$F$2,K87*Veriler!$F$2,K87*P87))))),\" \")","v":0},{"$f":"IF(Veriler!P87<=0.1, R87, IF(AND(Veriler!P87>0.1, E87=\"\", O87=\"E\"), IF(P87>Veriler!$F$2, P87*R87, IF(P87<Veriler!$F$2, Veriler!$F$2*R87, P87*R87)), 0))","v":0}," ",{"$f":"IFERROR(IF(N87=\"%10 sınırı aşılmıştır.\",K87-S87,IFERROR(IF(E87=\"\",IF(R87=1,0,IF(K87-R87=0,\"\",K87-R87)),IF(Veriler!I87=\"\",K87,IF(K87*Veriler!I87=0,\"\",K87*Veriler!I87))),K87)),0)","v":""}]
[64,{"$nulls":4},"",{"$nulls":4},"",{"$f":"IF(K88=\"\", \"\", K88/Veriler!$T$1)","v":""},{"$f":"IF(E88<>\"\", \"İthal Girdi\", IF(Veriler!P88=\"\", \"\", IF(Veriler!O88=\"H\", \"%0,5 üzerindedir\", IF(Veriler!P88>0.1, \"%10 sınırı aşılmıştır.\", \"Uygun\"))))","v":"%0,5 üzerindedir"}," ",null,null,"",{"$f":"IFERROR(IF(L88<=0.005,IF(E88=\"\",K88,0),IF(E88<>\"\",0,IF(O88=\"\",0,IF(O88=\"H\",0,IF(P88<Veriler!$F$2,K88*Veriler!$F$2,K88*P88))))),\" \")","v":0},{"$f":"IF(Veriler!P88<=0.1, R88, IF(AND(Veriler!P88>0.1, E88=\"\", O88=\"E\"), IF(P88>Veriler!$F$2, P88*R88, IF(P88<Veriler!$F$2, Veriler!$F$2*R88, P88*R88)), 0))","v":0}," ",{"$f":"IFERROR(IF(N88=\"%10 sınırı aşılmıştır.\",K88-S88,IFERROR(IF(E88=\"\",IF(R88=1,0,IF(K88-R88=0,\"\",K88-R88)),IF(Veriler!I88=\"\",K88,IF(K88*Veriler!I88=0,\"\",K88*Veriler!I88))),K88)),0)","v":""}]
[65,{"$nulls":4},"",{"$nulls":4},"",{"$f":"IF(K89=\"\", \"\", K89/Veriler!$T$1)","v":""},{"$f":"IF(E89<>\"\", \"İthal Girdi\", IF(Veriler!P89=\"\", \"\", IF(Veriler!O89=\"H\", \"%0,5 üzerindedir\", IF(Veriler!P89>0.1, \"%10 sınırı aşılmıştır.\", \"Uygun\"))))","v":"%0,5 üzerindedir"}," ",null,null,"",{"$f":"IFERROR(IF(L89<=0.005,IF(E89=\"\",K89,0),IF(E89<>\"\",0,IF(O89=\"\",0,IF(O89=\"H\",0,IF(P89<Veriler!$F$2,K89*Veriler!$F$2,K89*P89))))),\" \")","v":0},{"$f":"IF(Veriler!P89<=0.1, R89, IF(AND(Veriler!P89>0.1, E89=\"\", O89=\"E\"), IF(P89>Veriler!$F$2, P89*R89, IF(P89<Veriler!$F$2, Veriler!$F$2*R89, P89*R89)), 0))","v":0}," ",{"$f":"IFERROR(IF(N89=\"%10 sınırı aşılmıştır.\",K89-S89,IFERROR(IF(E89=\"\",IF(R89=1,0,IF(K89-R89=0,\"\",K89-R89)),IF(Veriler!I89=\"\",K89,IF(K89*Veriler!I89=0,\"\",K89*Veriler!I89))),K89)),0)","v":""}]
[66,{"$nulls":4},"",{"$nulls":4},"",{"$f":"IF(K90=\"\", \"\", K90/Veriler!$T$1)","v":""},{"$f":"IF(E90<>\"\", \"İthal Girdi\", IF(Veriler!P90=\"\", \"\", IF(Veriler!O90=\"H\", \"%0,5 üzerindedir\", IF(Veriler!P90>0.1, \"%10 sınırı aşılmıştır.\", \"Uygun\"))))","v":"%0,5 üzerindedir"}," ",null,null,"",{"$f":"IFERROR(IF(L90<=0.005,IF(E90=\"\",K90,0),IF(E90<>\"\",0,IF(O90=\"\",0,IF(O90=\"H\",0,IF(P90<Veriler!$F$2,K90*Veriler!$F$2,K90*P90))))),\" \")","v":0},{"$f":"IF(Veriler!P90<=0.1, R90, IF(AND(Veriler!P90>0.1, E90=\"\", O90=\"E\"), IF(P90>Veriler!$F$2, P90*R90, IF(P90<Veriler!$F$2, Veriler!$F$2*R90, P90*R90)), 0))","v":0}," ",{"$f":"IFERROR(IF(N90=\"%10 sınırı aşılmıştır.\",K90-S90,IFERROR(IF(E90=\"\",IF(R90=1,0,IF(K90-R90=0,\"\",K90-R90)),IF(Veriler!I90=\"\",K90,IF(K90*Veriler!I90=0,\"\",K90*Veriler!I90))),K90)),0)","v":""}]
[67,{"$nulls":4},"",{"$nulls":4},"",{"$f":"IF(K91=\"\", \"\", K91/Veriler!$T$1)","v":""},{"$f":"IF(E91<>\"\", \"İthal Girdi\", IF(Veriler!P91=\"\", \"\", IF(Veriler!O91=\"H\", \"%0,5 üzerindedir\", IF(Veriler!P91>0.1, \"%10 sınırı aşılmıştır.\", \"Uygun\"))))","v":"%0,5 üzerindedir"}," ",null,null,"",{"$f":"IFERROR(IF(L91<=0.005,IF(E91=\"\",K91,0),IF(E91<>\"\",0,IF(O91=\"\",0,IF(O91=\"H\",0,IF(P91<Veriler!$F$2,K91*Veriler!$F$2,K91*P91))))),\" \")","v":0},{"$f":"IF(Veriler!P91<=0.1, R91, IF(AND(Veriler!P91>0.1, E91=\"\", O91=\"E\"), IF(P91>Veriler!$F$2, P91*R91, IF(P91<Veriler!$F$2, Veriler!$F$2*R91, P91*R91)), 0))","v":0}," ",{"$f":"IFERROR(IF(N91=\"%10 sınırı aşılmıştır.\",K91-S91,IFERROR(IF(E91=\"\",IF(R91=1,0,IF(K91-R91=0,\"\",K91-R91)),IF(Veriler!I91=\"\",K91,IF(K91*Veriler!I91=0,\"\",K91*Veriler!I91))),K91)),0)","v":""}]
[68,{"$nulls":4},"",{"$nulls":4},"",{"$f":"IF(K92=\"\", \"\", K92/Veriler!$T$1)","v":""},{"$f":"IF(E92<>\"\", \"İthal Girdi\", IF(Veriler!P92=\"\", \"\", IF(Veriler!O92=\"H\", \"%0,5 üzerindedir\", IF(Veriler!P92>0.1, \"%10 sınırı aşılmıştır.\", \"Uygun\"))))","v":"%0,5 üzerindedir"}," ",null,null,"",{"$f":"IFERROR(IF(L92<=0.005,IF(E92=\"\",K92,0),IF(E92<>\"\",0,IF(O92=\"\",0,IF(O92=\"H\",0,IF(P92<Veriler!$F$2,K92*Veriler!$F$2,K92*P92))))),\" \")","v":0},{"$f":"IF(Veriler!P92<=0.1, R92, IF(AND(Veriler!P92>0.1, E92=\"\", O92=\"E\"), IF(P92>Veriler!$F$2, P92*R92, IF(P92<Veriler!$F$2, Veriler!$F$2*R92, P92*R92)), 0))","v":0}," ",{"$f":"IFERROR(IF(N92=\"%10 sınırı aşılmıştır.\",K92-S92,IFERROR(IF(E92=\"\",IF(R92=1,0,IF(K92-R92=0,\"\",K92-R92)),IF(Veriler!I92=\"\",K92,IF(K92*Veriler!I92=0,\"\",K92*Veriler!I92))),K92)),0)","v":""}]
[69,{"$nulls":4},"",{"$nulls":4},"",{"$f":"IF(K93=\"\", \"\", K93/Veriler!$T$1)","v":""},{"$f":"IF(E93<>\"\", \"İthal Girdi\", IF(Veriler!P93=\"\", \"\", IF(Veriler!O93=\"H\", \"%0,5 üzerindedir\", IF(Veriler!P93>0.1, \"%10 sınırı aşılmıştır.\", \"Uygun\"))))","v":"%0,5 üzerindedir"}," ",null,null,"",{"$f":"IFERROR(IF(L93<=0.005,IF(E93=\"\",K93,0),IF(E93<>\"\",0,IF(O93=\"\",0,IF(O93=\"H\",0,IF(P93<Veriler!$F$2,K93*Veriler!$F$2,K93*P93))))),\" \")","v":0},{"$f":"IF(Veriler!P93<=0.1, R93, IF(AND(Veriler!P93>0.1, E93=\"\", O93=\"E\"), IF(P93>Veriler!$F$2, P93*R93, IF(P93<Veriler!$F$2, Veriler!$F$2*R93, P93*R93)), 0))","v":0}," ",{"$f":"IFERROR(IF(N93=\"%10 sınırı aşılmıştır.\",K93-S93,IFERROR(IF(E93=\"\",IF(R93=1,0,IF(K93-R93=0,\"\",K93-R93)),IF(Veriler!I93=\"\",K93,IF(K93*Veriler!I93=0,\"\",K93*Veriler!I93))),K93)),0)","v":""}]
[70,{"$nulls":4},"",{"$nulls":4},"",{"$f":"IF(K94=\"\", \"\", K94/Veriler!$T$1)","v":""},{"$f":"IF(E94<>\"\", \"İthal Girdi\", IF(Veriler!P94=\"\", \"\", IF(Veriler!O94=\"H\", \"%0,5 üzerindedir\", IF(Veriler!P94>0.1, \"%10 sınırı aşılmıştır.\", \"Uygun\"))))","v":"%0,5 üzerindedir"}," ",null,null,"",{"$f":"IFERROR(IF(L94<=0.005,IF(E94=\"\",K94,0),IF(E94<>\"\",0,IF(O94=\"\",0,IF(O94=\"H\",0,IF(P94<Veriler!$F$2,K94*Veriler!$F$2,K94*P94))))),\" \")","v":0},{"$f":"IF(Veriler!P94<=0.1, R94, IF(AND(Veriler!P94>0.1, E94=\"\", O94=\"E\"), IF(P94>Veriler!$F$2, P94*R94, IF(P94<Veriler!$F$2, Veriler!$F$2*R94, P94*R94)), 0))","v":0}," ",{"$f":"IFERROR(IF(N94=\"%10 sınırı aşılmıştır.\",K94-S94,IFERROR(IF(E94=\"\",IF(R94=1,0,IF(K94-R94=0,\"\",K94-R94)),IF(Veriler!I94=\"\",K94,IF(K94*Veriler!I94=0,\"\",K94*Veriler!I94))),K94)),0)","v":""}]
[null,"Dolaylı"]
[{"$f":"A94+1","v":71},{"$nulls":4},{"$f":"IF(AND(E96<>\"\",U96<>\"\",K96<>0),U96/K96,\"\")","v":""},{"$nulls":4},{"$f":"IF(AND(G96<>0, I96<>0, J96<>0), G96*I96*J96, \"\")","v":""},{"$f":"IF(K96=\"\", \"\", K96/Veriler!$T$1)","v":""},{"$f":"IF(E96<>\"\", \"İthal Girdi\", IF(Veriler!P96=\"\", \"\", IF(Veriler!O96=\"H\", \"%0,5 üzerindedir\", IF(Veriler!P96>0.1, \"%10 sınırı aşılmıştır.\", \"Uygun\"))))","v":"%0,5 üzerindedir"},{"$f":"IF(L96=\"\",\" \",M96)","v":" "},null,null,{"$f":"IFERROR(IF(AND(S96<>\"\",K96<>\"\",K96<>0,S96<>0),S96/K96,\"\"),\" \")","v":""},{"$f":"IFERROR(IF(L96<=0.005,IF(E96=\"\",K96,0),IF(E96<>\"\",0,IF(O96=\"\",0,IF(O96=\"H\",0,IF(P96<Veriler!$F$2,K96*Veriler!$F$2,K96*P96))))),\" \")","v":0},{"$f":"IF(Veriler!P96<=0.1, R96, IF(AND(Veriler!P96>0.1, E96=\"\", O96=\"E\"), IF(P96>Veriler!$F$2, P96*R96, IF(P96<Veriler!$F$2, Veriler!$F$2*R96, P96*R96)), 0))","v":0},{"$f":"IF(S96=0,\" \",S96)","v":" "},{"$f":"IFERROR(IF(N96=\"%10 sınırı aşılmıştır.\",K96-S96,IFERROR(IF(E96=\"\",IF(R96=1,0,IF(K96-R96=0,\"\",K96-R96)),IF(Veriler!I96=\"\",K96,IF(K96*Veriler!I96=0,\"\",K96*Veriler!I96))),K96)),0)","v":""}]
[{"$f":"A96+1","v":72},{"$nulls":4},"",{"$nulls":4},"",{"$f":"IF(K97=\"\", \"\", K97/Veriler!$T$1)","v":""},{"$f":"IF(E97<>\"\", \"İthal Girdi\", IF(Veriler!P97=\"\", \"\", IF(Veriler!O97=\"H\", \"%0,5 üzerindedir\", IF(Veriler!P97>0.1, \"%10 sınırı aşılmıştır.\", \"Uygun\"))))","v":"%0,5 üzerindedir"}," ",null,null,"",{"$f":"IFERROR(IF(L97<=0.005,IF(E97=\"\",K97,0),IF(E97<>\"\",0,IF(O97=\"\",0,IF(O97=\"H\",0,IF(P97<Veriler!$F$2,K97*Veriler!$F$2,K97*P97))))),\" \")","v":0},{"$f":"IF(Veriler!P97<=0.1, R97, IF(AND(Veriler!P97>0.1, E97=\"\", O97=\"E\"), IF(P97>Veriler!$F$2, P97*R97, IF(P97<Veriler!$F$2, Veriler!$F$2*R97, P97*R97)), 0))","v":0}," ",{"$f":"IFERROR(IF(N97=\"%10 sınırı aşılmıştır.\",K97-S97,IFERROR(IF(E97=\"\",IF(R97=1,0,IF(K97-R97=0,\"\",K97-R97)),IF(Veriler!I97=\"\",K97,IF(K97*Veriler!I97=0,\"\",K97*Veriler!I97))),K97)),0)","v":""}]
[{"$f":"A97+1","v":73},{"$nulls":4},"",{"$nulls":4},"",{"$f":"IF(K98=\"\", \"\", K98/Veriler!$T$1)","v":""},{"$f":"IF(E98<>\"\", \"İthal Girdi\", IF(Veriler!P98=\"\", \"\", IF(Veriler!O98=\"H\", \"%0,5 üzerindedir\", IF(Veriler!P98>0.1, \"%10 sınırı aşılmıştır.\", \"Uygun\"))))","v":"%0,5 üzerindedir"}," ",null,null,"",{"$f":"IFERROR(IF(L98<=0.005,IF(E98=\"\",K98,0),IF(E98<>\"\",0,IF(O98=\"\",0,IF(O98=\"H\",0,IF(P98<Veriler!$F$2,K98*Veriler!$F$2,K98*P98))))),\" \")","v":0},{"$f":"IF(Veriler!P98<=0.1, R98, IF(AND(Veriler!P98>0.1, E98=\"\", O98=\"E\"), IF(P98>Veriler!$F$2, P98*R98, IF(P98<Veriler!$F$2, Veriler!$F$2*R98, P98*R98)), 0))","v":0}," ",{"$f":"IFERROR(IF(N98=\"%10 sınırı aşılmıştır.\",K98-S98,IFERROR(IF(E98=\"\",IF(R98=1,0,IF(K98-R98=0,\"\",K98-R98)),IF(Veriler!I98=\"\",K98,IF(K98*Veriler!I98=0,\"\",K98*Veriler!I98))),K98)),0)","v":""}]
[74,{"$nulls":4},"",{"$nulls":4},"",{"$f":"IF(K99=\"\", \"\", K99/Veriler!$T$1)","v":""},{"$f":"IF(E99<>\"\", \"İthal Girdi\", IF(Veriler!P99=\"\", \"\", IF(Veriler!O99=\"H\", \"%0,5 üzerindedir\", IF(Veriler!P99>0.1, \"%10 sınırı aşılmıştır.\", \"Uygun\"))))","v":"%0,5 üzerindedir"}," ",null,null,"",{"$f":"IFERROR(IF(L99<=0.005,IF(E99=\"\",K99,0),IF(E99<>\"\",0,IF(O99=\"\",0,IF(O99=\"H\",0,IF(P99<Veriler!$F$2,K99*Veriler!$F$2,K99*P99))))),\" \")","v":0},{"$f":"IF(Veriler!P99<=0.1, R99, IF(AND(Veriler!P99>0.1, E99=\"\", O99=\"E\"), IF(P99>Veriler!$F$2, P99*R99, IF(P99<Veriler!$F$2, Veriler!$F$2*R99, P99*R99)), 0))","v":0}," ",{"$f":"IFERROR(IF(N99=\"%10 sınırı aşılmıştır.\",K99-S99,IFERROR(IF(E99=\"\",IF(R99=1,0,IF(K99-R99=0,\"\",K99-R99)),IF(Veriler!I99=\"\",K99,IF(K99*Veriler!I99=0,\"\",K99*Veriler!I99))),K99)),0)","v":""}]
[75,{"$nulls":4},"",{"$nulls":4},"",{"$f":"IF(K100=\"\", \"\", K100/Veriler!$T$1)","v":""},{"$f":"IF(E100<>\"\", \"İthal Girdi\", IF(Veriler!P100=\"\", \"\", IF(Veriler!O100=\"H\", \"%0,5 üzerindedir\", IF(Veriler!P100>0.1, \"%10 sınırı aşılmıştır.\", \"Uygun\"))))","v":"%0,5 üzerindedir"}," ",null,null,"",{"$f":"IFERROR(IF(L100<=0.005,IF(E100=\"\",K100,0),IF(E100<>\"\",0,IF(O100=\"\",0,IF(O100=\"H\",0,IF(P100<Veriler!$F$2,K100*Veriler!$F$2,K100*P100))))),\" \")","v":0},{"$f":"IF(Veriler!P100<=0.1, R100, IF(AND(Veriler!P100>0.1, E100=\"\", O100=\"E\"), IF(P100>Veriler!$F$2, P100*R100, IF(P100<Veriler!$F$2, Veriler!$F$2*R100, P100*R100)), 0))","v":0}," ",{"$f":"IFERROR(IF(N100=\"%10 sınırı aşılmıştır.\",K100-S100,IFERROR(IF(E100=\"\",IF(R100=1,0,IF(K100-R100=0,\"\",K100-R100)),IF(Veriler!I100=\"\",K100,IF(K100*Veriler!I100=0,\"\",K100*Veriler!I100))),K100)),0)","v":""}]
[76,{"$nulls":4},"",{"$nulls":4},"",{"$f":"IF(K101=\"\", \"\", K101/Veriler!$T$1)","v":""},{"$f":"IF(E101<>\"\", \"İthal Girdi\", IF(Veriler!P101=\"\", \"\", IF(Veriler!O101=\"H\", \"%0,5 üzerindedir\", IF(Veriler!P101>0.1, \"%10 sınırı aşılmıştır.\", \"Uygun\"))))","v":"%0,5 üzerindedir"}," ",null,null,"",{"$f":"IFERROR(IF(L101<=0.005,IF(E101=\"\",K101,0),IF(E101<>\"\",0,IF(O101=\"\",0,IF(O101=\"H\",0,IF(P101<Veriler!$F$2,K101*Veriler!$F$2,K101*P101))))),\" \")","v":0},{"$f":"IF(Veriler!P101<=0.1, R101, IF(AND(Veriler!P101>0.1, E101=\"\", O101=\"E\"), IF(P101>Veriler!$F$2, P101*R101, IF(P101<Veriler!$F$2, Veriler!$F$2*R101, P101*R101)), 0))","v":0}," ",{"$f":"IFERROR(IF(N101=\"%10 sınırı aşılmıştır.\",K101-S101,IFERROR(IF(E101=\"\",IF(R101=1,0,IF(K101-R101=0,\"\",K101-R101)),IF(Veriler!I101=\"\",K101,IF(K101*Veriler!I101=0,\"\",K101*Veriler!I101))),K101)),0)","v":""}]
[77,{"$nulls":4},"",{"$nulls":4},"",{"$f":"IF(K102=\"\", \"\", K102/Veriler!$T$1)","v":""},{"$f":"IF(E102<>\"\", \"İthal Girdi\", IF(Veriler!P102=\"\", \"\", IF(Veriler!O102=\"H\", \"%0,5 üzerindedir\", IF(Veriler!P102>0.1, \"%10 sınırı aşılmıştır.\", \"Uygun\"))))","v":"%0,5 üzerindedir"}," ",null,null,"",{"$f":"IFERROR(IF(L102<=0.005,IF(E102=\"\",K102,0),IF(E102<>\"\",0,IF(O102=\"\",0,IF(O102=\"H\",0,IF(P102<Veriler!$F$2,K102*Veriler!$F$2,K102*P102))))),\" \")","v":0},{"$f":"IF(Veriler!P102<=0.1, R102, IF(AND(Veriler!P102>0.1, E102=\"\", O102=\"E\"), IF(P102>Veriler!$F$2, P102*R102, IF(P102<Veriler!$F$2, Veriler!$F$2*R102, P102*R102)), 0))","v":0}," ",{"$f":"IFERROR(IF(N102=\"%10 sınırı aşılmıştır.\",K102-S102,IFERROR(IF(E102=\"\",IF(R102=1,0,IF(K102-R102=0,\"\",K102-R102)),IF(Veriler!I102=\"\",K102,IF(K102*Veriler!I102=0,\"\",K102*Veriler!I102))),K102)),0)","v":""}]
[78,{"$nulls":4},"",{"$nulls":4},"",{"$f":"IF(K103=\"\", \"\", K103/Veriler!$T$1)","v":""},{"$f":"IF(E103<>\"\", \"İthal Girdi\", IF(Veriler!P103=\"\", \"\", IF(Veriler!O103=\"H\", \"%0,5 üzerindedir\", IF(Veriler!P103>0.1, \"%10 sınırı aşılmıştır.\", \"Uygun\"))))","v":"%0,5 üzerindedir"}," ",null,null,"",{"$f":"IFERROR(IF(L103<=0.005,IF(E103=\"\",K103,0),IF(E103<>\"\",0,IF(O103=\"\",0,IF(O103=\"H\",0,IF(P103<Veriler!$F$2,K103*Veriler!$F$2,K103*P103))))),\" \")","v":0},{"$f":"IF(Veriler!P103<=0.1, R103, IF(AND(Veriler!P103>0.1, E103=\"\", O103=\"E\"), IF(P103>Veriler!$F$2, P103*R103, IF(P103<Veriler!$F$2, Veriler!$F$2*R103, P103*R103)), 0))","v":0}," ",{"$f":"IFERROR(IF(N103=\"%10 sınırı aşılmıştır.\",K103-S103,IFERROR(IF(E103=\"\",IF(R103=1,0,IF(K103-R103=0,\"\",K103-R103)),IF(Veriler!I103=\"\",K103,IF(K103*Veriler!I103=0,\"\",K103*Veriler!I103))),K103)),0)","v":""}]
[79,{"$nulls":4},"",{"$nulls":4},"",{"$f":"IF(K104=\"\", \"\", K104/Veriler!$T$1)","v":""},{"$f":"IF(E104<>\"\", \"İthal Girdi\", IF(Veriler!P104=\"\", \"\", IF(Veriler!O104=\"H\", \"%0,5 üzerindedir\", IF(Veriler!P104>0.1, \"%10 sınırı aşılmıştır.\", \"Uygun\"))))","v":"%0,5 üzerindedir"}," ",null,null,"",{"$f":"IFERROR(IF(L104<=0.005,IF(E104=\"\",K104,0),IF(E104<>\"\",0,IF(O104=\"\",0,IF(O104=\"H\",0,IF(P104<Veriler!$F$2,K104*Veriler!$F$2,K104*P104))))),\" \")","v":0},{"$f":"IF(Veriler!P104<=0.1, R104, IF(AND(Veriler!P104>0.1, E104=\"\", O104=\"E\"), IF(P104>Veriler!$F$2, P104*R104, IF(P104<Veriler!$F$2, Veriler!$F$2*R104, P104*R104)), 0))","v":0}," ",{"$f":"IFERROR(IF(N104=\"%10 sınırı aşılmıştır.\",K104-S104,IFERROR(IF(E104=\"\",IF(R104=1,0,IF(K104-R104=0,\"\",K104-R104)),IF(Veriler!I104=\"\",K104,IF(K104*Veriler!I104=0,\"\",K104*Veriler!I104))),K104)),0)","v":""}]
[80,{"$nulls":4},"",{"$nulls":4},"",{"$f":"IF(K105=\"\", \"\", K105/Veriler!$T$1)","v":""},{"$f":"IF(E105<>\"\", \"İthal Girdi\", IF(Veriler!P105=\"\", \"\", IF(Veriler!O105=\"H\", \"%0,5 üzerindedir\", IF(Veriler!P105>0.1, \"%10 sınırı aşılmıştır.\", \"Uygun\"))))","v":"%0,5 üzerindedir"}," ",null,null,"",{"$f":"IFERROR(IF(L105<=0.005,IF(E105=\"\",K105,0),IF(E105<>\"\",0,IF(O105=\"\",0,IF(O105=\"H\",0,IF(P105<Veriler!$F$2,K105*Veriler!$F$2,K105*P105))))),\" \")","v":0},{"$f":"IF(Veriler!P105<=0.1, R105, IF(AND(Veriler!P105>0.1, E105=\"\", O105=\"E\"), IF(P105>Veriler!$F$2, P105*R105, IF(P105<Veriler!$F$2, Veriler!$F$2*R105, P105*R105)), 0))","v":0}," ",{"$f":"IFERROR(IF(N105=\"%10 sınırı aşılmıştır.\",K105-S105,IFERROR(IF(E105=\"\",IF(R105=1,0,IF(K105-R105=0,\"\",K105-R105)),IF(Veriler!I105=\"\",K105,IF(K105*Veriler!I105=0,\"\",K105*Veriler!I105))),K105)),0)","v":""}]
[81,{"$nulls":4},"",{"$nulls":4},"",{"$f":"IF(K106=\"\", \"\", K106/Veriler!$T$1)","v":""},{"$f":"IF(E106<>\"\", \"İthal Girdi\", IF(Veriler!P106=\"\", \"\", IF(Veriler!O106=\"H\", \"%0,5 üzerindedir\", IF(Veriler!P106>0.1, \"%10 sınırı aşılmıştır.\", \"Uygun\"))))","v":"%0,5 üzerindedir"}," ",null,null,"",{"$f":"IFERROR(IF(L106<=0.005,IF(E106=\"\",K106,0),IF(E106<>\"\",0,IF(O106=\"\",0,IF(O106=\"H\",0,IF(P106<Veriler!$F$2,K106*Veriler!$F$2,K106*P106))))),\" \")","v":0},{"$f":"IF(Veriler!P106<=0.1, R106, IF(AND(Veriler!P106>0.1, E106=\"\", O106=\"E\"), IF(P106>Veriler!$F$2, P106*R106, IF(P106<Veriler!$F$2, Veriler!$F$2*R106, P106*R106)), 0))","v":0}," ",{"$f":"IFERROR(IF(N106=\"%10 sınırı aşılmıştır.\",K106-S106,IFERROR(IF(E106=\"\",IF(R106=1,0,IF(K106-R106=0,\"\",K106-R106)),IF(Veriler!I106=\"\",K106,IF(K106*Veriler!I106=0,\"\",K106*Veriler!I106))),K106)),0)","v":""}]
[82,{"$nulls":4},"",{"$nulls":4},"",{"$f":"IF(K107=\"\", \"\", K107/Veriler!$T$1)","v":""},{"$f":"IF(E107<>\"\", \"İthal Girdi\", IF(Veriler!P107=\"\", \"\", IF(Veriler!O107=\"H\", \"%0,5 üzerindedir\", IF(Veriler!P107>0.1, \"%10 sınırı aşılmıştır.\", \"Uygun\"))))","v":"%0,5 üzerindedir"}," ",null,null,"",{"$f":"IFERROR(IF(L107<=0.005,IF(E107=\"\",K107,0),IF(E107<>\"\",0,IF(O107=\"\",0,IF(O107=\"H\",0,IF(P107<Veriler!$F$2,K107*Veriler!$F$2,K107*P107))))),\" \")","v":0},{"$f":"IF(Veriler!P107<=0.1, R107, IF(AND(Veriler!P107>0.1, E107=\"\", O107=\"E\"), IF(P107>Veriler!$F$2, P107*R107, IF(P107<Veriler!$F$2, Veriler!$F$2*R107, P107*R107)), 0))","v":0}," ",{"$f":"IFERROR(IF(N107=\"%10 sınırı aşılmıştır.\",K107-S107,IFERROR(IF(E107=\"\",IF(R107=1,0,IF(K107-R107=0,\"\",K107-R107)),IF(Veriler!I107=\"\",K107,IF(K107*Veriler!I107=0,\"\",K107*Veriler!I107))),K107)),0)","v":""}]
[83,{"$nulls":4},"",{"$nulls":4},"",{"$f":"IF(K108=\"\", \"\", K108/Veriler!$T$1)","v":""},{"$f":"IF(E108<>\"\", \"İthal Girdi\", IF(Veriler!P108=\"\", \"\", IF(Veriler!O108=\"H\", \"%0,5 üzerindedir\", IF(Veriler!P108>0.1, \"%10 sınırı aşılmıştır.\", \"Uygun\"))))","v":"%0,5 üzerindedir"}," ",null,null,"",{"$f":"IFERROR(IF(L108<=0.005,IF(E108=\"\",K108,0),IF(E108<>\"\",0,IF(O108=\"\",0,IF(O108=\"H\",0,IF(P108<Veriler!$F$2,K108*Veriler!$F$2,K108*P108))))),\" \")","v":0},{"$f":"IF(Veriler!P108<=0.1, R108, IF(AND(Veriler!P108>0.1, E108=\"\", O108=\"E\"), IF(P108>Veriler!$F$2, P108*R108, IF(P108<Veriler!$F$2, Veriler!$F$2*R108, P108*R108)), 0))","v":0}," ",{"$f":"IFERROR(IF(N108=\"%10 sınırı aşılmıştır.\",K108-S108,IFERROR(IF(E108=\"\",IF(R108=1,0,IF(K108-R108=0,\"\",K108-R108)),IF(Veriler!I108=\"\",K108,IF(K108*Veriler!I108=0,\"\",K108*Veriler!I108))),K108)),0)","v":""}]
[84,{"$nulls":4},"",{"$nulls":4},"",{"$f":"IF(K109=\"\", \"\", K109/Veriler!$T$1)","v":""},{"$f":"IF(E109<>\"\", \"İthal Girdi\", IF(Veriler!P109=\"\", \"\", IF(Veriler!O109=\"H\", \"%0,5 üzerindedir\", IF(Veriler!P109>0.1, \"%10 sınırı aşılmıştır.\", \"Uygun\"))))","v":"%0,5 üzerindedir"}," ",null,null,"",{"$f":"IFERROR(IF(L109<=0.005,IF(E109=\"\",K109,0),IF(E109<>\"\",0,IF(O109=\"\",0,IF(O109=\"H\",0,IF(P109<Veriler!$F$2,K109*Veriler!$F$2,K109*P109))))),\" \")","v":0},{"$f":"IF(Veriler!P109<=0.1, R109, IF(AND(Veriler!P109>0.1, E109=\"\", O109=\"E\"), IF(P109>Veriler!$F$2, P109*R109, IF(P109<Veriler!$F$2, Veriler!$F$2*R109, P109*R109)), 0))","v":0}," ",{"$f":"IFERROR(IF(N109=\"%10 sınırı aşılmıştır.\",K109-S109,IFERROR(IF(E109=\"\",IF(R109=1,0,IF(K109-R109=0,\"\",K109-R109)),IF(Veriler!I109=\"\",K109,IF(K109*Veriler!I109=0,\"\",K109*Veriler!I109))),K109)),0)","v":""}]
[{"$nulls":10},{"$f":"SUM(K81:K94,K96:K109)","v":0}]
[{"$nulls":17},"T1","T1","T1","T2"]
["Sayfa Toplamı (TL)  *(Genel Dip Toplam Ek.3-D sayfasında otomatik hesaplanacaktır.)",{"$nulls":16},{"$f":"IF(SUM(R74,R81:R94,R96:R109)=0,\"\",SUM(R74,R81:R94,R96:R109))","v":""},{"$f":"IF(SUM(S81:S94,S96:S109)=0,\" \",SUM(S81:S94,S96:S109))","v":" "},{"$f":"IF(SUM(T81:T94,T96:T109)=0,\" \",SUM(T81:T94,T96:T109))","v":" "},{"$f":"IF(SUM(U81:U94,U96:U109)=0,\" \",SUM(U81:U94,U96:U109))","v":" "}]
[]
[{"$f":"A152","v":"R02"}]
["YERLİ KATKI ORANI HESAP CETVELİ                      ",{"$nulls":13},false]
["A) Nihai Ürün Doğrudan ve Dolaylı Malzeme Giderleri                                                                                                                                                                                                                                                                                                                                                                                                                                         ",{"$nulls":18},"S",{"$f":"U78+1","v":4}]
["Sıra No","Malzeme adı / Faturadaki Ürün Adı",null,"Üretici Unvanı","GTİP Kodu                             (İthal girdiler için)","Gtip Katsayısı","Miktar ","Birim","Fiyatı \n(TL/Döviz)\n","Döviz Kuru               (TL ise 1 alınız)","Fatura Tutarı (TL)","Girdi Maliyet Yüzdesi (%)","Girdi yüzdesi %0,5 altında olan girdiler için %10 sınır kontrolü","Girdi yüzdesi %0,5 altında olan girdiler için %10 sınır kontrolü","SSB/  Müstahsil                (E/H)","YKO (%) (Manuel girilmeli)","Geçerli Yerli Oranı (%)","Yerli Maliyet Tutarı                            (T1)","Yerli Maliyet Tutarı (T1)","Yerli Maliyet Tutarı (T1)","İthal Maliyet Tutarı               (T2)"]
[null,"Doğrudan Girdi                                                         (Dolaylı girdiniz varsa en son 25. sayfaya doldurunuz)"]
[{"$f":"A109+1","v":85},{"$nulls":4},{"$f":"IF(AND(E119<>\"\",U119<>\"\",K119<>0),U119/K119,\"\")","v":""},{"$nulls":4},{"$f":"IF(AND(G119<>0, I119<>0, J119<>0), G119*I119*J119, \"\")","v":""},{"$f":"IF(K119=\"\", \"\", K119/Veriler!$T$1)","v":""},{"$f":"IF(E119<>\"\", \"İthal Girdi\", IF(Veriler!P119=\"\", \"\", IF(Veriler!O119=\"H\", \"%0,5 üzerindedir\", IF(Veriler!P119>0.1, \"%10 sınırı aşılmıştır.\", \"Uygun\"))))","v":"%0,5 üzerindedir"},{"$f":"IF(L119=\"\",\" \",M119)","v":" "},null,null,{"$f":"IFERROR(IF(AND(S119<>\"\",K119<>\"\",K119<>0,S119<>0),S119/K119,\"\"),\" \")","v":""},{"$f":"IFERROR(IF(L119<=0.005,IF(E119=\"\",K119,0),IF(E119<>\"\",0,IF(O119=\"\",0,IF(O119=\"H\",0,IF(P119<Veriler!$F$2,K119*Veriler!$F$2,K119*P119))))),\" \")","v":0},{"$f":"IF(Veriler!P119<=0.1, R119, IF(AND(Veriler!P119>0.1, E119=\"\", O119=\"E\"), IF(P119>Veriler!$F$2, P119*R119, IF(P119<Veriler!$F$2, Veriler!$F$2*R119, P119*R119)), 0))","v":0},{"$f":"IF(S119=0,\" \",S119)","v":" "},{"$f":"IFERROR(IF(N119=\"%10 sınırı aşılmıştır.\",K119-S119,IFERROR(IF(E119=\"\",IF(R119=1,0,IF(K119-R119=0,\"\",K119-R119)),IF(Veriler!I119=\"\",K119,IF(K119*Veriler!I119=0,\"\",K119*Veriler!I119))),K119)),0)","v":""}]
[{"$f":"A119+1","v":86},{"$nulls":4},"",{"$nulls":4},"",{"$f":"IF(K120=\"\", \"\", K120/Veriler!$T$1)","v":""},{"$f":"IF(E120<>\"\", \"İthal Girdi\", IF(Veriler!P120=\"\", \"\", IF(Veriler!O120=\"H\", \"%0,5 üzerindedir\", IF(Veriler!P120>0.1, \"%10 sınırı aşılmıştır.\", \"Uygun\"))))","v":"%0,5 üzerindedir"}," ",null,null,"",{"$f":"IFERROR(IF(L120<=0.005,IF(E120=\"\",K120,0),IF(E120<>\"\",0,IF(O120=\"\",0,IF(O120=\"H\",0,IF(P120<Veriler!$F$2,K120*Veriler!$F$2,K120*P120))))),\" \")","v":0},{"$f":"IF(Veriler!P120<=0.1, R120, IF(AND(Veriler!P120>0.1, E120=\"\", O120=\"E\"), IF(P120>Veriler!$F$2, P120*R120, IF(P120<Veriler!$F$2, Veriler!$F$2*R120, P120*R120)), 0))","v":0}," ",{"$f":"IFERROR(IF(N120=\"%10 sınırı aşılmıştır.\",K120-S120,IFERROR(IF(E120=\"\",IF(R120=1,0,IF(K120-R120=0,\"\",K120-R120)),IF(Veriler!I120=\"\",K120,IF(K120*Veriler!I120=0,\"\",K120*Veriler!I120))),K120)),0)","v":""}]
[{"$f":"A120+1","v":87},{"$nulls":4},"",{"$nulls":4},"",{"$f":"IF(K121=\"\", \"\", K121/Veriler!$T$1)","v":""},{"$f":"IF(E121<>\"\", \"İthal Girdi\", IF(Veriler!P121=\"\", \"\", IF(Veriler!O121=\"H\", \"%0,5 üzerindedir\", IF(Veriler!P121>0.1, \"%10 sınırı aşılmıştır.\", \"Uygun\"))))","v":"%0,5 üzerindedir"}," ",null,null,"",{"$f":"IFERROR(IF(L121<=0.005,IF(E121=\"\",K121,0),IF(E121<>\"\",0,IF(O121=\"\",0,IF(O121=\"H\",0,IF(P121<Veriler!$F$2,K121*Veriler!$F$2,K121*P121))))),\" \")","v":0},{"$f":"IF(Veriler!P121<=0.1, R121, IF(AND(Veriler!P121>0.1, E121=\"\", O121=\"E\"), IF(P121>Veriler!$F$2, P121*R121, IF(P121<Veriler!$F$2, Veriler!$F$2*R121, P121*R121)), 0))","v":0}," ",{"$f":"IFERROR(IF(N121=\"%10 sınırı aşılmıştır.\",K121-S121,IFERROR(IF(E121=\"\",IF(R121=1,0,IF(K121-R121=0,\"\",K121-R121)),IF(Veriler!I121=\"\",K121,IF(K121*Veriler!I121=0,\"\",K121*Veriler!I121))),K121)),0)","v":""}]
[88,{"$nulls":4},"",{"$nulls":4},"",{"$f":"IF(K122=\"\", \"\", K122/Veriler!$T$1)","v":""},{"$f":"IF(E122<>\"\", \"İthal Girdi\", IF(Veriler!P122=\"\", \"\", IF(Veriler!O122=\"H\", \"%0,5 üzerindedir\", IF(Veriler!P122>0.1, \"%10 sınırı aşılmıştır.\", \"Uygun\"))))","v":"%0,5 üzerindedir"}," ",null,null,"",{"$f":"IFERROR(IF(L122<=0.005,IF(E122=\"\",K122,0),IF(E122<>\"\",0,IF(O122=\"\",0,IF(O122=\"H\",0,IF(P122<Veriler!$F$2,K122*Veriler!$F$2,K122*P122))))),\" \")","v":0},{"$f":"IF(Veriler!P122<=0.1, R122, IF(AND(Veriler!P122>0.1, E122=\"\", O122=\"E\"), IF(P122>Veriler!$F$2, P122*R122, IF(P122<Veriler!$F$2, Veriler!$F$2*R122, P122*R122)), 0))","v":0}," ",{"$f":"IFERROR(IF(N122=\"%10 sınırı aşılmıştır.\",K122-S122,IFERROR(IF(E122=\"\",IF(R122=1,0,IF(K122-R122=0,\"\",K122-R122)),IF(Veriler!I122=\"\",K122,IF(K122*Veriler!I122=0,\"\",K122*Veriler!I122))),K122)),0)","v":""}]
[89,{"$nulls":4},"",{"$nulls":4},"",{"$f":"IF(K123=\"\", \"\", K123/Veriler!$T$1)","v":""},{"$f":"IF(E123<>\"\", \"İthal Girdi\", IF(Veriler!P123=\"\", \"\", IF(Veriler!O123=\"H\", \"%0,5 üzerindedir\", IF(Veriler!P123>0.1, \"%10 sınırı aşılmıştır.\", \"Uygun\"))))","v":"%0,5 üzerindedir"}," ",null,null,"",{"$f":"IFERROR(IF(L123<=0.005,IF(E123=\"\",K123,0),IF(E123<>\"\",0,IF(O123=\"\",0,IF(O123=\"H\",0,IF(P123<Veriler!$F$2,K123*Veriler!$F$2,K123*P123))))),\" \")","v":0},{"$f":"IF(Veriler!P123<=0.1, R123, IF(AND(Veriler!P123>0.1, E123=\"\", O123=\"E\"), IF(P123>Veriler!$F$2, P123*R123, IF(P123<Veriler!$F$2, Veriler!$F$2*R123, P123*R123)), 0))","v":0}," ",{"$f":"IFERROR(IF(N123=\"%10 sınırı aşılmıştır.\",K123-S123,IFERROR(IF(E123=\"\",IF(R123=1,0,IF(K123-R123=0,\"\",K123-R123)),IF(Veriler!I123=\"\",K123,IF(K123*Veriler!I123=0,\"\",K123*Veriler!I123))),K123)),0)","v":""}]
[90,{"$nulls":4},"",{"$nulls":4},"",{"$f":"IF(K124=\"\", \"\", K124/Veriler!$T$1)","v":""},{"$f":"IF(E124<>\"\", \"İthal Girdi\", IF(Veriler!P124=\"\", \"\", IF(Veriler!O124=\"H\", \"%0,5 üzerindedir\", IF(Veriler!P124>0.1, \"%10 sınırı aşılmıştır.\", \"Uygun\"))))","v":"%0,5 üzerindedir"}," ",null,null,"",{"$f":"IFERROR(IF(L124<=0.005,IF(E124=\"\",K124,0),IF(E124<>\"\",0,IF(O124=\"\",0,IF(O124=\"H\",0,IF(P124<Veriler!$F$2,K124*Veriler!$F$2,K124*P124))))),\" \")","v":0},{"$f":"IF(Veriler!P124<=0.1, R124, IF(AND(Veriler!P124>0.1, E124=\"\", O124=\"E\"), IF(P124>Veriler!$F$2, P124*R124, IF(P124<Veriler!$F$2, Veriler!$F$2*R124, P124*R124)), 0))","v":0}," ",{"$f":"IFERROR(IF(N124=\"%10 sınırı aşılmıştır.\",K124-S124,IFERROR(IF(E124=\"\",IF(R124=1,0,IF(K124-R124=0,\"\",K124-R124)),IF(Veriler!I124=\"\",K124,IF(K124*Veriler!I124=0,\"\",K124*Veriler!I124))),K124)),0)","v":""}]
[91,{"$nulls":4},"",{"$nulls":4},"",{"$f":"IF(K125=\"\", \"\", K125/Veriler!$T$1)","v":""},{"$f":"IF(E125<>\"\", \"İthal Girdi\", IF(Veriler!P125=\"\", \"\", IF(Veriler!O125=\"H\", \"%0,5 üzerindedir\", IF(Veriler!P125>0.1, \"%10 sınırı aşılmıştır.\", \"Uygun\"))))","v":"%0,5 üzerindedir"}," ",null,null,"",{"$f":"IFERROR(IF(L125<=0.005,IF(E125=\"\",K125,0),IF(E125<>\"\",0,IF(O125=\"\",0,IF(O125=\"H\",0,IF(P125<Veriler!$F$2,K125*Veriler!$F$2,K125*P125))))),\" \")","v":0},{"$f":"IF(Veriler!P125<=0.1, R125, IF(AND(Veriler!P125>0.1, E125=\"\", O125=\"E\"), IF(P125>Veriler!$F$2, P125*R125, IF(P125<Veriler!$F$2, Veriler!$F$2*R125, P125*R125)), 0))","v":0}," ",{"$f":"IFERROR(IF(N125=\"%10 sınırı aşılmıştır.\",K125-S125,IFERROR(IF(E125=\"\",IF(R125=1,0,IF(K125-R125=0,\"\",K125-R125)),IF(Veriler!I125=\"\",K125,IF(K125*Veriler!I125=0,\"\",K125*Veriler!I125))),K125)),0)","v":""}]
[92,{"$nulls":4},"",{"$nulls":4},"",{"$f":"IF(K126=\"\", \"\", K126/Veriler!$T$1)","v":""},{"$f":"IF(E126<>\"\", \"İthal Girdi\", IF(Veriler!P126=\"\", \"\", IF(Veriler!O126=\"H\", \"%0,5 üzerindedir\", IF(Veriler!P126>0.1, \"%10 sınırı aşılmıştır.\", \"Uygun\"))))","v":"%0,5 üzerindedir"}," ",null,null,"",{"$f":"IFERROR(IF(L126<=0.005,IF(E126=\"\",K126,0),IF(E126<>\"\",0,IF(O126=\"\",0,IF(O126=\"H\",0,IF(P126<Veriler!$F$2,K126*Veriler!$F$2,K126*P126))))),\" \")","v":0},{"$f":"IF(Veriler!P126<=0.1, R126, IF(AND(Veriler!P126>0.1, E126=\"\", O126=\"E\"), IF(P126>Veriler!$F$2, P126*R126, IF(P126<Veriler!$F$2, Veriler!$F$2*R126, P126*R126)), 0))","v":0}," ",{"$f":"IFERROR(IF(N126=\"%10 sınırı aşılmıştır.\",K126-S126,IFERROR(IF(E126=\"\",IF(R126=1,0,IF(K126-R126=0,\"\",K126-R126)),IF(Veriler!I126=\"\",K126,IF(K126*Veriler!I126=0,\"\",K126*Veriler!I126))),K126)),0)","v":""}]
[93,{"$nulls":4},"",{"$nulls":4},"",{"$f":"IF(K127=\"\", \"\", K127/Veriler!$T$1)","v":""},{"$f":"IF(E127<>\"\", \"İthal Girdi\", IF(Veriler!P127=\"\", \"\", IF(Veriler!O127=\"H\", \"%0,5 üzerindedir\", IF(Veriler!P127>0.1, \"%10 sınırı aşılmıştır.\", \"Uygun\"))))","v":"%0,5 üzerindedir"}," ",null,null,"",{"$f":"IFERROR(IF(L127<=0.005,IF(E127=\"\",K127,0),IF(E127<>\"\",0,IF(O127=\"\",0,IF(O127=\"H\",0,IF(P127<Veriler!$F$2,K127*Veriler!$F$2,K127*P127))))),\" \")","v":0},{"$f":"IF(Veriler!P127<=0.1, R127, IF(AND(Veriler!P127>0.1, E127=\"\", O127=\"E\"), IF(P127>Veriler!$F$2, P127*R127, IF(P127<Veriler!$F$2, Veriler!$F$2*R127, P127*R127)), 0))","v":0}," ",{"$f":"IFERROR(IF(N127=\"%10 sınırı aşılmıştır.\",K127-S127,IFERROR(IF(E127=\"\",IF(R127=1,0,IF(K127-R127=0,\"\",K127-R127)),IF(Veriler!I127=\"\",K127,IF(K127*Veriler!I127=0,\"\",K127*Veriler!I127))),K127)),0)","v":""}]
[94,{"$nulls":4},"",{"$nulls":4},"",{"$f":"IF(K128=\"\", \"\", K128/Veriler!$T$1)","v":""},{"$f":"IF(E128<>\"\", \"İthal Girdi\", IF(Veriler!P128=\"\", \"\", IF(Veriler!O128=\"H\", \"%0,5 üzerindedir\", IF(Veriler!P128>0.1, \"%10 sınırı aşılmıştır.\", \"Uygun\"))))","v":"%0,5 üzerindedir"}," ",null,null,"",{"$f":"IFERROR(IF(L128<=0.005,IF(E128=\"\",K128,0),IF(E128<>\"\",0,IF(O128=\"\",0,IF(O128=\"H\",0,IF(P128<Veriler!$F$2,K128*Veriler!$F$2,K128*P128))))),\" \")","v":0},{"$f":"IF(Veriler!P128<=0.1, R128, IF(AND(Veriler!P128>0.1, E128=\"\", O128=\"E\"), IF(P128>Veriler!$F$2, P128*R128, IF(P128<Veriler!$F$2, Veriler!$F$2*R128, P128*R128)), 0))","v":0}," ",{"$f":"IFERROR(IF(N128=\"%10 sınırı aşılmıştır.\",K128-S128,IFERROR(IF(E128=\"\",IF(R128=1,0,IF(K128-R128=0,\"\",K128-R128)),IF(Veriler!I128=\"\",K128,IF(K128*Veriler!I128=0,\"\",K128*Veriler!I128))),K128)),0)","v":""}]
[95,{"$nulls":4},"",{"$nulls":4},"",{"$f":"IF(K129=\"\", \"\", K129/Veriler!$T$1)","v":""},{"$f":"IF(E129<>\"\", \"İthal Girdi\", IF(Veriler!P129=\"\", \"\", IF(Veriler!O129=\"H\", \"%0,5 üzerindedir\", IF(Veriler!P129>0.1, \"%10 sınırı aşılmıştır.\", \"Uygun\"))))","v":"%0,5 üzerindedir"}," ",null,null,"",{"$f":"IFERROR(IF(L129<=0.005,IF(E129=\"\",K129,0),IF(E129<>\"\",0,IF(O129=\"\",0,IF(O129=\"H\",0,IF(P129<Veriler!$F$2,K129*Veriler!$F$2,K129*P129))))),\" \")","v":0},{"$f":"IF(Veriler!P129<=0.1, R129, IF(AND(Veriler!P129>0.1, E129=\"\", O129=\"E\"), IF(P129>Veriler!$F$2, P129*R129, IF(P129<Veriler!$F$2, Veriler!$F$2*R129, P129*R129)), 0))","v":0}," ",{"$f":"IFERROR(IF(N129=\"%10 sınırı aşılmıştır.\",K129-S129,IFERROR(IF(E129=\"\",IF(R129=1,0,IF(K129-R129=0,\"\",K129-R129)),IF(Veriler!I129=\"\",K129,IF(K129*Veriler!I129=0,\"\",K129*Veriler!I129))),K129)),0)","v":""}]
[96,{"$nulls":4},"",{"$nulls":4},"",{"$f":"IF(K130=\"\", \"\", K130/Veriler!$T$1)","v":""},{"$f":"IF(E130<>\"\", \"İthal Girdi\", IF(Veriler!P130=\"\", \"\", IF(Veriler!O130=\"H\", \"%0,5 üzerindedir\", IF(Veriler!P130>0.1, \"%10 sınırı aşılmıştır.\", \"Uygun\"))))","v":"%0,5 üzerindedir"}," ",null,null,"",{"$f":"IFERROR(IF(L130<=0.005,IF(E130=\"\",K130,0),IF(E130<>\"\",0,IF(O130=\"\",0,IF(O130=\"H\",0,IF(P130<Veriler!$F$2,K130*Veriler!$F$2,K130*P130))))),\" \")","v":0},{"$f":"IF(Veriler!P130<=0.1, R130, IF(AND(Veriler!P130>0.1, E130=\"\", O130=\"E\"), IF(P130>Veriler!$F$2, P130*R130, IF(P130<Veriler!$F$2, Veriler!$F$2*R130, P130*R130)), 0))","v":0}," ",{"$f":"IFERROR(IF(N130=\"%10 sınırı aşılmıştır.\",K130-S130,IFERROR(IF(E130=\"\",IF(R130=1,0,IF(K130-R130=0,\"\",K130-R130)),IF(Veriler!I130=\"\",K130,IF(K130*Veriler!I130=0,\"\",K130*Veriler!I130))),K130)),0)","v":""}]
[97,{"$nulls":4},"",{"$nulls":4},"",{"$f":"IF(K131=\"\", \"\", K131/Veriler!$T$1)","v":""},{"$f":"IF(E131<>\"\", \"İthal Girdi\", IF(Veriler!P131=\"\", \"\", IF(Veriler!O131=\"H\", \"%0,5 üzerindedir\", IF(Veriler!P131>0.1, \"%10 sınırı aşılmıştır.\", \"Uygun\"))))","v":"%0,5 üzerindedir"}," ",null,null,"",{"$f":"IFERROR(IF(L131<=0.005,IF(E131=\"\",K131,0),IF(E131<>\"\",0,IF(O131=\"\",0,IF(O131=\"H\",0,IF(P131<Veriler!$F$2,K131*Veriler!$F$2,K131*P131))))),\" \")","v":0},{"$f":"IF(Veriler!P131<=0.1, R131, IF(AND(Veriler!P131>0.1, E131=\"\", O131=\"E\"), IF(P131>Veriler!$F$2, P131*R131, IF(P131<Veriler!$F$2, Veriler!$F$2*R131, P131*R131)), 0))","v":0}," ",{"$f":"IFERROR(IF(N131=\"%10 sınırı aşılmıştır.\",K131-S131,IFERROR(IF(E131=\"\",IF(R131=1,0,IF(K131-R131=0,\"\",K131-R131)),IF(Veriler!I131=\"\",K131,IF(K131*Veriler!I131=0,\"\",K131*Veriler!I131))),K131)),0)","v":""}]
[98,{"$nulls":4},"",{"$nulls":4},"",{"$f":"IF(K132=\"\", \"\", K132/Veriler!$T$1)","v":""},{"$f":"IF(E132<>\"\", \"İthal Girdi\", IF(Veriler!P132=\"\", \"\", IF(Veriler!O132=\"H\", \"%0,5 üzerindedir\", IF(Veriler!P132>0.1, \"%10 sınırı aşılmıştır.\", \"Uygun\"))))","v":"%0,5 üzerindedir"}," ",null,null,"",{"$f":"IFERROR(IF(L132<=0.005,IF(E132=\"\",K132,0),IF(E132<>\"\",0,IF(O132=\"\",0,IF(O132=\"H\",0,IF(P132<Veriler!$F$2,K132*Veriler!$F$2,K132*P132))))),\" \")","v":0},{"$f":"IF(Veriler!P132<=0.1, R132, IF(AND(Veriler!P132>0.1, E132=\"\", O132=\"E\"), IF(P132>Veriler!$F$2, P132*R132, IF(P132<Veriler!$F$2, Veriler!$F$2*R132, P132*R132)), 0))","v":0}," ",{"$f":"IFERROR(IF(N132=\"%10 sınırı aşılmıştır.\",K132-S132,IFERROR(IF(E132=\"\",IF(R132=1,0,IF(K132-R132=0,\"\",K132-R132)),IF(Veriler!I132=\"\",K132,IF(K132*Veriler!I132=0,\"\",K132*Veriler!I132))),K132)),0)","v":""}]
[null,"Dolaylı"]
[{"$f":"A132+1","v":99},{"$nulls":4},{"$f":"IF(AND(E134<>\"\",U134<>\"\",K134<>0),U134/K134,\"\")","v":""},{"$nulls":4},{"$f":"IF(AND(G134<>0, I134<>0, J134<>0), G134*I134*J134, \"\")","v":""},{"$f":"IF(K134=\"\", \"\", K134/Veriler!$T$1)","v":""},{"$f":"IF(E134<>\"\", \"İthal Girdi\", IF(Veriler!P134=\"\", \"\", IF(Veriler!O134=\"H\", \"%0,5 üzerindedir\", IF(Veriler!P134>0.1, \"%10 sınırı aşılmıştır.\", \"Uygun\"))))","v":"%0,5 üzerindedir"},{"$f":"IF(L134=\"\",\" \",M134)","v":" "},null,null,{"$f":"IFERROR(IF(AND(S134<>\"\",K134<>\"\",K134<>0,S134<>0),S134/K134,\"\"),\" \")","v":""},{"$f":"IFERROR(IF(L134<=0.005,IF(E134=\"\",K134,0),IF(E134<>\"\",0,IF(O134=\"\",0,IF(O134=\"H\",0,IF(P134<Veriler!$F$2,K134*Veriler!$F$2,K134*P134))))),\" \")","v":0},{"$f":"IF(Veriler!P134<=0.1, R134, IF(AND(Veriler!P134>0.1, E134=\"\", O134=\"E\"), IF(P134>Veriler!$F$2, P134*R134, IF(P134<Veriler!$F$2, Veriler!$F$2*R134, P134*R134)), 0))","v":0},{"$f":"IF(S134=0,\" \",S134)","v":" "},{"$f":"IFERROR(IF(N134=\"%10 sınırı aşılmıştır.\",K134-S134,IFERROR(IF(E134=\"\",IF(R134=1,0,IF(K134-R134=0,\"\",K134-R134)),IF(Veriler!I134=\"\",K134,IF(K134*Veriler!I134=0,\"\",K134*Veriler!I134))),K134)),0)","v":""}]
[{"$f":"A134+1","v":100},{"$nulls":4},"",{"$nulls":4},"",{"$f":"IF(K135=\"\", \"\", K135/Veriler!$T$1)","v":""},{"$f":"IF(E135<>\"\", \"İthal Girdi\", IF(Veriler!P135=\"\", \"\", IF(Veriler!O135=\"H\", \"%0,5 üzerindedir\", IF(Veriler!P135>0.1, \"%10 sınırı aşılmıştır.\", \"Uygun\"))))","v":"%0,5 üzerindedir"}," ",null,null,"",{"$f":"IFERROR(IF(L135<=0.005,IF(E135=\"\",K135,0),IF(E135<>\"\",0,IF(O135=\"\",0,IF(O135=\"H\",0,IF(P135<Veriler!$F$2,K135*Veriler!$F$2,K135*P135))))),\" \")","v":0},{"$f":"IF(Veriler!P135<=0.1, R135, IF(AND(Veriler!P135>0.1, E135=\"\", O135=\"E\"), IF(P135>Veriler!$F$2, P135*R135, IF(P135<Veriler!$F$2, Veriler!$F$2*R135, P135*R135)), 0))","v":0}," ",{"$f":"IFERROR(IF(N135=\"%10 sınırı aşılmıştır.\",K135-S135,IFERROR(IF(E135=\"\",IF(R135=1,0,IF(K135-R135=0,\"\",K135-R135)),IF(Veriler!I135=\"\",K135,IF(K135*Veriler!I135=0,\"\",K135*Veriler!I135))),K135)),0)","v":""}]
[{"$f":"A135+1","v":101},{"$nulls":4},"",{"$nulls":4},"",{"$f":"IF(K136=\"\", \"\", K136/Veriler!$T$1)","v":""},{"$f":"IF(E136<>\"\", \"İthal Girdi\", IF(Veriler!P136=\"\", \"\", IF(Veriler!O136=\"H\", \"%0,5 üzerindedir\", IF(Veriler!P136>0.1, \"%10 sınırı aşılmıştır.\", \"Uygun\"))))","v":"%0,5 üzerindedir"}," ",null,null,"",{"$f":"IFERROR(IF(L136<=0.005,IF(E136=\"\",K136,0),IF(E136<>\"\",0,IF(O136=\"\",0,IF(O136=\"H\",0,IF(P136<Veriler!$F$2,K136*Veriler!$F$2,K136*P136))))),\" \")","v":0},{"$f":"IF(Veriler!P136<=0.1, R136, IF(AND(Veriler!P136>0.1, E136=\"\", O136=\"E\"), IF(P136>Veriler!$F$2, P136*R136, IF(P136<Veriler!$F$2, Veriler!$F$2*R136, P136*R136)), 0))","v":0}," ",{"$f":"IFERROR(IF(N136=\"%10 sınırı aşılmıştır.\",K136-S136,IFERROR(IF(E136=\"\",IF(R136=1,0,IF(K136-R136=0,\"\",K136-R136)),IF(Veriler!I136=\"\",K136,IF(K136*Veriler!I136=0,\"\",K136*Veriler!I136))),K136)),0)","v":""}]
[102,{"$nulls":4},"",{"$nulls":4},"",{"$f":"IF(K137=\"\", \"\", K137/Veriler!$T$1)","v":""},{"$f":"IF(E137<>\"\", \"İthal Girdi\", IF(Veriler!P137=\"\", \"\", IF(Veriler!O137=\"H\", \"%0,5 üzerindedir\", IF(Veriler!P137>0.1, \"%10 sınırı aşılmıştır.\", \"Uygun\"))))","v":"%0,5 üzerindedir"}," ",null,null,"",{"$f":"IFERROR(IF(L137<=0.005,IF(E137=\"\",K137,0),IF(E137<>\"\",0,IF(O137=\"\",0,IF(O137=\"H\",0,IF(P137<Veriler!$F$2,K137*Veriler!$F$2,K137*P137))))),\" \")","v":0},{"$f":"IF(Veriler!P137<=0.1, R137, IF(AND(Veriler!P137>0.1, E137=\"\", O137=\"E\"), IF(P137>Veriler!$F$2, P137*R137, IF(P137<Veriler!$F$2, Veriler!$F$2*R137, P137*R137)), 0))","v":0}," ",{"$f":"IFERROR(IF(N137=\"%10 sınırı aşılmıştır.\",K137-S137,IFERROR(IF(E137=\"\",IF(R137=1,0,IF(K137-R137=0,\"\",K137-R137)),IF(Veriler!I137=\"\",K137,IF(K137*Veriler!I137=0,\"\",K137*Veriler!I137))),K137)),0)","v":""}]
[103,{"$nulls":4},"",{"$nulls":4},"",{"$f":"IF(K138=\"\", \"\", K138/Veriler!$T$1)","v":""},{"$f":"IF(E138<>\"\", \"İthal Girdi\", IF(Veriler!P138=\"\", \"\", IF(Veriler!O138=\"H\", \"%0,5 üzerindedir\", IF(Veriler!P138>0.1, \"%10 sınırı aşılmıştır.\", \"Uygun\"))))","v":"%0,5 üzerindedir"}," ",null,null,"",{"$f":"IFERROR(IF(L138<=0.005,IF(E138=\"\",K138,0),IF(E138<>\"\",0,IF(O138=\"\",0,IF(O138=\"H\",0,IF(P138<Veriler!$F$2,K138*Veriler!$F$2,K138*P138))))),\" \")","v":0},{"$f":"IF(Veriler!P138<=0.1, R138, IF(AND(Veriler!P138>0.1, E138=\"\", O138=\"E\"), IF(P138>Veriler!$F$2, P138*R138, IF(P138<Veriler!$F$2, Veriler!$F$2*R138, P138*R138)), 0))","v":0}," ",{"$f":"IFERROR(IF(N138=\"%10 sınırı aşılmıştır.\",K138-S138,IFERROR(IF(E138=\"\",IF(R138=1,0,IF(K138-R138=0,\"\",K138-R138)),IF(Veriler!I138=\"\",K138,IF(K138*Veriler!I138=0,\"\",K138*Veriler!I138))),K138)),0)","v":""}]
[104,{"$nulls":4},"",{"$nulls":4},"",{"$f":"IF(K139=\"\", \"\", K139/Veriler!$T$1)","v":""},{"$f":"IF(E139<>\"\", \"İthal Girdi\", IF(Veriler!P139=\"\", \"\", IF(Veriler!O139=\"H\", \"%0,5 üzerindedir\", IF(Veriler!P139>0.1, \"%10 sınırı aşılmıştır.\", \"Uygun\"))))","v":"%0,5 üzerindedir"}," ",null,null,"",{"$f":"IFERROR(IF(L139<=0.005,IF(E139=\"\",K139,0),IF(E139<>\"\",0,IF(O139=\"\",0,IF(O139=\"H\",0,IF(P139<Veriler!$F$2,K139*Veriler!$F$2,K139*P139))))),\" \")","v":0},{"$f":"IF(Veriler!P139<=0.1, R139, IF(AND(Veriler!P139>0.1, E139=\"\", O139=\"E\"), IF(P139>Veriler!$F$2, P139*R139, IF(P139<Veriler!$F$2, Veriler!$F$2*R139, P139*R139)), 0))","v":0}," ",{"$f":"IFERROR(IF(N139=\"%10 sınırı aşılmıştır.\",K139-S139,IFERROR(IF(E139=\"\",IF(R139=1,0,IF(K139-R139=0,\"\",K139-R139)),IF(Veriler!I139=\"\",K139,IF(K139*Veriler!I139=0,\"\",K139*Veriler!I139))),K139)),0)","v":""}]
[105,{"$nulls":4},"",{"$nulls":4},"",{"$f":"IF(K140=\"\", \"\", K140/Veriler!$T$1)","v":""},{"$f":"IF(E140<>\"\", \"İthal Girdi\", IF(Veriler!P140=\"\", \"\", IF(Veriler!O140=\"H\", \"%0,5 üzerindedir\", IF(Veriler!P140>0.1, \"%10 sınırı aşılmıştır.\", \"Uygun\"))))","v":"%0,5 üzerindedir"}," ",null,null,"",{"$f":"IFERROR(IF(L140<=0.005,IF(E140=\"\",K140,0),IF(E140<>\"\",0,IF(O140=\"\",0,IF(O140=\"H\",0,IF(P140<Veriler!$F$2,K140*Veriler!$F$2,K140*P140))))),\" \")","v":0},{"$f":"IF(Veriler!P140<=0.1, R140, IF(AND(Veriler!P140>0.1, E140=\"\", O140=\"E\"), IF(P140>Veriler!$F$2, P140*R140, IF(P140<Veriler!$F$2, Veriler!$F$2*R140, P140*R140)), 0))","v":0}," ",{"$f":"IFERROR(IF(N140=\"%10 sınırı aşılmıştır.\",K140-S140,IFERROR(IF(E140=\"\",IF(R140=1,0,IF(K140-R140=0,\"\",K140-R140)),IF(Veriler!I140=\"\",K140,IF(K140*Veriler!I140=0,\"\",K140*Veriler!I140))),K140)),0)","v":""}]
[106,{"$nulls":4},"",{"$nulls":4},"",{"$f":"IF(K141=\"\", \"\", K141/Veriler!$T$1)","v":""},{"$f":"IF(E141<>\"\", \"İthal Girdi\", IF(Veriler!P141=\"\", \"\", IF(Veriler!O141=\"H\", \"%0,5 üzerindedir\", IF(Veriler!P141>0.1, \"%10 sınırı aşılmıştır.\", \"Uygun\"))))","v":"%0,5 üzerindedir"}," ",null,null,"",{"$f":"IFERROR(IF(L141<=0.005,IF(E141=\"\",K141,0),IF(E141<>\"\",0,IF(O141=\"\",0,IF(O141=\"H\",0,IF(P141<Veriler!$F$2,K141*Veriler!$F$2,K141*P141))))),\" \")","v":0},{"$f":"IF(Veriler!P141<=0.1, R141, IF(AND(Veriler!P141>0.1, E141=\"\", O141=\"E\"), IF(P141>Veriler!$F$2, P141*R141, IF(P141<Veriler!$F$2, Veriler!$F$2*R141, P141*R141)), 0))","v":0}," ",{"$f":"IFERROR(IF(N141=\"%10 sınırı aşılmıştır.\",K141-S141,IFERROR(IF(E141=\"\",IF(R141=1,0,IF(K141-R141=0,\"\",K141-R141)),IF(Veriler!I141=\"\",K141,IF(K141*Veriler!I141=0,\"\",K141*Veriler!I141))),K141)),0)","v":""}]
[107,{"$nulls":4},"",{"$nulls":4},"",{"$f":"IF(K142=\"\", \"\", K142/Veriler!$T$1)","v":""},{"$f":"IF(E142<>\"\", \"İthal Girdi\", IF(Veriler!P142=\"\", \"\", IF(Veriler!O142=\"H\", \"%0,5 üzerindedir\", IF(Veriler!P142>0.1, \"%10 sınırı aşılmıştır.\", \"Uygun\"))))","v":"%0,5 üzerindedir"}," ",null,null,"",{"$f":"IFERROR(IF(L142<=0.005,IF(E142=\"\",K142,0),IF(E142<>\"\",0,IF(O142=\"\",0,IF(O142=\"H\",0,IF(P142<Veriler!$F$2,K142*Veriler!$F$2,K142*P142))))),\" \")","v":0},{"$f":"IF(Veriler!P142<=0.1, R142, IF(AND(Veriler!P142>0.1, E142=\"\", O142=\"E\"), IF(P142>Veriler!$F$2, P142*R142, IF(P142<Veriler!$F$2, Veriler!$F$2*R142, P142*R142)), 0))","v":0}," ",{"$f":"IFERROR(IF(N142=\"%10 sınırı aşılmıştır.\",K142-S142,IFERROR(IF(E142=\"\",IF(R142=1,0,IF(K142-R142=0,\"\",K142-R142)),IF(Veriler!I142=\"\",K142,IF(K142*Veriler!I142=0,\"\",K142*Veriler!I142))),K142)),0)","v":""}]
[108,{"$nulls":4},"",{"$nulls":4},"",{"$f":"IF(K143=\"\", \"\", K143/Veriler!$T$1)","v":""},{"$f":"IF(E143<>\"\", \"İthal Girdi\", IF(Veriler!P143=\"\", \"\", IF(Veriler!O143=\"H\", \"%0,5 üzerindedir\", IF(Veriler!P143>0.1, \"%10 sınırı aşılmıştır.\", \"Uygun\"))))","v":"%0,5 üzerindedir"}," ",null,null,"",{"$f":"IFERROR(IF(L143<=0.005,IF(E143=\"\",K143,0),IF(E143<>\"\",0,IF(O143=\"\",0,IF(O143=\"H\",0,IF(P143<Veriler!$F$2,K143*Veriler!$F$2,K143*P143))))),\" \")","v":0},{"$f":"IF(Veriler!P143<=0.1, R143, IF(AND(Veriler!P143>0.1, E143=\"\", O143=\"E\"), IF(P143>Veriler!$F$2, P143*R143, IF(P143<Veriler!$F$2, Veriler!$F$2*R143, P143*R143)), 0))","v":0}," ",{"$f":"IFERROR(IF(N143=\"%10 sınırı aşılmıştır.\",K143-S143,IFERROR(IF(E143=\"\",IF(R143=1,0,IF(K143-R143=0,\"\",K143-R143)),IF(Veriler!I143=\"\",K143,IF(K143*Veriler!I143=0,\"\",K143*Veriler!I143))),K143)),0)","v":""}]
[109,{"$nulls":4},"",{"$nulls":4},"",{"$f":"IF(K144=\"\", \"\", K144/Veriler!$T$1)","v":""},{"$f":"IF(E144<>\"\", \"İthal Girdi\", IF(Veriler!P144=\"\", \"\", IF(Veriler!O144=\"H\", \"%0,5 üzerindedir\", IF(Veriler!P144>0.1, \"%10 sınırı aşılmıştır.\", \"Uygun\"))))","v":"%0,5 üzerindedir"}," ",null,null,"",{"$f":"IFERROR(IF(L144<=0.005,IF(E144=\"\",K144,0),IF(E144<>\"\",0,IF(O144=\"\",0,IF(O144=\"H\",0,IF(P144<Veriler!$F$2,K144*Veriler!$F$2,K144*P144))))),\" \")","v":0},{"$f":"IF(Veriler!P144<=0.1, R144, IF(AND(Veriler!P144>0.1, E144=\"\", O144=\"E\"), IF(P144>Veriler!$F$2, P144*R144, IF(P144<Veriler!$F$2, Veriler!$F$2*R144, P144*R144)), 0))","v":0}," ",{"$f":"IFERROR(IF(N144=\"%10 sınırı aşılmıştır.\",K144-S144,IFERROR(IF(E144=\"\",IF(R144=1,0,IF(K144-R144=0,\"\",K144-R144)),IF(Veriler!I144=\"\",K144,IF(K144*Veriler!I144=0,\"\",K144*Veriler!I144))),K144)),0)","v":""}]
[110,{"$nulls":4},"",{"$nulls":4},"",{"$f":"IF(K145=\"\", \"\", K145/Veriler!$T$1)","v":""},{"$f":"IF(E145<>\"\", \"İthal Girdi\", IF(Veriler!P145=\"\", \"\", IF(Veriler!O145=\"H\", \"%0,5 üzerindedir\", IF(Veriler!P145>0.1, \"%10 sınırı aşılmıştır.\", \"Uygun\"))))","v":"%0,5 üzerindedir"}," ",null,null,"",{"$f":"IFERROR(IF(L145<=0.005,IF(E145=\"\",K145,0),IF(E145<>\"\",0,IF(O145=\"\",0,IF(O145=\"H\",0,IF(P145<Veriler!$F$2,K145*Veriler!$F$2,K145*P145))))),\" \")","v":0},{"$f":"IF(Veriler!P145<=0.1, R145, IF(AND(Veriler!P145>0.1, E145=\"\", O145=\"E\"), IF(P145>Veriler!$F$2, P145*R145, IF(P145<Veriler!$F$2, Veriler!$F$2*R145, P145*R145)), 0))","v":0}," ",{"$f":"IFERROR(IF(N145=\"%10 sınırı aşılmıştır.\",K145-S145,IFERROR(IF(E145=\"\",IF(R145=1,0,IF(K145-R145=0,\"\",K145-R145)),IF(Veriler!I145=\"\",K145,IF(K145*Veriler!I145=0,\"\",K145*Veriler!I145))),K145)),0)","v":""}]
[111,{"$nulls":4},"",{"$nulls":4},"",{"$f":"IF(K146=\"\", \"\", K146/Veriler!$T$1)","v":""},{"$f":"IF(E146<>\"\", \"İthal Girdi\", IF(Veriler!P146=\"\", \"\", IF(Veriler!O146=\"H\", \"%0,5 üzerindedir\", IF(Veriler!P146>0.1, \"%10 sınırı aşılmıştır.\", \"Uygun\"))))","v":"%0,5 üzerindedir"}," ",null,null,"",{"$f":"IFERROR(IF(L146<=0.005,IF(E146=\"\",K146,0),IF(E146<>\"\",0,IF(O146=\"\",0,IF(O146=\"H\",0,IF(P146<Veriler!$F$2,K146*Veriler!$F$2,K146*P146))))),\" \")","v":0},{"$f":"IF(Veriler!P146<=0.1, R146, IF(AND(Veriler!P146>0.1, E146=\"\", O146=\"E\"), IF(P146>Veriler!$F$2, P146*R146, IF(P146<Veriler!$F$2, Veriler!$F$2*R146, P146*R146)), 0))","v":0}," ",{"$f":"IFERROR(IF(N146=\"%10 sınırı aşılmıştır.\",K146-S146,IFERROR(IF(E146=\"\",IF(R146=1,0,IF(K146-R146=0,\"\",K146-R146)),IF(Veriler!I146=\"\",K146,IF(K146*Veriler!I146=0,\"\",K146*Veriler!I146))),K146)),0)","v":""}]
[112,{"$nulls":4},"",{"$nulls":4},"",{"$f":"IF(K147=\"\", \"\", K147/Veriler!$T$1)","v":""},{"$f":"IF(E147<>\"\", \"İthal Girdi\", IF(Veriler!P147=\"\", \"\", IF(Veriler!O147=\"H\", \"%0,5 üzerindedir\", IF(Veriler!P147>0.1, \"%10 sınırı aşılmıştır.\", \"Uygun\"))))","v":"%0,5 üzerindedir"}," ",null,null,"",{"$f":"IFERROR(IF(L147<=0.005,IF(E147=\"\",K147,0),IF(E147<>\"\",0,IF(O147=\"\",0,IF(O147=\"H\",0,IF(P147<Veriler!$F$2,K147*Veriler!$F$2,K147*P147))))),\" \")","v":0},{"$f":"IF(Veriler!P147<=0.1, R147, IF(AND(Veriler!P147>0.1, E147=\"\", O147=\"E\"), IF(P147>Veriler!$F$2, P147*R147, IF(P147<Veriler!$F$2, Veriler!$F$2*R147, P147*R147)), 0))","v":0}," ",{"$f":"IFERROR(IF(N147=\"%10 sınırı aşılmıştır.\",K147-S147,IFERROR(IF(E147=\"\",IF(R147=1,0,IF(K147-R147=0,\"\",K147-R147)),IF(Veriler!I147=\"\",K147,IF(K147*Veriler!I147=0,\"\",K147*Veriler!I147))),K147)),0)","v":""}]
[{"$nulls":10},{"$f":"SUM(K119:K132,K134:K147)","v":0}]
[{"$nulls":17},"T1","T1","T1","T2"]
["Sayfa Toplamı (TL)  *(Genel Dip Toplam Ek.3-D sayfasında otomatik hesaplanacaktır.)",{"$nulls":16},{"$f":"IF(SUM(R112,R119:R132,R134:R147)=0,\"\",SUM(R112,R119:R132,R134:R147))","v":""},{"$f":"IF(SUM(S119:S132,S134:S147)=0,\" \",SUM(S119:S132,S134:S147))","v":" "},{"$f":"IF(SUM(T119:T132,T134:T147)=0,\" \",SUM(T119:T132,T134:T147))","v":" "},{"$f":"IF(SUM(U119:U132,U134:U147)=0,\" \",SUM(U119:U132,U134:U147))","v":" "}]
[]
[{"$f":"A190","v":"R02"}]
["YERLİ KATKI ORANI HESAP CETVELİ                      ",{"$nulls":13},false]
["A) Nihai Ürün Doğrudan ve Dolaylı Malzeme Giderleri                                                                                                                                                                                                                                                                                                                                                                                                                                         ",{"$nulls":18},"S",{"$f":"U116+1","v":5}]
["Sıra No","Malzeme adı / Faturadaki Ürün Adı",null,"Üretici Unvanı","GTİP Kodu                             (İthal girdiler için)","Gtip Katsayısı","Miktar ","Birim","Fiyatı \n(TL/Döviz)\n","Döviz Kuru               (TL ise 1 alınız)","Fatura Tutarı (TL)","Girdi Maliyet Yüzdesi (%)","Girdi yüzdesi %0,5 altında olan girdiler için %10 sınır kontrolü","Girdi yüzdesi %0,5 altında olan girdiler için %10 sınır kontrolü","SSB/  Müstahsil                (E/H)","YKO (%) (Manuel girilmeli)","Geçerli Yerli Oranı (%)","Yerli Maliyet Tutarı                            (T1)","Yerli Maliyet Tutarı (T1)","Yerli Maliyet Tutarı (T1)","İthal Maliyet Tutarı               (T2)"]
[null,"Doğrudan Girdi                                                         (Dolaylı girdiniz varsa en son 25. sayfaya doldurunuz)"]
[{"$f":"A147+1","v":113},{"$nulls":4},{"$f":"IF(AND(E157<>\"\",U157<>\"\",K157<>0),U157/K157,\"\")","v":""},{"$nulls":4},{"$f":"IF(AND(G157<>0, I157<>0, J157<>0), G157*I157*J157, \"\")","v":""},{"$f":"IF(K157=\"\", \"\", K157/Veriler!$T$1)","v":""},{"$f":"IF(E157<>\"\", \"İthal Girdi\", IF(Veriler!P157=\"\", \"\", IF(Veriler!O157=\"H\", \"%0,5 üzerindedir\", IF(Veriler!P157>0.1, \"%10 sınırı aşılmıştır.\", \"Uygun\"))))","v":"%0,5 üzerindedir"},{"$f":"IF(L157=\"\",\" \",M157)","v":" "},null,null,{"$f":"IFERROR(IF(AND(S157<>\"\",K157<>\"\",K157<>0,S157<>0),S157/K157,\"\"),\" \")","v":""},{"$f":"IFERROR(IF(L157<=0.005,IF(E157=\"\",K157,0),IF(E157<>\"\",0,IF(O157=\"\",0,IF(O157=\"H\",0,IF(P157<Veriler!$F$2,K157*Veriler!$F$2,K157*P157))))),\" \")","v":0},{"$f":"IF(Veriler!P157<=0.1, R157, IF(AND(Veriler!P157>0.1, E157=\"\", O157=\"E\"), IF(P157>Veriler!$F$2, P157*R157, IF(P157<Veriler!$F$2, Veriler!$F$2*R157, P157*R157)), 0))","v":0},{"$f":"IF(S157=0,\" \",S157)","v":" "},{"$f":"IFERROR(IF(N157=\"%10 sınırı aşılmıştır.\",K157-S157,IFERROR(IF(E157=\"\",IF(R157=1,0,IF(K157-R157=0,\"\",K157-R157)),IF(Veriler!I157=\"\",K157,IF(K157*Veriler!I157=0,\"\",K157*Veriler!I157))),K157)),0)","v":""}]
[{"$f":"A157+1","v":114},{"$nulls":4},"",{"$nulls":4},"",{"$f":"IF(K158=\"\", \"\", K158/Veriler!$T$1)","v":""},{"$f":"IF(E158<>\"\", \"İthal Girdi\", IF(Veriler!P158=\"\", \"\", IF(Veriler!O158=\"H\", \"%0,5 üzerindedir\", IF(Veriler!P158>0.1, \"%10 sınırı aşılmıştır.\", \"Uygun\"))))","v":"%0,5 üzerindedir"}," ",null,null,"",{"$f":"IFERROR(IF(L158<=0.005,IF(E158=\"\",K158,0),IF(E158<>\"\",0,IF(O158=\"\",0,IF(O158=\"H\",0,IF(P158<Veriler!$F$2,K158*Veriler!$F$2,K158*P158))))),\" \")","v":0},{"$f":"IF(Veriler!P158<=0.1, R158, IF(AND(Veriler!P158>0.1, E158=\"\", O158=\"E\"), IF(P158>Veriler!$F$2, P158*R158, IF(P158<Veriler!$F$2, Veriler!$F$2*R158, P158*R158)), 0))","v":0}," ",{"$f":"IFERROR(IF(N158=\"%10 sınırı aşılmıştır.\",K158-S158,IFERROR(IF(E158=\"\",IF(R158=1,0,IF(K158-R158=0,\"\",K158-R158)),IF(Veriler!I158=\"\",K158,IF(K158*Veriler!I158=0,\"\",K158*Veriler!I158))),K158)),0)","v":""}]
[{"$f":"A158+1","v":115},{"$nulls":4},"",{"$nulls":4},"",{"$f":"IF(K159=\"\", \"\", K159/Veriler!$T$1)","v":""},{"$f":"IF(E159<>\"\", \"İthal Girdi\", IF(Veriler!P159=\"\", \"\", IF(Veriler!O159=\"H\", \"%0,5 üzerindedir\", IF(Veriler!P159>0.1, \"%10 sınırı aşılmıştır.\", \"Uygun\"))))","v":"%0,5 üzerindedir"}," ",null,null,"",{"$f":"IFERROR(IF(L159<=0.005,IF(E159=\"\",K159,0),IF(E159<>\"\",0,IF(O159=\"\",0,IF(O159=\"H\",0,IF(P159<Veriler!$F$2,K159*Veriler!$F$2,K159*P159))))),\" \")","v":0},{"$f":"IF(Veriler!P159<=0.1, R159, IF(AND(Veriler!P159>0.1, E159=\"\", O159=\"E\"), IF(P159>Veriler!$F$2, P159*R159, IF(P159<Veriler!$F$2, Veriler!$F$2*R159, P159*R159)), 0))","v":0}," ",{"$f":"IFERROR(IF(N159=\"%10 sınırı aşılmıştır.\",K159-S159,IFERROR(IF(E159=\"\",IF(R159=1,0,IF(K159-R159=0,\"\",K159-R159)),IF(Veriler!I159=\"\",K159,IF(K159*Veriler!I159=0,\"\",K159*Veriler!I159))),K159)),0)","v":""}]
[116,{"$nulls":4},"",{"$nulls":4},"",{"$f":"IF(K160=\"\", \"\", K160/Veriler!$T$1)","v":""},{"$f":"IF(E160<>\"\", \"İthal Girdi\", IF(Veriler!P160=\"\", \"\", IF(Veriler!O160=\"H\", \"%0,5 üzerindedir\", IF(Veriler!P160>0.1, \"%10 sınırı aşılmıştır.\", \"Uygun\"))))","v":"%0,5 üzerindedir"}," ",null,null,"",{"$f":"IFERROR(IF(L160<=0.005,IF(E160=\"\",K160,0),IF(E160<>\"\",0,IF(O160=\"\",0,IF(O160=\"H\",0,IF(P160<Veriler!$F$2,K160*Veriler!$F$2,K160*P160))))),\" \")","v":0},{"$f":"IF(Veriler!P160<=0.1, R160, IF(AND(Veriler!P160>0.1, E160=\"\", O160=\"E\"), IF(P160>Veriler!$F$2, P160*R160, IF(P160<Veriler!$F$2, Veriler!$F$2*R160, P160*R160)), 0))","v":0}," ",{"$f":"IFERROR(IF(N160=\"%10 sınırı aşılmıştır.\",K160-S160,IFERROR(IF(E160=\"\",IF(R160=1,0,IF(K160-R160=0,\"\",K160-R160)),IF(Veriler!I160=\"\",K160,IF(K160*Veriler!I160=0,\"\",K160*Veriler!I160))),K160)),0)","v":""}]
[117,{"$nulls":4},"",{"$nulls":4},"",{"$f":"IF(K161=\"\", \"\", K161/Veriler!$T$1)","v":""},{"$f":"IF(E161<>\"\", \"İthal Girdi\", IF(Veriler!P161=\"\", \"\", IF(Veriler!O161=\"H\", \"%0,5 üzerindedir\", IF(Veriler!P161>0.1, \"%10 sınırı aşılmıştır.\", \"Uygun\"))))","v":"%0,5 üzerindedir"}," ",null,null,"",{"$f":"IFERROR(IF(L161<=0.005,IF(E161=\"\",K161,0),IF(E161<>\"\",0,IF(O161=\"\",0,IF(O161=\"H\",0,IF(P161<Veriler!$F$2,K161*Veriler!$F$2,K161*P161))))),\" \")","v":0},{"$f":"IF(Veriler!P161<=0.1, R161, IF(AND(Veriler!P161>0.1, E161=\"\", O161=\"E\"), IF(P161>Veriler!$F$2, P161*R161, IF(P161<Veriler!$F$2, Veriler!$F$2*R161, P161*R161)), 0))","v":0}," ",{"$f":"IFERROR(IF(N161=\"%10 sınırı aşılmıştır.\",K161-S161,IFERROR(IF(E161=\"\",IF(R161=1,0,IF(K161-R161=0,\"\",K161-R161)),IF(Veriler!I161=\"\",K161,IF(K161*Veriler!I161=0,\"\",K161*Veriler!I161))),K161)),0)","v":""}]
[118,{"$nulls":4},"",{"$nulls":4},"",{"$f":"IF(K162=\"\", \"\", K162/Veriler!$T$1)","v":""},{"$f":"IF(E162<>\"\", \"İthal Girdi\", IF(Veriler!P162=\"\", \"\", IF(Veriler!O162=\"H\", \"%0,5 üzerindedir\", IF(Veriler!P162>0.1, \"%10 sınırı aşılmıştır.\", \"Uygun\"))))","v":"%0,5 üzerindedir"}," ",null,null,"",{"$f":"IFERROR(IF(L162<=0.005,IF(E162=\"\",K162,0),IF(E162<>\"\",0,IF(O162=\"\",0,IF(O162=\"H\",0,IF(P162<Veriler!$F$2,K162*Veriler!$F$2,K162*P162))))),\" \")","v":0},{"$f":"IF(Veriler!P162<=0.1, R162, IF(AND(Veriler!P162>0.1, E162=\"\", O162=\"E\"), IF(P162>Veriler!$F$2, P162*R162, IF(P162<Veriler!$F$2, Veriler!$F$2*R162, P162*R162)), 0))","v":0}," ",{"$f":"IFERROR(IF(N162=\"%10 sınırı aşılmıştır.\",K162-S162,IFERROR(IF(E162=\"\",IF(R162=1,0,IF(K162-R162=0,\"\",K162-R162)),IF(Veriler!I162=\"\",K162,IF(K162*Veriler!I162=0,\"\",K162*Veriler!I162))),K162)),0)","v":""}]
[119,{"$nulls":4},"",{"$nulls":4},"",{"$f":"IF(K163=\"\", \"\", K163/Veriler!$T$1)","v":""},{"$f":"IF(E163<>\"\", \"İthal Girdi\", IF(Veriler!P163=\"\", \"\", IF(Veriler!O163=\"H\", \"%0,5 üzerindedir\", IF(Veriler!P163>0.1, \"%10 sınırı aşılmıştır.\", \"Uygun\"))))","v":"%0,5 üzerindedir"}," ",null,null,"",{"$f":"IFERROR(IF(L163<=0.005,IF(E163=\"\",K163,0),IF(E163<>\"\",0,IF(O163=\"\",0,IF(O163=\"H\",0,IF(P163<Veriler!$F$2,K163*Veriler!$F$2,K163*P163))))),\" \")","v":0},{"$f":"IF(Veriler!P163<=0.1, R163, IF(AND(Veriler!P163>0.1, E163=\"\", O163=\"E\"), IF(P163>Veriler!$F$2, P163*R163, IF(P163<Veriler!$F$2, Veriler!$F$2*R163, P163*R163)), 0))","v":0}," ",{"$f":"IFERROR(IF(N163=\"%10 sınırı aşılmıştır.\",K163-S163,IFERROR(IF(E163=\"\",IF(R163=1,0,IF(K163-R163=0,\"\",K163-R163)),IF(Veriler!I163=\"\",K163,IF(K163*Veriler!I163=0,\"\",K163*Veriler!I163))),K163)),0)","v":""}]
[120,{"$nulls":4},"",{"$nulls":4},"",{"$f":"IF(K164=\"\", \"\", K164/Veriler!$T$1)","v":""},{"$f":"IF(E164<>\"\", \"İthal Girdi\", IF(Veriler!P164=\"\", \"\", IF(Veriler!O164=\"H\", \"%0,5 üzerindedir\", IF(Veriler!P164>0.1, \"%10 sınırı aşılmıştır.\", \"Uygun\"))))","v":"%0,5 üzerindedir"}," ",null,null,"",{"$f":"IFERROR(IF(L164<=0.005,IF(E164=\"\",K164,0),IF(E164<>\"\",0,IF(O164=\"\",0,IF(O164=\"H\",0,IF(P164<Veriler!$F$2,K164*Veriler!$F$2,K164*P164))))),\" \")","v":0},{"$f":"IF(Veriler!P164<=0.1, R164, IF(AND(Veriler!P164>0.1, E164=\"\", O164=\"E\"), IF(P164>Veriler!$F$2, P164*R164, IF(P164<Veriler!$F$2, Veriler!$F$2*R164, P164*R164)), 0))","v":0}," ",{"$f":"IFERROR(IF(N164=\"%10 sınırı aşılmıştır.\",K164-S164,IFERROR(IF(E164=\"\",IF(R164=1,0,IF(K164-R164=0,\"\",K164-R164)),IF(Veriler!I164=\"\",K164,IF(K164*Veriler!I164=0,\"\",K164*Veriler!I164))),K164)),0)","v":""}]
[121,{"$nulls":4},"",{"$nulls":4},"",{"$f":"IF(K165=\"\", \"\", K165/Veriler!$T$1)","v":""},{"$f":"IF(E165<>\"\", \"İthal Girdi\", IF(Veriler!P165=\"\", \"\", IF(Veriler!O165=\"H\", \"%0,5 üzerindedir\", IF(Veriler!P165>0.1, \"%10 sınırı aşılmıştır.\", \"Uygun\"))))","v":"%0,5 üzerindedir"}," ",null,null,"",{"$f":"IFERROR(IF(L165<=0.005,IF(E165=\"\",K165,0),IF(E165<>\"\",0,IF(O165=\"\",0,IF(O165=\"H\",0,IF(P165<Veriler!$F$2,K165*Veriler!$F$2,K165*P165))))),\" \")","v":0},{"$f":"IF(Veriler!P165<=0.1, R165, IF(AND(Veriler!P165>0.1, E165=\"\", O165=\"E\"), IF(P165>Veriler!$F$2, P165*R165, IF(P165<Veriler!$F$2, Veriler!$F$2*R165, P165*R165)), 0))","v":0}," ",{"$f":"IFERROR(IF(N165=\"%10 sınırı aşılmıştır.\",K165-S165,IFERROR(IF(E165=\"\",IF(R165=1,0,IF(K165-R165=0,\"\",K165-R165)),IF(Veriler!I165=\"\",K165,IF(K165*Veriler!I165=0,\"\",K165*Veriler!I165))),K165)),0)","v":""}]
[122,{"$nulls":4},"",{"$nulls":4},"",{"$f":"IF(K166=\"\", \"\", K166/Veriler!$T$1)","v":""},{"$f":"IF(E166<>\"\", \"İthal Girdi\", IF(Veriler!P166=\"\", \"\", IF(Veriler!O166=\"H\", \"%0,5 üzerindedir\", IF(Veriler!P166>0.1, \"%10 sınırı aşılmıştır.\", \"Uygun\"))))","v":"%0,5 üzerindedir"}," ",null,null,"",{"$f":"IFERROR(IF(L166<=0.005,IF(E166=\"\",K166,0),IF(E166<>\"\",0,IF(O166=\"\",0,IF(O166=\"H\",0,IF(P166<Veriler!$F$2,K166*Veriler!$F$2,K166*P166))))),\" \")","v":0},{"$f":"IF(Veriler!P166<=0.1, R166, IF(AND(Veriler!P166>0.1, E166=\"\", O166=\"E\"), IF(P166>Veriler!$F$2, P166*R166, IF(P166<Veriler!$F$2, Veriler!$F$2*R166, P166*R166)), 0))","v":0}," ",{"$f":"IFERROR(IF(N166=\"%10 sınırı aşılmıştır.\",K166-S166,IFERROR(IF(E166=\"\",IF(R166=1,0,IF(K166-R166=0,\"\",K166-R166)),IF(Veriler!I166=\"\",K166,IF(K166*Veriler!I166=0,\"\",K166*Veriler!I166))),K166)),0)","v":""}]
[123,{"$nulls":4},"",{"$nulls":4},"",{"$f":"IF(K167=\"\", \"\", K167/Veriler!$T$1)","v":""},{"$f":"IF(E167<>\"\", \"İthal Girdi\", IF(Veriler!P167=\"\", \"\", IF(Veriler!O167=\"H\", \"%0,5 üzerindedir\", IF(Veriler!P167>0.1, \"%10 sınırı aşılmıştır.\", \"Uygun\"))))","v":"%0,5 üzerindedir"}," ",null,null,"",{"$f":"IFERROR(IF(L167<=0.005,IF(E167=\"\",K167,0),IF(E167<>\"\",0,IF(O167=\"\",0,IF(O167=\"H\",0,IF(P167<Veriler!$F$2,K167*Veriler!$F$2,K167*P167))))),\" \")","v":0},{"$f":"IF(Veriler!P167<=0.1, R167, IF(AND(Veriler!P167>0.1, E167=\"\", O167=\"E\"), IF(P167>Veriler!$F$2, P167*R167, IF(P167<Veriler!$F$2, Veriler!$F$2*R167, P167*R167)), 0))","v":0}," ",{"$f":"IFERROR(IF(N167=\"%10 sınırı aşılmıştır.\",K167-S167,IFERROR(IF(E167=\"\",IF(R167=1,0,IF(K167-R167=0,\"\",K167-R167)),IF(Veriler!I167=\"\",K167,IF(K167*Veriler!I167=0,\"\",K167*Veriler!I167))),K167)),0)","v":""}]
[124,{"$nulls":4},"",{"$nulls":4},"",{"$f":"IF(K168=\"\", \"\", K168/Veriler!$T$1)","v":""},{"$f":"IF(E168<>\"\", \"İthal Girdi\", IF(Veriler!P168=\"\", \"\", IF(Veriler!O168=\"H\", \"%0,5 üzerindedir\", IF(Veriler!P168>0.1, \"%10 sınırı aşılmıştır.\", \"Uygun\"))))","v":"%0,5 üzerindedir"}," ",null,null,"",{"$f":"IFERROR(IF(L168<=0.005,IF(E168=\"\",K168,0),IF(E168<>\"\",0,IF(O168=\"\",0,IF(O168=\"H\",0,IF(P168<Veriler!$F$2,K168*Veriler!$F$2,K168*P168))))),\" \")","v":0},{"$f":"IF(Veriler!P168<=0.1, R168, IF(AND(Veriler!P168>0.1, E168=\"\", O168=\"E\"), IF(P168>Veriler!$F$2, P168*R168, IF(P168<Veriler!$F$2, Veriler!$F$2*R168, P168*R168)), 0))","v":0}," ",{"$f":"IFERROR(IF(N168=\"%10 sınırı aşılmıştır.\",K168-S168,IFERROR(IF(E168=\"\",IF(R168=1,0,IF(K168-R168=0,\"\",K168-R168)),IF(Veriler!I168=\"\",K168,IF(K168*Veriler!I168=0,\"\",K168*Veriler!I168))),K168)),0)","v":""}]
[125,{"$nulls":4},"",{"$nulls":4},"",{"$f":"IF(K169=\"\", \"\", K169/Veriler!$T$1)","v":""},{"$f":"IF(E169<>\"\", \"İthal Girdi\", IF(Veriler!P169=\"\", \"\", IF(Veriler!O169=\"H\", \"%0,5 üzerindedir\", IF(Veriler!P169>0.1, \"%10 sınırı aşılmıştır.\", \"Uygun\"))))","v":"%0,5 üzerindedir"}," ",null,null,"",{"$f":"IFERROR(IF(L169<=0.005,IF(E169=\"\",K169,0),IF(E169<>\"\",0,IF(O169=\"\",0,IF(O169=\"H\",0,IF(P169<Veriler!$F$2,K169*Veriler!$F$2,K169*P169))))),\" \")","v":0},{"$f":"IF(Veriler!P169<=0.1, R169, IF(AND(Veriler!P169>0.1, E169=\"\", O169=\"E\"), IF(P169>Veriler!$F$2, P169*R169, IF(P169<Veriler!$F$2, Veriler!$F$2*R169, P169*R169)), 0))","v":0}," ",{"$f":"IFERROR(IF(N169=\"%10 sınırı aşılmıştır.\",K169-S169,IFERROR(IF(E169=\"\",IF(R169=1,0,IF(K169-R169=0,\"\",K169-R169)),IF(Veriler!I169=\"\",K169,IF(K169*Veriler!I169=0,\"\",K169*Veriler!I169))),K169)),0)","v":""}]
[126,{"$nulls":4},"",{"$nulls":4},"",{"$f":"IF(K170=\"\", \"\", K170/Veriler!$T$1)","v":""},{"$f":"IF(E170<>\"\", \"İthal Girdi\", IF(Veriler!P170=\"\", \"\", IF(Veriler!O170=\"H\", \"%0,5 üzerindedir\", IF(Veriler!P170>0.1, \"%10 sınırı aşılmıştır.\", \"Uygun\"))))","v":"%0,5 üzerindedir"}," ",null,null,"",{"$f":"IFERROR(IF(L170<=0.005,IF(E170=\"\",K170,0),IF(E170<>\"\",0,IF(O170=\"\",0,IF(O170=\"H\",0,IF(P170<Veriler!$F$2,K170*Veriler!$F$2,K170*P170))))),\" \")","v":0},{"$f":"IF(Veriler!P170<=0.1, R170, IF(AND(Veriler!P170>0.1, E170=\"\", O170=\"E\"), IF(P170>Veriler!$F$2, P170*R170, IF(P170<Veriler!$F$2, Veriler!$F$2*R170, P170*R170)), 0))","v":0}," ",{"$f":"IFERROR(IF(N170=\"%10 sınırı aşılmıştır.\",K170-S170,IFERROR(IF(E170=\"\",IF(R170=1,0,IF(K170-R170=0,\"\",K170-R170)),IF(Veriler!I170=\"\",K170,IF(K170*Veriler!I170=0,\"\",K170*Veriler!I170))),K170)),0)","v":""}]
[null,"Dolaylı"]
[{"$f":"A170+1","v":127},{"$nulls":4},{"$f":"IF(AND(E172<>\"\",U172<>\"\",K172<>0),U172/K172,\"\")","v":""},{"$nulls":4},{"$f":"IF(AND(G172<>0, I172<>0, J172<>0), G172*I172*J172, \"\")","v":""},{"$f":"IF(K172=\"\", \"\", K172/Veriler!$T$1)","v":""},{"$f":"IF(E172<>\"\", \"İthal Girdi\", IF(Veriler!P172=\"\", \"\", IF(Veriler!O172=\"H\", \"%0,5 üzerindedir\", IF(Veriler!P172>0.1, \"%10 sınırı aşılmıştır.\", \"Uygun\"))))","v":"%0,5 üzerindedir"},{"$f":"IF(L172=\"\",\" \",M172)","v":" "},null,null,{"$f":"IFERROR(IF(AND(S172<>\"\",K172<>\"\",K172<>0,S172<>0),S172/K172,\"\"),\" \")","v":""},{"$f":"IFERROR(IF(L172<=0.005,IF(E172=\"\",K172,0),IF(E172<>\"\",0,IF(O172=\"\",0,IF(O172=\"H\",0,IF(P172<Veriler!$F$2,K172*Veriler!$F$2,K172*P172))))),\" \")","v":0},{"$f":"IF(Veriler!P172<=0.1, R172, IF(AND(Veriler!P172>0.1, E172=\"\", O172=\"E\"), IF(P172>Veriler!$F$2, P172*R172, IF(P172<Veriler!$F$2, Veriler!$F$2*R172, P172*R172)), 0))","v":0},{"$f":"IF(S172=0,\" \",S172)","v":" "},{"$f":"IFERROR(IF(N172=\"%10 sınırı aşılmıştır.\",K172-S172,IFERROR(IF(E172=\"\",IF(R172=1,0,IF(K172-R172=0,\"\",K172-R172)),IF(Veriler!I172=\"\",K172,IF(K172*Veriler!I172=0,\"\",K172*Veriler!I172))),K172)),0)","v":""}]
[{"$f":"A172+1","v":128},{"$nulls":4},"",{"$nulls":4},"",{"$f":"IF(K173=\"\", \"\", K173/Veriler!$T$1)","v":""},{"$f":"IF(E173<>\"\", \"İthal Girdi\", IF(Veriler!P173=\"\", \"\", IF(Veriler!O173=\"H\", \"%0,5 üzerindedir\", IF(Veriler!P173>0.1, \"%10 sınırı aşılmıştır.\", \"Uygun\"))))","v":"%0,5 üzerindedir"}," ",null,null,"",{"$f":"IFERROR(IF(L173<=0.005,IF(E173=\"\",K173,0),IF(E173<>\"\",0,IF(O173=\"\",0,IF(O173=\"H\",0,IF(P173<Veriler!$F$2,K173*Veriler!$F$2,K173*P173))))),\" \")","v":0},{"$f":"IF(Veriler!P173<=0.1, R173, IF(AND(Veriler!P173>0.1, E173=\"\", O173=\"E\"), IF(P173>Veriler!$F$2, P173*R173, IF(P173<Veriler!$F$2, Veriler!$F$2*R173, P173*R173)), 0))","v":0}," ",{"$f":"IFERROR(IF(N173=\"%10 sınırı aşılmıştır.\",K173-S173,IFERROR(IF(E173=\"\",IF(R173=1,0,IF(K173-R173=0,\"\",K173-R173)),IF(Veriler!I173=\"\",K173,IF(K173*Veriler!I173=0,\"\",K173*Veriler!I173))),K173)),0)","v":""}]
[{"$f":"A173+1","v":129},{"$nulls":4},"",{"$nulls":4},"",{"$f":"IF(K174=\"\", \"\", K174/Veriler!$T$1)","v":""},{"$f":"IF(E174<>\"\", \"İthal Girdi\", IF(Veriler!P174=\"\", \"\", IF(Veriler!O174=\"H\", \"%0,5 üzerindedir\", IF(Veriler!P174>0.1, \"%10 sınırı aşılmıştır.\", \"Uygun\"))))","v":"%0,5 üzerindedir"}," ",null,null,"",{"$f":"IFERROR(IF(L174<=0.005,IF(E174=\"\",K174,0),IF(E174<>\"\",0,IF(O174=\"\",0,IF(O174=\"H\",0,IF(P174<Veriler!$F$2,K174*Veriler!$F$2,K174*P174))))),\" \")","v":0},{"$f":"IF(Veriler!P174<=0.1, R174, IF(AND(Veriler!P174>0.1, E174=\"\", O174=\"E\"), IF(P174>Veriler!$F$2, P174*R174, IF(P174<Veriler!$F$2, Veriler!$F$2*R174, P174*R174)), 0))","v":0}," ",{"$f":"IFERROR(IF(N174=\"%10 sınırı aşılmıştır.\",K174-S174,IFERROR(IF(E174=\"\",IF(R174=1,0,IF(K174-R174=0,\"\",K174-R174)),IF(Veriler!I174=\"\",K174,IF(K174*Veriler!I174=0,\"\",K174*Veriler!I174))),K174)),0)","v":""}]
[130,{"$nulls":4},"",{"$nulls":4},"",{"$f":"IF(K175=\"\", \"\", K175/Veriler!$T$1)","v":""},{"$f":"IF(E175<>\"\", \"İthal Girdi\", IF(Veriler!P175=\"\", \"\", IF(Veriler!O175=\"H\", \"%0,5 üzerindedir\", IF(Veriler!P175>0.1, \"%10 sınırı aşılmıştır.\", \"Uygun\"))))","v":"%0,5 üzerindedir"}," ",null,null,"",{"$f":"IFERROR(IF(L175<=0.005,IF(E175=\"\",K175,0),IF(E175<>\"\",0,IF(O175=\"\",0,IF(O175=\"H\",0,IF(P175<Veriler!$F$2,K175*Veriler!$F$2,K175*P175))))),\" \")","v":0},{"$f":"IF(Veriler!P175<=0.1, R175, IF(AND(Veriler!P175>0.1, E175=\"\", O175=\"E\"), IF(P175>Veriler!$F$2, P175*R175, IF(P175<Veriler!$F$2, Veriler!$F$2*R175, P175*R175)), 0))","v":0}," ",{"$f":"IFERROR(IF(N175=\"%10 sınırı aşılmıştır.\",K175-S175,IFERROR(IF(E175=\"\",IF(R175=1,0,IF(K175-R175=0,\"\",K175-R175)),IF(Veriler!I175=\"\",K175,IF(K175*Veriler!I175=0,\"\",K175*Veriler!I175))),K175)),0)","v":""}]
[131,{"$nulls":4},"",{"$nulls":4},"",{"$f":"IF(K176=\"\", \"\", K176/Veriler!$T$1)","v":""},{"$f":"IF(E176<>\"\", \"İthal Girdi\", IF(Veriler!P176=\"\", \"\", IF(Veriler!O176=\"H\", \"%0,5 üzerindedir\", IF(Veriler!P176>0.1, \"%10 sınırı aşılmıştır.\", \"Uygun\"))))","v":"%0,5 üzerindedir"}," ",null,null,"",{"$f":"IFERROR(IF(L176<=0.005,IF(E176=\"\",K176,0),IF(E176<>\"\",0,IF(O176=\"\",0,IF(O176=\"H\",0,IF(P176<Veriler!$F$2,K176*Veriler!$F$2,K176*P176))))),\" \")","v":0},{"$f":"IF(Veriler!P176<=0.1, R176, IF(AND(Veriler!P176>0.1, E176=\"\", O176=\"E\"), IF(P176>Veriler!$F$2, P176*R176, IF(P176<Veriler!$F$2, Veriler!$F$2*R176, P176*R176)), 0))","v":0}," ",{"$f":"IFERROR(IF(N176=\"%10 sınırı aşılmıştır.\",K176-S176,IFERROR(IF(E176=\"\",IF(R176=1,0,IF(K176-R176=0,\"\",K176-R176)),IF(Veriler!I176=\"\",K176,IF(K176*Veriler!I176=0,\"\",K176*Veriler!I176))),K176)),0)","v":""}]
[132,{"$nulls":4},"",{"$nulls":4},"",{"$f":"IF(K177=\"\", \"\", K177/Veriler!$T$1)","v":""},{"$f":"IF(E177<>\"\", \"İthal Girdi\", IF(Veriler!P177=\"\", \"\", IF(Veriler!O177=\"H\", \"%0,5 üzerindedir\", IF(Veriler!P177>0.1, \"%10 sınırı aşılmıştır.\", \"Uygun\"))))","v":"%0,5 üzerindedir"}," ",null,null,"",{"$f":"IFERROR(IF(L177<=0.005,IF(E177=\"\",K177,0),IF(E177<>\"\",0,IF(O177=\"\",0,IF(O177=\"H\",0,IF(P177<Veriler!$F$2,K177*Veriler!$F$2,K177*P177))))),\" \")","v":0},{"$f":"IF(Veriler!P177<=0.1, R177, IF(AND(Veriler!P177>0.1, E177=\"\", O177=\"E\"), IF(P177>Veriler!$F$2, P177*R177, IF(P177<Veriler!$F$2, Veriler!$F$2*R177, P177*R177)), 0))","v":0}," ",{"$f":"IFERROR(IF(N177=\"%10 sınırı aşılmıştır.\",K177-S177,IFERROR(IF(E177=\"\",IF(R177=1,0,IF(K177-R177=0,\"\",K177-R177)),IF(Veriler!I177=\"\",K177,IF(K177*Veriler!I177=0,\"\",K177*Veriler!I177))),K177)),0)","v":""}]
[133,{"$nulls":4},"",{"$nulls":4},"",{"$f":"IF(K178=\"\", \"\", K178/Veriler!$T$1)","v":""},{"$f":"IF(E178<>\"\", \"İthal Girdi\", IF(Veriler!P178=\"\", \"\", IF(Veriler!O178=\"H\", \"%0,5 üzerindedir\", IF(Veriler!P178>0.1, \"%10 sınırı aşılmıştır.\", \"Uygun\"))))","v":"%0,5 üzerindedir"}," ",null,null,"",{"$f":"IFERROR(IF(L178<=0.005,IF(E178=\"\",K178,0),IF(E178<>\"\",0,IF(O178=\"\",0,IF(O178=\"H\",0,IF(P178<Veriler!$F$2,K178*Veriler!$F$2,K178*P178))))),\" \")","v":0},{"$f":"IF(Veriler!P178<=0.1, R178, IF(AND(Veriler!P178>0.1, E178=\"\", O178=\"E\"), IF(P178>Veriler!$F$2, P178*R178, IF(P178<Veriler!$F$2, Veriler!$F$2*R178, P178*R178)), 0))","v":0}," ",{"$f":"IFERROR(IF(N178=\"%10 sınırı aşılmıştır.\",K178-S178,IFERROR(IF(E178=\"\",IF(R178=1,0,IF(K178-R178=0,\"\",K178-R178)),IF(Veriler!I178=\"\",K178,IF(K178*Veriler!I178=0,\"\",K178*Veriler!I178))),K178)),0)","v":""}]
[134,{"$nulls":4},"",{"$nulls":4},"",{"$f":"IF(K179=\"\", \"\", K179/Veriler!$T$1)","v":""},{"$f":"IF(E179<>\"\", \"İthal Girdi\", IF(Veriler!P179=\"\", \"\", IF(Veriler!O179=\"H\", \"%0,5 üzerindedir\", IF(Veriler!P179>0.1, \"%10 sınırı aşılmıştır.\", \"Uygun\"))))","v":"%0,5 üzerindedir"}," ",null,null,"",{"$f":"IFERROR(IF(L179<=0.005,IF(E179=\"\",K179,0),IF(E179<>\"\",0,IF(O179=\"\",0,IF(O179=\"H\",0,IF(P179<Veriler!$F$2,K179*Veriler!$F$2,K179*P179))))),\" \")","v":0},{"$f":"IF(Veriler!P179<=0.1, R179, IF(AND(Veriler!P179>0.1, E179=\"\", O179=\"E\"), IF(P179>Veriler!$F$2, P179*R179, IF(P179<Veriler!$F$2, Veriler!$F$2*R179, P179*R179)), 0))","v":0}," ",{"$f":"IFERROR(IF(N179=\"%10 sınırı aşılmıştır.\",K179-S179,IFERROR(IF(E179=\"\",IF(R179=1,0,IF(K179-R179=0,\"\",K179-R179)),IF(Veriler!I179=\"\",K179,IF(K179*Veriler!I179=0,\"\",K179*Veriler!I179))),K179)),0)","v":""}]
[135,{"$nulls":4},"",{"$nulls":4},"",{"$f":"IF(K180=\"\", \"\", K180/Veriler!$T$1)","v":""},{"$f":"IF(E180<>\"\", \"İthal Girdi\", IF(Veriler!P180=\"\", \"\", IF(Veriler!O180=\"H\", \"%0,5 üzerindedir\", IF(Veriler!P180>0.1, \"%10 sınırı aşılmıştır.\", \"Uygun\"))))","v":"%0,5 üzerindedir"}," ",null,null,"",{"$f":"IFERROR(IF(L180<=0.005,IF(E180=\"\",K180,0),IF(E180<>\"\",0,IF(O180=\"\",0,IF(O180=\"H\",0,IF(P180<Veriler!$F$2,K180*Veriler!$F$2,K180*P180))))),\" \")","v":0},{"$f":"IF(Veriler!P180<=0.1, R180, IF(AND(Veriler!P180>0.1, E180=\"\", O180=\"E\"), IF(P180>Veriler!$F$2, P180*R180, IF(P180<Veriler!$F$2, Veriler!$F$2*R180, P180*R180)), 0))","v":0}," ",{"$f":"IFERROR(IF(N180=\"%10 sınırı aşılmıştır.\",K180-S180,IFERROR(IF(E180=\"\",IF(R180=1,0,IF(K180-R180=0,\"\",K180-R180)),IF(Veriler!I180=\"\",K180,IF(K180*Veriler!I180=0,\"\",K180*Veriler!I180))),K180)),0)","v":""}]
[136,{"$nulls":4},"",{"$nulls":4},"",{"$f":"IF(K181=\"\", \"\", K181/Veriler!$T$1)","v":""},{"$f":"IF(E181<>\"\", \"İthal Girdi\", IF(Veriler!P181=\"\", \"\", IF(Veriler!O181=\"H\", \"%0,5 üzerindedir\", IF(Veriler!P181>0.1, \"%10 sınırı aşılmıştır.\", \"Uygun\"))))","v":"%0,5 üzerindedir"}," ",null,null,"",{"$f":"IFERROR(IF(L181<=0.005,IF(E181=\"\",K181,0),IF(E181<>\"\",0,IF(O181=\"\",0,IF(O181=\"H\",0,IF(P181<Veriler!$F$2,K181*Veriler!$F$2,K181*P181))))),\" \")","v":0},{"$f":"IF(Veriler!P181<=0.1, R181, IF(AND(Veriler!P181>0.1, E181=\"\", O181=\"E\"), IF(P181>Veriler!$F$2, P181*R181, IF(P181<Veriler!$F$2, Veriler!$F$2*R181, P181*R181)), 0))","v":0}," ",{"$f":"IFERROR(IF(N181=\"%10 sınırı aşılmıştır.\",K181-S181,IFERROR(IF(E181=\"\",IF(R181=1,0,IF(K181-R181=0,\"\",K181-R181)),IF(Veriler!I181=\"\",K181,IF(K181*Veriler!I181=0,\"\",K181*Veriler!I181))),K181)),0)","v":""}]
[137,{"$nulls":4},"",{"$nulls":4},"",{"$f":"IF(K182=\"\", \"\", K182/Veriler!$T$1)","v":""},{"$f":"IF(E182<>\"\", \"İthal Girdi\", IF(Veriler!P182=\"\", \"\", IF(Veriler!O182=\"H\", \"%0,5 üzerindedir\", IF(Veriler!P182>0.1, \"%10 sınırı aşılmıştır.\", \"Uygun\"))))","v":"%0,5 üzerindedir"}," ",null,null,"",{"$f":"IFERROR(IF(L182<=0.005,IF(E182=\"\",K182,0),IF(E182<>\"\",0,IF(O182=\"\",0,IF(O182=\"H\",0,IF(P182<Veriler!$F$2,K182*Veriler!$F$2,K182*P182))))),\" \")","v":0},{"$f":"IF(Veriler!P182<=0.1, R182, IF(AND(Veriler!P182>0.1, E182=\"\", O182=\"E\"), IF(P182>Veriler!$F$2, P182*R182, IF(P182<Veriler!$F$2, Veriler!$F$2*R182, P182*R182)), 0))","v":0}," ",{"$f":"IFERROR(IF(N182=\"%10 sınırı aşılmıştır.\",K182-S182,IFERROR(IF(E182=\"\",IF(R182=1,0,IF(K182-R182=0,\"\",K182-R182)),IF(Veriler!I182=\"\",K182,IF(K182*Veriler!I182=0,\"\",K182*Veriler!I182))),K182)),0)","v":""}]
[138,{"$nulls":4},"",{"$nulls":4},"",{"$f":"IF(K183=\"\", \"\", K183/Veriler!$T$1)","v":""},{"$f":"IF(E183<>\"\", \"İthal Girdi\", IF(Veriler!P183=\"\", \"\", IF(Veriler!O183=\"H\", \"%0,5 üzerindedir\", IF(Veriler!P183>0.1, \"%10 sınırı aşılmıştır.\", \"Uygun\"))))","v":"%0,5 üzerindedir"}," ",null,null,"",{"$f":"IFERROR(IF(L183<=0.005,IF(E183=\"\",K183,0),IF(E183<>\"\",0,IF(O183=\"\",0,IF(O183=\"H\",0,IF(P183<Veriler!$F$2,K183*Veriler!$F$2,K183*P183))))),\" \")","v":0},{"$f":"IF(Veriler!P183<=0.1, R183, IF(AND(Veriler!P183>0.1, E183=\"\", O183=\"E\"), IF(P183>Veriler!$F$2, P183*R183, IF(P183<Veriler!$F$2, Veriler!$F$2*R183, P183*R183)), 0))","v":0}," ",{"$f":"IFERROR(IF(N183=\"%10 sınırı aşılmıştır.\",K183-S183,IFERROR(IF(E183=\"\",IF(R183=1,0,IF(K183-R183=0,\"\",K183-R183)),IF(Veriler!I183=\"\",K183,IF(K183*Veriler!I183=0,\"\",K183*Veriler!I183))),K183)),0)","v":""}]
[139,{"$nulls":4},"",{"$nulls":4},"",{"$f":"IF(K184=\"\", \"\", K184/Veriler!$T$1)","v":""},{"$f":"IF(E184<>\"\", \"İthal Girdi\", IF(Veriler!P184=\"\", \"\", IF(Veriler!O184=\"H\", \"%0,5 üzerindedir\", IF(Veriler!P184>0.1, \"%10 sınırı aşılmıştır.\", \"Uygun\"))))","v":"%0,5 üzerindedir"}," ",null,null,"",{"$f":"IFERROR(IF(L184<=0.005,IF(E184=\"\",K184,0),IF(E184<>\"\",0,IF(O184=\"\",0,IF(O184=\"H\",0,IF(P184<Veriler!$F$2,K184*Veriler!$F$2,K184*P184))))),\" \")","v":0},{"$f":"IF(Veriler!P184<=0.1, R184, IF(AND(Veriler!P184>0.1, E184=\"\", O184=\"E\"), IF(P184>Veriler!$F$2, P184*R184, IF(P184<Veriler!$F$2, Veriler!$F$2*R184, P184*R184)), 0))","v":0}," ",{"$f":"IFERROR(IF(N184=\"%10 sınırı aşılmıştır.\",K184-S184,IFERROR(IF(E184=\"\",IF(R184=1,0,IF(K184-R184=0,\"\",K184-R184)),IF(Veriler!I184=\"\",K184,IF(K184*Veriler!I184=0,\"\",K184*Veriler!I184))),K184)),0)","v":""}]
[140,{"$nulls":4},"",{"$nulls":4},"",{"$f":"IF(K185=\"\", \"\", K185/Veriler!$T$1)","v":""},{"$f":"IF(E185<>\"\", \"İthal Girdi\", IF(Veriler!P185=\"\", \"\", IF(Veriler!O185=\"H\", \"%0,5 üzerindedir\", IF(Veriler!P185>0.1, \"%10 sınırı aşılmıştır.\", \"Uygun\"))))","v":"%0,5 üzerindedir"}," ",null,null,"",{"$f":"IFERROR(IF(L185<=0.005,IF(E185=\"\",K185,0),IF(E185<>\"\",0,IF(O185=\"\",0,IF(O185=\"H\",0,IF(P185<Veriler!$F$2,K185*Veriler!$F$2,K185*P185))))),\" \")","v":0},{"$f":"IF(Veriler!P185<=0.1, R185, IF(AND(Veriler!P185>0.1, E185=\"\", O185=\"E\"), IF(P185>Veriler!$F$2, P185*R185, IF(P185<Veriler!$F$2, Veriler!$F$2*R185, P185*R185)), 0))","v":0}," ",{"$f":"IFERROR(IF(N185=\"%10 sınırı aşılmıştır.\",K185-S185,IFERROR(IF(E185=\"\",IF(R185=1,0,IF(K185-R185=0,\"\",K185-R185)),IF(Veriler!I185=\"\",K185,IF(K185*Veriler!I185=0,\"\",K185*Veriler!I185))),K185)),0)","v":""}]
[{"$nulls":10},{"$f":"SUM(K157:K170,K172:K185)","v":0}]
[{"$nulls":17},"T1","T1","T1","T2"]
["Sayfa Toplamı (TL)  *(Genel Dip Toplam Ek.3-D sayfasında otomatik hesaplanacaktır.)",{"$nulls":16},{"$f":"IF(SUM(R150,R157:R170,R172:R185)=0,\"\",SUM(R150,R157:R170,R172:R185))","v":""},{"$f":"IF(SUM(S157:S170,S172:S185)=0,\" \",SUM(S157:S170,S172:S185))","v":" "},{"$f":"IF(SUM(T157:T170,T172:T185)=0,\" \",SUM(T157:T170,T172:T185))","v":" "},{"$f":"IF(SUM(U157:U170,U172:U185)=0,\" \",SUM(U157:U170,U172:U185))","v":" "}]
[]
[{"$f":"A228","v":"R02"}]
["YERLİ KATKI ORANI HESAP CETVELİ                      ",{"$nulls":13},false]
["A) Nihai Ürün Doğrudan ve Dolaylı Malzeme Giderleri                                                                                                                                                                                                                                                                                                                                                                                                                                         ",{"$nulls":18},"S",{"$f":"U154+1","v":6}]
["Sıra No","Malzeme adı / Faturadaki Ürün Adı",null,"Üretici Unvanı","GTİP Kodu                             (İthal girdiler için)","Gtip Katsayısı","Miktar ","Birim","Fiyatı \n(TL/Döviz)\n","Döviz Kuru               (TL ise 1 alınız)","Fatura Tutarı (TL)","Girdi Maliyet Yüzdesi (%)","Girdi yüzdesi %0,5 altında olan girdiler için %10 sınır kontrolü","Girdi yüzdesi %0,5 altında olan girdiler için %10 sınır kontrolü","SSB/  Müstahsil                (E/H)","YKO (%) (Manuel girilmeli)","Geçerli Yerli Oranı (%)","Yerli Maliyet Tutarı                            (T1)","Yerli Maliyet Tutarı (T1)","Yerli Maliyet Tutarı (T1)","İthal Maliyet Tutarı               (T2)"]
[null,"Doğrudan Girdi                                                         (Dolaylı girdiniz varsa en son 25. sayfaya doldurunuz)"]
[{"$f":"A185+1","v":141},{"$nulls":4},{"$f":"IF(AND(E195<>\"\",U195<>\"\",K195<>0),U195/K195,\"\")","v":""},{"$nulls":4},{"$f":"IF(AND(G195<>0, I195<>0, J195<>0), G195*I195*J195, \"\")","v":""},{"$f":"IF(K195=\"\", \"\", K195/Veriler!$T$1)","v":""},{"$f":"IF(E195<>\"\", \"İthal Girdi\", IF(Veriler!P195=\"\", \"\", IF(Veriler!O195=\"H\", \"%0,5 üzerindedir\", IF(Veriler!P195>0.1, \"%10 sınırı aşılmıştır.\", \"Uygun\"))))","v":"%0,5 üzerindedir"},{"$f":"IF(L195=\"\",\" \",M195)","v":" "},null,null,{"$f":"IFERROR(IF(AND(S195<>\"\",K195<>\"\",K195<>0,S195<>0),S195/K195,\"\"),\" \")","v":""},{"$f":"IFERROR(IF(L195<=0.005,IF(E195=\"\",K195,0),IF(E195<>\"\",0,IF(O195=\"\",0,IF(O195=\"H\",0,IF(P195<Veriler!$F$2,K195*Veriler!$F$2,K195*P195))))),\" \")","v":0},{"$f":"IF(Veriler!P195<=0.1, R195, IF(AND(Veriler!P195>0.1, E195=\"\", O195=\"E\"), IF(P195>Veriler!$F$2, P195*R195, IF(P195<Veriler!$F$2, Veriler!$F$2*R195, P195*R195)), 0))","v":0},{"$f":"IF(S195=0,\" \",S195)","v":" "},{"$f":"IFERROR(IF(N195=\"%10 sınırı aşılmıştır.\",K195-S195,IFERROR(IF(E195=\"\",IF(R195=1,0,IF(K195-R195=0,\"\",K195-R195)),IF(Veriler!I195=\"\",K195,IF(K195*Veriler!I195=0,\"\",K195*Veriler!I195))),K195)),0)","v":""}]
[{"$f":"A195+1","v":142},{"$nulls":4},"",{"$nulls":4},"",{"$f":"IF(K196=\"\", \"\", K196/Veriler!$T$1)","v":""},{"$f":"IF(E196<>\"\", \"İthal Girdi\", IF(Veriler!P196=\"\", \"\", IF(Veriler!O196=\"H\", \"%0,5 üzerindedir\", IF(Veriler!P196>0.1, \"%10 sınırı aşılmıştır.\", \"Uygun\"))))","v":"%0,5 üzerindedir"}," ",null,null,"",{"$f":"IFERROR(IF(L196<=0.005,IF(E196=\"\",K196,0),IF(E196<>\"\",0,IF(O196=\"\",0,IF(O196=\"H\",0,IF(P196<Veriler!$F$2,K196*Veriler!$F$2,K196*P196))))),\" \")","v":0},{"$f":"IF(Veriler!P196<=0.1, R196, IF(AND(Veriler!P196>0.1, E196=\"\", O196=\"E\"), IF(P196>Veriler!$F$2, P196*R196, IF(P196<Veriler!$F$2, Veriler!$F$2*R196, P196*R196)), 0))","v":0}," ",{"$f":"IFERROR(IF(N196=\"%10 sınırı aşılmıştır.\",K196-S196,IFERROR(IF(E196=\"\",IF(R196=1,0,IF(K196-R196=0,\"\",K196-R196)),IF(Veriler!I196=\"\",K196,IF(K196*Veriler!I196=0,\"\",K196*Veriler!I196))),K196)),0)","v":""}]
[{"$f":"A196+1","v":143},{"$nulls":4},"",{"$nulls":4},"",{"$f":"IF(K197=\"\", \"\", K197/Veriler!$T$1)","v":""},{"$f":"IF(E197<>\"\", \"İthal Girdi\", IF(Veriler!P197=\"\", \"\", IF(Veriler!O197=\"H\", \"%0,5 üzerindedir\", IF(Veriler!P197>0.1, \"%10 sınırı aşılmıştır.\", \"Uygun\"))))","v":"%0,5 üzerindedir"}," ",null,null,"",{"$f":"IFERROR(IF(L197<=0.005,IF(E197=\"\",K197,0),IF(E197<>\"\",0,IF(O197=\"\",0,IF(O197=\"H\",0,IF(P197<Veriler!$F$2,K197*Veriler!$F$2,K197*P197))))),\" \")","v":0},{"$f":"IF(Veriler!P197<=0.1, R197, IF(AND(Veriler!P197>0.1, E197=\"\", O197=\"E\"), IF(P197>Veriler!$F$2, P197*R197, IF(P197<Veriler!$F$2, Veriler!$F$2*R197, P197*R197)), 0))","v":0}," ",{"$f":"IFERROR(IF(N197=\"%10 sınırı aşılmıştır.\",K197-S197,IFERROR(IF(E197=\"\",IF(R197=1,0,IF(K197-R197=0,\"\",K197-R197)),IF(Veriler!I197=\"\",K197,IF(K197*Veriler!I197=0,\"\",K197*Veriler!I197))),K197)),0)","v":""}]
[144,{"$nulls":4},"",{"$nulls":4},"",{"$f":"IF(K198=\"\", \"\", K198/Veriler!$T$1)","v":""},{"$f":"IF(E198<>\"\", \"İthal Girdi\", IF(Veriler!P198=\"\", \"\", IF(Veriler!O198=\"H\", \"%0,5 üzerindedir\", IF(Veriler!P198>0.1, \"%10 sınırı aşılmıştır.\", \"Uygun\"))))","v":"%0,5 üzerindedir"}," ",null,null,"",{"$f":"IFERROR(IF(L198<=0.005,IF(E198=\"\",K198,0),IF(E198<>\"\",0,IF(O198=\"\",0,IF(O198=\"H\",0,IF(P198<Veriler!$F$2,K198*Veriler!$F$2,K198*P198))))),\" \")","v":0},{"$f":"IF(Veriler!P198<=0.1, R198, IF(AND(Veriler!P198>0.1, E198=\"\", O198=\"E\"), IF(P198>Veriler!$F$2, P198*R198, IF(P198<Veriler!$F$2, Veriler!$F$2*R198, P198*R198)), 0))","v":0}," ",{"$f":"IFERROR(IF(N198=\"%10 sınırı aşılmıştır.\",K198-S198,IFERROR(IF(E198=\"\",IF(R198=1,0,IF(K198-R198=0,\"\",K198-R198)),IF(Veriler!I198=\"\",K198,IF(K198*Veriler!I198=0,\"\",K198*Veriler!I198))),K198)),0)","v":""}]
[145,{"$nulls":4},"",{"$nulls":4},"",{"$f":"IF(K199=\"\", \"\", K199/Veriler!$T$1)","v":""},{"$f":"IF(E199<>\"\", \"İthal Girdi\", IF(Veriler!P199=\"\", \"\", IF(Veriler!O199=\"H\", \"%0,5 üzerindedir\", IF(Veriler!P199>0.1, \"%10 sınırı aşılmıştır.\", \"Uygun\"))))","v":"%0,5 üzerindedir"}," ",null,null,"",{"$f":"IFERROR(IF(L199<=0.005,IF(E199=\"\",K199,0),IF(E199<>\"\",0,IF(O199=\"\",0,IF(O199=\"H\",0,IF(P199<Veriler!$F$2,K199*Veriler!$F$2,K199*P199))))),\" \")","v":0},{"$f":"IF(Veriler!P199<=0.1, R199, IF(AND(Veriler!P199>0.1, E199=\"\", O199=\"E\"), IF(P199>Veriler!$F$2, P199*R199, IF(P199<Veriler!$F$2, Veriler!$F$2*R199, P199*R199)), 0))","v":0}," ",{"$f":"IFERROR(IF(N199=\"%10 sınırı aşılmıştır.\",K199-S199,IFERROR(IF(E199=\"\",IF(R199=1,0,IF(K199-R199=0,\"\",K199-R199)),IF(Veriler!I199=\"\",K199,IF(K199*Veriler!I199=0,\"\",K199*Veriler!I199))),K199)),0)","v":""}]
[146,{"$nulls":4},"",{"$nulls":4},"",{"$f":"IF(K200=\"\", \"\", K200/Veriler!$T$1)","v":""},{"$f":"IF(E200<>\"\", \"İthal Girdi\", IF(Veriler!P200=\"\", \"\", IF(Veriler!O200=\"H\", \"%0,5 üzerindedir\", IF(Veriler!P200>0.1, \"%10 sınırı aşılmıştır.\", \"Uygun\"))))","v":"%0,5 üzerindedir"}," ",null,null,"",{"$f":"IFERROR(IF(L200<=0.005,IF(E200=\"\",K200,0),IF(E200<>\"\",0,IF(O200=\"\",0,IF(O200=\"H\",0,IF(P200<Veriler!$F$2,K200*Veriler!$F$2,K200*P200))))),\" \")","v":0},{"$f":"IF(Veriler!P200<=0.1, R200, IF(AND(Veriler!P200>0.1, E200=\"\", O200=\"E\"), IF(P200>Veriler!$F$2, P200*R200, IF(P200<Veriler!$F$2, Veriler!$F$2*R200, P200*R200)), 0))","v":0}," ",{"$f":"IFERROR(IF(N200=\"%10 sınırı aşılmıştır.\",K200-S200,IFERROR(IF(E200=\"\",IF(R200=1,0,IF(K200-R200=0,\"\",K200-R200)),IF(Veriler!I200=\"\",K200,IF(K200*Veriler!I200=0,\"\",K200*Veriler!I200))),K200)),0)","v":""}]
[147,{"$nulls":4},"",{"$nulls":4},"",{"$f":"IF(K201=\"\", \"\", K201/Veriler!$T$1)","v":""},{"$f":"IF(E201<>\"\", \"İthal Girdi\", IF(Veriler!P201=\"\", \"\", IF(Veriler!O201=\"H\", \"%0,5 üzerindedir\", IF(Veriler!P201>0.1, \"%10 sınırı aşılmıştır.\", \"Uygun\"))))","v":"%0,5 üzerindedir"}," ",null,null,"",{"$f":"IFERROR(IF(L201<=0.005,IF(E201=\"\",K201,0),IF(E201<>\"\",0,IF(O201=\"\",0,IF(O201=\"H\",0,IF(P201<Veriler!$F$2,K201*Veriler!$F$2,K201*P201))))),\" \")","v":0},{"$f":"IF(Veriler!P201<=0.1, R201, IF(AND(Veriler!P201>0.1, E201=\"\", O201=\"E\"), IF(P201>Veriler!$F$2, P201*R201, IF(P201<Veriler!$F$2, Veriler!$F$2*R201, P201*R201)), 0))","v":0}," ",{"$f":"IFERROR(IF(N201=\"%10 sınırı aşılmıştır.\",K201-S201,IFERROR(IF(E201=\"\",IF(R201=1,0,IF(K201-R201=0,\"\",K201-R201)),IF(Veriler!I201=\"\",K201,IF(K201*Veriler!I201=0,\"\",K201*Veriler!I201))),K201)),0)","v":""}]
[148,{"$nulls":4},"",{"$nulls":4},"",{"$f":"IF(K202=\"\", \"\", K202/Veriler!$T$1)","v":""},{"$f":"IF(E202<>\"\", \"İthal Girdi\", IF(Veriler!P202=\"\", \"\", IF(Veriler!O202=\"H\", \"%0,5 üzerindedir\", IF(Veriler!P202>0.1, \"%10 sınırı aşılmıştır.\", \"Uygun\"))))","v":"%0,5 üzerindedir"}," ",null,null,"",{"$f":"IFERROR(IF(L202<=0.005,IF(E202=\"\",K202,0),IF(E202<>\"\",0,IF(O202=\"\",0,IF(O202=\"H\",0,IF(P202<Veriler!$F$2,K202*Veriler!$F$2,K202*P202))))),\" \")","v":0},{"$f":"IF(Veriler!P202<=0.1, R202, IF(AND(Veriler!P202>0.1, E202=\"\", O202=\"E\"), IF(P202>Veriler!$F$2, P202*R202, IF(P202<Veriler!$F$2, Veriler!$F$2*R202, P202*R202)), 0))","v":0}," ",{"$f":"IFERROR(IF(N202=\"%10 sınırı aşılmıştır.\",K202-S202,IFERROR(IF(E202=\"\",IF(R202=1,0,IF(K202-R202=0,\"\",K202-R202)),IF(Veriler!I202=\"\",K202,IF(K202*Veriler!I202=0,\"\",K202*Veriler!I202))),K202)),0)","v":""}]
[149,{"$nulls":4},"",{"$nulls":4},"",{"$f":"IF(K203=\"\", \"\", K203/Veriler!$T$1)","v":""},{"$f":"IF(E203<>\"\", \"İthal Girdi\", IF(Veriler!P203=\"\", \"\", IF(Veriler!O203=\"H\", \"%0,5 üzerindedir\", IF(Veriler!P203>0.1, \"%10 sınırı aşılmıştır.\", \"Uygun\"))))","v":"%0,5 üzerindedir"}," ",null,null,"",{"$f":"IFERROR(IF(L203<=0.005,IF(E203=\"\",K203,0),IF(E203<>\"\",0,IF(O203=\"\",0,IF(O203=\"H\",0,IF(P203<Veriler!$F$2,K203*Veriler!$F$2,K203*P203))))),\" \")","v":0},{"$f":"IF(Veriler!P203<=0.1, R203, IF(AND(Veriler!P203>0.1, E203=\"\", O203=\"E\"), IF(P203>Veriler!$F$2, P203*R203, IF(P203<Veriler!$F$2, Veriler!$F$2*R203, P203*R203)), 0))","v":0}," ",{"$f":"IFERROR(IF(N203=\"%10 sınırı aşılmıştır.\",K203-S203,IFERROR(IF(E203=\"\",IF(R203=1,0,IF(K203-R203=0,\"\",K203-R203)),IF(Veriler!I203=\"\",K203,IF(K203*Veriler!I203=0,\"\",K203*Veriler!I203))),K203)),0)","v":""}]
[150,{"$nulls":4},"",{"$nulls":4},"",{"$f":"IF(K204=\"\", \"\", K204/Veriler!$T$1)","v":""},{"$f":"IF(E204<>\"\", \"İthal Girdi\", IF(Veriler!P204=\"\", \"\", IF(Veriler!O204=\"H\", \"%0,5 üzerindedir\", IF(Veriler!P204>0.1, \"%10 sınırı aşılmıştır.\", \"Uygun\"))))","v":"%0,5 üzerindedir"}," ",null,null,"",{"$f":"IFERROR(IF(L204<=0.005,IF(E204=\"\",K204,0),IF(E204<>\"\",0,IF(O204=\"\",0,IF(O204=\"H\",0,IF(P204<Veriler!$F$2,K204*Veriler!$F$2,K204*P204))))),\" \")","v":0},{"$f":"IF(Veriler!P204<=0.1, R204, IF(AND(Veriler!P204>0.1, E204=\"\", O204=\"E\"), IF(P204>Veriler!$F$2, P204*R204, IF(P204<Veriler!$F$2, Veriler!$F$2*R204, P204*R204)), 0))","v":0}," ",{"$f":"IFERROR(IF(N204=\"%10 sınırı aşılmıştır.\",K204-S204,IFERROR(IF(E204=\"\",IF(R204=1,0,IF(K204-R204=0,\"\",K204-R204)),IF(Veriler!I204=\"\",K204,IF(K204*Veriler!I204=0,\"\",K204*Veriler!I204))),K204)),0)","v":""}]
[151,{"$nulls":4},"",{"$nulls":4},"",{"$f":"IF(K205=\"\", \"\", K205/Veriler!$T$1)","v":""},{"$f":"IF(E205<>\"\", \"İthal Girdi\", IF(Veriler!P205=\"\", \"\", IF(Veriler!O205=\"H\", \"%0,5 üzerindedir\", IF(Veriler!P205>0.1, \"%10 sınırı aşılmıştır.\", \"Uygun\"))))","v":"%0,5 üzerindedir"}," ",null,null,"",{"$f":"IFERROR(IF(L205<=0.005,IF(E205=\"\",K205,0),IF(E205<>\"\",0,IF(O205=\"\",0,IF(O205=\"H\",0,IF(P205<Veriler!$F$2,K205*Veriler!$F$2,K205*P205))))),\" \")","v":0},{"$f":"IF(Veriler!P205<=0.1, R205, IF(AND(Veriler!P205>0.1, E205=\"\", O205=\"E\"), IF(P205>Veriler!$F$2, P205*R205, IF(P205<Veriler!$F$2, Veriler!$F$2*R205, P205*R205)), 0))","v":0}," ",{"$f":"IFERROR(IF(N205=\"%10 sınırı aşılmıştır.\",K205-S205,IFERROR(IF(E205=\"\",IF(R205=1,0,IF(K205-R205=0,\"\",K205-R205)),IF(Veriler!I205=\"\",K205,IF(K205*Veriler!I205=0,\"\",K205*Veriler!I205))),K205)),0)","v":""}]
[152,{"$nulls":4},"",{"$nulls":4},"",{"$f":"IF(K206=\"\", \"\", K206/Veriler!$T$1)","v":""},{"$f":"IF(E206<>\"\", \"İthal Girdi\", IF(Veriler!P206=\"\", \"\", IF(Veriler!O206=\"H\", \"%0,5 üzerindedir\", IF(Veriler!P206>0.1, \"%10 sınırı aşılmıştır.\", \"Uygun\"))))","v":"%0,5 üzerindedir"}," ",null,null,"",{"$f":"IFERROR(IF(L206<=0.005,IF(E206=\"\",K206,0),IF(E206<>\"\",0,IF(O206=\"\",0,IF(O206=\"H\",0,IF(P206<Veriler!$F$2,K206*Veriler!$F$2,K206*P206))))),\" \")","v":0},{"$f":"IF(Veriler!P206<=0.1, R206, IF(AND(Veriler!P206>0.1, E206=\"\", O206=\"E\"), IF(P206>Veriler!$F$2, P206*R206, IF(P206<Veriler!$F$2, Veriler!$F$2*R206, P206*R206)), 0))","v":0}," ",{"$f":"IFERROR(IF(N206=\"%10 sınırı aşılmıştır.\",K206-S206,IFERROR(IF(E206=\"\",IF(R206=1,0,IF(K206-R206=0,\"\",K206-R206)),IF(Veriler!I206=\"\",K206,IF(K206*Veriler!I206=0,\"\",K206*Veriler!I206))),K206)),0)","v":""}]
[153,{"$nulls":4},"",{"$nulls":4},"",{"$f":"IF(K207=\"\", \"\", K207/Veriler!$T$1)","v":""},{"$f":"IF(E207<>\"\", \"İthal Girdi\", IF(Veriler!P207=\"\", \"\", IF(Veriler!O207=\"H\", \"%0,5 üzerindedir\", IF(Veriler!P207>0.1, \"%10 sınırı aşılmıştır.\", \"Uygun\"))))","v":"%0,5 üzerindedir"}," ",null,null,"",{"$f":"IFERROR(IF(L207<=0.005,IF(E207=\"\",K207,0),IF(E207<>\"\",0,IF(O207=\"\",0,IF(O207=\"H\",0,IF(P207<Veriler!$F$2,K207*Veriler!$F$2,K207*P207))))),\" \")","v":0},{"$f":"IF(Veriler!P207<=0.1, R207, IF(AND(Veriler!P207>0.1, E207=\"\", O207=\"E\"), IF(P207>Veriler!$F$2, P207*R207, IF(P207<Veriler!$F$2, Veriler!$F$2*R207, P207*R207)), 0))","v":0}," ",{"$f":"IFERROR(IF(N207=\"%10 sınırı aşılmıştır.\",K207-S207,IFERROR(IF(E207=\"\",IF(R207=1,0,IF(K207-R207=0,\"\",K207-R207)),IF(Veriler!I207=\"\",K207,IF(K207*Veriler!I207=0,\"\",K207*Veriler!I207))),K207)),0)","v":""}]
[154,{"$nulls":4},"",{"$nulls":4},"",{"$f":"IF(K208=\"\", \"\", K208/Veriler!$T$1)","v":""},{"$f":"IF(E208<>\"\", \"İthal Girdi\", IF(Veriler!P208=\"\", \"\", IF(Veriler!O208=\"H\", \"%0,5 üzerindedir\", IF(Veriler!P208>0.1, \"%10 sınırı aşılmıştır.\", \"Uygun\"))))","v":"%0,5 üzerindedir"}," ",null,null,"",{"$f":"IFERROR(IF(L208<=0.005,IF(E208=\"\",K208,0),IF(E208<>\"\",0,IF(O208=\"\",0,IF(O208=\"H\",0,IF(P208<Veriler!$F$2,K208*Veriler!$F$2,K208*P208))))),\" \")","v":0},{"$f":"IF(Veriler!P208<=0.1, R208, IF(AND(Veriler!P208>0.1, E208=\"\", O208=\"E\"), IF(P208>Veriler!$F$2, P208*R208, IF(P208<Veriler!$F$2, Veriler!$F$2*R208, P208*R208)), 0))","v":0}," ",{"$f":"IFERROR(IF(N208=\"%10 sınırı aşılmıştır.\",K208-S208,IFERROR(IF(E208=\"\",IF(R208=1,0,IF(K208-R208=0,\"\",K208-R208)),IF(Veriler!I208=\"\",K208,IF(K208*Veriler!I208=0,\"\",K208*Veriler!I208))),K208)),0)","v":""}]
[null,"Dolaylı"]
[{"$f":"A208+1","v":155},{"$nulls":4},{"$f":"IF(AND(E210<>\"\",U210<>\"\",K210<>0),U210/K210,\"\")","v":""},{"$nulls":4},{"$f":"IF(AND(G210<>0, I210<>0, J210<>0), G210*I210*J210, \"\")","v":""},{"$f":"IF(K210=\"\", \"\", K210/Veriler!$T$1)","v":""},{"$f":"IF(E210<>\"\", \"İthal Girdi\", IF(Veriler!P210=\"\", \"\", IF(Veriler!O210=\"H\", \"%0,5 üzerindedir\", IF(Veriler!P210>0.1, \"%10 sınırı aşılmıştır.\", \"Uygun\"))))","v":"%0,5 üzerindedir"},{"$f":"IF(L210=\"\",\" \",M210)","v":" "},null,null,{"$f":"IFERROR(IF(AND(S210<>\"\",K210<>\"\",K210<>0,S210<>0),S210/K210,\"\"),\" \")","v":""},{"$f":"IFERROR(IF(L210<=0.005,IF(E210=\"\",K210,0),IF(E210<>\"\",0,IF(O210=\"\",0,IF(O210=\"H\",0,IF(P210<Veriler!$F$2,K210*Veriler!$F$2,K210*P210))))),\" \")","v":0},{"$f":"IF(Veriler!P210<=0.1, R210, IF(AND(Veriler!P210>0.1, E210=\"\", O210=\"E\"), IF(P210>Veriler!$F$2, P210*R210, IF(P210<Veriler!$F$2, Veriler!$F$2*R210, P210*R210)), 0))","v":0},{"$f":"IF(S210=0,\" \",S210)","v":" "},{"$f":"IFERROR(IF(N210=\"%10 sınırı aşılmıştır.\",K210-S210,IFERROR(IF(E210=\"\",IF(R210=1,0,IF(K210-R210=0,\"\",K210-R210)),IF(Veriler!I210=\"\",K210,IF(K210*Veriler!I210=0,\"\",K210*Veriler!I210))),K210)),0)","v":""}]
[{"$f":"A210+1","v":156},{"$nulls":4},"",{"$nulls":4},"",{"$f":"IF(K211=\"\", \"\", K211/Veriler!$T$1)","v":""},{"$f":"IF(E211<>\"\", \"İthal Girdi\", IF(Veriler!P211=\"\", \"\", IF(Veriler!O211=\"H\", \"%0,5 üzerindedir\", IF(Veriler!P211>0.1, \"%10 sınırı aşılmıştır.\", \"Uygun\"))))","v":"%0,5 üzerindedir"}," ",null,null,"",{"$f":"IFERROR(IF(L211<=0.005,IF(E211=\"\",K211,0),IF(E211<>\"\",0,IF(O211=\"\",0,IF(O211=\"H\",0,IF(P211<Veriler!$F$2,K211*Veriler!$F$2,K211*P211))))),\" \")","v":0},{"$f":"IF(Veriler!P211<=0.1, R211, IF(AND(Veriler!P211>0.1, E211=\"\", O211=\"E\"), IF(P211>Veriler!$F$2, P211*R211, IF(P211<Veriler!$F$2, Veriler!$F$2*R211, P211*R211)), 0))","v":0}," ",{"$f":"IFERROR(IF(N211=\"%10 sınırı aşılmıştır.\",K211-S211,IFERROR(IF(E211=\"\",IF(R211=1,0,IF(K211-R211=0,\"\",K211-R211)),IF(Veriler!I211=\"\",K211,IF(K211*Veriler!I211=0,\"\",K211*Veriler!I211))),K211)),0)","v":""}]
[{"$f":"A211+1","v":157},{"$nulls":4},"",{"$nulls":4},"",{"$f":"IF(K212=\"\", \"\", K212/Veriler!$T$1)","v":""},{"$f":"IF(E212<>\"\", \"İthal Girdi\", IF(Veriler!P212=\"\", \"\", IF(Veriler!O212=\"H\", \"%0,5 üzerindedir\", IF(Veriler!P212>0.1, \"%10 sınırı aşılmıştır.\", \"Uygun\"))))","v":"%0,5 üzerindedir"}," ",null,null,"",{"$f":"IFERROR(IF(L212<=0.005,IF(E212=\"\",K212,0),IF(E212<>\"\",0,IF(O212=\"\",0,IF(O212=\"H\",0,IF(P212<Veriler!$F$2,K212*Veriler!$F$2,K212*P212))))),\" \")","v":0},{"$f":"IF(Veriler!P212<=0.1, R212, IF(AND(Veriler!P212>0.1, E212=\"\", O212=\"E\"), IF(P212>Veriler!$F$2, P212*R212, IF(P212<Veriler!$F$2, Veriler!$F$2*R212, P212*R212)), 0))","v":0}," ",{"$f":"IFERROR(IF(N212=\"%10 sınırı aşılmıştır.\",K212-S212,IFERROR(IF(E212=\"\",IF(R212=1,0,IF(K212-R212=0,\"\",K212-R212)),IF(Veriler!I212=\"\",K212,IF(K212*Veriler!I212=0,\"\",K212*Veriler!I212))),K212)),0)","v":""}]
[158,{"$nulls":4},"",{"$nulls":4},"",{"$f":"IF(K213=\"\", \"\", K213/Veriler!$T$1)","v":""},{"$f":"IF(E213<>\"\", \"İthal Girdi\", IF(Veriler!P213=\"\", \"\", IF(Veriler!O213=\"H\", \"%0,5 üzerindedir\", IF(Veriler!P213>0.1, \"%10 sınırı aşılmıştır.\", \"Uygun\"))))","v":"%0,5 üzerindedir"}," ",null,null,"",{"$f":"IFERROR(IF(L213<=0.005,IF(E213=\"\",K213,0),IF(E213<>\"\",0,IF(O213=\"\",0,IF(O213=\"H\",0,IF(P213<Veriler!$F$2,K213*Veriler!$F$2,K213*P213))))),\" \")","v":0},{"$f":"IF(Veriler!P213<=0.1, R213, IF(AND(Veriler!P213>0.1, E213=\"\", O213=\"E\"), IF(P213>Veriler!$F$2, P213*R213, IF(P213<Veriler!$F$2, Veriler!$F$2*R213, P213*R213)), 0))","v":0}," ",{"$f":"IFERROR(IF(N213=\"%10 sınırı aşılmıştır.\",K213-S213,IFERROR(IF(E213=\"\",IF(R213=1,0,IF(K213-R213=0,\"\",K213-R213)),IF(Veriler!I213=\"\",K213,IF(K213*Veriler!I213=0,\"\",K213*Veriler!I213))),K213)),0)","v":""}]
[159,{"$nulls":4},"",{"$nulls":4},"",{"$f":"IF(K214=\"\", \"\", K214/Veriler!$T$1)","v":""},{"$f":"IF(E214<>\"\", \"İthal Girdi\", IF(Veriler!P214=\"\", \"\", IF(Veriler!O214=\"H\", \"%0,5 üzerindedir\", IF(Veriler!P214>0.1, \"%10 sınırı aşılmıştır.\", \"Uygun\"))))","v":"%0,5 üzerindedir"}," ",null,null,"",{"$f":"IFERROR(IF(L214<=0.005,IF(E214=\"\",K214,0),IF(E214<>\"\",0,IF(O214=\"\",0,IF(O214=\"H\",0,IF(P214<Veriler!$F$2,K214*Veriler!$F$2,K214*P214))))),\" \")","v":0},{"$f":"IF(Veriler!P214<=0.1, R214, IF(AND(Veriler!P214>0.1, E214=\"\", O214=\"E\"), IF(P214>Veriler!$F$2, P214*R214, IF(P214<Veriler!$F$2, Veriler!$F$2*R214, P214*R214)), 0))","v":0}," ",{"$f":"IFERROR(IF(N214=\"%10 sınırı aşılmıştır.\",K214-S214,IFERROR(IF(E214=\"\",IF(R214=1,0,IF(K214-R214=0,\"\",K214-R214)),IF(Veriler!I214=\"\",K214,IF(K214*Veriler!I214=0,\"\",K214*Veriler!I214))),K214)),0)","v":""}]
[160,{"$nulls":4},"",{"$nulls":4},"",{"$f":"IF(K215=\"\", \"\", K215/Veriler!$T$1)","v":""},{"$f":"IF(E215<>\"\", \"İthal Girdi\", IF(Veriler!P215=\"\", \"\", IF(Veriler!O215=\"H\", \"%0,5 üzerindedir\", IF(Veriler!P215>0.1, \"%10 sınırı aşılmıştır.\", \"Uygun\"))))","v":"%0,5 üzerindedir"}," ",null,null,"",{"$f":"IFERROR(IF(L215<=0.005,IF(E215=\"\",K215,0),IF(E215<>\"\",0,IF(O215=\"\",0,IF(O215=\"H\",0,IF(P215<Veriler!$F$2,K215*Veriler!$F$2,K215*P215))))),\" \")","v":0},{"$f":"IF(Veriler!P215<=0.1, R215, IF(AND(Veriler!P215>0.1, E215=\"\", O215=\"E\"), IF(P215>Veriler!$F$2, P215*R215, IF(P215<Veriler!$F$2, Veriler!$F$2*R215, P215*R215)), 0))","v":0}," ",{"$f":"IFERROR(IF(N215=\"%10 sınırı aşılmıştır.\",K215-S215,IFERROR(IF(E215=\"\",IF(R215=1,0,IF(K215-R215=0,\"\",K215-R215)),IF(Veriler!I215=\"\",K215,IF(K215*Veriler!I215=0,\"\",K215*Veriler!I215))),K215)),0)","v":""}]
[161,{"$nulls":4},"",{"$nulls":4},"",{"$f":"IF(K216=\"\", \"\", K216/Veriler!$T$1)","v":""},{"$f":"IF(E216<>\"\", \"İthal Girdi\", IF(Veriler!P216=\"\", \"\", IF(Veriler!O216=\"H\", \"%0,5 üzerindedir\", IF(Veriler!P216>0.1, \"%10 sınırı aşılmıştır.\", \"Uygun\"))))","v":"%0,5 üzerindedir"}," ",null,null,"",{"$f":"IFERROR(IF(L216<=0.005,IF(E216=\"\",K216,0),IF(E216<>\"\",0,IF(O216=\"\",0,IF(O216=\"H\",0,IF(P216<Veriler!$F$2,K216*Veriler!$F$2,K216*P216))))),\" \")","v":0},{"$f":"IF(Veriler!P216<=0.1, R216, IF(AND(Veriler!P216>0.1, E216=\"\", O216=\"E\"), IF(P216>Veriler!$F$2, P216*R216, IF(P216<Veriler!$F$2, Veriler!$F$2*R216, P216*R216)), 0))","v":0}," ",{"$f":"IFERROR(IF(N216=\"%10 sınırı aşılmıştır.\",K216-S216,IFERROR(IF(E216=\"\",IF(R216=1,0,IF(K216-R216=0,\"\",K216-R216)),IF(Veriler!I216=\"\",K216,IF(K216*Veriler!I216=0,\"\",K216*Veriler!I216))),K216)),0)","v":""}]
[162,{"$nulls":4},"",{"$nulls":4},"",{"$f":"IF(K217=\"\", \"\", K217/Veriler!$T$1)","v":""},{"$f":"IF(E217<>\"\", \"İthal Girdi\", IF(Veriler!P217=\"\", \"\", IF(Veriler!O217=\"H\", \"%0,5 üzerindedir\", IF(Veriler!P217>0.1, \"%10 sınırı aşılmıştır.\", \"Uygun\"))))","v":"%0,5 üzerindedir"}," ",null,null,"",{"$f":"IFERROR(IF(L217<=0.005,IF(E217=\"\",K217,0),IF(E217<>\"\",0,IF(O217=\"\",0,IF(O217=\"H\",0,IF(P217<Veriler!$F$2,K217*Veriler!$F$2,K217*P217))))),\" \")","v":0},{"$f":"IF(Veriler!P217<=0.1, R217, IF(AND(Veriler!P217>0.1, E217=\"\", O217=\"E\"), IF(P217>Veriler!$F$2, P217*R217, IF(P217<Veriler!$F$2, Veriler!$F$2*R217, P217*R217)), 0))","v":0}," ",{"$f":"IFERROR(IF(N217=\"%10 sınırı aşılmıştır.\",K217-S217,IFERROR(IF(E217=\"\",IF(R217=1,0,IF(K217-R217=0,\"\",K217-R217)),IF(Veriler!I217=\"\",K217,IF(K217*Veriler!I217=0,\"\",K217*Veriler!I217))),K217)),0)","v":""}]
[163,{"$nulls":4},"",{"$nulls":4},"",{"$f":"IF(K218=\"\", \"\", K218/Veriler!$T$1)","v":""},{"$f":"IF(E218<>\"\", \"İthal Girdi\", IF(Veriler!P218=\"\", \"\", IF(Veriler!O218=\"H\", \"%0,5 üzerindedir\", IF(Veriler!P218>0.1, \"%10 sınırı aşılmıştır.\", \"Uygun\"))))","v":"%0,5 üzerindedir"}," ",null,null,"",{"$f":"IFERROR(IF(L218<=0.005,IF(E218=\"\",K218,0),IF(E218<>\"\",0,IF(O218=\"\",0,IF(O218=\"H\",0,IF(P218<Veriler!$F$2,K218*Veriler!$F$2,K218*P218))))),\" \")","v":0},{"$f":"IF(Veriler!P218<=0.1, R218, IF(AND(Veriler!P218>0.1, E218=\"\", O218=\"E\"), IF(P218>Veriler!$F$2, P218*R218, IF(P218<Veriler!$F$2, Veriler!$F$2*R218, P218*R218)), 0))","v":0}," ",{"$f":"IFERROR(IF(N218=\"%10 sınırı aşılmıştır.\",K218-S218,IFERROR(IF(E218=\"\",IF(R218=1,0,IF(K218-R218=0,\"\",K218-R218)),IF(Veriler!I218=\"\",K218,IF(K218*Veriler!I218=0,\"\",K218*Veriler!I218))),K218)),0)","v":""}]
[164,{"$nulls":4},"",{"$nulls":4},"",{"$f":"IF(K219=\"\", \"\", K219/Veriler!$T$1)","v":""},{"$f":"IF(E219<>\"\", \"İthal Girdi\", IF(Veriler!P219=\"\", \"\", IF(Veriler!O219=\"H\", \"%0,5 üzerindedir\", IF(Veriler!P219>0.1, \"%10 sınırı aşılmıştır.\", \"Uygun\"))))","v":"%0,5 üzerindedir"}," ",null,null,"",{"$f":"IFERROR(IF(L219<=0.005,IF(E219=\"\",K219,0),IF(E219<>\"\",0,IF(O219=\"\",0,IF(O219=\"H\",0,IF(P219<Veriler!$F$2,K219*Veriler!$F$2,K219*P219))))),\" \")","v":0},{"$f":"IF(Veriler!P219<=0.1, R219, IF(AND(Veriler!P219>0.1, E219=\"\", O219=\"E\"), IF(P219>Veriler!$F$2, P219*R219, IF(P219<Veriler!$F$2, Veriler!$F$2*R219, P219*R219)), 0))","v":0}," ",{"$f":"IFERROR(IF(N219=\"%10 sınırı aşılmıştır.\",K219-S219,IFERROR(IF(E219=\"\",IF(R219=1,0,IF(K219-R219=0,\"\",K219-R219)),IF(Veriler!I219=\"\",K219,IF(K219*Veriler!I219=0,\"\",K219*Veriler!I219))),K219)),0)","v":""}]
[165,{"$nulls":4},"",{"$nulls":4},"",{"$f":"IF(K220=\"\", \"\", K220/Veriler!$T$1)","v":""},{"$f":"IF(E220<>\"\", \"İthal Girdi\", IF(Veriler!P220=\"\", \"\", IF(Veriler!O220=\"H\", \"%0,5 üzerindedir\", IF(Veriler!P220>0.1, \"%10 sınırı aşılmıştır.\", \"Uygun\"))))","v":"%0,5 üzerindedir"}," ",null,null,"",{"$f":"IFERROR(IF(L220<=0.005,IF(E220=\"\",K220,0),IF(E220<>\"\",0,IF(O220=\"\",0,IF(O220=\"H\",0,IF(P220<Veriler!$F$2,K220*Veriler!$F$2,K220*P220))))),\" \")","v":0},{"$f":"IF(Veriler!P220<=0.1, R220, IF(AND(Veriler!P220>0.1, E220=\"\", O220=\"E\"), IF(P220>Veriler!$F$2, P220*R220, IF(P220<Veriler!$F$2, Veriler!$F$2*R220, P220*R220)), 0))","v":0}," ",{"$f":"IFERROR(IF(N220=\"%10 sınırı aşılmıştır.\",K220-S220,IFERROR(IF(E220=\"\",IF(R220=1,0,IF(K220-R220=0,\"\",K220-R220)),IF(Veriler!I220=\"\",K220,IF(K220*Veriler!I220=0,\"\",K220*Veriler!I220))),K220)),0)","v":""}]
[166,{"$nulls":4},"",{"$nulls":4},"",{"$f":"IF(K221=\"\", \"\", K221/Veriler!$T$1)","v":""},{"$f":"IF(E221<>\"\", \"İthal Girdi\", IF(Veriler!P221=\"\", \"\", IF(Veriler!O221=\"H\", \"%0,5 üzerindedir\", IF(Veriler!P221>0.1, \"%10 sınırı aşılmıştır.\", \"Uygun\"))))","v":"%0,5 üzerindedir"}," ",null,null,"",{"$f":"IFERROR(IF(L221<=0.005,IF(E221=\"\",K221,0),IF(E221<>\"\",0,IF(O221=\"\",0,IF(O221=\"H\",0,IF(P221<Veriler!$F$2,K221*Veriler!$F$2,K221*P221))))),\" \")","v":0},{"$f":"IF(Veriler!P221<=0.1, R221, IF(AND(Veriler!P221>0.1, E221=\"\", O221=\"E\"), IF(P221>Veriler!$F$2, P221*R221, IF(P221<Veriler!$F$2, Veriler!$F$2*R221, P221*R221)), 0))","v":0}," ",{"$f":"IFERROR(IF(N221=\"%10 sınırı aşılmıştır.\",K221-S221,IFERROR(IF(E221=\"\",IF(R221=1,0,IF(K221-R221=0,\"\",K221-R221)),IF(Veriler!I221=\"\",K221,IF(K221*Veriler!I221=0,\"\",K221*Veriler!I221))),K221)),0)","v":""}]
[167,{"$nulls":4},"",{"$nulls":4},"",{"$f":"IF(K222=\"\", \"\", K222/Veriler!$T$1)","v":""},{"$f":"IF(E222<>\"\", \"İthal Girdi\", IF(Veriler!P222=\"\", \"\", IF(Veriler!O222=\"H\", \"%0,5 üzerindedir\", IF(Veriler!P222>0.1, \"%10 sınırı aşılmıştır.\", \"Uygun\"))))","v":"%0,5 üzerindedir"}," ",null,null,"",{"$f":"IFERROR(IF(L222<=0.005,IF(E222=\"\",K222,0),IF(E222<>\"\",0,IF(O222=\"\",0,IF(O222=\"H\",0,IF(P222<Veriler!$F$2,K222*Veriler!$F$2,K222*P222))))),\" \")","v":0},{"$f":"IF(Veriler!P222<=0.1, R222, IF(AND(Veriler!P222>0.1, E222=\"\", O222=\"E\"), IF(P222>Veriler!$F$2, P222*R222, IF(P222<Veriler!$F$2, Veriler!$F$2*R222, P222*R222)), 0))","v":0}," ",{"$f":"IFERROR(IF(N222=\"%10 sınırı aşılmıştır.\",K222-S222,IFERROR(IF(E222=\"\",IF(R222=1,0,IF(K222-R222=0,\"\",K222-R222)),IF(Veriler!I222=\"\",K222,IF(K222*Veriler!I222=0,\"\",K222*Veriler!I222))),K222)),0)","v":""}]
[168,{"$nulls":4},"",{"$nulls":4},"",{"$f":"IF(K223=\"\", \"\", K223/Veriler!$T$1)","v":""},{"$f":"IF(E223<>\"\", \"İthal Girdi\", IF(Veriler!P223=\"\", \"\", IF(Veriler!O223=\"H\", \"%0,5 üzerindedir\", IF(Veriler!P223>0.1, \"%10 sınırı aşılmıştır.\", \"Uygun\"))))","v":"%0,5 üzerindedir"}," ",null,null,"",{"$f":"IFERROR(IF(L223<=0.005,IF(E223=\"\",K223,0),IF(E223<>\"\",0,IF(O223=\"\",0,IF(O223=\"H\",0,IF(P223<Veriler!$F$2,K223*Veriler!$F$2,K223*P223))))),\" \")","v":0},{"$f":"IF(Veriler!P223<=0.1, R223, IF(AND(Veriler!P223>0.1, E223=\"\", O223=\"E\"), IF(P223>Veriler!$F$2, P223*R223, IF(P223<Veriler!$F$2, Veriler!$F$2*R223, P223*R223)), 0))","v":0}," ",{"$f":"IFERROR(IF(N223=\"%10 sınırı aşılmıştır.\",K223-S223,IFERROR(IF(E223=\"\",IF(R223=1,0,IF(K223-R223=0,\"\",K223-R223)),IF(Veriler!I223=\"\",K223,IF(K223*Veriler!I223=0,\"\",K223*Veriler!I223))),K223)),0)","v":""}]
[{"$nulls":10},{"$f":"SUM(K195:K208,K210:K223)","v":0}]
[{"$nulls":17},"T1","T1","T1","T2"]
["Sayfa Toplamı (TL)  *(Genel Dip Toplam Ek.3-D sayfasında otomatik hesaplanacaktır.)",{"$nulls":16},{"$f":"IF(SUM(R188,R195:R208,R210:R223)=0,\"\",SUM(R188,R195:R208,R210:R223))","v":""},{"$f":"IF(SUM(S195:S208,S210:S223)=0,\" \",SUM(S195:S208,S210:S223))","v":" "},{"$f":"IF(SUM(T195:T208,T210:T223)=0,\" \",SUM(T195:T208,T210:T223))","v":" "},{"$f":"IF(SUM(U195:U208,U210:U223)=0,\" \",SUM(U195:U208,U210:U223))","v":" "}]
[]
[{"$f":"A266","v":"R02"}]
["YERLİ KATKI ORANI HESAP CETVELİ                      ",{"$nulls":13},false]
["A) Nihai Ürün Doğrudan ve Dolaylı Malzeme Giderleri                                                                                                                                                                                                                                                                                                                                                                                                                                         ",{"$nulls":18},"S",{"$f":"U192+1","v":7}]
["Sıra No","Malzeme adı / Faturadaki Ürün Adı",null,"Üretici Unvanı","GTİP Kodu                             (İthal girdiler için)","Gtip Katsayısı","Miktar ","Birim","Fiyatı \n(TL/Döviz)\n","Döviz Kuru               (TL ise 1 alınız)","Fatura Tutarı (TL)","Girdi Maliyet Yüzdesi (%)","Girdi yüzdesi %0,5 altında olan girdiler için %10 sınır kontrolü","Girdi yüzdesi %0,5 altında olan girdiler için %10 sınır kontrolü","SSB/  Müstahsil                (E/H)","YKO (%) (Manuel girilmeli)","Geçerli Yerli Oranı (%)","Yerli Maliyet Tutarı                            (T1)","Yerli Maliyet Tutarı (T1)","Yerli Maliyet Tutarı (T1)","İthal Maliyet Tutarı               (T2)"]
[null,"Doğrudan Girdi                                                         (Dolaylı girdiniz varsa en son 25. sayfaya doldurunuz)"]
[{"$f":"A223+1","v":169},{"$nulls":4},{"$f":"IF(AND(E233<>\"\",U233<>\"\",K233<>0),U233/K233,\"\")","v":""},{"$nulls":4},{"$f":"IF(AND(G233<>0, I233<>0, J233<>0), G233*I233*J233, \"\")","v":""},{"$f":"IF(K233=\"\", \"\", K233/Veriler!$T$1)","v":""},{"$f":"IF(E233<>\"\", \"İthal Girdi\", IF(Veriler!P233=\"\", \"\", IF(Veriler!O233=\"H\", \"%0,5 üzerindedir\", IF(Veriler!P233>0.1, \"%10 sınırı aşılmıştır.\", \"Uygun\"))))","v":"%0,5 üzerindedir"},{"$f":"IF(L233=\"\",\" \",M233)","v":" "},null,null,{"$f":"IFERROR(IF(AND(S233<>\"\",K233<>\"\",K233<>0,S233<>0),S233/K233,\"\"),\" \")","v":""},{"$f":"IFERROR(IF(L233<=0.005,IF(E233=\"\",K233,0),IF(E233<>\"\",0,IF(O233=\"\",0,IF(O233=\"H\",0,IF(P233<Veriler!$F$2,K233*Veriler!$F$2,K233*P233))))),\" \")","v":0},{"$f":"IF(Veriler!P233<=0.1, R233, IF(AND(Veriler!P233>0.1, E233=\"\", O233=\"E\"), IF(P233>Veriler!$F$2, P233*R233, IF(P233<Veriler!$F$2, Veriler!$F$2*R233, P233*R233)), 0))","v":0},{"$f":"IF(S233=0,\" \",S233)","v":" "},{"$f":"IFERROR(IF(N233=\"%10 sınırı aşılmıştır.\",K233-S233,IFERROR(IF(E233=\"\",IF(R233=1,0,IF(K233-R233=0,\"\",K233-R233)),IF(Veriler!I233=\"\",K233,IF(K233*Veriler!I233=0,\"\",K233*Veriler!I233))),K233)),0)","v":""}]
[{"$f":"A233+1","v":170},{"$nulls":4},"",{"$nulls":4},"",{"$f":"IF(K234=\"\", \"\", K234/Veriler!$T$1)","v":""},{"$f":"IF(E234<>\"\", \"İthal Girdi\", IF(Veriler!P234=\"\", \"\", IF(Veriler!O234=\"H\", \"%0,5 üzerindedir\", IF(Veriler!P234>0.1, \"%10 sınırı aşılmıştır.\", \"Uygun\"))))","v":"%0,5 üzerindedir"}," ",null,null,"",{"$f":"IFERROR(IF(L234<=0.005,IF(E234=\"\",K234,0),IF(E234<>\"\",0,IF(O234=\"\",0,IF(O234=\"H\",0,IF(P234<Veriler!$F$2,K234*Veriler!$F$2,K234*P234))))),\" \")","v":0},{"$f":"IF(Veriler!P234<=0.1, R234, IF(AND(Veriler!P234>0.1, E234=\"\", O234=\"E\"), IF(P234>Veriler!$F$2, P234*R234, IF(P234<Veriler!$F$2, Veriler!$F$2*R234, P234*R234)), 0))","v":0}," ",{"$f":"IFERROR(IF(N234=\"%10 sınırı aşılmıştır.\",K234-S234,IFERROR(IF(E234=\"\",IF(R234=1,0,IF(K234-R234=0,\"\",K234-R234)),IF(Veriler!I234=\"\",K234,IF(K234*Veriler!I234=0,\"\",K234*Veriler!I234))),K234)),0)","v":""}]
[{"$f":"A234+1","v":171},{"$nulls":4},"",{"$nulls":4},"",{"$f":"IF(K235=\"\", \"\", K235/Veriler!$T$1)","v":""},{"$f":"IF(E235<>\"\", \"İthal Girdi\", IF(Veriler!P235=\"\", \"\", IF(Veriler!O235=\"H\", \"%0,5 üzerindedir\", IF(Veriler!P235>0.1, \"%10 sınırı aşılmıştır.\", \"Uygun\"))))","v":"%0,5 üzerindedir"}," ",null,null,"",{"$f":"IFERROR(IF(L235<=0.005,IF(E235=\"\",K235,0),IF(E235<>\"\",0,IF(O235=\"\",0,IF(O235=\"H\",0,IF(P235<Veriler!$F$2,K235*Veriler!$F$2,K235*P235))))),\" \")","v":0},{"$f":"IF(Veriler!P235<=0.1, R235, IF(AND(Veriler!P235>0.1, E235=\"\", O235=\"E\"), IF(P235>Veriler!$F$2, P235*R235, IF(P235<Veriler!$F$2, Veriler!$F$2*R235, P235*R235)), 0))","v":0}," ",{"$f":"IFERROR(IF(N235=\"%10 sınırı aşılmıştır.\",K235-S235,IFERROR(IF(E235=\"\",IF(R235=1,0,IF(K235-R235=0,\"\",K235-R235)),IF(Veriler!I235=\"\",K235,IF(K235*Veriler!I235=0,\"\",K235*Veriler!I235))),K235)),0)","v":""}]
[172,{"$nulls":4},"",{"$nulls":4},"",{"$f":"IF(K236=\"\", \"\", K236/Veriler!$T$1)","v":""},{"$f":"IF(E236<>\"\", \"İthal Girdi\", IF(Veriler!P236=\"\", \"\", IF(Veriler!O236=\"H\", \"%0,5 üzerindedir\", IF(Veriler!P236>0.1, \"%10 sınırı aşılmıştır.\", \"Uygun\"))))","v":"%0,5 üzerindedir"}," ",null,null,"",{"$f":"IFERROR(IF(L236<=0.005,IF(E236=\"\",K236,0),IF(E236<>\"\",0,IF(O236=\"\",0,IF(O236=\"H\",0,IF(P236<Veriler!$F$2,K236*Veriler!$F$2,K236*P236))))),\" \")","v":0},{"$f":"IF(Veriler!P236<=0.1, R236, IF(AND(Veriler!P236>0.1, E236=\"\", O236=\"E\"), IF(P236>Veriler!$F$2, P236*R236, IF(P236<Veriler!$F$2, Veriler!$F$2*R236, P236*R236)), 0))","v":0}," ",{"$f":"IFERROR(IF(N236=\"%10 sınırı aşılmıştır.\",K236-S236,IFERROR(IF(E236=\"\",IF(R236=1,0,IF(K236-R236=0,\"\",K236-R236)),IF(Veriler!I236=\"\",K236,IF(K236*Veriler!I236=0,\"\",K236*Veriler!I236))),K236)),0)","v":""}]
[173,{"$nulls":4},"",{"$nulls":4},"",{"$f":"IF(K237=\"\", \"\", K237/Veriler!$T$1)","v":""},{"$f":"IF(E237<>\"\", \"İthal Girdi\", IF(Veriler!P237=\"\", \"\", IF(Veriler!O237=\"H\", \"%0,5 üzerindedir\", IF(Veriler!P237>0.1, \"%10 sınırı aşılmıştır.\", \"Uygun\"))))","v":"%0,5 üzerindedir"}," ",null,null,"",{"$f":"IFERROR(IF(L237<=0.005,IF(E237=\"\",K237,0),IF(E237<>\"\",0,IF(O237=\"\",0,IF(O237=\"H\",0,IF(P237<Veriler!$F$2,K237*Veriler!$F$2,K237*P237))))),\" \")","v":0},{"$f":"IF(Veriler!P237<=0.1, R237, IF(AND(Veriler!P237>0.1, E237=\"\", O237=\"E\"), IF(P237>Veriler!$F$2, P237*R237, IF(P237<Veriler!$F$2, Veriler!$F$2*R237, P237*R237)), 0))","v":0}," ",{"$f":"IFERROR(IF(N237=\"%10 sınırı aşılmıştır.\",K237-S237,IFERROR(IF(E237=\"\",IF(R237=1,0,IF(K237-R237=0,\"\",K237-R237)),IF(Veriler!I237=\"\",K237,IF(K237*Veriler!I237=0,\"\",K237*Veriler!I237))),K237)),0)","v":""}]
[174,{"$nulls":4},"",{"$nulls":4},"",{"$f":"IF(K238=\"\", \"\", K238/Veriler!$T$1)","v":""},{"$f":"IF(E238<>\"\", \"İthal Girdi\", IF(Veriler!P238=\"\", \"\", IF(Veriler!O238=\"H\", \"%0,5 üzerindedir\", IF(Veriler!P238>0.1, \"%10 sınırı aşılmıştır.\", \"Uygun\"))))","v":"%0,5 üzerindedir"}," ",null,null,"",{"$f":"IFERROR(IF(L238<=0.005,IF(E238=\"\",K238,0),IF(E238<>\"\",0,IF(O238=\"\",0,IF(O238=\"H\",0,IF(P238<Veriler!$F$2,K238*Veriler!$F$2,K238*P238))))),\" \")","v":0},{"$f":"IF(Veriler!P238<=0.1, R238, IF(AND(Veriler!P238>0.1, E238=\"\", O238=\"E\"), IF(P238>Veriler!$F$2, P238*R238, IF(P238<Veriler!$F$2, Veriler!$F$2*R238, P238*R238)), 0))","v":0}," ",{"$f":"IFERROR(IF(N238=\"%10 sınırı aşılmıştır.\",K238-S238,IFERROR(IF(E238=\"\",IF(R238=1,0,IF(K238-R238=0,\"\",K238-R238)),IF(Veriler!I238=\"\",K238,IF(K238*Veriler!I238=0,\"\",K238*Veriler!I238))),K238)),0)","v":""}]
[175,{"$nulls":4},"",{"$nulls":4},"",{"$f":"IF(K239=\"\", \"\", K239/Veriler!$T$1)","v":""},{"$f":"IF(E239<>\"\", \"İthal Girdi\", IF(Veriler!P239=\"\", \"\", IF(Veriler!O239=\"H\", \"%0,5 üzerindedir\", IF(Veriler!P239>0.1, \"%10 sınırı aşılmıştır.\", \"Uygun\"))))","v":"%0,5 üzerindedir"}," ",null,null,"",{"$f":"IFERROR(IF(L239<=0.005,IF(E239=\"\",K239,0),IF(E239<>\"\",0,IF(O239=\"\",0,IF(O239=\"H\",0,IF(P239<Veriler!$F$2,K239*Veriler!$F$2,K239*P239))))),\" \")","v":0},{"$f":"IF(Veriler!P239<=0.1, R239, IF(AND(Veriler!P239>0.1, E239=\"\", O239=\"E\"), IF(P239>Veriler!$F$2, P239*R239, IF(P239<Veriler!$F$2, Veriler!$F$2*R239, P239*R239)), 0))","v":0}," ",{"$f":"IFERROR(IF(N239=\"%10 sınırı aşılmıştır.\",K239-S239,IFERROR(IF(E239=\"\",IF(R239=1,0,IF(K239-R239=0,\"\",K239-R239)),IF(Veriler!I239=\"\",K239,IF(K239*Veriler!I239=0,\"\",K239*Veriler!I239))),K239)),0)","v":""}]
[176,{"$nulls":4},"",{"$nulls":4},"",{"$f":"IF(K240=\"\", \"\", K240/Veriler!$T$1)","v":""},{"$f":"IF(E240<>\"\", \"İthal Girdi\", IF(Veriler!P240=\"\", \"\", IF(Veriler!O240=\"H\", \"%0,5 üzerindedir\", IF(Veriler!P240>0.1, \"%10 sınırı aşılmıştır.\", \"Uygun\"))))","v":"%0,5 üzerindedir"}," ",null,null,"",{"$f":"IFERROR(IF(L240<=0.005,IF(E240=\"\",K240,0),IF(E240<>\"\",0,IF(O240=\"\",0,IF(O240=\"H\",0,IF(P240<Veriler!$F$2,K240*Veriler!$F$2,K240*P240))))),\" \")","v":0},{"$f":"IF(Veriler!P240<=0.1, R240, IF(AND(Veriler!P240>0.1, E240=\"\", O240=\"E\"), IF(P240>Veriler!$F$2, P240*R240, IF(P240<Veriler!$F$2, Veriler!$F$2*R240, P240*R240)), 0))","v":0}," ",{"$f":"IFERROR(IF(N240=\"%10 sınırı aşılmıştır.\",K240-S240,IFERROR(IF(E240=\"\",IF(R240=1,0,IF(K240-R240=0,\"\",K240-R240)),IF(Veriler!I240=\"\",K240,IF(K240*Veriler!I240=0,\"\",K240*Veriler!I240))),K240)),0)","v":""}]
[177,{"$nulls":4},"",{"$nulls":4},"",{"$f":"IF(K241=\"\", \"\", K241/Veriler!$T$1)","v":""},{"$f":"IF(E241<>\"\", \"İthal Girdi\", IF(Veriler!P241=\"\", \"\", IF(Veriler!O241=\"H\", \"%0,5 üzerindedir\", IF(Veriler!P241>0.1, \"%10 sınırı aşılmıştır.\", \"Uygun\"))))","v":"%0,5 üzerindedir"}," ",null,null,"",{"$f":"IFERROR(IF(L241<=0.005,IF(E241=\"\",K241,0),IF(E241<>\"\",0,IF(O241=\"\",0,IF(O241=\"H\",0,IF(P241<Veriler!$F$2,K241*Veriler!$F$2,K241*P241))))),\" \")","v":0},{"$f":"IF(Veriler!P241<=0.1, R241, IF(AND(Veriler!P241>0.1, E241=\"\", O241=\"E\"), IF(P241>Veriler!$F$2, P241*R241, IF(P241<Veriler!$F$2, Veriler!$F$2*R241, P241*R241)), 0))","v":0}," ",{"$f":"IFERROR(IF(N241=\"%10 sınırı aşılmıştır.\",K241-S241,IFERROR(IF(E241=\"\",IF(R241=1,0,IF(K241-R241=0,\"\",K241-R241)),IF(Veriler!I241=\"\",K241,IF(K241*Veriler!I241=0,\"\",K241*Veriler!I241))),K241)),0)","v":""}]
[178,{"$nulls":4},"",{"$nulls":4},"",{"$f":"IF(K242=\"\", \"\", K242/Veriler!$T$1)","v":""},{"$f":"IF(E242<>\"\", \"İthal Girdi\", IF(Veriler!P242=\"\", \"\", IF(Veriler!O242=\"H\", \"%0,5 üzerindedir\", IF(Veriler!P242>0.1, \"%10 sınırı aşılmıştır.\", \"Uygun\"))))","v":"%0,5 üzerindedir"}," ",null,null,"",{"$f":"IFERROR(IF(L242<=0.005,IF(E242=\"\",K242,0),IF(E242<>\"\",0,IF(O242=\"\",0,IF(O242=\"H\",0,IF(P242<Veriler!$F$2,K242*Veriler!$F$2,K242*P242))))),\" \")","v":0},{"$f":"IF(Veriler!P242<=0.1, R242, IF(AND(Veriler!P242>0.1, E242=\"\", O242=\"E\"), IF(P242>Veriler!$F$2, P242*R242, IF(P242<Veriler!$F$2, Veriler!$F$2*R242, P242*R242)), 0))","v":0}," ",{"$f":"IFERROR(IF(N242=\"%10 sınırı aşılmıştır.\",K242-S242,IFERROR(IF(E242=\"\",IF(R242=1,0,IF(K242-R242=0,\"\",K242-R242)),IF(Veriler!I242=\"\",K242,IF(K242*Veriler!I242=0,\"\",K242*Veriler!I242))),K242)),0)","v":""}]
[179,{"$nulls":4},"",{"$nulls":4},"",{"$f":"IF(K243=\"\", \"\", K243/Veriler!$T$1)","v":""},{"$f":"IF(E243<>\"\", \"İthal Girdi\", IF(Veriler!P243=\"\", \"\", IF(Veriler!O243=\"H\", \"%0,5 üzerindedir\", IF(Veriler!P243>0.1, \"%10 sınırı aşılmıştır.\", \"Uygun\"))))","v":"%0,5 üzerindedir"}," ",null,null,"",{"$f":"IFERROR(IF(L243<=0.005,IF(E243=\"\",K243,0),IF(E243<>\"\",0,IF(O243=\"\",0,IF(O243=\"H\",0,IF(P243<Veriler!$F$2,K243*Veriler!$F$2,K243*P243))))),\" \")","v":0},{"$f":"IF(Veriler!P243<=0.1, R243, IF(AND(Veriler!P243>0.1, E243=\"\", O243=\"E\"), IF(P243>Veriler!$F$2, P243*R243, IF(P243<Veriler!$F$2, Veriler!$F$2*R243, P243*R243)), 0))","v":0}," ",{"$f":"IFERROR(IF(N243=\"%10 sınırı aşılmıştır.\",K243-S243,IFERROR(IF(E243=\"\",IF(R243=1,0,IF(K243-R243=0,\"\",K243-R243)),IF(Veriler!I243=\"\",K243,IF(K243*Veriler!I243=0,\"\",K243*Veriler!I243))),K243)),0)","v":""}]
[180,{"$nulls":4},"",{"$nulls":4},"",{"$f":"IF(K244=\"\", \"\", K244/Veriler!$T$1)","v":""},{"$f":"IF(E244<>\"\", \"İthal Girdi\", IF(Veriler!P244=\"\", \"\", IF(Veriler!O244=\"H\", \"%0,5 üzerindedir\", IF(Veriler!P244>0.1, \"%10 sınırı aşılmıştır.\", \"Uygun\"))))","v":"%0,5 üzerindedir"}," ",null,null,"",{"$f":"IFERROR(IF(L244<=0.005,IF(E244=\"\",K244,0),IF(E244<>\"\",0,IF(O244=\"\",0,IF(O244=\"H\",0,IF(P244<Veriler!$F$2,K244*Veriler!$F$2,K244*P244))))),\" \")","v":0},{"$f":"IF(Veriler!P244<=0.1, R244, IF(AND(Veriler!P244>0.1, E244=\"\", O244=\"E\"), IF(P244>Veriler!$F$2, P244*R244, IF(P244<Veriler!$F$2, Veriler!$F$2*R244, P244*R244)), 0))","v":0}," ",{"$f":"IFERROR(IF(N244=\"%10 sınırı aşılmıştır.\",K244-S244,IFERROR(IF(E244=\"\",IF(R244=1,0,IF(K244-R244=0,\"\",K244-R244)),IF(Veriler!I244=\"\",K244,IF(K244*Veriler!I244=0,\"\",K244*Veriler!I244))),K244)),0)","v":""}]
[181,{"$nulls":4},"",{"$nulls":4},"",{"$f":"IF(K245=\"\", \"\", K245/Veriler!$T$1)","v":""},{"$f":"IF(E245<>\"\", \"İthal Girdi\", IF(Veriler!P245=\"\", \"\", IF(Veriler!O245=\"H\", \"%0,5 üzerindedir\", IF(Veriler!P245>0.1, \"%10 sınırı aşılmıştır.\", \"Uygun\"))))","v":"%0,5 üzerindedir"}," ",null,null,"",{"$f":"IFERROR(IF(L245<=0.005,IF(E245=\"\",K245,0),IF(E245<>\"\",0,IF(O245=\"\",0,IF(O245=\"H\",0,IF(P245<Veriler!$F$2,K245*Veriler!$F$2,K245*P245))))),\" \")","v":0},{"$f":"IF(Veriler!P245<=0.1, R245, IF(AND(Veriler!P245>0.1, E245=\"\", O245=\"E\"), IF(P245>Veriler!$F$2, P245*R245, IF(P245<Veriler!$F$2, Veriler!$F$2*R245, P245*R245)), 0))","v":0}," ",{"$f":"IFERROR(IF(N245=\"%10 sınırı aşılmıştır.\",K245-S245,IFERROR(IF(E245=\"\",IF(R245=1,0,IF(K245-R245=0,\"\",K245-R245)),IF(Veriler!I245=\"\",K245,IF(K245*Veriler!I245=0,\"\",K245*Veriler!I245))),K245)),0)","v":""}]
[182,{"$nulls":4},"",{"$nulls":4},"",{"$f":"IF(K246=\"\", \"\", K246/Veriler!$T$1)","v":""},{"$f":"IF(E246<>\"\", \"İthal Girdi\", IF(Veriler!P246=\"\", \"\", IF(Veriler!O246=\"H\", \"%0,5 üzerindedir\", IF(Veriler!P246>0.1, \"%10 sınırı aşılmıştır.\", \"Uygun\"))))","v":"%0,5 üzerindedir"}," ",null,null,"",{"$f":"IFERROR(IF(L246<=0.005,IF(E246=\"\",K246,0),IF(E246<>\"\",0,IF(O246=\"\",0,IF(O246=\"H\",0,IF(P246<Veriler!$F$2,K246*Veriler!$F$2,K246*P246))))),\" \")","v":0},{"$f":"IF(Veriler!P246<=0.1, R246, IF(AND(Veriler!P246>0.1, E246=\"\", O246=\"E\"), IF(P246>Veriler!$F$2, P246*R246, IF(P246<Veriler!$F$2, Veriler!$F$2*R246, P246*R246)), 0))","v":0}," ",{"$f":"IFERROR(IF(N246=\"%10 sınırı aşılmıştır.\",K246-S246,IFERROR(IF(E246=\"\",IF(R246=1,0,IF(K246-R246=0,\"\",K246-R246)),IF(Veriler!I246=\"\",K246,IF(K246*Veriler!I246=0,\"\",K246*Veriler!I246))),K246)),0)","v":""}]
[null,"Dolaylı"]
[{"$f":"A246+1","v":183},{"$nulls":4},{"$f":"IF(AND(E248<>\"\",U248<>\"\",K248<>0),U248/K248,\"\")","v":""},{"$nulls":4},{"$f":"IF(AND(G248<>0, I248<>0, J248<>0), G248*I248*J248, \"\")","v":""},{"$f":"IF(K248=\"\", \"\", K248/Veriler!$T$1)","v":""},{"$f":"IF(E248<>\"\", \"İthal Girdi\", IF(Veriler!P248=\"\", \"\", IF(Veriler!O248=\"H\", \"%0,5 üzerindedir\", IF(Veriler!P248>0.1, \"%10 sınırı aşılmıştır.\", \"Uygun\"))))","v":"%0,5 üzerindedir"},{"$f":"IF(L248=\"\",\" \",M248)","v":" "},null,null,{"$f":"IFERROR(IF(AND(S248<>\"\",K248<>\"\",K248<>0,S248<>0),S248/K248,\"\"),\" \")","v":""},{"$f":"IFERROR(IF(L248<=0.005,IF(E248=\"\",K248,0),IF(E248<>\"\",0,IF(O248=\"\",0,IF(O248=\"H\",0,IF(P248<Veriler!$F$2,K248*Veriler!$F$2,K248*P248))))),\" \")","v":0},{"$f":"IF(Veriler!P248<=0.1, R248, IF(AND(Veriler!P248>0.1, E248=\"\", O248=\"E\"), IF(P248>Veriler!$F$2, P248*R248, IF(P248<Veriler!$F$2, Veriler!$F$2*R248, P248*R248)), 0))","v":0},{"$f":"IF(S248=0,\" \",S248)","v":" "},{"$f":"IFERROR(IF(N248=\"%10 sınırı aşılmıştır.\",K248-S248,IFERROR(IF(E248=\"\",IF(R248=1,0,IF(K248-R248=0,\"\",K248-R248)),IF(Veriler!I248=\"\",K248,IF(K248*Veriler!I248=0,\"\",K248*Veriler!I248))),K248)),0)","v":""}]
[{"$f":"A248+1","v":184},{"$nulls":4},"",{"$nulls":4},"",{"$f":"IF(K249=\"\", \"\", K249/Veriler!$T$1)","v":""},{"$f":"IF(E249<>\"\", \"İthal Girdi\", IF(Veriler!P249=\"\", \"\", IF(Veriler!O249=\"H\", \"%0,5 üzerindedir\", IF(Veriler!P249>0.1, \"%10 sınırı aşılmıştır.\", \"Uygun\"))))","v":"%0,5 üzerindedir"}," ",null,null,"",{"$f":"IFERROR(IF(L249<=0.005,IF(E249=\"\",K249,0),IF(E249<>\"\",0,IF(O249=\"\",0,IF(O249=\"H\",0,IF(P249<Veriler!$F$2,K249*Veriler!$F$2,K249*P249))))),\" \")","v":0},{"$f":"IF(Veriler!P249<=0.1, R249, IF(AND(Veriler!P249>0.1, E249=\"\", O249=\"E\"), IF(P249>Veriler!$F$2, P249*R249, IF(P249<Veriler!$F$2, Veriler!$F$2*R249, P249*R249)), 0))","v":0}," ",{"$f":"IFERROR(IF(N249=\"%10 sınırı aşılmıştır.\",K249-S249,IFERROR(IF(E249=\"\",IF(R249=1,0,IF(K249-R249=0,\"\",K249-R249)),IF(Veriler!I249=\"\",K249,IF(K249*Veriler!I249=0,\"\",K249*Veriler!I249))),K249)),0)","v":""}]
[{"$f":"A249+1","v":185},{"$nulls":4},"",{"$nulls":4},"",{"$f":"IF(K250=\"\", \"\", K250/Veriler!$T$1)","v":""},{"$f":"IF(E250<>\"\", \"İthal Girdi\", IF(Veriler!P250=\"\", \"\", IF(Veriler!O250=\"H\", \"%0,5 üzerindedir\", IF(Veriler!P250>0.1, \"%10 sınırı aşılmıştır.\", \"Uygun\"))))","v":"%0,5 üzerindedir"}," ",null,null,"",{"$f":"IFERROR(IF(L250<=0.005,IF(E250=\"\",K250,0),IF(E250<>\"\",0,IF(O250=\"\",0,IF(O250=\"H\",0,IF(P250<Veriler!$F$2,K250*Veriler!$F$2,K250*P250))))),\" \")","v":0},{"$f":"IF(Veriler!P250<=0.1, R250, IF(AND(Veriler!P250>0.1, E250=\"\", O250=\"E\"), IF(P250>Veriler!$F$2, P250*R250, IF(P250<Veriler!$F$2, Veriler!$F$2*R250, P250*R250)), 0))","v":0}," ",{"$f":"IFERROR(IF(N250=\"%10 sınırı aşılmıştır.\",K250-S250,IFERROR(IF(E250=\"\",IF(R250=1,0,IF(K250-R250=0,\"\",K250-R250)),IF(Veriler!I250=\"\",K250,IF(K250*Veriler!I250=0,\"\",K250*Veriler!I250))),K250)),0)","v":""}]
[186,{"$nulls":4},"",{"$nulls":4},"",{"$f":"IF(K251=\"\", \"\", K251/Veriler!$T$1)","v":""},{"$f":"IF(E251<>\"\", \"İthal Girdi\", IF(Veriler!P251=\"\", \"\", IF(Veriler!O251=\"H\", \"%0,5 üzerindedir\", IF(Veriler!P251>0.1, \"%10 sınırı aşılmıştır.\", \"Uygun\"))))","v":"%0,5 üzerindedir"}," ",null,null,"",{"$f":"IFERROR(IF(L251<=0.005,IF(E251=\"\",K251,0),IF(E251<>\"\",0,IF(O251=\"\",0,IF(O251=\"H\",0,IF(P251<Veriler!$F$2,K251*Veriler!$F$2,K251*P251))))),\" \")","v":0},{"$f":"IF(Veriler!P251<=0.1, R251, IF(AND(Veriler!P251>0.1, E251=\"\", O251=\"E\"), IF(P251>Veriler!$F$2, P251*R251, IF(P251<Veriler!$F$2, Veriler!$F$2*R251, P251*R251)), 0))","v":0}," ",{"$f":"IFERROR(IF(N251=\"%10 sınırı aşılmıştır.\",K251-S251,IFERROR(IF(E251=\"\",IF(R251=1,0,IF(K251-R251=0,\"\",K251-R251)),IF(Veriler!I251=\"\",K251,IF(K251*Veriler!I251=0,\"\",K251*Veriler!I251))),K251)),0)","v":""}]
[187,{"$nulls":4},"",{"$nulls":4},"",{"$f":"IF(K252=\"\", \"\", K252/Veriler!$T$1)","v":""},{"$f":"IF(E252<>\"\", \"İthal Girdi\", IF(Veriler!P252=\"\", \"\", IF(Veriler!O252=\"H\", \"%0,5 üzerindedir\", IF(Veriler!P252>0.1, \"%10 sınırı aşılmıştır.\", \"Uygun\"))))","v":"%0,5 üzerindedir"}," ",null,null,"",{"$f":"IFERROR(IF(L252<=0.005,IF(E252=\"\",K252,0),IF(E252<>\"\",0,IF(O252=\"\",0,IF(O252=\"H\",0,IF(P252<Veriler!$F$2,K252*Veriler!$F$2,K252*P252))))),\" \")","v":0},{"$f":"IF(Veriler!P252<=0.1, R252, IF(AND(Veriler!P252>0.1, E252=\"\", O252=\"E\"), IF(P252>Veriler!$F$2, P252*R252, IF(P252<Veriler!$F$2, Veriler!$F$2*R252, P252*R252)), 0))","v":0}," ",{"$f":"IFERROR(IF(N252=\"%10 sınırı aşılmıştır.\",K252-S252,IFERROR(IF(E252=\"\",IF(R252=1,0,IF(K252-R252=0,\"\",K252-R252)),IF(Veriler!I252=\"\",K252,IF(K252*Veriler!I252=0,\"\",K252*Veriler!I252))),K252)),0)","v":""}]
[188,{"$nulls":4},"",{"$nulls":4},"",{"$f":"IF(K253=\"\", \"\", K253/Veriler!$T$1)","v":""},{"$f":"IF(E253<>\"\", \"İthal Girdi\", IF(Veriler!P253=\"\", \"\", IF(Veriler!O253=\"H\", \"%0,5 üzerindedir\", IF(Veriler!P253>0.1, \"%10 sınırı aşılmıştır.\", \"Uygun\"))))","v":"%0,5 üzerindedir"}," ",null,null,"",{"$f":"IFERROR(IF(L253<=0.005,IF(E253=\"\",K253,0),IF(E253<>\"\",0,IF(O253=\"\",0,IF(O253=\"H\",0,IF(P253<Veriler!$F$2,K253*Veriler!$F$2,K253*P253))))),\" \")","v":0},{"$f":"IF(Veriler!P253<=0.1, R253, IF(AND(Veriler!P253>0.1, E253=\"\", O253=\"E\"), IF(P253>Veriler!$F$2, P253*R253, IF(P253<Veriler!$F$2, Veriler!$F$2*R253, P253*R253)), 0))","v":0}," ",{"$f":"IFERROR(IF(N253=\"%10 sınırı aşılmıştır.\",K253-S253,IFERROR(IF(E253=\"\",IF(R253=1,0,IF(K253-R253=0,\"\",K253-R253)),IF(Veriler!I253=\"\",K253,IF(K253*Veriler!I253=0,\"\",K253*Veriler!I253))),K253)),0)","v":""}]
[189,{"$nulls":4},"",{"$nulls":4},"",{"$f":"IF(K254=\"\", \"\", K254/Veriler!$T$1)","v":""},{"$f":"IF(E254<>\"\", \"İthal Girdi\", IF(Veriler!P254=\"\", \"\", IF(Veriler!O254=\"H\", \"%0,5 üzerindedir\", IF(Veriler!P254>0.1, \"%10 sınırı aşılmıştır.\", \"Uygun\"))))","v":"%0,5 üzerindedir"}," ",null,null,"",{"$f":"IFERROR(IF(L254<=0.005,IF(E254=\"\",K254,0),IF(E254<>\"\",0,IF(O254=\"\",0,IF(O254=\"H\",0,IF(P254<Veriler!$F$2,K254*Veriler!$F$2,K254*P254))))),\" \")","v":0},{"$f":"IF(Veriler!P254<=0.1, R254, IF(AND(Veriler!P254>0.1, E254=\"\", O254=\"E\"), IF(P254>Veriler!$F$2, P254*R254, IF(P254<Veriler!$F$2, Veriler!$F$2*R254, P254*R254)), 0))","v":0}," ",{"$f":"IFERROR(IF(N254=\"%10 sınırı aşılmıştır.\",K254-S254,IFERROR(IF(E254=\"\",IF(R254=1,0,IF(K254-R254=0,\"\",K254-R254)),IF(Veriler!I254=\"\",K254,IF(K254*Veriler!I254=0,\"\",K254*Veriler!I254))),K254)),0)","v":""}]
[190,{"$nulls":4},"",{"$nulls":4},"",{"$f":"IF(K255=\"\", \"\", K255/Veriler!$T$1)","v":""},{"$f":"IF(E255<>\"\", \"İthal Girdi\", IF(Veriler!P255=\"\", \"\", IF(Veriler!O255=\"H\", \"%0,5 üzerindedir\", IF(Veriler!P255>0.1, \"%10 sınırı aşılmıştır.\", \"Uygun\"))))","v":"%0,5 üzerindedir"}," ",null,null,"",{"$f":"IFERROR(IF(L255<=0.005,IF(E255=\"\",K255,0),IF(E255<>\"\",0,IF(O255=\"\",0,IF(O255=\"H\",0,IF(P255<Veriler!$F$2,K255*Veriler!$F$2,K255*P255))))),\" \")","v":0},{"$f":"IF(Veriler!P255<=0.1, R255, IF(AND(Veriler!P255>0.1, E255=\"\", O255=\"E\"), IF(P255>Veriler!$F$2, P255*R255, IF(P255<Veriler!$F$2, Veriler!$F$2*R255, P255*R255)), 0))","v":0}," ",{"$f":"IFERROR(IF(N255=\"%10 sınırı aşılmıştır.\",K255-S255,IFERROR(IF(E255=\"\",IF(R255=1,0,IF(K255-R255=0,\"\",K255-R255)),IF(Veriler!I255=\"\",K255,IF(K255*Veriler!I255=0,\"\",K255*Veriler!I255))),K255)),0)","v":""}]
[191,{"$nulls":4},"",{"$nulls":4},"",{"$f":"IF(K256=\"\", \"\", K256/Veriler!$T$1)","v":""},{"$f":"IF(E256<>\"\", \"İthal Girdi\", IF(Veriler!P256=\"\", \"\", IF(Veriler!O256=\"H\", \"%0,5 üzerindedir\", IF(Veriler!P256>0.1, \"%10 sınırı aşılmıştır.\", \"Uygun\"))))","v":"%0,5 üzerindedir"}," ",null,null,"",{"$f":"IFERROR(IF(L256<=0.005,IF(E256=\"\",K256,0),IF(E256<>\"\",0,IF(O256=\"\",0,IF(O256=\"H\",0,IF(P256<Veriler!$F$2,K256*Veriler!$F$2,K256*P256))))),\" \")","v":0},{"$f":"IF(Veriler!P256<=0.1, R256, IF(AND(Veriler!P256>0.1, E256=\"\", O256=\"E\"), IF(P256>Veriler!$F$2, P256*R256, IF(P256<Veriler!$F$2, Veriler!$F$2*R256, P256*R256)), 0))","v":0}," ",{"$f":"IFERROR(IF(N256=\"%10 sınırı aşılmıştır.\",K256-S256,IFERROR(IF(E256=\"\",IF(R256=1,0,IF(K256-R256=0,\"\",K256-R256)),IF(Veriler!I256=\"\",K256,IF(K256*Veriler!I256=0,\"\",K256*Veriler!I256))),K256)),0)","v":""}]
[192,{"$nulls":4},"",{"$nulls":4},"",{"$f":"IF(K257=\"\", \"\", K257/Veriler!$T$1)","v":""},{"$f":"IF(E257<>\"\", \"İthal Girdi\", IF(Veriler!P257=\"\", \"\", IF(Veriler!O257=\"H\", \"%0,5 üzerindedir\", IF(Veriler!P257>0.1, \"%10 sınırı aşılmıştır.\", \"Uygun\"))))","v":"%0,5 üzerindedir"}," ",null,null,"",{"$f":"IFERROR(IF(L257<=0.005,IF(E257=\"\",K257,0),IF(E257<>\"\",0,IF(O257=\"\",0,IF(O257=\"H\",0,IF(P257<Veriler!$F$2,K257*Veriler!$F$2,K257*P257))))),\" \")","v":0},{"$f":"IF(Veriler!P257<=0.1, R257, IF(AND(Veriler!P257>0.1, E257=\"\", O257=\"E\"), IF(P257>Veriler!$F$2, P257*R257, IF(P257<Veriler!$F$2, Veriler!$F$2*R257, P257*R257)), 0))","v":0}," ",{"$f":"IFERROR(IF(N257=\"%10 sınırı aşılmıştır.\",K257-S257,IFERROR(IF(E257=\"\",IF(R257=1,0,IF(K257-R257=0,\"\",K257-R257)),IF(Veriler!I257=\"\",K257,IF(K257*Veriler!I257=0,\"\",K257*Veriler!I257))),K257)),0)","v":""}]
[193,{"$nulls":4},"",{"$nulls":4},"",{"$f":"IF(K258=\"\", \"\", K258/Veriler!$T$1)","v":""},{"$f":"IF(E258<>\"\", \"İthal Girdi\", IF(Veriler!P258=\"\", \"\", IF(Veriler!O258=\"H\", \"%0,5 üzerindedir\", IF(Veriler!P258>0.1, \"%10 sınırı aşılmıştır.\", \"Uygun\"))))","v":"%0,5 üzerindedir"}," ",null,null,"",{"$f":"IFERROR(IF(L258<=0.005,IF(E258=\"\",K258,0),IF(E258<>\"\",0,IF(O258=\"\",0,IF(O258=\"H\",0,IF(P258<Veriler!$F$2,K258*Veriler!$F$2,K258*P258))))),\" \")","v":0},{"$f":"IF(Veriler!P258<=0.1, R258, IF(AND(Veriler!P258>0.1, E258=\"\", O258=\"E\"), IF(P258>Veriler!$F$2, P258*R258, IF(P258<Veriler!$F$2, Veriler!$F$2*R258, P258*R258)), 0))","v":0}," ",{"$f":"IFERROR(IF(N258=\"%10 sınırı aşılmıştır.\",K258-S258,IFERROR(IF(E258=\"\",IF(R258=1,0,IF(K258-R258=0,\"\",K258-R258)),IF(Veriler!I258=\"\",K258,IF(K258*Veriler!I258=0,\"\",K258*Veriler!I258))),K258)),0)","v":""}]
[194,{"$nulls":4},"",{"$nulls":4},"",{"$f":"IF(K259=\"\", \"\", K259/Veriler!$T$1)","v":""},{"$f":"IF(E259<>\"\", \"İthal Girdi\", IF(Veriler!P259=\"\", \"\", IF(Veriler!O259=\"H\", \"%0,5 üzerindedir\", IF(Veriler!P259>0.1, \"%10 sınırı aşılmıştır.\", \"Uygun\"))))","v":"%0,5 üzerindedir"}," ",null,null,"",{"$f":"IFERROR(IF(L259<=0.005,IF(E259=\"\",K259,0),IF(E259<>\"\",0,IF(O259=\"\",0,IF(O259=\"H\",0,IF(P259<Veriler!$F$2,K259*Veriler!$F$2,K259*P259))))),\" \")","v":0},{"$f":"IF(Veriler!P259<=0.1, R259, IF(AND(Veriler!P259>0.1, E259=\"\", O259=\"E\"), IF(P259>Veriler!$F$2, P259*R259, IF(P259<Veriler!$F$2, Veriler!$F$2*R259, P259*R259)), 0))","v":0}," ",{"$f":"IFERROR(IF(N259=\"%10 sınırı aşılmıştır.\",K259-S259,IFERROR(IF(E259=\"\",IF(R259=1,0,IF(K259-R259=0,\"\",K259-R259)),IF(Veriler!I259=\"\",K259,IF(K259*Veriler!I259=0,\"\",K259*Veriler!I259))),K259)),0)","v":""}]
[195,{"$nulls":4},"",{"$nulls":4},"",{"$f":"IF(K260=\"\", \"\", K260/Veriler!$T$1)","v":""},{"$f":"IF(E260<>\"\", \"İthal Girdi\", IF(Veriler!P260=\"\", \"\", IF(Veriler!O260=\"H\", \"%0,5 üzerindedir\", IF(Veriler!P260>0.1, \"%10 sınırı aşılmıştır.\", \"Uygun\"))))","v":"%0,5 üzerindedir"}," ",null,null,"",{"$f":"IFERROR(IF(L260<=0.005,IF(E260=\"\",K260,0),IF(E260<>\"\",0,IF(O260=\"\",0,IF(O260=\"H\",0,IF(P260<Veriler!$F$2,K260*Veriler!$F$2,K260*P260))))),\" \")","v":0},{"$f":"IF(Veriler!P260<=0.1, R260, IF(AND(Veriler!P260>0.1, E260=\"\", O260=\"E\"), IF(P260>Veriler!$F$2, P260*R260, IF(P260<Veriler!$F$2, Veriler!$F$2*R260, P260*R260)), 0))","v":0}," ",{"$f":"IFERROR(IF(N260=\"%10 sınırı aşılmıştır.\",K260-S260,IFERROR(IF(E260=\"\",IF(R260=1,0,IF(K260-R260=0,\"\",K260-R260)),IF(Veriler!I260=\"\",K260,IF(K260*Veriler!I260=0,\"\",K260*Veriler!I260))),K260)),0)","v":""}]
[196,{"$nulls":4},"",{"$nulls":4},"",{"$f":"IF(K261=\"\", \"\", K261/Veriler!$T$1)","v":""},{"$f":"IF(E261<>\"\", \"İthal Girdi\", IF(Veriler!P261=\"\", \"\", IF(Veriler!O261=\"H\", \"%0,5 üzerindedir\", IF(Veriler!P261>0.1, \"%10 sınırı aşılmıştır.\", \"Uygun\"))))","v":"%0,5 üzerindedir"}," ",null,null,"",{"$f":"IFERROR(IF(L261<=0.005,IF(E261=\"\",K261,0),IF(E261<>\"\",0,IF(O261=\"\",0,IF(O261=\"H\",0,IF(P261<Veriler!$F$2,K261*Veriler!$F$2,K261*P261))))),\" \")","v":0},{"$f":"IF(Veriler!P261<=0.1, R261, IF(AND(Veriler!P261>0.1, E261=\"\", O261=\"E\"), IF(P261>Veriler!$F$2, P261*R261, IF(P261<Veriler!$F$2, Veriler!$F$2*R261, P261*R261)), 0))","v":0}," ",{"$f":"IFERROR(IF(N261=\"%10 sınırı aşılmıştır.\",K261-S261,IFERROR(IF(E261=\"\",IF(R261=1,0,IF(K261-R261=0,\"\",K261-R261)),IF(Veriler!I261=\"\",K261,IF(K261*Veriler!I261=0,\"\",K261*Veriler!I261))),K261)),0)","v":""}]
[{"$nulls":10},{"$f":"SUM(K233:K246,K248:K261)","v":0}]
[{"$nulls":17},"T1","T1","T1","T2"]
["Sayfa Toplamı (TL)  *(Genel Dip Toplam Ek.3-D sayfasında otomatik hesaplanacaktır.)",{"$nulls":16},{"$f":"IF(SUM(R226,R233:R246,R248:R261)=0,\"\",SUM(R226,R233:R246,R248:R261))","v":""},{"$f":"IF(SUM(S233:S246,S248:S261)=0,\" \",SUM(S233:S246,S248:S261))","v":" "},{"$f":"IF(SUM(T233:T246,T248:T261)=0,\" \",SUM(T233:T246,T248:T261))","v":" "},{"$f":"IF(SUM(U233:U246,U248:U261)=0,\" \",SUM(U233:U246,U248:U261))","v":" "}]
[]
[{"$f":"A304","v":"R02"}]
["YERLİ KATKI ORANI HESAP CETVELİ                      ",{"$nulls":13},false]
["A) Nihai Ürün Doğrudan ve Dolaylı Malzeme Giderleri                                                                                                                                                                                                                                                                                                                                                                                                                                         ",{"$nulls":18},"S",{"$f":"U230+1","v":8}]
["Sıra No","Malzeme adı / Faturadaki Ürün Adı",null,"Üretici Unvanı","GTİP Kodu                             (İthal girdiler için)","Gtip Katsayısı","Miktar ","Birim","Fiyatı \n(TL/Döviz)\n","Döviz Kuru               (TL ise 1 alınız)","Fatura Tutarı (TL)","Girdi Maliyet Yüzdesi (%)","Girdi yüzdesi %0,5 altında olan girdiler için %10 sınır kontrolü","Girdi yüzdesi %0,5 altında olan girdiler için %10 sınır kontrolü","SSB/  Müstahsil                (E/H)","YKO (%) (Manuel girilmeli)","Geçerli Yerli Oranı (%)","Yerli Maliyet Tutarı                            (T1)","Yerli Maliyet Tutarı (T1)","Yerli Maliyet Tutarı (T1)","İthal Maliyet Tutarı               (T2)"]
[null,"Doğrudan Girdi                                                         (Dolaylı girdiniz varsa en son 25. sayfaya doldurunuz)"]
[{"$f":"A261+1","v":197},{"$nulls":4},{"$f":"IF(AND(E271<>\"\",U271<>\"\",K271<>0),U271/K271,\"\")","v":""},{"$nulls":4},{"$f":"IF(AND(G271<>0, I271<>0, J271<>0), G271*I271*J271, \"\")","v":""},{"$f":"IF(K271=\"\", \"\", K271/Veriler!$T$1)","v":""},{"$f":"IF(E271<>\"\", \"İthal Girdi\", IF(Veriler!P271=\"\", \"\", IF(Veriler!O271=\"H\", \"%0,5 üzerindedir\", IF(Veriler!P271>0.1, \"%10 sınırı aşılmıştır.\", \"Uygun\"))))","v":"%0,5 üzerindedir"},{"$f":"IF(L271=\"\",\" \",M271)","v":" "},null,null,{"$f":"IFERROR(IF(AND(S271<>\"\",K271<>\"\",K271<>0,S271<>0),S271/K271,\"\"),\" \")","v":""},{"$f":"IFERROR(IF(L271<=0.005,IF(E271=\"\",K271,0),IF(E271<>\"\",0,IF(O271=\"\",0,IF(O271=\"H\",0,IF(P271<Veriler!$F$2,K271*Veriler!$F$2,K271*P271))))),\" \")","v":0},{"$f":"IF(Veriler!P271<=0.1, R271, IF(AND(Veriler!P271>0.1, E271=\"\", O271=\"E\"), IF(P271>Veriler!$F$2, P271*R271, IF(P271<Veriler!$F$2, Veriler!$F$2*R271, P271*R271)), 0))","v":0},{"$f":"IF(S271=0,\" \",S271)","v":" "},{"$f":"IFERROR(IF(N271=\"%10 sınırı aşılmıştır.\",K271-S271,IFERROR(IF(E271=\"\",IF(R271=1,0,IF(K271-R271=0,\"\",K271-R271)),IF(Veriler!I271=\"\",K271,IF(K271*Veriler!I271=0,\"\",K271*Veriler!I271))),K271)),0)","v":""}]
[{"$f":"A271+1","v":198},{"$nulls":4},"",{"$nulls":4},"",{"$f":"IF(K272=\"\", \"\", K272/Veriler!$T$1)","v":""},{"$f":"IF(E272<>\"\", \"İthal Girdi\", IF(Veriler!P272=\"\", \"\", IF(Veriler!O272=\"H\", \"%0,5 üzerindedir\", IF(Veriler!P272>0.1, \"%10 sınırı aşılmıştır.\", \"Uygun\"))))","v":"%0,5 üzerindedir"}," ",null,null,"",{"$f":"IFERROR(IF(L272<=0.005,IF(E272=\"\",K272,0),IF(E272<>\"\",0,IF(O272=\"\",0,IF(O272=\"H\",0,IF(P272<Veriler!$F$2,K272*Veriler!$F$2,K272*P272))))),\" \")","v":0},{"$f":"IF(Veriler!P272<=0.1, R272, IF(AND(Veriler!P272>0.1, E272=\"\", O272=\"E\"), IF(P272>Veriler!$F$2, P272*R272, IF(P272<Veriler!$F$2, Veriler!$F$2*R272, P272*R272)), 0))","v":0}," ",{"$f":"IFERROR(IF(N272=\"%10 sınırı aşılmıştır.\",K272-S272,IFERROR(IF(E272=\"\",IF(R272=1,0,IF(K272-R272=0,\"\",K272-R272)),IF(Veriler!I272=\"\",K272,IF(K272*Veriler!I272=0,\"\",K272*Veriler!I272))),K272)),0)","v":""}]
[{"$f":"A272+1","v":199},{"$nulls":4},"",{"$nulls":4},"",{"$f":"IF(K273=\"\", \"\", K273/Veriler!$T$1)","v":""},{"$f":"IF(E273<>\"\", \"İthal Girdi\", IF(Veriler!P273=\"\", \"\", IF(Veriler!O273=\"H\", \"%0,5 üzerindedir\", IF(Veriler!P273>0.1, \"%10 sınırı aşılmıştır.\", \"Uygun\"))))","v":"%0,5 üzerindedir"}," ",null,null,"",{"$f":"IFERROR(IF(L273<=0.005,IF(E273=\"\",K273,0),IF(E273<>\"\",0,IF(O273=\"\",0,IF(O273=\"H\",0,IF(P273<Veriler!$F$2,K273*Veriler!$F$2,K273*P273))))),\" \")","v":0},{"$f":"IF(Veriler!P273<=0.1, R273, IF(AND(Veriler!P273>0.1, E273=\"\", O273=\"E\"), IF(P273>Veriler!$F$2, P273*R273, IF(P273<Veriler!$F$2, Veriler!$F$2*R273, P273*R273)), 0))","v":0}," ",{"$f":"IFERROR(IF(N273=\"%10 sınırı aşılmıştır.\",K273-S273,IFERROR(IF(E273=\"\",IF(R273=1,0,IF(K273-R273=0,\"\",K273-R273)),IF(Veriler!I273=\"\",K273,IF(K273*Veriler!I273=0,\"\",K273*Veriler!I273))),K273)),0)","v":""}]
[200,{"$nulls":4},"",{"$nulls":4},"",{"$f":"IF(K274=\"\", \"\", K274/Veriler!$T$1)","v":""},{"$f":"IF(E274<>\"\", \"İthal Girdi\", IF(Veriler!P274=\"\", \"\", IF(Veriler!O274=\"H\", \"%0,5 üzerindedir\", IF(Veriler!P274>0.1, \"%10 sınırı aşılmıştır.\", \"Uygun\"))))","v":"%0,5 üzerindedir"}," ",null,null,"",{"$f":"IFERROR(IF(L274<=0.005,IF(E274=\"\",K274,0),IF(E274<>\"\",0,IF(O274=\"\",0,IF(O274=\"H\",0,IF(P274<Veriler!$F$2,K274*Veriler!$F$2,K274*P274))))),\" \")","v":0},{"$f":"IF(Veriler!P274<=0.1, R274, IF(AND(Veriler!P274>0.1, E274=\"\", O274=\"E\"), IF(P274>Veriler!$F$2, P274*R274, IF(P274<Veriler!$F$2, Veriler!$F$2*R274, P274*R274)), 0))","v":0}," ",{"$f":"IFERROR(IF(N274=\"%10 sınırı aşılmıştır.\",K274-S274,IFERROR(IF(E274=\"\",IF(R274=1,0,IF(K274-R274=0,\"\",K274-R274)),IF(Veriler!I274=\"\",K274,IF(K274*Veriler!I274=0,\"\",K274*Veriler!I274))),K274)),0)","v":""}]
[201,{"$nulls":4},"",{"$nulls":4},"",{"$f":"IF(K275=\"\", \"\", K275/Veriler!$T$1)","v":""},{"$f":"IF(E275<>\"\", \"İthal Girdi\", IF(Veriler!P275=\"\", \"\", IF(Veriler!O275=\"H\", \"%0,5 üzerindedir\", IF(Veriler!P275>0.1, \"%10 sınırı aşılmıştır.\", \"Uygun\"))))","v":"%0,5 üzerindedir"}," ",null,null,"",{"$f":"IFERROR(IF(L275<=0.005,IF(E275=\"\",K275,0),IF(E275<>\"\",0,IF(O275=\"\",0,IF(O275=\"H\",0,IF(P275<Veriler!$F$2,K275*Veriler!$F$2,K275*P275))))),\" \")","v":0},{"$f":"IF(Veriler!P275<=0.1, R275, IF(AND(Veriler!P275>0.1, E275=\"\", O275=\"E\"), IF(P275>Veriler!$F$2, P275*R275, IF(P275<Veriler!$F$2, Veriler!$F$2*R275, P275*R275)), 0))","v":0}," ",{"$f":"IFERROR(IF(N275=\"%10 sınırı aşılmıştır.\",K275-S275,IFERROR(IF(E275=\"\",IF(R275=1,0,IF(K275-R275=0,\"\",K275-R275)),IF(Veriler!I275=\"\",K275,IF(K275*Veriler!I275=0,\"\",K275*Veriler!I275))),K275)),0)","v":""}]
[202,{"$nulls":4},"",{"$nulls":4},"",{"$f":"IF(K276=\"\", \"\", K276/Veriler!$T$1)","v":""},{"$f":"IF(E276<>\"\", \"İthal Girdi\", IF(Veriler!P276=\"\", \"\", IF(Veriler!O276=\"H\", \"%0,5 üzerindedir\", IF(Veriler!P276>0.1, \"%10 sınırı aşılmıştır.\", \"Uygun\"))))","v":"%0,5 üzerindedir"}," ",null,null,"",{"$f":"IFERROR(IF(L276<=0.005,IF(E276=\"\",K276,0),IF(E276<>\"\",0,IF(O276=\"\",0,IF(O276=\"H\",0,IF(P276<Veriler!$F$2,K276*Veriler!$F$2,K276*P276))))),\" \")","v":0},{"$f":"IF(Veriler!P276<=0.1, R276, IF(AND(Veriler!P276>0.1, E276=\"\", O276=\"E\"), IF(P276>Veriler!$F$2, P276*R276, IF(P276<Veriler!$F$2, Veriler!$F$2*R276, P276*R276)), 0))","v":0}," ",{"$f":"IFERROR(IF(N276=\"%10 sınırı aşılmıştır.\",K276-S276,IFERROR(IF(E276=\"\",IF(R276=1,0,IF(K276-R276=0,\"\",K276-R276)),IF(Veriler!I276=\"\",K276,IF(K276*Veriler!I276=0,\"\",K276*Veriler!I276))),K276)),0)","v":""}]
[203,{"$nulls":4},"",{"$nulls":4},"",{"$f":"IF(K277=\"\", \"\", K277/Veriler!$T$1)","v":""},{"$f":"IF(E277<>\"\", \"İthal Girdi\", IF(Veriler!P277=\"\", \"\", IF(Veriler!O277=\"H\", \"%0,5 üzerindedir\", IF(Veriler!P277>0.1, \"%10 sınırı aşılmıştır.\", \"Uygun\"))))","v":"%0,5 üzerindedir"}," ",null,null,"",{"$f":"IFERROR(IF(L277<=0.005,IF(E277=\"\",K277,0),IF(E277<>\"\",0,IF(O277=\"\",0,IF(O277=\"H\",0,IF(P277<Veriler!$F$2,K277*Veriler!$F$2,K277*P277))))),\" \")","v":0},{"$f":"IF(Veriler!P277<=0.1, R277, IF(AND(Veriler!P277>0.1, E277=\"\", O277=\"E\"), IF(P277>Veriler!$F$2, P277*R277, IF(P277<Veriler!$F$2, Veriler!$F$2*R277, P277*R277)), 0))","v":0}," ",{"$f":"IFERROR(IF(N277=\"%10 sınırı aşılmıştır.\",K277-S277,IFERROR(IF(E277=\"\",IF(R277=1,0,IF(K277-R277=0,\"\",K277-R277)),IF(Veriler!I277=\"\",K277,IF(K277*Veriler!I277=0,\"\",K277*Veriler!I277))),K277)),0)","v":""}]
[204,{"$nulls":4},"",{"$nulls":4},"",{"$f":"IF(K278=\"\", \"\", K278/Veriler!$T$1)","v":""},{"$f":"IF(E278<>\"\", \"İthal Girdi\", IF(Veriler!P278=\"\", \"\", IF(Veriler!O278=\"H\", \"%0,5 üzerindedir\", IF(Veriler!P278>0.1, \"%10 sınırı aşılmıştır.\", \"Uygun\"))))","v":"%0,5 üzerindedir"}," ",null,null,"",{"$f":"IFERROR(IF(L278<=0.005,IF(E278=\"\",K278,0),IF(E278<>\"\",0,IF(O278=\"\",0,IF(O278=\"H\",0,IF(P278<Veriler!$F$2,K278*Veriler!$F$2,K278*P278))))),\" \")","v":0},{"$f":"IF(Veriler!P278<=0.1, R278, IF(AND(Veriler!P278>0.1, E278=\"\", O278=\"E\"), IF(P278>Veriler!$F$2, P278*R278, IF(P278<Veriler!$F$2, Veriler!$F$2*R278, P278*R278)), 0))","v":0}," ",{"$f":"IFERROR(IF(N278=\"%10 sınırı aşılmıştır.\",K278-S278,IFERROR(IF(E278=\"\",IF(R278=1,0,IF(K278-R278=0,\"\",K278-R278)),IF(Veriler!I278=\"\",K278,IF(K278*Veriler!I278=0,\"\",K278*Veriler!I278))),K278)),0)","v":""}]
[205,{"$nulls":4},"",{"$nulls":4},"",{"$f":"IF(K279=\"\", \"\", K279/Veriler!$T$1)","v":""},{"$f":"IF(E279<>\"\", \"İthal Girdi\", IF(Veriler!P279=\"\", \"\", IF(Veriler!O279=\"H\", \"%0,5 üzerindedir\", IF(Veriler!P279>0.1, \"%10 sınırı aşılmıştır.\", \"Uygun\"))))","v":"%0,5 üzerindedir"}," ",null,null,"",{"$f":"IFERROR(IF(L279<=0.005,IF(E279=\"\",K279,0),IF(E279<>\"\",0,IF(O279=\"\",0,IF(O279=\"H\",0,IF(P279<Veriler!$F$2,K279*Veriler!$F$2,K279*P279))))),\" \")","v":0},{"$f":"IF(Veriler!P279<=0.1, R279, IF(AND(Veriler!P279>0.1, E279=\"\", O279=\"E\"), IF(P279>Veriler!$F$2, P279*R279, IF(P279<Veriler!$F$2, Veriler!$F$2*R279, P279*R279)), 0))","v":0}," ",{"$f":"IFERROR(IF(N279=\"%10 sınırı aşılmıştır.\",K279-S279,IFERROR(IF(E279=\"\",IF(R279=1,0,IF(K279-R279=0,\"\",K279-R279)),IF(Veriler!I279=\"\",K279,IF(K279*Veriler!I279=0,\"\",K279*Veriler!I279))),K279)),0)","v":""}]
[206,{"$nulls":4},"",{"$nulls":4},"",{"$f":"IF(K280=\"\", \"\", K280/Veriler!$T$1)","v":""},{"$f":"IF(E280<>\"\", \"İthal Girdi\", IF(Veriler!P280=\"\", \"\", IF(Veriler!O280=\"H\", \"%0,5 üzerindedir\", IF(Veriler!P280>0.1, \"%10 sınırı aşılmıştır.\", \"Uygun\"))))","v":"%0,5 üzerindedir"}," ",null,null,"",{"$f":"IFERROR(IF(L280<=0.005,IF(E280=\"\",K280,0),IF(E280<>\"\",0,IF(O280=\"\",0,IF(O280=\"H\",0,IF(P280<Veriler!$F$2,K280*Veriler!$F$2,K280*P280))))),\" \")","v":0},{"$f":"IF(Veriler!P280<=0.1, R280, IF(AND(Veriler!P280>0.1, E280=\"\", O280=\"E\"), IF(P280>Veriler!$F$2, P280*R280, IF(P280<Veriler!$F$2, Veriler!$F$2*R280, P280*R280)), 0))","v":0}," ",{"$f":"IFERROR(IF(N280=\"%10 sınırı aşılmıştır.\",K280-S280,IFERROR(IF(E280=\"\",IF(R280=1,0,IF(K280-R280=0,\"\",K280-R280)),IF(Veriler!I280=\"\",K280,IF(K280*Veriler!I280=0,\"\",K280*Veriler!I280))),K280)),0)","v":""}]
[207,{"$nulls":4},"",{"$nulls":4},"",{"$f":"IF(K281=\"\", \"\", K281/Veriler!$T$1)","v":""},{"$f":"IF(E281<>\"\", \"İthal Girdi\", IF(Veriler!P281=\"\", \"\", IF(Veriler!O281=\"H\", \"%0,5 üzerindedir\", IF(Veriler!P281>0.1, \"%10 sınırı aşılmıştır.\", \"Uygun\"))))","v":"%0,5 üzerindedir"}," ",null,null,"",{"$f":"IFERROR(IF(L281<=0.005,IF(E281=\"\",K281,0),IF(E281<>\"\",0,IF(O281=\"\",0,IF(O281=\"H\",0,IF(P281<Veriler!$F$2,K281*Veriler!$F$2,K281*P281))))),\" \")","v":0},{"$f":"IF(Veriler!P281<=0.1, R281, IF(AND(Veriler!P281>0.1, E281=\"\", O281=\"E\"), IF(P281>Veriler!$F$2, P281*R281, IF(P281<Veriler!$F$2, Veriler!$F$2*R281, P281*R281)), 0))","v":0}," ",{"$f":"IFERROR(IF(N281=\"%10 sınırı aşılmıştır.\",K281-S281,IFERROR(IF(E281=\"\",IF(R281=1,0,IF(K281-R281=0,\"\",K281-R281)),IF(Veriler!I281=\"\",K281,IF(K281*Veriler!I281=0,\"\",K281*Veriler!I281))),K281)),0)","v":""}]
[208,{"$nulls":4},"",{"$nulls":4},"",{"$f":"IF(K282=\"\", \"\", K282/Veriler!$T$1)","v":""},{"$f":"IF(E282<>\"\", \"İthal Girdi\", IF(Veriler!P282=\"\", \"\", IF(Veriler!O282=\"H\", \"%0,5 üzerindedir\", IF(Veriler!P282>0.1, \"%10 sınırı aşılmıştır.\", \"Uygun\"))))","v":"%0,5 üzerindedir"}," ",null,null,"",{"$f":"IFERROR(IF(L282<=0.005,IF(E282=\"\",K282,0),IF(E282<>\"\",0,IF(O282=\"\",0,IF(O282=\"H\",0,IF(P282<Veriler!$F$2,K282*Veriler!$F$2,K282*P282))))),\" \")","v":0},{"$f":"IF(Veriler!P282<=0.1, R282, IF(AND(Veriler!P282>0.1, E282=\"\", O282=\"E\"), IF(P282>Veriler!$F$2, P282*R282, IF(P282<Veriler!$F$2, Veriler!$F$2*R282, P282*R282)), 0))","v":0}," ",{"$f":"IFERROR(IF(N282=\"%10 sınırı aşılmıştır.\",K282-S282,IFERROR(IF(E282=\"\",IF(R282=1,0,IF(K282-R282=0,\"\",K282-R282)),IF(Veriler!I282=\"\",K282,IF(K282*Veriler!I282=0,\"\",K282*Veriler!I282))),K282)),0)","v":""}]
[209,{"$nulls":4},"",{"$nulls":4},"",{"$f":"IF(K283=\"\", \"\", K283/Veriler!$T$1)","v":""},{"$f":"IF(E283<>\"\", \"İthal Girdi\", IF(Veriler!P283=\"\", \"\", IF(Veriler!O283=\"H\", \"%0,5 üzerindedir\", IF(Veriler!P283>0.1, \"%10 sınırı aşılmıştır.\", \"Uygun\"))))","v":"%0,5 üzerindedir"}," ",null,null,"",{"$f":"IFERROR(IF(L283<=0.005,IF(E283=\"\",K283,0),IF(E283<>\"\",0,IF(O283=\"\",0,IF(O283=\"H\",0,IF(P283<Veriler!$F$2,K283*Veriler!$F$2,K283*P283))))),\" \")","v":0},{"$f":"IF(Veriler!P283<=0.1, R283, IF(AND(Veriler!P283>0.1, E283=\"\", O283=\"E\"), IF(P283>Veriler!$F$2, P283*R283, IF(P283<Veriler!$F$2, Veriler!$F$2*R283, P283*R283)), 0))","v":0}," ",{"$f":"IFERROR(IF(N283=\"%10 sınırı aşılmıştır.\",K283-S283,IFERROR(IF(E283=\"\",IF(R283=1,0,IF(K283-R283=0,\"\",K283-R283)),IF(Veriler!I283=\"\",K283,IF(K283*Veriler!I283=0,\"\",K283*Veriler!I283))),K283)),0)","v":""}]
[210,{"$nulls":4},"",{"$nulls":4},"",{"$f":"IF(K284=\"\", \"\", K284/Veriler!$T$1)","v":""},{"$f":"IF(E284<>\"\", \"İthal Girdi\", IF(Veriler!P284=\"\", \"\", IF(Veriler!O284=\"H\", \"%0,5 üzerindedir\", IF(Veriler!P284>0.1, \"%10 sınırı aşılmıştır.\", \"Uygun\"))))","v":"%0,5 üzerindedir"}," ",null,null,"",{"$f":"IFERROR(IF(L284<=0.005,IF(E284=\"\",K284,0),IF(E284<>\"\",0,IF(O284=\"\",0,IF(O284=\"H\",0,IF(P284<Veriler!$F$2,K284*Veriler!$F$2,K284*P284))))),\" \")","v":0},{"$f":"IF(Veriler!P284<=0.1, R284, IF(AND(Veriler!P284>0.1, E284=\"\", O284=\"E\"), IF(P284>Veriler!$F$2, P284*R284, IF(P284<Veriler!$F$2, Veriler!$F$2*R284, P284*R284)), 0))","v":0}," ",{"$f":"IFERROR(IF(N284=\"%10 sınırı aşılmıştır.\",K284-S284,IFERROR(IF(E284=\"\",IF(R284=1,0,IF(K284-R284=0,\"\",K284-R284)),IF(Veriler!I284=\"\",K284,IF(K284*Veriler!I284=0,\"\",K284*Veriler!I284))),K284)),0)","v":""}]
[null,"Dolaylı"]
[{"$f":"A284+1","v":211},{"$nulls":4},{"$f":"IF(AND(E286<>\"\",U286<>\"\",K286<>0),U286/K286,\"\")","v":""},{"$nulls":4},{"$f":"IF(AND(G286<>0, I286<>0, J286<>0), G286*I286*J286, \"\")","v":""},{"$f":"IF(K286=\"\", \"\", K286/Veriler!$T$1)","v":""},{"$f":"IF(E286<>\"\", \"İthal Girdi\", IF(Veriler!P286=\"\", \"\", IF(Veriler!O286=\"H\", \"%0,5 üzerindedir\", IF(Veriler!P286>0.1, \"%10 sınırı aşılmıştır.\", \"Uygun\"))))","v":"%0,5 üzerindedir"},{"$f":"IF(L286=\"\",\" \",M286)","v":" "},null,null,{"$f":"IFERROR(IF(AND(S286<>\"\",K286<>\"\",K286<>0,S286<>0),S286/K286,\"\"),\" \")","v":""},{"$f":"IFERROR(IF(L286<=0.005,IF(E286=\"\",K286,0),IF(E286<>\"\",0,IF(O286=\"\",0,IF(O286=\"H\",0,IF(P286<Veriler!$F$2,K286*Veriler!$F$2,K286*P286))))),\" \")","v":0},{"$f":"IF(Veriler!P286<=0.1, R286, IF(AND(Veriler!P286>0.1, E286=\"\", O286=\"E\"), IF(P286>Veriler!$F$2, P286*R286, IF(P286<Veriler!$F$2, Veriler!$F$2*R286, P286*R286)), 0))","v":0},{"$f":"IF(S286=0,\" \",S286)","v":" "},{"$f":"IFERROR(IF(N286=\"%10 sınırı aşılmıştır.\",K286-S286,IFERROR(IF(E286=\"\",IF(R286=1,0,IF(K286-R286=0,\"\",K286-R286)),IF(Veriler!I286=\"\",K286,IF(K286*Veriler!I286=0,\"\",K286*Veriler!I286))),K286)),0)","v":""}]
[{"$f":"A286+1","v":212},{"$nulls":4},"",{"$nulls":4},"",{"$f":"IF(K287=\"\", \"\", K287/Veriler!$T$1)","v":""},{"$f":"IF(E287<>\"\", \"İthal Girdi\", IF(Veriler!P287=\"\", \"\", IF(Veriler!O287=\"H\", \"%0,5 üzerindedir\", IF(Veriler!P287>0.1, \"%10 sınırı aşılmıştır.\", \"Uygun\"))))","v":"%0,5 üzerindedir"}," ",null,null,"",{"$f":"IFERROR(IF(L287<=0.005,IF(E287=\"\",K287,0),IF(E287<>\"\",0,IF(O287=\"\",0,IF(O287=\"H\",0,IF(P287<Veriler!$F$2,K287*Veriler!$F$2,K287*P287))))),\" \")","v":0},{"$f":"IF(Veriler!P287<=0.1, R287, IF(AND(Veriler!P287>0.1, E287=\"\", O287=\"E\"), IF(P287>Veriler!$F$2, P287*R287, IF(P287<Veriler!$F$2, Veriler!$F$2*R287, P287*R287)), 0))","v":0}," ",{"$f":"IFERROR(IF(N287=\"%10 sınırı aşılmıştır.\",K287-S287,IFERROR(IF(E287=\"\",IF(R287=1,0,IF(K287-R287=0,\"\",K287-R287)),IF(Veriler!I287=\"\",K287,IF(K287*Veriler!I287=0,\"\",K287*Veriler!I287))),K287)),0)","v":""}]
[{"$f":"A287+1","v":213},{"$nulls":4},"",{"$nulls":4},"",{"$f":"IF(K288=\"\", \"\", K288/Veriler!$T$1)","v":""},{"$f":"IF(E288<>\"\", \"İthal Girdi\", IF(Veriler!P288=\"\", \"\", IF(Veriler!O288=\"H\", \"%0,5 üzerindedir\", IF(Veriler!P288>0.1, \"%10 sınırı aşılmıştır.\", \"Uygun\"))))","v":"%0,5 üzerindedir"}," ",null,null,"",{"$f":"IFERROR(IF(L288<=0.005,IF(E288=\"\",K288,0),IF(E288<>\"\",0,IF(O288=\"\",0,IF(O288=\"H\",0,IF(P288<Veriler!$F$2,K288*Veriler!$F$2,K288*P288))))),\" \")","v":0},{"$f":"IF(Veriler!P288<=0.1, R288, IF(AND(Veriler!P288>0.1, E288=\"\", O288=\"E\"), IF(P288>Veriler!$F$2, P288*R288, IF(P288<Veriler!$F$2, Veriler!$F$2*R288, P288*R288)), 0))","v":0}," ",{"$f":"IFERROR(IF(N288=\"%10 sınırı aşılmıştır.\",K288-S288,IFERROR(IF(E288=\"\",IF(R288=1,0,IF(K288-R288=0,\"\",K288-R288)),IF(Veriler!I288=\"\",K288,IF(K288*Veriler!I288=0,\"\",K288*Veriler!I288))),K288)),0)","v":""}]
[214,{"$nulls":4},"",{"$nulls":4},"",{"$f":"IF(K289=\"\", \"\", K289/Veriler!$T$1)","v":""},{"$f":"IF(E289<>\"\", \"İthal Girdi\", IF(Veriler!P289=\"\", \"\", IF(Veriler!O289=\"H\", \"%0,5 üzerindedir\", IF(Veriler!P289>0.1, \"%10 sınırı aşılmıştır.\", \"Uygun\"))))","v":"%0,5 üzerindedir"}," ",null,null,"",{"$f":"IFERROR(IF(L289<=0.005,IF(E289=\"\",K289,0),IF(E289<>\"\",0,IF(O289=\"\",0,IF(O289=\"H\",0,IF(P289<Veriler!$F$2,K289*Veriler!$F$2,K289*P289))))),\" \")","v":0},{"$f":"IF(Veriler!P289<=0.1, R289, IF(AND(Veriler!P289>0.1, E289=\"\", O289=\"E\"), IF(P289>Veriler!$F$2, P289*R289, IF(P289<Veriler!$F$2, Veriler!$F$2*R289, P289*R289)), 0))","v":0}," ",{"$f":"IFERROR(IF(N289=\"%10 sınırı aşılmıştır.\",K289-S289,IFERROR(IF(E289=\"\",IF(R289=1,0,IF(K289-R289=0,\"\",K289-R289)),IF(Veriler!I289=\"\",K289,IF(K289*Veriler!I289=0,\"\",K289*Veriler!I289))),K289)),0)","v":""}]
[215,{"$nulls":4},"",{"$nulls":4},"",{"$f":"IF(K290=\"\", \"\", K290/Veriler!$T$1)","v":""},{"$f":"IF(E290<>\"\", \"İthal Girdi\", IF(Veriler!P290=\"\", \"\", IF(Veriler!O290=\"H\", \"%0,5 üzerindedir\", IF(Veriler!P290>0.1, \"%10 sınırı aşılmıştır.\", \"Uygun\"))))","v":"%0,5 üzerindedir"}," ",null,null,"",{"$f":"IFERROR(IF(L290<=0.005,IF(E290=\"\",K290,0),IF(E290<>\"\",0,IF(O290=\"\",0,IF(O290=\"H\",0,IF(P290<Veriler!$F$2,K290*Veriler!$F$2,K290*P290))))),\" \")","v":0},{"$f":"IF(Veriler!P290<=0.1, R290, IF(AND(Veriler!P290>0.1, E290=\"\", O290=\"E\"), IF(P290>Veriler!$F$2, P290*R290, IF(P290<Veriler!$F$2, Veriler!$F$2*R290, P290*R290)), 0))","v":0}," ",{"$f":"IFERROR(IF(N290=\"%10 sınırı aşılmıştır.\",K290-S290,IFERROR(IF(E290=\"\",IF(R290=1,0,IF(K290-R290=0,\"\",K290-R290)),IF(Veriler!I290=\"\",K290,IF(K290*Veriler!I290=0,\"\",K290*Veriler!I290))),K290)),0)","v":""}]
[216,{"$nulls":4},"",{"$nulls":4},"",{"$f":"IF(K291=\"\", \"\", K291/Veriler!$T$1)","v":""},{"$f":"IF(E291<>\"\", \"İthal Girdi\", IF(Veriler!P291=\"\", \"\", IF(Veriler!O291=\"H\", \"%0,5 üzerindedir\", IF(Veriler!P291>0.1, \"%10 sınırı aşılmıştır.\", \"Uygun\"))))","v":"%0,5 üzerindedir"}," ",null,null,"",{"$f":"IFERROR(IF(L291<=0.005,IF(E291=\"\",K291,0),IF(E291<>\"\",0,IF(O291=\"\",0,IF(O291=\"H\",0,IF(P291<Veriler!$F$2,K291*Veriler!$F$2,K291*P291))))),\" \")","v":0},{"$f":"IF(Veriler!P291<=0.1, R291, IF(AND(Veriler!P291>0.1, E291=\"\", O291=\"E\"), IF(P291>Veriler!$F$2, P291*R291, IF(P291<Veriler!$F$2, Veriler!$F$2*R291, P291*R291)), 0))","v":0}," ",{"$f":"IFERROR(IF(N291=\"%10 sınırı aşılmıştır.\",K291-S291,IFERROR(IF(E291=\"\",IF(R291=1,0,IF(K291-R291=0,\"\",K291-R291)),IF(Veriler!I291=\"\",K291,IF(K291*Veriler!I291=0,\"\",K291*Veriler!I291))),K291)),0)","v":""}]
[217,{"$nulls":4},"",{"$nulls":4},"",{"$f":"IF(K292=\"\", \"\", K292/Veriler!$T$1)","v":""},{"$f":"IF(E292<>\"\", \"İthal Girdi\", IF(Veriler!P292=\"\", \"\", IF(Veriler!O292=\"H\", \"%0,5 üzerindedir\", IF(Veriler!P292>0.1, \"%10 sınırı aşılmıştır.\", \"Uygun\"))))","v":"%0,5 üzerindedir"}," ",null,null,"",{"$f":"IFERROR(IF(L292<=0.005,IF(E292=\"\",K292,0),IF(E292<>\"\",0,IF(O292=\"\",0,IF(O292=\"H\",0,IF(P292<Veriler!$F$2,K292*Veriler!$F$2,K292*P292))))),\" \")","v":0},{"$f":"IF(Veriler!P292<=0.1, R292, IF(AND(Veriler!P292>0.1, E292=\"\", O292=\"E\"), IF(P292>Veriler!$F$2, P292*R292, IF(P292<Veriler!$F$2, Veriler!$F$2*R292, P292*R292)), 0))","v":0}," ",{"$f":"IFERROR(IF(N292=\"%10 sınırı aşılmıştır.\",K292-S292,IFERROR(IF(E292=\"\",IF(R292=1,0,IF(K292-R292=0,\"\",K292-R292)),IF(Veriler!I292=\"\",K292,IF(K292*Veriler!I292=0,\"\",K292*Veriler!I292))),K292)),0)","v":""}]
[218,{"$nulls":4},"",{"$nulls":4},"",{"$f":"IF(K293=\"\", \"\", K293/Veriler!$T$1)","v":""},{"$f":"IF(E293<>\"\", \"İthal Girdi\", IF(Veriler!P293=\"\", \"\", IF(Veriler!O293=\"H\", \"%0,5 üzerindedir\", IF(Veriler!P293>0.1, \"%10 sınırı aşılmıştır.\", \"Uygun\"))))","v":"%0,5 üzerindedir"}," ",null,null,"",{"$f":"IFERROR(IF(L293<=0.005,IF(E293=\"\",K293,0),IF(E293<>\"\",0,IF(O293=\"\",0,IF(O293=\"H\",0,IF(P293<Veriler!$F$2,K293*Veriler!$F$2,K293*P293))))),\" \")","v":0},{"$f":"IF(Veriler!P293<=0.1, R293, IF(AND(Veriler!P293>0.1, E293=\"\", O293=\"E\"), IF(P293>Veriler!$F$2, P293*R293, IF(P293<Veriler!$F$2, Veriler!$F$2*R293, P293*R293)), 0))","v":0}," ",{"$f":"IFERROR(IF(N293=\"%10 sınırı aşılmıştır.\",K293-S293,IFERROR(IF(E293=\"\",IF(R293=1,0,IF(K293-R293=0,\"\",K293-R293)),IF(Veriler!I293=\"\",K293,IF(K293*Veriler!I293=0,\"\",K293*Veriler!I293))),K293)),0)","v":""}]
[219,{"$nulls":4},"",{"$nulls":4},"",{"$f":"IF(K294=\"\", \"\", K294/Veriler!$T$1)","v":""},{"$f":"IF(E294<>\"\", \"İthal Girdi\", IF(Veriler!P294=\"\", \"\", IF(Veriler!O294=\"H\", \"%0,5 üzerindedir\", IF(Veriler!P294>0.1, \"%10 sınırı aşılmıştır.\", \"Uygun\"))))","v":"%0,5 üzerindedir"}," ",null,null,"",{"$f":"IFERROR(IF(L294<=0.005,IF(E294=\"\",K294,0),IF(E294<>\"\",0,IF(O294=\"\",0,IF(O294=\"H\",0,IF(P294<Veriler!$F$2,K294*Veriler!$F$2,K294*P294))))),\" \")","v":0},{"$f":"IF(Veriler!P294<=0.1, R294, IF(AND(Veriler!P294>0.1, E294=\"\", O294=\"E\"), IF(P294>Veriler!$F$2, P294*R294, IF(P294<Veriler!$F$2, Veriler!$F$2*R294, P294*R294)), 0))","v":0}," ",{"$f":"IFERROR(IF(N294=\"%10 sınırı aşılmıştır.\",K294-S294,IFERROR(IF(E294=\"\",IF(R294=1,0,IF(K294-R294=0,\"\",K294-R294)),IF(Veriler!I294=\"\",K294,IF(K294*Veriler!I294=0,\"\",K294*Veriler!I294))),K294)),0)","v":""}]
[220,{"$nulls":4},"",{"$nulls":4},"",{"$f":"IF(K295=\"\", \"\", K295/Veriler!$T$1)","v":""},{"$f":"IF(E295<>\"\", \"İthal Girdi\", IF(Veriler!P295=\"\", \"\", IF(Veriler!O295=\"H\", \"%0,5 üzerindedir\", IF(Veriler!P295>0.1, \"%10 sınırı aşılmıştır.\", \"Uygun\"))))","v":"%0,5 üzerindedir"}," ",null,null,"",{"$f":"IFERROR(IF(L295<=0.005,IF(E295=\"\",K295,0),IF(E295<>\"\",0,IF(O295=\"\",0,IF(O295=\"H\",0,IF(P295<Veriler!$F$2,K295*Veriler!$F$2,K295*P295))))),\" \")","v":0},{"$f":"IF(Veriler!P295<=0.1, R295, IF(AND(Veriler!P295>0.1, E295=\"\", O295=\"E\"), IF(P295>Veriler!$F$2, P295*R295, IF(P295<Veriler!$F$2, Veriler!$F$2*R295, P295*R295)), 0))","v":0}," ",{"$f":"IFERROR(IF(N295=\"%10 sınırı aşılmıştır.\",K295-S295,IFERROR(IF(E295=\"\",IF(R295=1,0,IF(K295-R295=0,\"\",K295-R295)),IF(Veriler!I295=\"\",K295,IF(K295*Veriler!I295=0,\"\",K295*Veriler!I295))),K295)),0)","v":""}]
[221,{"$nulls":4},"",{"$nulls":4},"",{"$f":"IF(K296=\"\", \"\", K296/Veriler!$T$1)","v":""},{"$f":"IF(E296<>\"\", \"İthal Girdi\", IF(Veriler!P296=\"\", \"\", IF(Veriler!O296=\"H\", \"%0,5 üzerindedir\", IF(Veriler!P296>0.1, \"%10 sınırı aşılmıştır.\", \"Uygun\"))))","v":"%0,5 üzerindedir"}," ",null,null,"",{"$f":"IFERROR(IF(L296<=0.005,IF(E296=\"\",K296,0),IF(E296<>\"\",0,IF(O296=\"\",0,IF(O296=\"H\",0,IF(P296<Veriler!$F$2,K296*Veriler!$F$2,K296*P296))))),\" \")","v":0},{"$f":"IF(Veriler!P296<=0.1, R296, IF(AND(Veriler!P296>0.1, E296=\"\", O296=\"E\"), IF(P296>Veriler!$F$2, P296*R296, IF(P296<Veriler!$F$2, Veriler!$F$2*R296, P296*R296)), 0))","v":0}," ",{"$f":"IFERROR(IF(N296=\"%10 sınırı aşılmıştır.\",K296-S296,IFERROR(IF(E296=\"\",IF(R296=1,0,IF(K296-R296=0,\"\",K296-R296)),IF(Veriler!I296=\"\",K296,IF(K296*Veriler!I296=0,\"\",K296*Veriler!I296))),K296)),0)","v":""}]
[222,{"$nulls":4},"",{"$nulls":4},"",{"$f":"IF(K297=\"\", \"\", K297/Veriler!$T$1)","v":""},{"$f":"IF(E297<>\"\", \"İthal Girdi\", IF(Veriler!P297=\"\", \"\", IF(Veriler!O297=\"H\", \"%0,5 üzerindedir\", IF(Veriler!P297>0.1, \"%10 sınırı aşılmıştır.\", \"Uygun\"))))","v":"%0,5 üzerindedir"}," ",null,null,"",{"$f":"IFERROR(IF(L297<=0.005,IF(E297=\"\",K297,0),IF(E297<>\"\",0,IF(O297=\"\",0,IF(O297=\"H\",0,IF(P297<Veriler!$F$2,K297*Veriler!$F$2,K297*P297))))),\" \")","v":0},{"$f":"IF(Veriler!P297<=0.1, R297, IF(AND(Veriler!P297>0.1, E297=\"\", O297=\"E\"), IF(P297>Veriler!$F$2, P297*R297, IF(P297<Veriler!$F$2, Veriler!$F$2*R297, P297*R297)), 0))","v":0}," ",{"$f":"IFERROR(IF(N297=\"%10 sınırı aşılmıştır.\",K297-S297,IFERROR(IF(E297=\"\",IF(R297=1,0,IF(K297-R297=0,\"\",K297-R297)),IF(Veriler!I297=\"\",K297,IF(K297*Veriler!I297=0,\"\",K297*Veriler!I297))),K297)),0)","v":""}]
[223,{"$nulls":4},"",{"$nulls":4},"",{"$f":"IF(K298=\"\", \"\", K298/Veriler!$T$1)","v":""},{"$f":"IF(E298<>\"\", \"İthal Girdi\", IF(Veriler!P298=\"\", \"\", IF(Veriler!O298=\"H\", \"%0,5 üzerindedir\", IF(Veriler!P298>0.1, \"%10 sınırı aşılmıştır.\", \"Uygun\"))))","v":"%0,5 üzerindedir"}," ",null,null,"",{"$f":"IFERROR(IF(L298<=0.005,IF(E298=\"\",K298,0),IF(E298<>\"\",0,IF(O298=\"\",0,IF(O298=\"H\",0,IF(P298<Veriler!$F$2,K298*Veriler!$F$2,K298*P298))))),\" \")","v":0},{"$f":"IF(Veriler!P298<=0.1, R298, IF(AND(Veriler!P298>0.1, E298=\"\", O298=\"E\"), IF(P298>Veriler!$F$2, P298*R298, IF(P298<Veriler!$F$2, Veriler!$F$2*R298, P298*R298)), 0))","v":0}," ",{"$f":"IFERROR(IF(N298=\"%10 sınırı aşılmıştır.\",K298-S298,IFERROR(IF(E298=\"\",IF(R298=1,0,IF(K298-R298=0,\"\",K298-R298)),IF(Veriler!I298=\"\",K298,IF(K298*Veriler!I298=0,\"\",K298*Veriler!I298))),K298)),0)","v":""}]
[224,{"$nulls":4},"",{"$nulls":4},"",{"$f":"IF(K299=\"\", \"\", K299/Veriler!$T$1)","v":""},{"$f":"IF(E299<>\"\", \"İthal Girdi\", IF(Veriler!P299=\"\", \"\", IF(Veriler!O299=\"H\", \"%0,5 üzerindedir\", IF(Veriler!P299>0.1, \"%10 sınırı aşılmıştır.\", \"Uygun\"))))","v":"%0,5 üzerindedir"}," ",null,null,"",{"$f":"IFERROR(IF(L299<=0.005,IF(E299=\"\",K299,0),IF(E299<>\"\",0,IF(O299=\"\",0,IF(O299=\"H\",0,IF(P299<Veriler!$F$2,K299*Veriler!$F$2,K299*P299))))),\" \")","v":0},{"$f":"IF(Veriler!P299<=0.1, R299, IF(AND(Veriler!P299>0.1, E299=\"\", O299=\"E\"), IF(P299>Veriler!$F$2, P299*R299, IF(P299<Veriler!$F$2, Veriler!$F$2*R299, P299*R299)), 0))","v":0}," ",{"$f":"IFERROR(IF(N299=\"%10 sınırı aşılmıştır.\",K299-S299,IFERROR(IF(E299=\"\",IF(R299=1,0,IF(K299-R299=0,\"\",K299-R299)),IF(Veriler!I299=\"\",K299,IF(K299*Veriler!I299=0,\"\",K299*Veriler!I299))),K299)),0)","v":""}]
[{"$nulls":10},{"$f":"SUM(K271:K284,K286:K299)","v":0}]
[{"$nulls":17},"T1","T1","T1","T2"]
["Sayfa Toplamı (TL)  *(Genel Dip Toplam Ek.3-D sayfasında otomatik hesaplanacaktır.)",{"$nulls":16},{"$f":"IF(SUM(R264,R271:R284,R286:R299)=0,\"\",SUM(R264,R271:R284,R286:R299))","v":""},{"$f":"IF(SUM(S271:S284,S286:S299)=0,\" \",SUM(S271:S284,S286:S299))","v":" "},{"$f":"IF(SUM(T271:T284,T286:T299)=0,\" \",SUM(T271:T284,T286:T299))","v":" "},{"$f":"IF(SUM(U271:U284,U286:U299)=0,\" \",SUM(U271:U284,U286:U299))","v":" "}]
[]
[{"$f":"A342","v":"R02"}]
["YERLİ KATKI ORANI HESAP CETVELİ                      ",{"$nulls":13},false]
["A) Nihai Ürün Doğrudan ve Dolaylı Malzeme Giderleri                                                                                                                                                                                                                                                                                                                                                                                                                                         ",{"$nulls":18},"S",{"$f":"U268+1","v":9}]
["Sıra No","Malzeme adı / Faturadaki Ürün Adı",null,"Üretici Unvanı","GTİP Kodu                             (İthal girdiler için)","Gtip Katsayısı","Miktar ","Birim","Fiyatı \n(TL/Döviz)\n","Döviz Kuru               (TL ise 1 alınız)","Fatura Tutarı (TL)","Girdi Maliyet Yüzdesi (%)","Girdi yüzdesi %0,5 altında olan girdiler için %10 sınır kontrolü","Girdi yüzdesi %0,5 altında olan girdiler için %10 sınır kontrolü","SSB/  Müstahsil                (E/H)","YKO (%) (Manuel girilmeli)","Geçerli Yerli Oranı (%)","Yerli Maliyet Tutarı                            (T1)","Yerli Maliyet Tutarı (T1)","Yerli Maliyet Tutarı (T1)","İthal Maliyet Tutarı               (T2)"]
[null,"Doğrudan Girdi                                                         (Dolaylı girdiniz varsa en son 25. sayfaya doldurunuz)"]
[{"$f":"A299+1","v":225},{"$nulls":4},{"$f":"IF(AND(E309<>\"\",U309<>\"\",K309<>0),U309/K309,\"\")","v":""},{"$nulls":4},{"$f":"IF(AND(G309<>0, I309<>0, J309<>0), G309*I309*J309, \"\")","v":""},{"$f":"IF(K309=\"\", \"\", K309/Veriler!$T$1)","v":""},{"$f":"IF(E309<>\"\", \"İthal Girdi\", IF(Veriler!P309=\"\", \"\", IF(Veriler!O309=\"H\", \"%0,5 üzerindedir\", IF(Veriler!P309>0.1, \"%10 sınırı aşılmıştır.\", \"Uygun\"))))","v":"%0,5 üzerindedir"},{"$f":"IF(L309=\"\",\" \",M309)","v":" "},null,null,{"$f":"IFERROR(IF(AND(S309<>\"\",K309<>\"\",K309<>0,S309<>0),S309/K309,\"\"),\" \")","v":""},{"$f":"IFERROR(IF(L309<=0.005,IF(E309=\"\",K309,0),IF(E309<>\"\",0,IF(O309=\"\",0,IF(O309=\"H\",0,IF(P309<Veriler!$F$2,K309*Veriler!$F$2,K309*P309))))),\" \")","v":0},{"$f":"IF(Veriler!P309<=0.1, R309, IF(AND(Veriler!P309>0.1, E309=\"\", O309=\"E\"), IF(P309>Veriler!$F$2, P309*R309, IF(P309<Veriler!$F$2, Veriler!$F$2*R309, P309*R309)), 0))","v":0},{"$f":"IF(S309=0,\" \",S309)","v":" "},{"$f":"IFERROR(IF(N309=\"%10 sınırı aşılmıştır.\",K309-S309,IFERROR(IF(E309=\"\",IF(R309=1,0,IF(K309-R309=0,\"\",K309-R309)),IF(Veriler!I309=\"\",K309,IF(K309*Veriler!I309=0,\"\",K309*Veriler!I309))),K309)),0)","v":""}]
[{"$f":"A309+1","v":226},{"$nulls":4},"",{"$nulls":4},"",{"$f":"IF(K310=\"\", \"\", K310/Veriler!$T$1)","v":""},{"$f":"IF(E310<>\"\", \"İthal Girdi\", IF(Veriler!P310=\"\", \"\", IF(Veriler!O310=\"H\", \"%0,5 üzerindedir\", IF(Veriler!P310>0.1, \"%10 sınırı aşılmıştır.\", \"Uygun\"))))","v":"%0,5 üzerindedir"}," ",null,null,"",{"$f":"IFERROR(IF(L310<=0.005,IF(E310=\"\",K310,0),IF(E310<>\"\",0,IF(O310=\"\",0,IF(O310=\"H\",0,IF(P310<Veriler!$F$2,K310*Veriler!$F$2,K310*P310))))),\" \")","v":0},{"$f":"IF(Veriler!P310<=0.1, R310, IF(AND(Veriler!P310>0.1, E310=\"\", O310=\"E\"), IF(P310>Veriler!$F$2, P310*R310, IF(P310<Veriler!$F$2, Veriler!$F$2*R310, P310*R310)), 0))","v":0}," ",{"$f":"IFERROR(IF(N310=\"%10 sınırı aşılmıştır.\",K310-S310,IFERROR(IF(E310=\"\",IF(R310=1,0,IF(K310-R310=0,\"\",K310-R310)),IF(Veriler!I310=\"\",K310,IF(K310*Veriler!I310=0,\"\",K310*Veriler!I310))),K310)),0)","v":""}]
[{"$f":"A310+1","v":227},{"$nulls":4},"",{"$nulls":4},"",{"$f":"IF(K311=\"\", \"\", K311/Veriler!$T$1)","v":""},{"$f":"IF(E311<>\"\", \"İthal Girdi\", IF(Veriler!P311=\"\", \"\", IF(Veriler!O311=\"H\", \"%0,5 üzerindedir\", IF(Veriler!P311>0.1, \"%10 sınırı aşılmıştır.\", \"Uygun\"))))","v":"%0,5 üzerindedir"}," ",null,null,"",{"$f":"IFERROR(IF(L311<=0.005,IF(E311=\"\",K311,0),IF(E311<>\"\",0,IF(O311=\"\",0,IF(O311=\"H\",0,IF(P311<Veriler!$F$2,K311*Veriler!$F$2,K311*P311))))),\" \")","v":0},{"$f":"IF(Veriler!P311<=0.1, R311, IF(AND(Veriler!P311>0.1, E311=\"\", O311=\"E\"), IF(P311>Veriler!$F$2, P311*R311, IF(P311<Veriler!$F$2, Veriler!$F$2*R311, P311*R311)), 0))","v":0}," ",{"$f":"IFERROR(IF(N311=\"%10 sınırı aşılmıştır.\",K311-S311,IFERROR(IF(E311=\"\",IF(R311=1,0,IF(K311-R311=0,\"\",K311-R311)),IF(Veriler!I311=\"\",K311,IF(K311*Veriler!I311=0,\"\",K311*Veriler!I311))),K311)),0)","v":""}]
[228,{"$nulls":4},"",{"$nulls":4},"",{"$f":"IF(K312=\"\", \"\", K312/Veriler!$T$1)","v":""},{"$f":"IF(E312<>\"\", \"İthal Girdi\", IF(Veriler!P312=\"\", \"\", IF(Veriler!O312=\"H\", \"%0,5 üzerindedir\", IF(Veriler!P312>0.1, \"%10 sınırı aşılmıştır.\", \"Uygun\"))))","v":"%0,5 üzerindedir"}," ",null,null,"",{"$f":"IFERROR(IF(L312<=0.005,IF(E312=\"\",K312,0),IF(E312<>\"\",0,IF(O312=\"\",0,IF(O312=\"H\",0,IF(P312<Veriler!$F$2,K312*Veriler!$F$2,K312*P312))))),\" \")","v":0},{"$f":"IF(Veriler!P312<=0.1, R312, IF(AND(Veriler!P312>0.1, E312=\"\", O312=\"E\"), IF(P312>Veriler!$F$2, P312*R312, IF(P312<Veriler!$F$2, Veriler!$F$2*R312, P312*R312)), 0))","v":0}," ",{"$f":"IFERROR(IF(N312=\"%10 sınırı aşılmıştır.\",K312-S312,IFERROR(IF(E312=\"\",IF(R312=1,0,IF(K312-R312=0,\"\",K312-R312)),IF(Veriler!I312=\"\",K312,IF(K312*Veriler!I312=0,\"\",K312*Veriler!I312))),K312)),0)","v":""}]
[229,{"$nulls":4},"",{"$nulls":4},"",{"$f":"IF(K313=\"\", \"\", K313/Veriler!$T$1)","v":""},{"$f":"IF(E313<>\"\", \"İthal Girdi\", IF(Veriler!P313=\"\", \"\", IF(Veriler!O313=\"H\", \"%0,5 üzerindedir\", IF(Veriler!P313>0.1, \"%10 sınırı aşılmıştır.\", \"Uygun\"))))","v":"%0,5 üzerindedir"}," ",null,null,"",{"$f":"IFERROR(IF(L313<=0.005,IF(E313=\"\",K313,0),IF(E313<>\"\",0,IF(O313=\"\",0,IF(O313=\"H\",0,IF(P313<Veriler!$F$2,K313*Veriler!$F$2,K313*P313))))),\" \")","v":0},{"$f":"IF(Veriler!P313<=0.1, R313, IF(AND(Veriler!P313>0.1, E313=\"\", O313=\"E\"), IF(P313>Veriler!$F$2, P313*R313, IF(P313<Veriler!$F$2, Veriler!$F$2*R313, P313*R313)), 0))","v":0}," ",{"$f":"IFERROR(IF(N313=\"%10 sınırı aşılmıştır.\",K313-S313,IFERROR(IF(E313=\"\",IF(R313=1,0,IF(K313-R313=0,\"\",K313-R313)),IF(Veriler!I313=\"\",K313,IF(K313*Veriler!I313=0,\"\",K313*Veriler!I313))),K313)),0)","v":""}]
[230,{"$nulls":4},"",{"$nulls":4},"",{"$f":"IF(K314=\"\", \"\", K314/Veriler!$T$1)","v":""},{"$f":"IF(E314<>\"\", \"İthal Girdi\", IF(Veriler!P314=\"\", \"\", IF(Veriler!O314=\"H\", \"%0,5 üzerindedir\", IF(Veriler!P314>0.1, \"%10 sınırı aşılmıştır.\", \"Uygun\"))))","v":"%0,5 üzerindedir"}," ",null,null,"",{"$f":"IFERROR(IF(L314<=0.005,IF(E314=\"\",K314,0),IF(E314<>\"\",0,IF(O314=\"\",0,IF(O314=\"H\",0,IF(P314<Veriler!$F$2,K314*Veriler!$F$2,K314*P314))))),\" \")","v":0},{"$f":"IF(Veriler!P314<=0.1, R314, IF(AND(Veriler!P314>0.1, E314=\"\", O314=\"E\"), IF(P314>Veriler!$F$2, P314*R314, IF(P314<Veriler!$F$2, Veriler!$F$2*R314, P314*R314)), 0))","v":0}," ",{"$f":"IFERROR(IF(N314=\"%10 sınırı aşılmıştır.\",K314-S314,IFERROR(IF(E314=\"\",IF(R314=1,0,IF(K314-R314=0,\"\",K314-R314)),IF(Veriler!I314=\"\",K314,IF(K314*Veriler!I314=0,\"\",K314*Veriler!I314))),K314)),0)","v":""}]
[231,{"$nulls":4},"",{"$nulls":4},"",{"$f":"IF(K315=\"\", \"\", K315/Veriler!$T$1)","v":""},{"$f":"IF(E315<>\"\", \"İthal Girdi\", IF(Veriler!P315=\"\", \"\", IF(Veriler!O315=\"H\", \"%0,5 üzerindedir\", IF(Veriler!P315>0.1, \"%10 sınırı aşılmıştır.\", \"Uygun\"))))","v":"%0,5 üzerindedir"}," ",null,null,"",{"$f":"IFERROR(IF(L315<=0.005,IF(E315=\"\",K315,0),IF(E315<>\"\",0,IF(O315=\"\",0,IF(O315=\"H\",0,IF(P315<Veriler!$F$2,K315*Veriler!$F$2,K315*P315))))),\" \")","v":0},{"$f":"IF(Veriler!P315<=0.1, R315, IF(AND(Veriler!P315>0.1, E315=\"\", O315=\"E\"), IF(P315>Veriler!$F$2, P315*R315, IF(P315<Veriler!$F$2, Veriler!$F$2*R315, P315*R315)), 0))","v":0}," ",{"$f":"IFERROR(IF(N315=\"%10 sınırı aşılmıştır.\",K315-S315,IFERROR(IF(E315=\"\",IF(R315=1,0,IF(K315-R315=0,\"\",K315-R315)),IF(Veriler!I315=\"\",K315,IF(K315*Veriler!I315=0,\"\",K315*Veriler!I315))),K315)),0)","v":""}]
[232,{"$nulls":4},"",{"$nulls":4},"",{"$f":"IF(K316=\"\", \"\", K316/Veriler!$T$1)","v":""},{"$f":"IF(E316<>\"\", \"İthal Girdi\", IF(Veriler!P316=\"\", \"\", IF(Veriler!O316=\"H\", \"%0,5 üzerindedir\", IF(Veriler!P316>0.1, \"%10 sınırı aşılmıştır.\", \"Uygun\"))))","v":"%0,5 üzerindedir"}," ",null,null,"",{"$f":"IFERROR(IF(L316<=0.005,IF(E316=\"\",K316,0),IF(E316<>\"\",0,IF(O316=\"\",0,IF(O316=\"H\",0,IF(P316<Veriler!$F$2,K316*Veriler!$F$2,K316*P316))))),\" \")","v":0},{"$f":"IF(Veriler!P316<=0.1, R316, IF(AND(Veriler!P316>0.1, E316=\"\", O316=\"E\"), IF(P316>Veriler!$F$2, P316*R316, IF(P316<Veriler!$F$2, Veriler!$F$2*R316, P316*R316)), 0))","v":0}," ",{"$f":"IFERROR(IF(N316=\"%10 sınırı aşılmıştır.\",K316-S316,IFERROR(IF(E316=\"\",IF(R316=1,0,IF(K316-R316=0,\"\",K316-R316)),IF(Veriler!I316=\"\",K316,IF(K316*Veriler!I316=0,\"\",K316*Veriler!I316))),K316)),0)","v":""}]
[233,{"$nulls":4},"",{"$nulls":4},"",{"$f":"IF(K317=\"\", \"\", K317/Veriler!$T$1)","v":""},{"$f":"IF(E317<>\"\", \"İthal Girdi\", IF(Veriler!P317=\"\", \"\", IF(Veriler!O317=\"H\", \"%0,5 üzerindedir\", IF(Veriler!P317>0.1, \"%10 sınırı aşılmıştır.\", \"Uygun\"))))","v":"%0,5 üzerindedir"}," ",null,null,"",{"$f":"IFERROR(IF(L317<=0.005,IF(E317=\"\",K317,0),IF(E317<>\"\",0,IF(O317=\"\",0,IF(O317=\"H\",0,IF(P317<Veriler!$F$2,K317*Veriler!$F$2,K317*P317))))),\" \")","v":0},{"$f":"IF(Veriler!P317<=0.1, R317, IF(AND(Veriler!P317>0.1, E317=\"\", O317=\"E\"), IF(P317>Veriler!$F$2, P317*R317, IF(P317<Veriler!$F$2, Veriler!$F$2*R317, P317*R317)), 0))","v":0}," ",{"$f":"IFERROR(IF(N317=\"%10 sınırı aşılmıştır.\",K317-S317,IFERROR(IF(E317=\"\",IF(R317=1,0,IF(K317-R317=0,\"\",K317-R317)),IF(Veriler!I317=\"\",K317,IF(K317*Veriler!I317=0,\"\",K317*Veriler!I317))),K317)),0)","v":""}]
[234,{"$nulls":4},"",{"$nulls":4},"",{"$f":"IF(K318=\"\", \"\", K318/Veriler!$T$1)","v":""},{"$f":"IF(E318<>\"\", \"İthal Girdi\", IF(Veriler!P318=\"\", \"\", IF(Veriler!O318=\"H\", \"%0,5 üzerindedir\", IF(Veriler!P318>0.1, \"%10 sınırı aşılmıştır.\", \"Uygun\"))))","v":"%0,5 üzerindedir"}," ",null,null,"",{"$f":"IFERROR(IF(L318<=0.005,IF(E318=\"\",K318,0),IF(E318<>\"\",0,IF(O318=\"\",0,IF(O318=\"H\",0,IF(P318<Veriler!$F$2,K318*Veriler!$F$2,K318*P318))))),\" \")","v":0},{"$f":"IF(Veriler!P318<=0.1, R318, IF(AND(Veriler!P318>0.1, E318=\"\", O318=\"E\"), IF(P318>Veriler!$F$2, P318*R318, IF(P318<Veriler!$F$2, Veriler!$F$2*R318, P318*R318)), 0))","v":0}," ",{"$f":"IFERROR(IF(N318=\"%10 sınırı aşılmıştır.\",K318-S318,IFERROR(IF(E318=\"\",IF(R318=1,0,IF(K318-R318=0,\"\",K318-R318)),IF(Veriler!I318=\"\",K318,IF(K318*Veriler!I318=0,\"\",K318*Veriler!I318))),K318)),0)","v":""}]
[235,{"$nulls":4},"",{"$nulls":4},"",{"$f":"IF(K319=\"\", \"\", K319/Veriler!$T$1)","v":""},{"$f":"IF(E319<>\"\", \"İthal Girdi\", IF(Veriler!P319=\"\", \"\", IF(Veriler!O319=\"H\", \"%0,5 üzerindedir\", IF(Veriler!P319>0.1, \"%10 sınırı aşılmıştır.\", \"Uygun\"))))","v":"%0,5 üzerindedir"}," ",null,null,"",{"$f":"IFERROR(IF(L319<=0.005,IF(E319=\"\",K319,0),IF(E319<>\"\",0,IF(O319=\"\",0,IF(O319=\"H\",0,IF(P319<Veriler!$F$2,K319*Veriler!$F$2,K319*P319))))),\" \")","v":0},{"$f":"IF(Veriler!P319<=0.1, R319, IF(AND(Veriler!P319>0.1, E319=\"\", O319=\"E\"), IF(P319>Veriler!$F$2, P319*R319, IF(P319<Veriler!$F$2, Veriler!$F$2*R319, P319*R319)), 0))","v":0}," ",{"$f":"IFERROR(IF(N319=\"%10 sınırı aşılmıştır.\",K319-S319,IFERROR(IF(E319=\"\",IF(R319=1,0,IF(K319-R319=0,\"\",K319-R319)),IF(Veriler!I319=\"\",K319,IF(K319*Veriler!I319=0,\"\",K319*Veriler!I319))),K319)),0)","v":""}]
[236,{"$nulls":4},"",{"$nulls":4},"",{"$f":"IF(K320=\"\", \"\", K320/Veriler!$T$1)","v":""},{"$f":"IF(E320<>\"\", \"İthal Girdi\", IF(Veriler!P320=\"\", \"\", IF(Veriler!O320=\"H\", \"%0,5 üzerindedir\", IF(Veriler!P320>0.1, \"%10 sınırı aşılmıştır.\", \"Uygun\"))))","v":"%0,5 üzerindedir"}," ",null,null,"",{"$f":"IFERROR(IF(L320<=0.005,IF(E320=\"\",K320,0),IF(E320<>\"\",0,IF(O320=\"\",0,IF(O320=\"H\",0,IF(P320<Veriler!$F$2,K320*Veriler!$F$2,K320*P320))))),\" \")","v":0},{"$f":"IF(Veriler!P320<=0.1, R320, IF(AND(Veriler!P320>0.1, E320=\"\", O320=\"E\"), IF(P320>Veriler!$F$2, P320*R320, IF(P320<Veriler!$F$2, Veriler!$F$2*R320, P320*R320)), 0))","v":0}," ",{"$f":"IFERROR(IF(N320=\"%10 sınırı aşılmıştır.\",K320-S320,IFERROR(IF(E320=\"\",IF(R320=1,0,IF(K320-R320=0,\"\",K320-R320)),IF(Veriler!I320=\"\",K320,IF(K320*Veriler!I320=0,\"\",K320*Veriler!I320))),K320)),0)","v":""}]
[237,{"$nulls":4},"",{"$nulls":4},"",{"$f":"IF(K321=\"\", \"\", K321/Veriler!$T$1)","v":""},{"$f":"IF(E321<>\"\", \"İthal Girdi\", IF(Veriler!P321=\"\", \"\", IF(Veriler!O321=\"H\", \"%0,5 üzerindedir\", IF(Veriler!P321>0.1, \"%10 sınırı aşılmıştır.\", \"Uygun\"))))","v":"%0,5 üzerindedir"}," ",null,null,"",{"$f":"IFERROR(IF(L321<=0.005,IF(E321=\"\",K321,0),IF(E321<>\"\",0,IF(O321=\"\",0,IF(O321=\"H\",0,IF(P321<Veriler!$F$2,K321*Veriler!$F$2,K321*P321))))),\" \")","v":0},{"$f":"IF(Veriler!P321<=0.1, R321, IF(AND(Veriler!P321>0.1, E321=\"\", O321=\"E\"), IF(P321>Veriler!$F$2, P321*R321, IF(P321<Veriler!$F$2, Veriler!$F$2*R321, P321*R321)), 0))","v":0}," ",{"$f":"IFERROR(IF(N321=\"%10 sınırı aşılmıştır.\",K321-S321,IFERROR(IF(E321=\"\",IF(R321=1,0,IF(K321-R321=0,\"\",K321-R321)),IF(Veriler!I321=\"\",K321,IF(K321*Veriler!I321=0,\"\",K321*Veriler!I321))),K321)),0)","v":""}]
[238,{"$nulls":4},"",{"$nulls":4},"",{"$f":"IF(K322=\"\", \"\", K322/Veriler!$T$1)","v":""},{"$f":"IF(E322<>\"\", \"İthal Girdi\", IF(Veriler!P322=\"\", \"\", IF(Veriler!O322=\"H\", \"%0,5 üzerindedir\", IF(Veriler!P322>0.1, \"%10 sınırı aşılmıştır.\", \"Uygun\"))))","v":"%0,5 üzerindedir"}," ",null,null,"",{"$f":"IFERROR(IF(L322<=0.005,IF(E322=\"\",K322,0),IF(E322<>\"\",0,IF(O322=\"\",0,IF(O322=\"H\",0,IF(P322<Veriler!$F$2,K322*Veriler!$F$2,K322*P322))))),\" \")","v":0},{"$f":"IF(Veriler!P322<=0.1, R322, IF(AND(Veriler!P322>0.1, E322=\"\", O322=\"E\"), IF(P322>Veriler!$F$2, P322*R322, IF(P322<Veriler!$F$2, Veriler!$F$2*R322, P322*R322)), 0))","v":0}," ",{"$f":"IFERROR(IF(N322=\"%10 sınırı aşılmıştır.\",K322-S322,IFERROR(IF(E322=\"\",IF(R322=1,0,IF(K322-R322=0,\"\",K322-R322)),IF(Veriler!I322=\"\",K322,IF(K322*Veriler!I322=0,\"\",K322*Veriler!I322))),K322)),0)","v":""}]
[null,"Dolaylı"]
[{"$f":"A322+1","v":239},{"$nulls":4},{"$f":"IF(AND(E324<>\"\",U324<>\"\",K324<>0),U324/K324,\"\")","v":""},{"$nulls":4},{"$f":"IF(AND(G324<>0, I324<>0, J324<>0), G324*I324*J324, \"\")","v":""},{"$f":"IF(K324=\"\", \"\", K324/Veriler!$T$1)","v":""},{"$f":"IF(E324<>\"\", \"İthal Girdi\", IF(Veriler!P324=\"\", \"\", IF(Veriler!O324=\"H\", \"%0,5 üzerindedir\", IF(Veriler!P324>0.1, \"%10 sınırı aşılmıştır.\", \"Uygun\"))))","v":"%0,5 üzerindedir"},{"$f":"IF(L324=\"\",\" \",M324)","v":" "},null,null,{"$f":"IFERROR(IF(AND(S324<>\"\",K324<>\"\",K324<>0,S324<>0),S324/K324,\"\"),\" \")","v":""},{"$f":"IFERROR(IF(L324<=0.005,IF(E324=\"\",K324,0),IF(E324<>\"\",0,IF(O324=\"\",0,IF(O324=\"H\",0,IF(P324<Veriler!$F$2,K324*Veriler!$F$2,K324*P324))))),\" \")","v":0},{"$f":"IF(Veriler!P324<=0.1, R324, IF(AND(Veriler!P324>0.1, E324=\"\", O324=\"E\"), IF(P324>Veriler!$F$2, P324*R324, IF(P324<Veriler!$F$2, Veriler!$F$2*R324, P324*R324)), 0))","v":0},{"$f":"IF(S324=0,\" \",S324)","v":" "},{"$f":"IFERROR(IF(N324=\"%10 sınırı aşılmıştır.\",K324-S324,IFERROR(IF(E324=\"\",IF(R324=1,0,IF(K324-R324=0,\"\",K324-R324)),IF(Veriler!I324=\"\",K324,IF(K324*Veriler!I324=0,\"\",K324*Veriler!I324))),K324)),0)","v":""}]
[{"$f":"A324+1","v":240},{"$nulls":4},"",{"$nulls":4},"",{"$f":"IF(K325=\"\", \"\", K325/Veriler!$T$1)","v":""},{"$f":"IF(E325<>\"\", \"İthal Girdi\", IF(Veriler!P325=\"\", \"\", IF(Veriler!O325=\"H\", \"%0,5 üzerindedir\", IF(Veriler!P325>0.1, \"%10 sınırı aşılmıştır.\", \"Uygun\"))))","v":"%0,5 üzerindedir"}," ",null,null,"",{"$f":"IFERROR(IF(L325<=0.005,IF(E325=\"\",K325,0),IF(E325<>\"\",0,IF(O325=\"\",0,IF(O325=\"H\",0,IF(P325<Veriler!$F$2,K325*Veriler!$F$2,K325*P325))))),\" \")","v":0},{"$f":"IF(Veriler!P325<=0.1, R325, IF(AND(Veriler!P325>0.1, E325=\"\", O325=\"E\"), IF(P325>Veriler!$F$2, P325*R325, IF(P325<Veriler!$F$2, Veriler!$F$2*R325, P325*R325)), 0))","v":0}," ",{"$f":"IFERROR(IF(N325=\"%10 sınırı aşılmıştır.\",K325-S325,IFERROR(IF(E325=\"\",IF(R325=1,0,IF(K325-R325=0,\"\",K325-R325)),IF(Veriler!I325=\"\",K325,IF(K325*Veriler!I325=0,\"\",K325*Veriler!I325))),K325)),0)","v":""}]
[{"$f":"A325+1","v":241},{"$nulls":4},"",{"$nulls":4},"",{"$f":"IF(K326=\"\", \"\", K326/Veriler!$T$1)","v":""},{"$f":"IF(E326<>\"\", \"İthal Girdi\", IF(Veriler!P326=\"\", \"\", IF(Veriler!O326=\"H\", \"%0,5 üzerindedir\", IF(Veriler!P326>0.1, \"%10 sınırı aşılmıştır.\", \"Uygun\"))))","v":"%0,5 üzerindedir"}," ",null,null,"",{"$f":"IFERROR(IF(L326<=0.005,IF(E326=\"\",K326,0),IF(E326<>\"\",0,IF(O326=\"\",0,IF(O326=\"H\",0,IF(P326<Veriler!$F$2,K326*Veriler!$F$2,K326*P326))))),\" \")","v":0},{"$f":"IF(Veriler!P326<=0.1, R326, IF(AND(Veriler!P326>0.1, E326=\"\", O326=\"E\"), IF(P326>Veriler!$F$2, P326*R326, IF(P326<Veriler!$F$2, Veriler!$F$2*R326, P326*R326)), 0))","v":0}," ",{"$f":"IFERROR(IF(N326=\"%10 sınırı aşılmıştır.\",K326-S326,IFERROR(IF(E326=\"\",IF(R326=1,0,IF(K326-R326=0,\"\",K326-R326)),IF(Veriler!I326=\"\",K326,IF(K326*Veriler!I326=0,\"\",K326*Veriler!I326))),K326)),0)","v":""}]
[242,{"$nulls":4},"",{"$nulls":4},"",{"$f":"IF(K327=\"\", \"\", K327/Veriler!$T$1)","v":""},{"$f":"IF(E327<>\"\", \"İthal Girdi\", IF(Veriler!P327=\"\", \"\", IF(Veriler!O327=\"H\", \"%0,5 üzerindedir\", IF(Veriler!P327>0.1, \"%10 sınırı aşılmıştır.\", \"Uygun\"))))","v":"%0,5 üzerindedir"}," ",null,null,"",{"$f":"IFERROR(IF(L327<=0.005,IF(E327=\"\",K327,0),IF(E327<>\"\",0,IF(O327=\"\",0,IF(O327=\"H\",0,IF(P327<Veriler!$F$2,K327*Veriler!$F$2,K327*P327))))),\" \")","v":0},{"$f":"IF(Veriler!P327<=0.1, R327, IF(AND(Veriler!P327>0.1, E327=\"\", O327=\"E\"), IF(P327>Veriler!$F$2, P327*R327, IF(P327<Veriler!$F$2, Veriler!$F$2*R327, P327*R327)), 0))","v":0}," ",{"$f":"IFERROR(IF(N327=\"%10 sınırı aşılmıştır.\",K327-S327,IFERROR(IF(E327=\"\",IF(R327=1,0,IF(K327-R327=0,\"\",K327-R327)),IF(Veriler!I327=\"\",K327,IF(K327*Veriler!I327=0,\"\",K327*Veriler!I327))),K327)),0)","v":""}]
[243,{"$nulls":4},"",{"$nulls":4},"",{"$f":"IF(K328=\"\", \"\", K328/Veriler!$T$1)","v":""},{"$f":"IF(E328<>\"\", \"İthal Girdi\", IF(Veriler!P328=\"\", \"\", IF(Veriler!O328=\"H\", \"%0,5 üzerindedir\", IF(Veriler!P328>0.1, \"%10 sınırı aşılmıştır.\", \"Uygun\"))))","v":"%0,5 üzerindedir"}," ",null,null,"",{"$f":"IFERROR(IF(L328<=0.005,IF(E328=\"\",K328,0),IF(E328<>\"\",0,IF(O328=\"\",0,IF(O328=\"H\",0,IF(P328<Veriler!$F$2,K328*Veriler!$F$2,K328*P328))))),\" \")","v":0},{"$f":"IF(Veriler!P328<=0.1, R328, IF(AND(Veriler!P328>0.1, E328=\"\", O328=\"E\"), IF(P328>Veriler!$F$2, P328*R328, IF(P328<Veriler!$F$2, Veriler!$F$2*R328, P328*R328)), 0))","v":0}," ",{"$f":"IFERROR(IF(N328=\"%10 sınırı aşılmıştır.\",K328-S328,IFERROR(IF(E328=\"\",IF(R328=1,0,IF(K328-R328=0,\"\",K328-R328)),IF(Veriler!I328=\"\",K328,IF(K328*Veriler!I328=0,\"\",K328*Veriler!I328))),K328)),0)","v":""}]
[244,{"$nulls":4},"",{"$nulls":4},"",{"$f":"IF(K329=\"\", \"\", K329/Veriler!$T$1)","v":""},{"$f":"IF(E329<>\"\", \"İthal Girdi\", IF(Veriler!P329=\"\", \"\", IF(Veriler!O329=\"H\", \"%0,5 üzerindedir\", IF(Veriler!P329>0.1, \"%10 sınırı aşılmıştır.\", \"Uygun\"))))","v":"%0,5 üzerindedir"}," ",null,null,"",{"$f":"IFERROR(IF(L329<=0.005,IF(E329=\"\",K329,0),IF(E329<>\"\",0,IF(O329=\"\",0,IF(O329=\"H\",0,IF(P329<Veriler!$F$2,K329*Veriler!$F$2,K329*P329))))),\" \")","v":0},{"$f":"IF(Veriler!P329<=0.1, R329, IF(AND(Veriler!P329>0.1, E329=\"\", O329=\"E\"), IF(P329>Veriler!$F$2, P329*R329, IF(P329<Veriler!$F$2, Veriler!$F$2*R329, P329*R329)), 0))","v":0}," ",{"$f":"IFERROR(IF(N329=\"%10 sınırı aşılmıştır.\",K329-S329,IFERROR(IF(E329=\"\",IF(R329=1,0,IF(K329-R329=0,\"\",K329-R329)),IF(Veriler!I329=\"\",K329,IF(K329*Veriler!I329=0,\"\",K329*Veriler!I329))),K329)),0)","v":""}]
[245,{"$nulls":4},"",{"$nulls":4},"",{"$f":"IF(K330=\"\", \"\", K330/Veriler!$T$1)","v":""},{"$f":"IF(E330<>\"\", \"İthal Girdi\", IF(Veriler!P330=\"\", \"\", IF(Veriler!O330=\"H\", \"%0,5 üzerindedir\", IF(Veriler!P330>0.1, \"%10 sınırı aşılmıştır.\", \"Uygun\"))))","v":"%0,5 üzerindedir"}," ",null,null,"",{"$f":"IFERROR(IF(L330<=0.005,IF(E330=\"\",K330,0),IF(E330<>\"\",0,IF(O330=\"\",0,IF(O330=\"H\",0,IF(P330<Veriler!$F$2,K330*Veriler!$F$2,K330*P330))))),\" \")","v":0},{"$f":"IF(Veriler!P330<=0.1, R330, IF(AND(Veriler!P330>0.1, E330=\"\", O330=\"E\"), IF(P330>Veriler!$F$2, P330*R330, IF(P330<Veriler!$F$2, Veriler!$F$2*R330, P330*R330)), 0))","v":0}," ",{"$f":"IFERROR(IF(N330=\"%10 sınırı aşılmıştır.\",K330-S330,IFERROR(IF(E330=\"\",IF(R330=1,0,IF(K330-R330=0,\"\",K330-R330)),IF(Veriler!I330=\"\",K330,IF(K330*Veriler!I330=0,\"\",K330*Veriler!I330))),K330)),0)","v":""}]
[246,{"$nulls":4},"",{"$nulls":4},"",{"$f":"IF(K331=\"\", \"\", K331/Veriler!$T$1)","v":""},{"$f":"IF(E331<>\"\", \"İthal Girdi\", IF(Veriler!P331=\"\", \"\", IF(Veriler!O331=\"H\", \"%0,5 üzerindedir\", IF(Veriler!P331>0.1, \"%10 sınırı aşılmıştır.\", \"Uygun\"))))","v":"%0,5 üzerindedir"}," ",null,null,"",{"$f":"IFERROR(IF(L331<=0.005,IF(E331=\"\",K331,0),IF(E331<>\"\",0,IF(O331=\"\",0,IF(O331=\"H\",0,IF(P331<Veriler!$F$2,K331*Veriler!$F$2,K331*P331))))),\" \")","v":0},{"$f":"IF(Veriler!P331<=0.1, R331, IF(AND(Veriler!P331>0.1, E331=\"\", O331=\"E\"), IF(P331>Veriler!$F$2, P331*R331, IF(P331<Veriler!$F$2, Veriler!$F$2*R331, P331*R331)), 0))","v":0}," ",{"$f":"IFERROR(IF(N331=\"%10 sınırı aşılmıştır.\",K331-S331,IFERROR(IF(E331=\"\",IF(R331=1,0,IF(K331-R331=0,\"\",K331-R331)),IF(Veriler!I331=\"\",K331,IF(K331*Veriler!I331=0,\"\",K331*Veriler!I331))),K331)),0)","v":""}]
[247,{"$nulls":4},"",{"$nulls":4},"",{"$f":"IF(K332=\"\", \"\", K332/Veriler!$T$1)","v":""},{"$f":"IF(E332<>\"\", \"İthal Girdi\", IF(Veriler!P332=\"\", \"\", IF(Veriler!O332=\"H\", \"%0,5 üzerindedir\", IF(Veriler!P332>0.1, \"%10 sınırı aşılmıştır.\", \"Uygun\"))))","v":"%0,5 üzerindedir"}," ",null,null,"",{"$f":"IFERROR(IF(L332<=0.005,IF(E332=\"\",K332,0),IF(E332<>\"\",0,IF(O332=\"\",0,IF(O332=\"H\",0,IF(P332<Veriler!$F$2,K332*Veriler!$F$2,K332*P332))))),\" \")","v":0},{"$f":"IF(Veriler!P332<=0.1, R332, IF(AND(Veriler!P332>0.1, E332=\"\", O332=\"E\"), IF(P332>Veriler!$F$2, P332*R332, IF(P332<Veriler!$F$2, Veriler!$F$2*R332, P332*R332)), 0))","v":0}," ",{"$f":"IFERROR(IF(N332=\"%10 sınırı aşılmıştır.\",K332-S332,IFERROR(IF(E332=\"\",IF(R332=1,0,IF(K332-R332=0,\"\",K332-R332)),IF(Veriler!I332=\"\",K332,IF(K332*Veriler!I332=0,\"\",K332*Veriler!I332))),K332)),0)","v":""}]
[248,{"$nulls":4},"",{"$nulls":4},"",{"$f":"IF(K333=\"\", \"\", K333/Veriler!$T$1)","v":""},{"$f":"IF(E333<>\"\", \"İthal Girdi\", IF(Veriler!P333=\"\", \"\", IF(Veriler!O333=\"H\", \"%0,5 üzerindedir\", IF(Veriler!P333>0.1, \"%10 sınırı aşılmıştır.\", \"Uygun\"))))","v":"%0,5 üzerindedir"}," ",null,null,"",{"$f":"IFERROR(IF(L333<=0.005,IF(E333=\"\",K333,0),IF(E333<>\"\",0,IF(O333=\"\",0,IF(O333=\"H\",0,IF(P333<Veriler!$F$2,K333*Veriler!$F$2,K333*P333))))),\" \")","v":0},{"$f":"IF(Veriler!P333<=0.1, R333, IF(AND(Veriler!P333>0.1, E333=\"\", O333=\"E\"), IF(P333>Veriler!$F$2, P333*R333, IF(P333<Veriler!$F$2, Veriler!$F$2*R333, P333*R333)), 0))","v":0}," ",{"$f":"IFERROR(IF(N333=\"%10 sınırı aşılmıştır.\",K333-S333,IFERROR(IF(E333=\"\",IF(R333=1,0,IF(K333-R333=0,\"\",K333-R333)),IF(Veriler!I333=\"\",K333,IF(K333*Veriler!I333=0,\"\",K333*Veriler!I333))),K333)),0)","v":""}]
[249,{"$nulls":4},"",{"$nulls":4},"",{"$f":"IF(K334=\"\", \"\", K334/Veriler!$T$1)","v":""},{"$f":"IF(E334<>\"\", \"İthal Girdi\", IF(Veriler!P334=\"\", \"\", IF(Veriler!O334=\"H\", \"%0,5 üzerindedir\", IF(Veriler!P334>0.1, \"%10 sınırı aşılmıştır.\", \"Uygun\"))))","v":"%0,5 üzerindedir"}," ",null,null,"",{"$f":"IFERROR(IF(L334<=0.005,IF(E334=\"\",K334,0),IF(E334<>\"\",0,IF(O334=\"\",0,IF(O334=\"H\",0,IF(P334<Veriler!$F$2,K334*Veriler!$F$2,K334*P334))))),\" \")","v":0},{"$f":"IF(Veriler!P334<=0.1, R334, IF(AND(Veriler!P334>0.1, E334=\"\", O334=\"E\"), IF(P334>Veriler!$F$2, P334*R334, IF(P334<Veriler!$F$2, Veriler!$F$2*R334, P334*R334)), 0))","v":0}," ",{"$f":"IFERROR(IF(N334=\"%10 sınırı aşılmıştır.\",K334-S334,IFERROR(IF(E334=\"\",IF(R334=1,0,IF(K334-R334=0,\"\",K334-R334)),IF(Veriler!I334=\"\",K334,IF(K334*Veriler!I334=0,\"\",K334*Veriler!I334))),K334)),0)","v":""}]
[250,{"$nulls":4},"",{"$nulls":4},"",{"$f":"IF(K335=\"\", \"\", K335/Veriler!$T$1)","v":""},{"$f":"IF(E335<>\"\", \"İthal Girdi\", IF(Veriler!P335=\"\", \"\", IF(Veriler!O335=\"H\", \"%0,5 üzerindedir\", IF(Veriler!P335>0.1, \"%10 sınırı aşılmıştır.\", \"Uygun\"))))","v":"%0,5 üzerindedir"}," ",null,null,"",{"$f":"IFERROR(IF(L335<=0.005,IF(E335=\"\",K335,0),IF(E335<>\"\",0,IF(O335=\"\",0,IF(O335=\"H\",0,IF(P335<Veriler!$F$2,K335*Veriler!$F$2,K335*P335))))),\" \")","v":0},{"$f":"IF(Veriler!P335<=0.1, R335, IF(AND(Veriler!P335>0.1, E335=\"\", O335=\"E\"), IF(P335>Veriler!$F$2, P335*R335, IF(P335<Veriler!$F$2, Veriler!$F$2*R335, P335*R335)), 0))","v":0}," ",{"$f":"IFERROR(IF(N335=\"%10 sınırı aşılmıştır.\",K335-S335,IFERROR(IF(E335=\"\",IF(R335=1,0,IF(K335-R335=0,\"\",K335-R335)),IF(Veriler!I335=\"\",K335,IF(K335*Veriler!I335=0,\"\",K335*Veriler!I335))),K335)),0)","v":""}]
[251,{"$nulls":4},"",{"$nulls":4},"",{"$f":"IF(K336=\"\", \"\", K336/Veriler!$T$1)","v":""},{"$f":"IF(E336<>\"\", \"İthal Girdi\", IF(Veriler!P336=\"\", \"\", IF(Veriler!O336=\"H\", \"%0,5 üzerindedir\", IF(Veriler!P336>0.1, \"%10 sınırı aşılmıştır.\", \"Uygun\"))))","v":"%0,5 üzerindedir"}," ",null,null,"",{"$f":"IFERROR(IF(L336<=0.005,IF(E336=\"\",K336,0),IF(E336<>\"\",0,IF(O336=\"\",0,IF(O336=\"H\",0,IF(P336<Veriler!$F$2,K336*Veriler!$F$2,K336*P336))))),\" \")","v":0},{"$f":"IF(Veriler!P336<=0.1, R336, IF(AND(Veriler!P336>0.1, E336=\"\", O336=\"E\"), IF(P336>Veriler!$F$2, P336*R336, IF(P336<Veriler!$F$2, Veriler!$F$2*R336, P336*R336)), 0))","v":0}," ",{"$f":"IFERROR(IF(N336=\"%10 sınırı aşılmıştır.\",K336-S336,IFERROR(IF(E336=\"\",IF(R336=1,0,IF(K336-R336=0,\"\",K336-R336)),IF(Veriler!I336=\"\",K336,IF(K336*Veriler!I336=0,\"\",K336*Veriler!I336))),K336)),0)","v":""}]
[252,{"$nulls":4},"",{"$nulls":4},"",{"$f":"IF(K337=\"\", \"\", K337/Veriler!$T$1)","v":""},{"$f":"IF(E337<>\"\", \"İthal Girdi\", IF(Veriler!P337=\"\", \"\", IF(Veriler!O337=\"H\", \"%0,5 üzerindedir\", IF(Veriler!P337>0.1, \"%10 sınırı aşılmıştır.\", \"Uygun\"))))","v":"%0,5 üzerindedir"}," ",null,null,"",{"$f":"IFERROR(IF(L337<=0.005,IF(E337=\"\",K337,0),IF(E337<>\"\",0,IF(O337=\"\",0,IF(O337=\"H\",0,IF(P337<Veriler!$F$2,K337*Veriler!$F$2,K337*P337))))),\" \")","v":0},{"$f":"IF(Veriler!P337<=0.1, R337, IF(AND(Veriler!P337>0.1, E337=\"\", O337=\"E\"), IF(P337>Veriler!$F$2, P337*R337, IF(P337<Veriler!$F$2, Veriler!$F$2*R337, P337*R337)), 0))","v":0}," ",{"$f":"IFERROR(IF(N337=\"%10 sınırı aşılmıştır.\",K337-S337,IFERROR(IF(E337=\"\",IF(R337=1,0,IF(K337-R337=0,\"\",K337-R337)),IF(Veriler!I337=\"\",K337,IF(K337*Veriler!I337=0,\"\",K337*Veriler!I337))),K337)),0)","v":""}]
[{"$nulls":10},{"$f":"SUM(K309:K322,K324:K337)","v":0}]
[{"$nulls":17},"T1","T1","T1","T2"]
["Sayfa Toplamı (TL)  *(Genel Dip Toplam Ek.3-D sayfasında otomatik hesaplanacaktır.)",{"$nulls":16},{"$f":"IF(SUM(R302,R309:R322,R324:R337)=0,\"\",SUM(R302,R309:R322,R324:R337))","v":""},{"$f":"IF(SUM(S309:S322,S324:S337)=0,\" \",SUM(S309:S322,S324:S337))","v":" "},{"$f":"IF(SUM(T309:T322,T324:T337)=0,\" \",SUM(T309:T322,T324:T337))","v":" "},{"$f":"IF(SUM(U309:U322,U324:U337)=0,\" \",SUM(U309:U322,U324:U337))","v":" "}]
[]
[{"$f":"A380","v":"R02"}]
["YERLİ KATKI ORANI HESAP CETVELİ                      ",{"$nulls":13},false]
["A) Nihai Ürün Doğrudan ve Dolaylı Malzeme Giderleri                                                                                                                                                                                                                                                                                                                                                                                                                                         ",{"$nulls":18},"S",{"$f":"U306+1","v":10}]
["Sıra No","Malzeme adı / Faturadaki Ürün Adı",null,"Üretici Unvanı","GTİP Kodu                             (İthal girdiler için)","Gtip Katsayısı","Miktar ","Birim","Fiyatı \n(TL/Döviz)\n","Döviz Kuru               (TL ise 1 alınız)","Fatura Tutarı (TL)","Girdi Maliyet Yüzdesi (%)","Girdi yüzdesi %0,5 altında olan girdiler için %10 sınır kontrolü","Girdi yüzdesi %0,5 altında olan girdiler için %10 sınır kontrolü","SSB/  Müstahsil                (E/H)","YKO (%) (Manuel girilmeli)","Geçerli Yerli Oranı (%)","Yerli Maliyet Tutarı                            (T1)","Yerli Maliyet Tutarı (T1)","Yerli Maliyet Tutarı (T1)","İthal Maliyet Tutarı               (T2)"]
[null,"Doğrudan Girdi                                                         (Dolaylı girdiniz varsa en son 25. sayfaya doldurunuz)"]
[{"$f":"A337+1","v":253},{"$nulls":4},{"$f":"IF(AND(E347<>\"\",U347<>\"\",K347<>0),U347/K347,\"\")","v":""},{"$nulls":4},{"$f":"IF(AND(G347<>0, I347<>0, J347<>0), G347*I347*J347, \"\")","v":""},{"$f":"IF(K347=\"\", \"\", K347/Veriler!$T$1)","v":""},{"$f":"IF(E347<>\"\", \"İthal Girdi\", IF(Veriler!P347=\"\", \"\", IF(Veriler!O347=\"H\", \"%0,5 üzerindedir\", IF(Veriler!P347>0.1, \"%10 sınırı aşılmıştır.\", \"Uygun\"))))","v":"%0,5 üzerindedir"},{"$f":"IF(L347=\"\",\" \",M347)","v":" "},null,null,{"$f":"IFERROR(IF(AND(S347<>\"\",K347<>\"\",K347<>0,S347<>0),S347/K347,\"\"),\" \")","v":""},{"$f":"IFERROR(IF(L347<=0.005,IF(E347=\"\",K347,0),IF(E347<>\"\",0,IF(O347=\"\",0,IF(O347=\"H\",0,IF(P347<Veriler!$F$2,K347*Veriler!$F$2,K347*P347))))),\" \")","v":0},{"$f":"IF(Veriler!P347<=0.1, R347, IF(AND(Veriler!P347>0.1, E347=\"\", O347=\"E\"), IF(P347>Veriler!$F$2, P347*R347, IF(P347<Veriler!$F$2, Veriler!$F$2*R347, P347*R347)), 0))","v":0},{"$f":"IF(S347=0,\" \",S347)","v":" "},{"$f":"IFERROR(IF(N347=\"%10 sınırı aşılmıştır.\",K347-S347,IFERROR(IF(E347=\"\",IF(R347=1,0,IF(K347-R347=0,\"\",K347-R347)),IF(Veriler!I347=\"\",K347,IF(K347*Veriler!I347=0,\"\",K347*Veriler!I347))),K347)),0)","v":""}]
[{"$f":"A347+1","v":254},{"$nulls":4},"",{"$nulls":4},"",{"$f":"IF(K348=\"\", \"\", K348/Veriler!$T$1)","v":""},{"$f":"IF(E348<>\"\", \"İthal Girdi\", IF(Veriler!P348=\"\", \"\", IF(Veriler!O348=\"H\", \"%0,5 üzerindedir\", IF(Veriler!P348>0.1, \"%10 sınırı aşılmıştır.\", \"Uygun\"))))","v":"%0,5 üzerindedir"}," ",null,null,"",{"$f":"IFERROR(IF(L348<=0.005,IF(E348=\"\",K348,0),IF(E348<>\"\",0,IF(O348=\"\",0,IF(O348=\"H\",0,IF(P348<Veriler!$F$2,K348*Veriler!$F$2,K348*P348))))),\" \")","v":0},{"$f":"IF(Veriler!P348<=0.1, R348, IF(AND(Veriler!P348>0.1, E348=\"\", O348=\"E\"), IF(P348>Veriler!$F$2, P348*R348, IF(P348<Veriler!$F$2, Veriler!$F$2*R348, P348*R348)), 0))","v":0}," ",{"$f":"IFERROR(IF(N348=\"%10 sınırı aşılmıştır.\",K348-S348,IFERROR(IF(E348=\"\",IF(R348=1,0,IF(K348-R348=0,\"\",K348-R348)),IF(Veriler!I348=\"\",K348,IF(K348*Veriler!I348=0,\"\",K348*Veriler!I348))),K348)),0)","v":""}]
[{"$f":"A348+1","v":255},{"$nulls":4},"",{"$nulls":4},"",{"$f":"IF(K349=\"\", \"\", K349/Veriler!$T$1)","v":""},{"$f":"IF(E349<>\"\", \"İthal Girdi\", IF(Veriler!P349=\"\", \"\", IF(Veriler!O349=\"H\", \"%0,5 üzerindedir\", IF(Veriler!P349>0.1, \"%10 sınırı aşılmıştır.\", \"Uygun\"))))","v":"%0,5 üzerindedir"}," ",null,null,"",{"$f":"IFERROR(IF(L349<=0.005,IF(E349=\"\",K349,0),IF(E349<>\"\",0,IF(O349=\"\",0,IF(O349=\"H\",0,IF(P349<Veriler!$F$2,K349*Veriler!$F$2,K349*P349))))),\" \")","v":0},{"$f":"IF(Veriler!P349<=0.1, R349, IF(AND(Veriler!P349>0.1, E349=\"\", O349=\"E\"), IF(P349>Veriler!$F$2, P349*R349, IF(P349<Veriler!$F$2, Veriler!$F$2*R349, P349*R349)), 0))","v":0}," ",{"$f":"IFERROR(IF(N349=\"%10 sınırı aşılmıştır.\",K349-S349,IFERROR(IF(E349=\"\",IF(R349=1,0,IF(K349-R349=0,\"\",K349-R349)),IF(Veriler!I349=\"\",K349,IF(K349*Veriler!I349=0,\"\",K349*Veriler!I349))),K349)),0)","v":""}]
[256,{"$nulls":4},"",{"$nulls":4},"",{"$f":"IF(K350=\"\", \"\", K350/Veriler!$T$1)","v":""},{"$f":"IF(E350<>\"\", \"İthal Girdi\", IF(Veriler!P350=\"\", \"\", IF(Veriler!O350=\"H\", \"%0,5 üzerindedir\", IF(Veriler!P350>0.1, \"%10 sınırı aşılmıştır.\", \"Uygun\"))))","v":"%0,5 üzerindedir"}," ",null,null,"",{"$f":"IFERROR(IF(L350<=0.005,IF(E350=\"\",K350,0),IF(E350<>\"\",0,IF(O350=\"\",0,IF(O350=\"H\",0,IF(P350<Veriler!$F$2,K350*Veriler!$F$2,K350*P350))))),\" \")","v":0},{"$f":"IF(Veriler!P350<=0.1, R350, IF(AND(Veriler!P350>0.1, E350=\"\", O350=\"E\"), IF(P350>Veriler!$F$2, P350*R350, IF(P350<Veriler!$F$2, Veriler!$F$2*R350, P350*R350)), 0))","v":0}," ",{"$f":"IFERROR(IF(N350=\"%10 sınırı aşılmıştır.\",K350-S350,IFERROR(IF(E350=\"\",IF(R350=1,0,IF(K350-R350=0,\"\",K350-R350)),IF(Veriler!I350=\"\",K350,IF(K350*Veriler!I350=0,\"\",K350*Veriler!I350))),K350)),0)","v":""}]
[257,{"$nulls":4},"",{"$nulls":4},"",{"$f":"IF(K351=\"\", \"\", K351/Veriler!$T$1)","v":""},{"$f":"IF(E351<>\"\", \"İthal Girdi\", IF(Veriler!P351=\"\", \"\", IF(Veriler!O351=\"H\", \"%0,5 üzerindedir\", IF(Veriler!P351>0.1, \"%10 sınırı aşılmıştır.\", \"Uygun\"))))","v":"%0,5 üzerindedir"}," ",null,null,"",{"$f":"IFERROR(IF(L351<=0.005,IF(E351=\"\",K351,0),IF(E351<>\"\",0,IF(O351=\"\",0,IF(O351=\"H\",0,IF(P351<Veriler!$F$2,K351*Veriler!$F$2,K351*P351))))),\" \")","v":0},{"$f":"IF(Veriler!P351<=0.1, R351, IF(AND(Veriler!P351>0.1, E351=\"\", O351=\"E\"), IF(P351>Veriler!$F$2, P351*R351, IF(P351<Veriler!$F$2, Veriler!$F$2*R351, P351*R351)), 0))","v":0}," ",{"$f":"IFERROR(IF(N351=\"%10 sınırı aşılmıştır.\",K351-S351,IFERROR(IF(E351=\"\",IF(R351=1,0,IF(K351-R351=0,\"\",K351-R351)),IF(Veriler!I351=\"\",K351,IF(K351*Veriler!I351=0,\"\",K351*Veriler!I351))),K351)),0)","v":""}]
[258,{"$nulls":4},"",{"$nulls":4},"",{"$f":"IF(K352=\"\", \"\", K352/Veriler!$T$1)","v":""},{"$f":"IF(E352<>\"\", \"İthal Girdi\", IF(Veriler!P352=\"\", \"\", IF(Veriler!O352=\"H\", \"%0,5 üzerindedir\", IF(Veriler!P352>0.1, \"%10 sınırı aşılmıştır.\", \"Uygun\"))))","v":"%0,5 üzerindedir"}," ",null,null,"",{"$f":"IFERROR(IF(L352<=0.005,IF(E352=\"\",K352,0),IF(E352<>\"\",0,IF(O352=\"\",0,IF(O352=\"H\",0,IF(P352<Veriler!$F$2,K352*Veriler!$F$2,K352*P352))))),\" \")","v":0},{"$f":"IF(Veriler!P352<=0.1, R352, IF(AND(Veriler!P352>0.1, E352=\"\", O352=\"E\"), IF(P352>Veriler!$F$2, P352*R352, IF(P352<Veriler!$F$2, Veriler!$F$2*R352, P352*R352)), 0))","v":0}," ",{"$f":"IFERROR(IF(N352=\"%10 sınırı aşılmıştır.\",K352-S352,IFERROR(IF(E352=\"\",IF(R352=1,0,IF(K352-R352=0,\"\",K352-R352)),IF(Veriler!I352=\"\",K352,IF(K352*Veriler!I352=0,\"\",K352*Veriler!I352))),K352)),0)","v":""}]
[259,{"$nulls":4},"",{"$nulls":4},"",{"$f":"IF(K353=\"\", \"\", K353/Veriler!$T$1)","v":""},{"$f":"IF(E353<>\"\", \"İthal Girdi\", IF(Veriler!P353=\"\", \"\", IF(Veriler!O353=\"H\", \"%0,5 üzerindedir\", IF(Veriler!P353>0.1, \"%10 sınırı aşılmıştır.\", \"Uygun\"))))","v":"%0,5 üzerindedir"}," ",null,null,"",{"$f":"IFERROR(IF(L353<=0.005,IF(E353=\"\",K353,0),IF(E353<>\"\",0,IF(O353=\"\",0,IF(O353=\"H\",0,IF(P353<Veriler!$F$2,K353*Veriler!$F$2,K353*P353))))),\" \")","v":0},{"$f":"IF(Veriler!P353<=0.1, R353, IF(AND(Veriler!P353>0.1, E353=\"\", O353=\"E\"), IF(P353>Veriler!$F$2, P353*R353, IF(P353<Veriler!$F$2, Veriler!$F$2*R353, P353*R353)), 0))","v":0}," ",{"$f":"IFERROR(IF(N353=\"%10 sınırı aşılmıştır.\",K353-S353,IFERROR(IF(E353=\"\",IF(R353=1,0,IF(K353-R353=0,\"\",K353-R353)),IF(Veriler!I353=\"\",K353,IF(K353*Veriler!I353=0,\"\",K353*Veriler!I353))),K353)),0)","v":""}]
[260,{"$nulls":4},"",{"$nulls":4},"",{"$f":"IF(K354=\"\", \"\", K354/Veriler!$T$1)","v":""},{"$f":"IF(E354<>\"\", \"İthal Girdi\", IF(Veriler!P354=\"\", \"\", IF(Veriler!O354=\"H\", \"%0,5 üzerindedir\", IF(Veriler!P354>0.1, \"%10 sınırı aşılmıştır.\", \"Uygun\"))))","v":"%0,5 üzerindedir"}," ",null,null,"",{"$f":"IFERROR(IF(L354<=0.005,IF(E354=\"\",K354,0),IF(E354<>\"\",0,IF(O354=\"\",0,IF(O354=\"H\",0,IF(P354<Veriler!$F$2,K354*Veriler!$F$2,K354*P354))))),\" \")","v":0},{"$f":"IF(Veriler!P354<=0.1, R354, IF(AND(Veriler!P354>0.1, E354=\"\", O354=\"E\"), IF(P354>Veriler!$F$2, P354*R354, IF(P354<Veriler!$F$2, Veriler!$F$2*R354, P354*R354)), 0))","v":0}," ",{"$f":"IFERROR(IF(N354=\"%10 sınırı aşılmıştır.\",K354-S354,IFERROR(IF(E354=\"\",IF(R354=1,0,IF(K354-R354=0,\"\",K354-R354)),IF(Veriler!I354=\"\",K354,IF(K354*Veriler!I354=0,\"\",K354*Veriler!I354))),K354)),0)","v":""}]
[261,{"$nulls":4},"",{"$nulls":4},"",{"$f":"IF(K355=\"\", \"\", K355/Veriler!$T$1)","v":""},{"$f":"IF(E355<>\"\", \"İthal Girdi\", IF(Veriler!P355=\"\", \"\", IF(Veriler!O355=\"H\", \"%0,5 üzerindedir\", IF(Veriler!P355>0.1, \"%10 sınırı aşılmıştır.\", \"Uygun\"))))","v":"%0,5 üzerindedir"}," ",null,null,"",{"$f":"IFERROR(IF(L355<=0.005,IF(E355=\"\",K355,0),IF(E355<>\"\",0,IF(O355=\"\",0,IF(O355=\"H\",0,IF(P355<Veriler!$F$2,K355*Veriler!$F$2,K355*P355))))),\" \")","v":0},{"$f":"IF(Veriler!P355<=0.1, R355, IF(AND(Veriler!P355>0.1, E355=\"\", O355=\"E\"), IF(P355>Veriler!$F$2, P355*R355, IF(P355<Veriler!$F$2, Veriler!$F$2*R355, P355*R355)), 0))","v":0}," ",{"$f":"IFERROR(IF(N355=\"%10 sınırı aşılmıştır.\",K355-S355,IFERROR(IF(E355=\"\",IF(R355=1,0,IF(K355-R355=0,\"\",K355-R355)),IF(Veriler!I355=\"\",K355,IF(K355*Veriler!I355=0,\"\",K355*Veriler!I355))),K355)),0)","v":""}]
[262,{"$nulls":4},"",{"$nulls":4},"",{"$f":"IF(K356=\"\", \"\", K356/Veriler!$T$1)","v":""},{"$f":"IF(E356<>\"\", \"İthal Girdi\", IF(Veriler!P356=\"\", \"\", IF(Veriler!O356=\"H\", \"%0,5 üzerindedir\", IF(Veriler!P356>0.1, \"%10 sınırı aşılmıştır.\", \"Uygun\"))))","v":"%0,5 üzerindedir"}," ",null,null,"",{"$f":"IFERROR(IF(L356<=0.005,IF(E356=\"\",K356,0),IF(E356<>\"\",0,IF(O356=\"\",0,IF(O356=\"H\",0,IF(P356<Veriler!$F$2,K356*Veriler!$F$2,K356*P356))))),\" \")","v":0},{"$f":"IF(Veriler!P356<=0.1, R356, IF(AND(Veriler!P356>0.1, E356=\"\", O356=\"E\"), IF(P356>Veriler!$F$2, P356*R356, IF(P356<Veriler!$F$2, Veriler!$F$2*R356, P356*R356)), 0))","v":0}," ",{"$f":"IFERROR(IF(N356=\"%10 sınırı aşılmıştır.\",K356-S356,IFERROR(IF(E356=\"\",IF(R356=1,0,IF(K356-R356=0,\"\",K356-R356)),IF(Veriler!I356=\"\",K356,IF(K356*Veriler!I356=0,\"\",K356*Veriler!I356))),K356)),0)","v":""}]
[263,{"$nulls":4},"",{"$nulls":4},"",{"$f":"IF(K357=\"\", \"\", K357/Veriler!$T$1)","v":""},{"$f":"IF(E357<>\"\", \"İthal Girdi\", IF(Veriler!P357=\"\", \"\", IF(Veriler!O357=\"H\", \"%0,5 üzerindedir\", IF(Veriler!P357>0.1, \"%10 sınırı aşılmıştır.\", \"Uygun\"))))","v":"%0,5 üzerindedir"}," ",null,null,"",{"$f":"IFERROR(IF(L357<=0.005,IF(E357=\"\",K357,0),IF(E357<>\"\",0,IF(O357=\"\",0,IF(O357=\"H\",0,IF(P357<Veriler!$F$2,K357*Veriler!$F$2,K357*P357))))),\" \")","v":0},{"$f":"IF(Veriler!P357<=0.1, R357, IF(AND(Veriler!P357>0.1, E357=\"\", O357=\"E\"), IF(P357>Veriler!$F$2, P357*R357, IF(P357<Veriler!$F$2, Veriler!$F$2*R357, P357*R357)), 0))","v":0}," ",{"$f":"IFERROR(IF(N357=\"%10 sınırı aşılmıştır.\",K357-S357,IFERROR(IF(E357=\"\",IF(R357=1,0,IF(K357-R357=0,\"\",K357-R357)),IF(Veriler!I357=\"\",K357,IF(K357*Veriler!I357=0,\"\",K357*Veriler!I357))),K357)),0)","v":""}]
[264,{"$nulls":4},"",{"$nulls":4},"",{"$f":"IF(K358=\"\", \"\", K358/Veriler!$T$1)","v":""},{"$f":"IF(E358<>\"\", \"İthal Girdi\", IF(Veriler!P358=\"\", \"\", IF(Veriler!O358=\"H\", \"%0,5 üzerindedir\", IF(Veriler!P358>0.1, \"%10 sınırı aşılmıştır.\", \"Uygun\"))))","v":"%0,5 üzerindedir"}," ",null,null,"",{"$f":"IFERROR(IF(L358<=0.005,IF(E358=\"\",K358,0),IF(E358<>\"\",0,IF(O358=\"\",0,IF(O358=\"H\",0,IF(P358<Veriler!$F$2,K358*Veriler!$F$2,K358*P358))))),\" \")","v":0},{"$f":"IF(Veriler!P358<=0.1, R358, IF(AND(Veriler!P358>0.1, E358=\"\", O358=\"E\"), IF(P358>Veriler!$F$2, P358*R358, IF(P358<Veriler!$F$2, Veriler!$F$2*R358, P358*R358)), 0))","v":0}," ",{"$f":"IFERROR(IF(N358=\"%10 sınırı aşılmıştır.\",K358-S358,IFERROR(IF(E358=\"\",IF(R358=1,0,IF(K358-R358=0,\"\",K358-R358)),IF(Veriler!I358=\"\",K358,IF(K358*Veriler!I358=0,\"\",K358*Veriler!I358))),K358)),0)","v":""}]
[265,{"$nulls":4},"",{"$nulls":4},"",{"$f":"IF(K359=\"\", \"\", K359/Veriler!$T$1)","v":""},{"$f":"IF(E359<>\"\", \"İthal Girdi\", IF(Veriler!P359=\"\", \"\", IF(Veriler!O359=\"H\", \"%0,5 üzerindedir\", IF(Veriler!P359>0.1, \"%10 sınırı aşılmıştır.\", \"Uygun\"))))","v":"%0,5 üzerindedir"}," ",null,null,"",{"$f":"IFERROR(IF(L359<=0.005,IF(E359=\"\",K359,0),IF(E359<>\"\",0,IF(O359=\"\",0,IF(O359=\"H\",0,IF(P359<Veriler!$F$2,K359*Veriler!$F$2,K359*P359))))),\" \")","v":0},{"$f":"IF(Veriler!P359<=0.1, R359, IF(AND(Veriler!P359>0.1, E359=\"\", O359=\"E\"), IF(P359>Veriler!$F$2, P359*R359, IF(P359<Veriler!$F$2, Veriler!$F$2*R359, P359*R359)), 0))","v":0}," ",{"$f":"IFERROR(IF(N359=\"%10 sınırı aşılmıştır.\",K359-S359,IFERROR(IF(E359=\"\",IF(R359=1,0,IF(K359-R359=0,\"\",K359-R359)),IF(Veriler!I359=\"\",K359,IF(K359*Veriler!I359=0,\"\",K359*Veriler!I359))),K359)),0)","v":""}]
[266,{"$nulls":4},"",{"$nulls":4},"",{"$f":"IF(K360=\"\", \"\", K360/Veriler!$T$1)","v":""},{"$f":"IF(E360<>\"\", \"İthal Girdi\", IF(Veriler!P360=\"\", \"\", IF(Veriler!O360=\"H\", \"%0,5 üzerindedir\", IF(Veriler!P360>0.1, \"%10 sınırı aşılmıştır.\", \"Uygun\"))))","v":"%0,5 üzerindedir"}," ",null,null,"",{"$f":"IFERROR(IF(L360<=0.005,IF(E360=\"\",K360,0),IF(E360<>\"\",0,IF(O360=\"\",0,IF(O360=\"H\",0,IF(P360<Veriler!$F$2,K360*Veriler!$F$2,K360*P360))))),\" \")","v":0},{"$f":"IF(Veriler!P360<=0.1, R360, IF(AND(Veriler!P360>0.1, E360=\"\", O360=\"E\"), IF(P360>Veriler!$F$2, P360*R360, IF(P360<Veriler!$F$2, Veriler!$F$2*R360, P360*R360)), 0))","v":0}," ",{"$f":"IFERROR(IF(N360=\"%10 sınırı aşılmıştır.\",K360-S360,IFERROR(IF(E360=\"\",IF(R360=1,0,IF(K360-R360=0,\"\",K360-R360)),IF(Veriler!I360=\"\",K360,IF(K360*Veriler!I360=0,\"\",K360*Veriler!I360))),K360)),0)","v":""}]
[null,"Dolaylı"]
[{"$f":"A360+1","v":267},{"$nulls":4},{"$f":"IF(AND(E362<>\"\",U362<>\"\",K362<>0),U362/K362,\"\")","v":""},{"$nulls":4},{"$f":"IF(AND(G362<>0, I362<>0, J362<>0), G362*I362*J362, \"\")","v":""},{"$f":"IF(K362=\"\", \"\", K362/Veriler!$T$1)","v":""},{"$f":"IF(E362<>\"\", \"İthal Girdi\", IF(Veriler!P362=\"\", \"\", IF(Veriler!O362=\"H\", \"%0,5 üzerindedir\", IF(Veriler!P362>0.1, \"%10 sınırı aşılmıştır.\", \"Uygun\"))))","v":"%0,5 üzerindedir"},{"$f":"IF(L362=\"\",\" \",M362)","v":" "},null,null,{"$f":"IFERROR(IF(AND(S362<>\"\",K362<>\"\",K362<>0,S362<>0),S362/K362,\"\"),\" \")","v":""},{"$f":"IFERROR(IF(L362<=0.005,IF(E362=\"\",K362,0),IF(E362<>\"\",0,IF(O362=\"\",0,IF(O362=\"H\",0,IF(P362<Veriler!$F$2,K362*Veriler!$F$2,K362*P362))))),\" \")","v":0},{"$f":"IF(Veriler!P362<=0.1, R362, IF(AND(Veriler!P362>0.1, E362=\"\", O362=\"E\"), IF(P362>Veriler!$F$2, P362*R362, IF(P362<Veriler!$F$2, Veriler!$F$2*R362, P362*R362)), 0))","v":0},{"$f":"IF(S362=0,\" \",S362)","v":" "},{"$f":"IFERROR(IF(N362=\"%10 sınırı aşılmıştır.\",K362-S362,IFERROR(IF(E362=\"\",IF(R362=1,0,IF(K362-R362=0,\"\",K362-R362)),IF(Veriler!I362=\"\",K362,IF(K362*Veriler!I362=0,\"\",K362*Veriler!I362))),K362)),0)","v":""}]
[{"$f":"A362+1","v":268},{"$nulls":4},"",{"$nulls":4},"",{"$f":"IF(K363=\"\", \"\", K363/Veriler!$T$1)","v":""},{"$f":"IF(E363<>\"\", \"İthal Girdi\", IF(Veriler!P363=\"\", \"\", IF(Veriler!O363=\"H\", \"%0,5 üzerindedir\", IF(Veriler!P363>0.1, \"%10 sınırı aşılmıştır.\", \"Uygun\"))))","v":"%0,5 üzerindedir"}," ",null,null,"",{"$f":"IFERROR(IF(L363<=0.005,IF(E363=\"\",K363,0),IF(E363<>\"\",0,IF(O363=\"\",0,IF(O363=\"H\",0,IF(P363<Veriler!$F$2,K363*Veriler!$F$2,K363*P363))))),\" \")","v":0},{"$f":"IF(Veriler!P363<=0.1, R363, IF(AND(Veriler!P363>0.1, E363=\"\", O363=\"E\"), IF(P363>Veriler!$F$2, P363*R363, IF(P363<Veriler!$F$2, Veriler!$F$2*R363, P363*R363)), 0))","v":0}," ",{"$f":"IFERROR(IF(N363=\"%10 sınırı aşılmıştır.\",K363-S363,IFERROR(IF(E363=\"\",IF(R363=1,0,IF(K363-R363=0,\"\",K363-R363)),IF(Veriler!I363=\"\",K363,IF(K363*Veriler!I363=0,\"\",K363*Veriler!I363))),K363)),0)","v":""}]
[{"$f":"A363+1","v":269},{"$nulls":4},"",{"$nulls":4},"",{"$f":"IF(K364=\"\", \"\", K364/Veriler!$T$1)","v":""},{"$f":"IF(E364<>\"\", \"İthal Girdi\", IF(Veriler!P364=\"\", \"\", IF(Veriler!O364=\"H\", \"%0,5 üzerindedir\", IF(Veriler!P364>0.1, \"%10 sınırı aşılmıştır.\", \"Uygun\"))))","v":"%0,5 üzerindedir"}," ",null,null,"",{"$f":"IFERROR(IF(L364<=0.005,IF(E364=\"\",K364,0),IF(E364<>\"\",0,IF(O364=\"\",0,IF(O364=\"H\",0,IF(P364<Veriler!$F$2,K364*Veriler!$F$2,K364*P364))))),\" \")","v":0},{"$f":"IF(Veriler!P364<=0.1, R364, IF(AND(Veriler!P364>0.1, E364=\"\", O364=\"E\"), IF(P364>Veriler!$F$2, P364*R364, IF(P364<Veriler!$F$2, Veriler!$F$2*R364, P364*R364)), 0))","v":0}," ",{"$f":"IFERROR(IF(N364=\"%10 sınırı aşılmıştır.\",K364-S364,IFERROR(IF(E364=\"\",IF(R364=1,0,IF(K364-R364=0,\"\",K364-R364)),IF(Veriler!I364=\"\",K364,IF(K364*Veriler!I364=0,\"\",K364*Veriler!I364))),K364)),0)","v":""}]
[270,{"$nulls":4},"",{"$nulls":4},"",{"$f":"IF(K365=\"\", \"\", K365/Veriler!$T$1)","v":""},{"$f":"IF(E365<>\"\", \"İthal Girdi\", IF(Veriler!P365=\"\", \"\", IF(Veriler!O365=\"H\", \"%0,5 üzerindedir\", IF(Veriler!P365>0.1, \"%10 sınırı aşılmıştır.\", \"Uygun\"))))","v":"%0,5 üzerindedir"}," ",null,null,"",{"$f":"IFERROR(IF(L365<=0.005,IF(E365=\"\",K365,0),IF(E365<>\"\",0,IF(O365=\"\",0,IF(O365=\"H\",0,IF(P365<Veriler!$F$2,K365*Veriler!$F$2,K365*P365))))),\" \")","v":0},{"$f":"IF(Veriler!P365<=0.1, R365, IF(AND(Veriler!P365>0.1, E365=\"\", O365=\"E\"), IF(P365>Veriler!$F$2, P365*R365, IF(P365<Veriler!$F$2, Veriler!$F$2*R365, P365*R365)), 0))","v":0}," ",{"$f":"IFERROR(IF(N365=\"%10 sınırı aşılmıştır.\",K365-S365,IFERROR(IF(E365=\"\",IF(R365=1,0,IF(K365-R365=0,\"\",K365-R365)),IF(Veriler!I365=\"\",K365,IF(K365*Veriler!I365=0,\"\",K365*Veriler!I365))),K365)),0)","v":""}]
[271,{"$nulls":4},"",{"$nulls":4},"",{"$f":"IF(K366=\"\", \"\", K366/Veriler!$T$1)","v":""},{"$f":"IF(E366<>\"\", \"İthal Girdi\", IF(Veriler!P366=\"\", \"\", IF(Veriler!O366=\"H\", \"%0,5 üzerindedir\", IF(Veriler!P366>0.1, \"%10 sınırı aşılmıştır.\", \"Uygun\"))))","v":"%0,5 üzerindedir"}," ",null,null,"",{"$f":"IFERROR(IF(L366<=0.005,IF(E366=\"\",K366,0),IF(E366<>\"\",0,IF(O366=\"\",0,IF(O366=\"H\",0,IF(P366<Veriler!$F$2,K366*Veriler!$F$2,K366*P366))))),\" \")","v":0},{"$f":"IF(Veriler!P366<=0.1, R366, IF(AND(Veriler!P366>0.1, E366=\"\", O366=\"E\"), IF(P366>Veriler!$F$2, P366*R366, IF(P366<Veriler!$F$2, Veriler!$F$2*R366, P366*R366)), 0))","v":0}," ",{"$f":"IFERROR(IF(N366=\"%10 sınırı aşılmıştır.\",K366-S366,IFERROR(IF(E366=\"\",IF(R366=1,0,IF(K366-R366=0,\"\",K366-R366)),IF(Veriler!I366=\"\",K366,IF(K366*Veriler!I366=0,\"\",K366*Veriler!I366))),K366)),0)","v":""}]
[272,{"$nulls":4},"",{"$nulls":4},"",{"$f":"IF(K367=\"\", \"\", K367/Veriler!$T$1)","v":""},{"$f":"IF(E367<>\"\", \"İthal Girdi\", IF(Veriler!P367=\"\", \"\", IF(Veriler!O367=\"H\", \"%0,5 üzerindedir\", IF(Veriler!P367>0.1, \"%10 sınırı aşılmıştır.\", \"Uygun\"))))","v":"%0,5 üzerindedir"}," ",null,null,"",{"$f":"IFERROR(IF(L367<=0.005,IF(E367=\"\",K367,0),IF(E367<>\"\",0,IF(O367=\"\",0,IF(O367=\"H\",0,IF(P367<Veriler!$F$2,K367*Veriler!$F$2,K367*P367))))),\" \")","v":0},{"$f":"IF(Veriler!P367<=0.1, R367, IF(AND(Veriler!P367>0.1, E367=\"\", O367=\"E\"), IF(P367>Veriler!$F$2, P367*R367, IF(P367<Veriler!$F$2, Veriler!$F$2*R367, P367*R367)), 0))","v":0}," ",{"$f":"IFERROR(IF(N367=\"%10 sınırı aşılmıştır.\",K367-S367,IFERROR(IF(E367=\"\",IF(R367=1,0,IF(K367-R367=0,\"\",K367-R367)),IF(Veriler!I367=\"\",K367,IF(K367*Veriler!I367=0,\"\",K367*Veriler!I367))),K367)),0)","v":""}]
[273,{"$nulls":4},"",{"$nulls":4},"",{"$f":"IF(K368=\"\", \"\", K368/Veriler!$T$1)","v":""},{"$f":"IF(E368<>\"\", \"İthal Girdi\", IF(Veriler!P368=\"\", \"\", IF(Veriler!O368=\"H\", \"%0,5 üzerindedir\", IF(Veriler!P368>0.1, \"%10 sınırı aşılmıştır.\", \"Uygun\"))))","v":"%0,5 üzerindedir"}," ",null,null,"",{"$f":"IFERROR(IF(L368<=0.005,IF(E368=\"\",K368,0),IF(E368<>\"\",0,IF(O368=\"\",0,IF(O368=\"H\",0,IF(P368<Veriler!$F$2,K368*Veriler!$F$2,K368*P368))))),\" \")","v":0},{"$f":"IF(Veriler!P368<=0.1, R368, IF(AND(Veriler!P368>0.1, E368=\"\", O368=\"E\"), IF(P368>Veriler!$F$2, P368*R368, IF(P368<Veriler!$F$2, Veriler!$F$2*R368, P368*R368)), 0))","v":0}," ",{"$f":"IFERROR(IF(N368=\"%10 sınırı aşılmıştır.\",K368-S368,IFERROR(IF(E368=\"\",IF(R368=1,0,IF(K368-R368=0,\"\",K368-R368)),IF(Veriler!I368=\"\",K368,IF(K368*Veriler!I368=0,\"\",K368*Veriler!I368))),K368)),0)","v":""}]
[274,{"$nulls":4},"",{"$nulls":4},"",{"$f":"IF(K369=\"\", \"\", K369/Veriler!$T$1)","v":""},{"$f":"IF(E369<>\"\", \"İthal Girdi\", IF(Veriler!P369=\"\", \"\", IF(Veriler!O369=\"H\", \"%0,5 üzerindedir\", IF(Veriler!P369>0.1, \"%10 sınırı aşılmıştır.\", \"Uygun\"))))","v":"%0,5 üzerindedir"}," ",null,null,"",{"$f":"IFERROR(IF(L369<=0.005,IF(E369=\"\",K369,0),IF(E369<>\"\",0,IF(O369=\"\",0,IF(O369=\"H\",0,IF(P369<Veriler!$F$2,K369*Veriler!$F$2,K369*P369))))),\" \")","v":0},{"$f":"IF(Veriler!P369<=0.1, R369, IF(AND(Veriler!P369>0.1, E369=\"\", O369=\"E\"), IF(P369>Veriler!$F$2, P369*R369, IF(P369<Veriler!$F$2, Veriler!$F$2*R369, P369*R369)), 0))","v":0}," ",{"$f":"IFERROR(IF(N369=\"%10 sınırı aşılmıştır.\",K369-S369,IFERROR(IF(E369=\"\",IF(R369=1,0,IF(K369-R369=0,\"\",K369-R369)),IF(Veriler!I369=\"\",K369,IF(K369*Veriler!I369=0,\"\",K369*Veriler!I369))),K369)),0)","v":""}]
[275,{"$nulls":4},"",{"$nulls":4},"",{"$f":"IF(K370=\"\", \"\", K370/Veriler!$T$1)","v":""},{"$f":"IF(E370<>\"\", \"İthal Girdi\", IF(Veriler!P370=\"\", \"\", IF(Veriler!O370=\"H\", \"%0,5 üzerindedir\", IF(Veriler!P370>0.1, \"%10 sınırı aşılmıştır.\", \"Uygun\"))))","v":"%0,5 üzerindedir"}," ",null,null,"",{"$f":"IFERROR(IF(L370<=0.005,IF(E370=\"\",K370,0),IF(E370<>\"\",0,IF(O370=\"\",0,IF(O370=\"H\",0,IF(P370<Veriler!$F$2,K370*Veriler!$F$2,K370*P370))))),\" \")","v":0},{"$f":"IF(Veriler!P370<=0.1, R370, IF(AND(Veriler!P370>0.1, E370=\"\", O370=\"E\"), IF(P370>Veriler!$F$2, P370*R370, IF(P370<Veriler!$F$2, Veriler!$F$2*R370, P370*R370)), 0))","v":0}," ",{"$f":"IFERROR(IF(N370=\"%10 sınırı aşılmıştır.\",K370-S370,IFERROR(IF(E370=\"\",IF(R370=1,0,IF(K370-R370=0,\"\",K370-R370)),IF(Veriler!I370=\"\",K370,IF(K370*Veriler!I370=0,\"\",K370*Veriler!I370))),K370)),0)","v":""}]
[276,{"$nulls":4},"",{"$nulls":4},"",{"$f":"IF(K371=\"\", \"\", K371/Veriler!$T$1)","v":""},{"$f":"IF(E371<>\"\", \"İthal Girdi\", IF(Veriler!P371=\"\", \"\", IF(Veriler!O371=\"H\", \"%0,5 üzerindedir\", IF(Veriler!P371>0.1, \"%10 sınırı aşılmıştır.\", \"Uygun\"))))","v":"%0,5 üzerindedir"}," ",null,null,"",{"$f":"IFERROR(IF(L371<=0.005,IF(E371=\"\",K371,0),IF(E371<>\"\",0,IF(O371=\"\",0,IF(O371=\"H\",0,IF(P371<Veriler!$F$2,K371*Veriler!$F$2,K371*P371))))),\" \")","v":0},{"$f":"IF(Veriler!P371<=0.1, R371, IF(AND(Veriler!P371>0.1, E371=\"\", O371=\"E\"), IF(P371>Veriler!$F$2, P371*R371, IF(P371<Veriler!$F$2, Veriler!$F$2*R371, P371*R371)), 0))","v":0}," ",{"$f":"IFERROR(IF(N371=\"%10 sınırı aşılmıştır.\",K371-S371,IFERROR(IF(E371=\"\",IF(R371=1,0,IF(K371-R371=0,\"\",K371-R371)),IF(Veriler!I371=\"\",K371,IF(K371*Veriler!I371=0,\"\",K371*Veriler!I371))),K371)),0)","v":""}]
[277,{"$nulls":4},"",{"$nulls":4},"",{"$f":"IF(K372=\"\", \"\", K372/Veriler!$T$1)","v":""},{"$f":"IF(E372<>\"\", \"İthal Girdi\", IF(Veriler!P372=\"\", \"\", IF(Veriler!O372=\"H\", \"%0,5 üzerindedir\", IF(Veriler!P372>0.1, \"%10 sınırı aşılmıştır.\", \"Uygun\"))))","v":"%0,5 üzerindedir"}," ",null,null,"",{"$f":"IFERROR(IF(L372<=0.005,IF(E372=\"\",K372,0),IF(E372<>\"\",0,IF(O372=\"\",0,IF(O372=\"H\",0,IF(P372<Veriler!$F$2,K372*Veriler!$F$2,K372*P372))))),\" \")","v":0},{"$f":"IF(Veriler!P372<=0.1, R372, IF(AND(Veriler!P372>0.1, E372=\"\", O372=\"E\"), IF(P372>Veriler!$F$2, P372*R372, IF(P372<Veriler!$F$2, Veriler!$F$2*R372, P372*R372)), 0))","v":0}," ",{"$f":"IFERROR(IF(N372=\"%10 sınırı aşılmıştır.\",K372-S372,IFERROR(IF(E372=\"\",IF(R372=1,0,IF(K372-R372=0,\"\",K372-R372)),IF(Veriler!I372=\"\",K372,IF(K372*Veriler!I372=0,\"\",K372*Veriler!I372))),K372)),0)","v":""}]
[278,{"$nulls":4},"",{"$nulls":4},"",{"$f":"IF(K373=\"\", \"\", K373/Veriler!$T$1)","v":""},{"$f":"IF(E373<>\"\", \"İthal Girdi\", IF(Veriler!P373=\"\", \"\", IF(Veriler!O373=\"H\", \"%0,5 üzerindedir\", IF(Veriler!P373>0.1, \"%10 sınırı aşılmıştır.\", \"Uygun\"))))","v":"%0,5 üzerindedir"}," ",null,null,"",{"$f":"IFERROR(IF(L373<=0.005,IF(E373=\"\",K373,0),IF(E373<>\"\",0,IF(O373=\"\",0,IF(O373=\"H\",0,IF(P373<Veriler!$F$2,K373*Veriler!$F$2,K373*P373))))),\" \")","v":0},{"$f":"IF(Veriler!P373<=0.1, R373, IF(AND(Veriler!P373>0.1, E373=\"\", O373=\"E\"), IF(P373>Veriler!$F$2, P373*R373, IF(P373<Veriler!$F$2, Veriler!$F$2*R373, P373*R373)), 0))","v":0}," ",{"$f":"IFERROR(IF(N373=\"%10 sınırı aşılmıştır.\",K373-S373,IFERROR(IF(E373=\"\",IF(R373=1,0,IF(K373-R373=0,\"\",K373-R373)),IF(Veriler!I373=\"\",K373,IF(K373*Veriler!I373=0,\"\",K373*Veriler!I373))),K373)),0)","v":""}]
[279,{"$nulls":4},"",{"$nulls":4},"",{"$f":"IF(K374=\"\", \"\", K374/Veriler!$T$1)","v":""},{"$f":"IF(E374<>\"\", \"İthal Girdi\", IF(Veriler!P374=\"\", \"\", IF(Veriler!O374=\"H\", \"%0,5 üzerindedir\", IF(Veriler!P374>0.1, \"%10 sınırı aşılmıştır.\", \"Uygun\"))))","v":"%0,5 üzerindedir"}," ",null,null,"",{"$f":"IFERROR(IF(L374<=0.005,IF(E374=\"\",K374,0),IF(E374<>\"\",0,IF(O374=\"\",0,IF(O374=\"H\",0,IF(P374<Veriler!$F$2,K374*Veriler!$F$2,K374*P374))))),\" \")","v":0},{"$f":"IF(Veriler!P374<=0.1, R374, IF(AND(Veriler!P374>0.1, E374=\"\", O374=\"E\"), IF(P374>Veriler!$F$2, P374*R374, IF(P374<Veriler!$F$2, Veriler!$F$2*R374, P374*R374)), 0))","v":0}," ",{"$f":"IFERROR(IF(N374=\"%10 sınırı aşılmıştır.\",K374-S374,IFERROR(IF(E374=\"\",IF(R374=1,0,IF(K374-R374=0,\"\",K374-R374)),IF(Veriler!I374=\"\",K374,IF(K374*Veriler!I374=0,\"\",K374*Veriler!I374))),K374)),0)","v":""}]
[280,{"$nulls":4},"",{"$nulls":4},"",{"$f":"IF(K375=\"\", \"\", K375/Veriler!$T$1)","v":""},{"$f":"IF(E375<>\"\", \"İthal Girdi\", IF(Veriler!P375=\"\", \"\", IF(Veriler!O375=\"H\", \"%0,5 üzerindedir\", IF(Veriler!P375>0.1, \"%10 sınırı aşılmıştır.\", \"Uygun\"))))","v":"%0,5 üzerindedir"}," ",null,null,"",{"$f":"IFERROR(IF(L375<=0.005,IF(E375=\"\",K375,0),IF(E375<>\"\",0,IF(O375=\"\",0,IF(O375=\"H\",0,IF(P375<Veriler!$F$2,K375*Veriler!$F$2,K375*P375))))),\" \")","v":0},{"$f":"IF(Veriler!P375<=0.1, R375, IF(AND(Veriler!P375>0.1, E375=\"\", O375=\"E\"), IF(P375>Veriler!$F$2, P375*R375, IF(P375<Veriler!$F$2, Veriler!$F$2*R375, P375*R375)), 0))","v":0}," ",{"$f":"IFERROR(IF(N375=\"%10 sınırı aşılmıştır.\",K375-S375,IFERROR(IF(E375=\"\",IF(R375=1,0,IF(K375-R375=0,\"\",K375-R375)),IF(Veriler!I375=\"\",K375,IF(K375*Veriler!I375=0,\"\",K375*Veriler!I375))),K375)),0)","v":""}]
[{"$nulls":10},{"$f":"SUM(K347:K360,K362:K375)","v":0}]
[{"$nulls":17},"T1","T1","T1","T2"]
["Sayfa Toplamı (TL)  *(Genel Dip Toplam Ek.3-D sayfasında otomatik hesaplanacaktır.)",{"$nulls":16},{"$f":"IF(SUM(R340,R347:R360,R362:R375)=0,\"\",SUM(R340,R347:R360,R362:R375))","v":""},{"$f":"IF(SUM(S347:S360,S362:S375)=0,\" \",SUM(S347:S360,S362:S375))","v":" "},{"$f":"IF(SUM(T347:T360,T362:T375)=0,\" \",SUM(T347:T360,T362:T375))","v":" "},{"$f":"IF(SUM(U347:U360,U362:U375)=0,\" \",SUM(U347:U360,U362:U375))","v":" "}]
[]
[{"$f":"A418","v":"R02"}]
["YERLİ KATKI ORANI HESAP CETVELİ                      ",{"$nulls":13},false]
["A) Nihai Ürün Doğrudan ve Dolaylı Malzeme Giderleri                                                                                                                                                                                                                                                                                                                                                                                                                                         ",{"$nulls":18},"S",{"$f":"U344+1","v":11}]
["Sıra No","Malzeme adı / Faturadaki Ürün Adı",null,"Üretici Unvanı","GTİP Kodu                             (İthal girdiler için)","Gtip Katsayısı","Miktar ","Birim","Fiyatı \n(TL/Döviz)\n","Döviz Kuru               (TL ise 1 alınız)","Fatura Tutarı (TL)","Girdi Maliyet Yüzdesi (%)","Girdi yüzdesi %0,5 altında olan girdiler için %10 sınır kontrolü","Girdi yüzdesi %0,5 altında olan girdiler için %10 sınır kontrolü","SSB/  Müstahsil                (E/H)","YKO (%) (Manuel girilmeli)","Geçerli Yerli Oranı (%)","Yerli Maliyet Tutarı                            (T1)","Yerli Maliyet Tutarı (T1)","Yerli Maliyet Tutarı (T1)","İthal Maliyet Tutarı               (T2)"]
[null,"Doğrudan Girdi                                                         (Dolaylı girdiniz varsa en son 25. sayfaya doldurunuz)"]
[{"$f":"A375+1","v":281},{"$nulls":4},{"$f":"IF(AND(E385<>\"\",U385<>\"\",K385<>0),U385/K385,\"\")","v":""},{"$nulls":4},{"$f":"IF(AND(G385<>0, I385<>0, J385<>0), G385*I385*J385, \"\")","v":""},{"$f":"IF(K385=\"\", \"\", K385/Veriler!$T$1)","v":""},{"$f":"IF(E385<>\"\", \"İthal Girdi\", IF(Veriler!P385=\"\", \"\", IF(Veriler!O385=\"H\", \"%0,5 üzerindedir\", IF(Veriler!P385>0.1, \"%10 sınırı aşılmıştır.\", \"Uygun\"))))","v":"%0,5 üzerindedir"},{"$f":"IF(L385=\"\",\" \",M385)","v":" "},null,null,{"$f":"IFERROR(IF(AND(S385<>\"\",K385<>\"\",K385<>0,S385<>0),S385/K385,\"\"),\" \")","v":""},{"$f":"IFERROR(IF(L385<=0.005,IF(E385=\"\",K385,0),IF(E385<>\"\",0,IF(O385=\"\",0,IF(O385=\"H\",0,IF(P385<Veriler!$F$2,K385*Veriler!$F$2,K385*P385))))),\" \")","v":0},{"$f":"IF(Veriler!P385<=0.1, R385, IF(AND(Veriler!P385>0.1, E385=\"\", O385=\"E\"), IF(P385>Veriler!$F$2, P385*R385, IF(P385<Veriler!$F$2, Veriler!$F$2*R385, P385*R385)), 0))","v":0},{"$f":"IF(S385=0,\" \",S385)","v":" "},{"$f":"IFERROR(IF(N385=\"%10 sınırı aşılmıştır.\",K385-S385,IFERROR(IF(E385=\"\",IF(R385=1,0,IF(K385-R385=0,\"\",K385-R385)),IF(Veriler!I385=\"\",K385,IF(K385*Veriler!I385=0,\"\",K385*Veriler!I385))),K385)),0)","v":""}]
[{"$f":"A385+1","v":282},{"$nulls":4},"",{"$nulls":4},{"$f":"IF(AND(G386<>0, I386<>0, J386<>0), G386*I386*J386, \"\")","v":""},{"$f":"IF(K386=\"\", \"\", K386/Veriler!$T$1)","v":""},{"$f":"IF(E386<>\"\", \"İthal Girdi\", IF(Veriler!P386=\"\", \"\", IF(Veriler!O386=\"H\", \"%0,5 üzerindedir\", IF(Veriler!P386>0.1, \"%10 sınırı aşılmıştır.\", \"Uygun\"))))","v":"%0,5 üzerindedir"}," ",null,null,"",{"$f":"IFERROR(IF(L386<=0.005,IF(E386=\"\",K386,0),IF(E386<>\"\",0,IF(O386=\"\",0,IF(O386=\"H\",0,IF(P386<Veriler!$F$2,K386*Veriler!$F$2,K386*P386))))),\" \")","v":0},{"$f":"IF(Veriler!P386<=0.1, R386, IF(AND(Veriler!P386>0.1, E386=\"\", O386=\"E\"), IF(P386>Veriler!$F$2, P386*R386, IF(P386<Veriler!$F$2, Veriler!$F$2*R386, P386*R386)), 0))","v":0}," ",{"$f":"IFERROR(IF(N386=\"%10 sınırı aşılmıştır.\",K386-S386,IFERROR(IF(E386=\"\",IF(R386=1,0,IF(K386-R386=0,\"\",K386-R386)),IF(Veriler!I386=\"\",K386,IF(K386*Veriler!I386=0,\"\",K386*Veriler!I386))),K386)),0)","v":""}]
[{"$f":"A386+1","v":283},{"$nulls":4},"",{"$nulls":4},"",{"$f":"IF(K387=\"\", \"\", K387/Veriler!$T$1)","v":""},{"$f":"IF(E387<>\"\", \"İthal Girdi\", IF(Veriler!P387=\"\", \"\", IF(Veriler!O387=\"H\", \"%0,5 üzerindedir\", IF(Veriler!P387>0.1, \"%10 sınırı aşılmıştır.\", \"Uygun\"))))","v":"%0,5 üzerindedir"}," ",null,null,"",{"$f":"IFERROR(IF(L387<=0.005,IF(E387=\"\",K387,0),IF(E387<>\"\",0,IF(O387=\"\",0,IF(O387=\"H\",0,IF(P387<Veriler!$F$2,K387*Veriler!$F$2,K387*P387))))),\" \")","v":0},{"$f":"IF(Veriler!P387<=0.1, R387, IF(AND(Veriler!P387>0.1, E387=\"\", O387=\"E\"), IF(P387>Veriler!$F$2, P387*R387, IF(P387<Veriler!$F$2, Veriler!$F$2*R387, P387*R387)), 0))","v":0}," ",{"$f":"IFERROR(IF(N387=\"%10 sınırı aşılmıştır.\",K387-S387,IFERROR(IF(E387=\"\",IF(R387=1,0,IF(K387-R387=0,\"\",K387-R387)),IF(Veriler!I387=\"\",K387,IF(K387*Veriler!I387=0,\"\",K387*Veriler!I387))),K387)),0)","v":""}]
[284,{"$nulls":4},"",{"$nulls":4},"",{"$f":"IF(K388=\"\", \"\", K388/Veriler!$T$1)","v":""},{"$f":"IF(E388<>\"\", \"İthal Girdi\", IF(Veriler!P388=\"\", \"\", IF(Veriler!O388=\"H\", \"%0,5 üzerindedir\", IF(Veriler!P388>0.1, \"%10 sınırı aşılmıştır.\", \"Uygun\"))))","v":"%0,5 üzerindedir"}," ",null,null,"",{"$f":"IFERROR(IF(L388<=0.005,IF(E388=\"\",K388,0),IF(E388<>\"\",0,IF(O388=\"\",0,IF(O388=\"H\",0,IF(P388<Veriler!$F$2,K388*Veriler!$F$2,K388*P388))))),\" \")","v":0},{"$f":"IF(Veriler!P388<=0.1, R388, IF(AND(Veriler!P388>0.1, E388=\"\", O388=\"E\"), IF(P388>Veriler!$F$2, P388*R388, IF(P388<Veriler!$F$2, Veriler!$F$2*R388, P388*R388)), 0))","v":0}," ",{"$f":"IFERROR(IF(N388=\"%10 sınırı aşılmıştır.\",K388-S388,IFERROR(IF(E388=\"\",IF(R388=1,0,IF(K388-R388=0,\"\",K388-R388)),IF(Veriler!I388=\"\",K388,IF(K388*Veriler!I388=0,\"\",K388*Veriler!I388))),K388)),0)","v":""}]
[285,{"$nulls":4},"",{"$nulls":4},"",{"$f":"IF(K389=\"\", \"\", K389/Veriler!$T$1)","v":""},{"$f":"IF(E389<>\"\", \"İthal Girdi\", IF(Veriler!P389=\"\", \"\", IF(Veriler!O389=\"H\", \"%0,5 üzerindedir\", IF(Veriler!P389>0.1, \"%10 sınırı aşılmıştır.\", \"Uygun\"))))","v":"%0,5 üzerindedir"}," ",null,null,"",{"$f":"IFERROR(IF(L389<=0.005,IF(E389=\"\",K389,0),IF(E389<>\"\",0,IF(O389=\"\",0,IF(O389=\"H\",0,IF(P389<Veriler!$F$2,K389*Veriler!$F$2,K389*P389))))),\" \")","v":0},{"$f":"IF(Veriler!P389<=0.1, R389, IF(AND(Veriler!P389>0.1, E389=\"\", O389=\"E\"), IF(P389>Veriler!$F$2, P389*R389, IF(P389<Veriler!$F$2, Veriler!$F$2*R389, P389*R389)), 0))","v":0}," ",{"$f":"IFERROR(IF(N389=\"%10 sınırı aşılmıştır.\",K389-S389,IFERROR(IF(E389=\"\",IF(R389=1,0,IF(K389-R389=0,\"\",K389-R389)),IF(Veriler!I389=\"\",K389,IF(K389*Veriler!I389=0,\"\",K389*Veriler!I389))),K389)),0)","v":""}]
[286,{"$nulls":4},"",{"$nulls":4},"",{"$f":"IF(K390=\"\", \"\", K390/Veriler!$T$1)","v":""},{"$f":"IF(E390<>\"\", \"İthal Girdi\", IF(Veriler!P390=\"\", \"\", IF(Veriler!O390=\"H\", \"%0,5 üzerindedir\", IF(Veriler!P390>0.1, \"%10 sınırı aşılmıştır.\", \"Uygun\"))))","v":"%0,5 üzerindedir"}," ",null,null,"",{"$f":"IFERROR(IF(L390<=0.005,IF(E390=\"\",K390,0),IF(E390<>\"\",0,IF(O390=\"\",0,IF(O390=\"H\",0,IF(P390<Veriler!$F$2,K390*Veriler!$F$2,K390*P390))))),\" \")","v":0},{"$f":"IF(Veriler!P390<=0.1, R390, IF(AND(Veriler!P390>0.1, E390=\"\", O390=\"E\"), IF(P390>Veriler!$F$2, P390*R390, IF(P390<Veriler!$F$2, Veriler!$F$2*R390, P390*R390)), 0))","v":0}," ",{"$f":"IFERROR(IF(N390=\"%10 sınırı aşılmıştır.\",K390-S390,IFERROR(IF(E390=\"\",IF(R390=1,0,IF(K390-R390=0,\"\",K390-R390)),IF(Veriler!I390=\"\",K390,IF(K390*Veriler!I390=0,\"\",K390*Veriler!I390))),K390)),0)","v":""}]
[287,{"$nulls":4},"",{"$nulls":4},"",{"$f":"IF(K391=\"\", \"\", K391/Veriler!$T$1)","v":""},{"$f":"IF(E391<>\"\", \"İthal Girdi\", IF(Veriler!P391=\"\", \"\", IF(Veriler!O391=\"H\", \"%0,5 üzerindedir\", IF(Veriler!P391>0.1, \"%10 sınırı aşılmıştır.\", \"Uygun\"))))","v":"%0,5 üzerindedir"}," ",null,null,"",{"$f":"IFERROR(IF(L391<=0.005,IF(E391=\"\",K391,0),IF(E391<>\"\",0,IF(O391=\"\",0,IF(O391=\"H\",0,IF(P391<Veriler!$F$2,K391*Veriler!$F$2,K391*P391))))),\" \")","v":0},{"$f":"IF(Veriler!P391<=0.1, R391, IF(AND(Veriler!P391>0.1, E391=\"\", O391=\"E\"), IF(P391>Veriler!$F$2, P391*R391, IF(P391<Veriler!$F$2, Veriler!$F$2*R391, P391*R391)), 0))","v":0}," ",{"$f":"IFERROR(IF(N391=\"%10 sınırı aşılmıştır.\",K391-S391,IFERROR(IF(E391=\"\",IF(R391=1,0,IF(K391-R391=0,\"\",K391-R391)),IF(Veriler!I391=\"\",K391,IF(K391*Veriler!I391=0,\"\",K391*Veriler!I391))),K391)),0)","v":""}]
[288,{"$nulls":4},"",{"$nulls":4},"",{"$f":"IF(K392=\"\", \"\", K392/Veriler!$T$1)","v":""},{"$f":"IF(E392<>\"\", \"İthal Girdi\", IF(Veriler!P392=\"\", \"\", IF(Veriler!O392=\"H\", \"%0,5 üzerindedir\", IF(Veriler!P392>0.1, \"%10 sınırı aşılmıştır.\", \"Uygun\"))))","v":"%0,5 üzerindedir"}," ",null,null,"",{"$f":"IFERROR(IF(L392<=0.005,IF(E392=\"\",K392,0),IF(E392<>\"\",0,IF(O392=\"\",0,IF(O392=\"H\",0,IF(P392<Veriler!$F$2,K392*Veriler!$F$2,K392*P392))))),\" \")","v":0},{"$f":"IF(Veriler!P392<=0.1, R392, IF(AND(Veriler!P392>0.1, E392=\"\", O392=\"E\"), IF(P392>Veriler!$F$2, P392*R392, IF(P392<Veriler!$F$2, Veriler!$F$2*R392, P392*R392)), 0))","v":0}," ",{"$f":"IFERROR(IF(N392=\"%10 sınırı aşılmıştır.\",K392-S392,IFERROR(IF(E392=\"\",IF(R392=1,0,IF(K392-R392=0,\"\",K392-R392)),IF(Veriler!I392=\"\",K392,IF(K392*Veriler!I392=0,\"\",K392*Veriler!I392))),K392)),0)","v":""}]
[289,{"$nulls":4},"",{"$nulls":4},"",{"$f":"IF(K393=\"\", \"\", K393/Veriler!$T$1)","v":""},{"$f":"IF(E393<>\"\", \"İthal Girdi\", IF(Veriler!P393=\"\", \"\", IF(Veriler!O393=\"H\", \"%0,5 üzerindedir\", IF(Veriler!P393>0.1, \"%10 sınırı aşılmıştır.\", \"Uygun\"))))","v":"%0,5 üzerindedir"}," ",null,null,"",{"$f":"IFERROR(IF(L393<=0.005,IF(E393=\"\",K393,0),IF(E393<>\"\",0,IF(O393=\"\",0,IF(O393=\"H\",0,IF(P393<Veriler!$F$2,K393*Veriler!$F$2,K393*P393))))),\" \")","v":0},{"$f":"IF(Veriler!P393<=0.1, R393, IF(AND(Veriler!P393>0.1, E393=\"\", O393=\"E\"), IF(P393>Veriler!$F$2, P393*R393, IF(P393<Veriler!$F$2, Veriler!$F$2*R393, P393*R393)), 0))","v":0}," ",{"$f":"IFERROR(IF(N393=\"%10 sınırı aşılmıştır.\",K393-S393,IFERROR(IF(E393=\"\",IF(R393=1,0,IF(K393-R393=0,\"\",K393-R393)),IF(Veriler!I393=\"\",K393,IF(K393*Veriler!I393=0,\"\",K393*Veriler!I393))),K393)),0)","v":""}]
[290,{"$nulls":4},"",{"$nulls":4},"",{"$f":"IF(K394=\"\", \"\", K394/Veriler!$T$1)","v":""},{"$f":"IF(E394<>\"\", \"İthal Girdi\", IF(Veriler!P394=\"\", \"\", IF(Veriler!O394=\"H\", \"%0,5 üzerindedir\", IF(Veriler!P394>0.1, \"%10 sınırı aşılmıştır.\", \"Uygun\"))))","v":"%0,5 üzerindedir"}," ",null,null,"",{"$f":"IFERROR(IF(L394<=0.005,IF(E394=\"\",K394,0),IF(E394<>\"\",0,IF(O394=\"\",0,IF(O394=\"H\",0,IF(P394<Veriler!$F$2,K394*Veriler!$F$2,K394*P394))))),\" \")","v":0},{"$f":"IF(Veriler!P394<=0.1, R394, IF(AND(Veriler!P394>0.1, E394=\"\", O394=\"E\"), IF(P394>Veriler!$F$2, P394*R394, IF(P394<Veriler!$F$2, Veriler!$F$2*R394, P394*R394)), 0))","v":0}," ",{"$f":"IFERROR(IF(N394=\"%10 sınırı aşılmıştır.\",K394-S394,IFERROR(IF(E394=\"\",IF(R394=1,0,IF(K394-R394=0,\"\",K394-R394)),IF(Veriler!I394=\"\",K394,IF(K394*Veriler!I394=0,\"\",K394*Veriler!I394))),K394)),0)","v":""}]
[291,{"$nulls":4},"",{"$nulls":4},"",{"$f":"IF(K395=\"\", \"\", K395/Veriler!$T$1)","v":""},{"$f":"IF(E395<>\"\", \"İthal Girdi\", IF(Veriler!P395=\"\", \"\", IF(Veriler!O395=\"H\", \"%0,5 üzerindedir\", IF(Veriler!P395>0.1, \"%10 sınırı aşılmıştır.\", \"Uygun\"))))","v":"%0,5 üzerindedir"}," ",null,null,"",{"$f":"IFERROR(IF(L395<=0.005,IF(E395=\"\",K395,0),IF(E395<>\"\",0,IF(O395=\"\",0,IF(O395=\"H\",0,IF(P395<Veriler!$F$2,K395*Veriler!$F$2,K395*P395))))),\" \")","v":0},{"$f":"IF(Veriler!P395<=0.1, R395, IF(AND(Veriler!P395>0.1, E395=\"\", O395=\"E\"), IF(P395>Veriler!$F$2, P395*R395, IF(P395<Veriler!$F$2, Veriler!$F$2*R395, P395*R395)), 0))","v":0}," ",{"$f":"IFERROR(IF(N395=\"%10 sınırı aşılmıştır.\",K395-S395,IFERROR(IF(E395=\"\",IF(R395=1,0,IF(K395-R395=0,\"\",K395-R395)),IF(Veriler!I395=\"\",K395,IF(K395*Veriler!I395=0,\"\",K395*Veriler!I395))),K395)),0)","v":""}]
[292,{"$nulls":4},"",{"$nulls":4},"",{"$f":"IF(K396=\"\", \"\", K396/Veriler!$T$1)","v":""},{"$f":"IF(E396<>\"\", \"İthal Girdi\", IF(Veriler!P396=\"\", \"\", IF(Veriler!O396=\"H\", \"%0,5 üzerindedir\", IF(Veriler!P396>0.1, \"%10 sınırı aşılmıştır.\", \"Uygun\"))))","v":"%0,5 üzerindedir"}," ",null,null,"",{"$f":"IFERROR(IF(L396<=0.005,IF(E396=\"\",K396,0),IF(E396<>\"\",0,IF(O396=\"\",0,IF(O396=\"H\",0,IF(P396<Veriler!$F$2,K396*Veriler!$F$2,K396*P396))))),\" \")","v":0},{"$f":"IF(Veriler!P396<=0.1, R396, IF(AND(Veriler!P396>0.1, E396=\"\", O396=\"E\"), IF(P396>Veriler!$F$2, P396*R396, IF(P396<Veriler!$F$2, Veriler!$F$2*R396, P396*R396)), 0))","v":0}," ",{"$f":"IFERROR(IF(N396=\"%10 sınırı aşılmıştır.\",K396-S396,IFERROR(IF(E396=\"\",IF(R396=1,0,IF(K396-R396=0,\"\",K396-R396)),IF(Veriler!I396=\"\",K396,IF(K396*Veriler!I396=0,\"\",K396*Veriler!I396))),K396)),0)","v":""}]
[293,{"$nulls":4},"",{"$nulls":4},"",{"$f":"IF(K397=\"\", \"\", K397/Veriler!$T$1)","v":""},{"$f":"IF(E397<>\"\", \"İthal Girdi\", IF(Veriler!P397=\"\", \"\", IF(Veriler!O397=\"H\", \"%0,5 üzerindedir\", IF(Veriler!P397>0.1, \"%10 sınırı aşılmıştır.\", \"Uygun\"))))","v":"%0,5 üzerindedir"}," ",null,null,"",{"$f":"IFERROR(IF(L397<=0.005,IF(E397=\"\",K397,0),IF(E397<>\"\",0,IF(O397=\"\",0,IF(O397=\"H\",0,IF(P397<Veriler!$F$2,K397*Veriler!$F$2,K397*P397))))),\" \")","v":0},{"$f":"IF(Veriler!P397<=0.1, R397, IF(AND(Veriler!P397>0.1, E397=\"\", O397=\"E\"), IF(P397>Veriler!$F$2, P397*R397, IF(P397<Veriler!$F$2, Veriler!$F$2*R397, P397*R397)), 0))","v":0}," ",{"$f":"IFERROR(IF(N397=\"%10 sınırı aşılmıştır.\",K397-S397,IFERROR(IF(E397=\"\",IF(R397=1,0,IF(K397-R397=0,\"\",K397-R397)),IF(Veriler!I397=\"\",K397,IF(K397*Veriler!I397=0,\"\",K397*Veriler!I397))),K397)),0)","v":""}]
[294,{"$nulls":4},"",{"$nulls":4},"",{"$f":"IF(K398=\"\", \"\", K398/Veriler!$T$1)","v":""},{"$f":"IF(E398<>\"\", \"İthal Girdi\", IF(Veriler!P398=\"\", \"\", IF(Veriler!O398=\"H\", \"%0,5 üzerindedir\", IF(Veriler!P398>0.1, \"%10 sınırı aşılmıştır.\", \"Uygun\"))))","v":"%0,5 üzerindedir"}," ",null,null,"",{"$f":"IFERROR(IF(L398<=0.005,IF(E398=\"\",K398,0),IF(E398<>\"\",0,IF(O398=\"\",0,IF(O398=\"H\",0,IF(P398<Veriler!$F$2,K398*Veriler!$F$2,K398*P398))))),\" \")","v":0},{"$f":"IF(Veriler!P398<=0.1, R398, IF(AND(Veriler!P398>0.1, E398=\"\", O398=\"E\"), IF(P398>Veriler!$F$2, P398*R398, IF(P398<Veriler!$F$2, Veriler!$F$2*R398, P398*R398)), 0))","v":0}," ",{"$f":"IFERROR(IF(N398=\"%10 sınırı aşılmıştır.\",K398-S398,IFERROR(IF(E398=\"\",IF(R398=1,0,IF(K398-R398=0,\"\",K398-R398)),IF(Veriler!I398=\"\",K398,IF(K398*Veriler!I398=0,\"\",K398*Veriler!I398))),K398)),0)","v":""}]
[null,"Dolaylı"]
[{"$f":"A398+1","v":295},{"$nulls":4},{"$f":"IF(AND(E400<>\"\",U400<>\"\",K400<>0),U400/K400,\"\")","v":""},{"$nulls":4},{"$f":"IF(AND(G400<>0, I400<>0, J400<>0), G400*I400*J400, \"\")","v":""},{"$f":"IF(K400=\"\", \"\", K400/Veriler!$T$1)","v":""},{"$f":"IF(E400<>\"\", \"İthal Girdi\", IF(Veriler!P400=\"\", \"\", IF(Veriler!O400=\"H\", \"%0,5 üzerindedir\", IF(Veriler!P400>0.1, \"%10 sınırı aşılmıştır.\", \"Uygun\"))))","v":"%0,5 üzerindedir"},{"$f":"IF(L400=\"\",\" \",M400)","v":" "},null,null,{"$f":"IFERROR(IF(AND(S400<>\"\",K400<>\"\",K400<>0,S400<>0),S400/K400,\"\"),\" \")","v":""},{"$f":"IFERROR(IF(L400<=0.005,IF(E400=\"\",K400,0),IF(E400<>\"\",0,IF(O400=\"\",0,IF(O400=\"H\",0,IF(P400<Veriler!$F$2,K400*Veriler!$F$2,K400*P400))))),\" \")","v":0},{"$f":"IF(Veriler!P400<=0.1, R400, IF(AND(Veriler!P400>0.1, E400=\"\", O400=\"E\"), IF(P400>Veriler!$F$2, P400*R400, IF(P400<Veriler!$F$2, Veriler!$F$2*R400, P400*R400)), 0))","v":0},{"$f":"IF(S400=0,\" \",S400)","v":" "},{"$f":"IFERROR(IF(N400=\"%10 sınırı aşılmıştır.\",K400-S400,IFERROR(IF(E400=\"\",IF(R400=1,0,IF(K400-R400=0,\"\",K400-R400)),IF(Veriler!I400=\"\",K400,IF(K400*Veriler!I400=0,\"\",K400*Veriler!I400))),K400)),0)","v":""}]
[{"$f":"A400+1","v":296},{"$nulls":4},"",{"$nulls":4},"",{"$f":"IF(K401=\"\", \"\", K401/Veriler!$T$1)","v":""},{"$f":"IF(E401<>\"\", \"İthal Girdi\", IF(Veriler!P401=\"\", \"\", IF(Veriler!O401=\"H\", \"%0,5 üzerindedir\", IF(Veriler!P401>0.1, \"%10 sınırı aşılmıştır.\", \"Uygun\"))))","v":"%0,5 üzerindedir"}," ",null,null,"",{"$f":"IFERROR(IF(L401<=0.005,IF(E401=\"\",K401,0),IF(E401<>\"\",0,IF(O401=\"\",0,IF(O401=\"H\",0,IF(P401<Veriler!$F$2,K401*Veriler!$F$2,K401*P401))))),\" \")","v":0},{"$f":"IF(Veriler!P401<=0.1, R401, IF(AND(Veriler!P401>0.1, E401=\"\", O401=\"E\"), IF(P401>Veriler!$F$2, P401*R401, IF(P401<Veriler!$F$2, Veriler!$F$2*R401, P401*R401)), 0))","v":0}," ",{"$f":"IFERROR(IF(N401=\"%10 sınırı aşılmıştır.\",K401-S401,IFERROR(IF(E401=\"\",IF(R401=1,0,IF(K401-R401=0,\"\",K401-R401)),IF(Veriler!I401=\"\",K401,IF(K401*Veriler!I401=0,\"\",K401*Veriler!I401))),K401)),0)","v":""}]
[{"$f":"A401+1","v":297},{"$nulls":4},"",{"$nulls":4},"",{"$f":"IF(K402=\"\", \"\", K402/Veriler!$T$1)","v":""},{"$f":"IF(E402<>\"\", \"İthal Girdi\", IF(Veriler!P402=\"\", \"\", IF(Veriler!O402=\"H\", \"%0,5 üzerindedir\", IF(Veriler!P402>0.1, \"%10 sınırı aşılmıştır.\", \"Uygun\"))))","v":"%0,5 üzerindedir"}," ",null,null,"",{"$f":"IFERROR(IF(L402<=0.005,IF(E402=\"\",K402,0),IF(E402<>\"\",0,IF(O402=\"\",0,IF(O402=\"H\",0,IF(P402<Veriler!$F$2,K402*Veriler!$F$2,K402*P402))))),\" \")","v":0},{"$f":"IF(Veriler!P402<=0.1, R402, IF(AND(Veriler!P402>0.1, E402=\"\", O402=\"E\"), IF(P402>Veriler!$F$2, P402*R402, IF(P402<Veriler!$F$2, Veriler!$F$2*R402, P402*R402)), 0))","v":0}," ",{"$f":"IFERROR(IF(N402=\"%10 sınırı aşılmıştır.\",K402-S402,IFERROR(IF(E402=\"\",IF(R402=1,0,IF(K402-R402=0,\"\",K402-R402)),IF(Veriler!I402=\"\",K402,IF(K402*Veriler!I402=0,\"\",K402*Veriler!I402))),K402)),0)","v":""}]
[298,{"$nulls":4},"",{"$nulls":4},"",{"$f":"IF(K403=\"\", \"\", K403/Veriler!$T$1)","v":""},{"$f":"IF(E403<>\"\", \"İthal Girdi\", IF(Veriler!P403=\"\", \"\", IF(Veriler!O403=\"H\", \"%0,5 üzerindedir\", IF(Veriler!P403>0.1, \"%10 sınırı aşılmıştır.\", \"Uygun\"))))","v":"%0,5 üzerindedir"}," ",null,null,"",{"$f":"IFERROR(IF(L403<=0.005,IF(E403=\"\",K403,0),IF(E403<>\"\",0,IF(O403=\"\",0,IF(O403=\"H\",0,IF(P403<Veriler!$F$2,K403*Veriler!$F$2,K403*P403))))),\" \")","v":0},{"$f":"IF(Veriler!P403<=0.1, R403, IF(AND(Veriler!P403>0.1, E403=\"\", O403=\"E\"), IF(P403>Veriler!$F$2, P403*R403, IF(P403<Veriler!$F$2, Veriler!$F$2*R403, P403*R403)), 0))","v":0}," ",{"$f":"IFERROR(IF(N403=\"%10 sınırı aşılmıştır.\",K403-S403,IFERROR(IF(E403=\"\",IF(R403=1,0,IF(K403-R403=0,\"\",K403-R403)),IF(Veriler!I403=\"\",K403,IF(K403*Veriler!I403=0,\"\",K403*Veriler!I403))),K403)),0)","v":""}]
[299,{"$nulls":4},"",{"$nulls":4},"",{"$f":"IF(K404=\"\", \"\", K404/Veriler!$T$1)","v":""},{"$f":"IF(E404<>\"\", \"İthal Girdi\", IF(Veriler!P404=\"\", \"\", IF(Veriler!O404=\"H\", \"%0,5 üzerindedir\", IF(Veriler!P404>0.1, \"%10 sınırı aşılmıştır.\", \"Uygun\"))))","v":"%0,5 üzerindedir"}," ",null,null,"",{"$f":"IFERROR(IF(L404<=0.005,IF(E404=\"\",K404,0),IF(E404<>\"\",0,IF(O404=\"\",0,IF(O404=\"H\",0,IF(P404<Veriler!$F$2,K404*Veriler!$F$2,K404*P404))))),\" \")","v":0},{"$f":"IF(Veriler!P404<=0.1, R404, IF(AND(Veriler!P404>0.1, E404=\"\", O404=\"E\"), IF(P404>Veriler!$F$2, P404*R404, IF(P404<Veriler!$F$2, Veriler!$F$2*R404, P404*R404)), 0))","v":0}," ",{"$f":"IFERROR(IF(N404=\"%10 sınırı aşılmıştır.\",K404-S404,IFERROR(IF(E404=\"\",IF(R404=1,0,IF(K404-R404=0,\"\",K404-R404)),IF(Veriler!I404=\"\",K404,IF(K404*Veriler!I404=0,\"\",K404*Veriler!I404))),K404)),0)","v":""}]
[300,{"$nulls":4},"",{"$nulls":4},"",{"$f":"IF(K405=\"\", \"\", K405/Veriler!$T$1)","v":""},{"$f":"IF(E405<>\"\", \"İthal Girdi\", IF(Veriler!P405=\"\", \"\", IF(Veriler!O405=\"H\", \"%0,5 üzerindedir\", IF(Veriler!P405>0.1, \"%10 sınırı aşılmıştır.\", \"Uygun\"))))","v":"%0,5 üzerindedir"}," ",null,null,"",{"$f":"IFERROR(IF(L405<=0.005,IF(E405=\"\",K405,0),IF(E405<>\"\",0,IF(O405=\"\",0,IF(O405=\"H\",0,IF(P405<Veriler!$F$2,K405*Veriler!$F$2,K405*P405))))),\" \")","v":0},{"$f":"IF(Veriler!P405<=0.1, R405, IF(AND(Veriler!P405>0.1, E405=\"\", O405=\"E\"), IF(P405>Veriler!$F$2, P405*R405, IF(P405<Veriler!$F$2, Veriler!$F$2*R405, P405*R405)), 0))","v":0}," ",{"$f":"IFERROR(IF(N405=\"%10 sınırı aşılmıştır.\",K405-S405,IFERROR(IF(E405=\"\",IF(R405=1,0,IF(K405-R405=0,\"\",K405-R405)),IF(Veriler!I405=\"\",K405,IF(K405*Veriler!I405=0,\"\",K405*Veriler!I405))),K405)),0)","v":""}]
[301,{"$nulls":4},"",{"$nulls":4},"",{"$f":"IF(K406=\"\", \"\", K406/Veriler!$T$1)","v":""},{"$f":"IF(E406<>\"\", \"İthal Girdi\", IF(Veriler!P406=\"\", \"\", IF(Veriler!O406=\"H\", \"%0,5 üzerindedir\", IF(Veriler!P406>0.1, \"%10 sınırı aşılmıştır.\", \"Uygun\"))))","v":"%0,5 üzerindedir"}," ",null,null,"",{"$f":"IFERROR(IF(L406<=0.005,IF(E406=\"\",K406,0),IF(E406<>\"\",0,IF(O406=\"\",0,IF(O406=\"H\",0,IF(P406<Veriler!$F$2,K406*Veriler!$F$2,K406*P406))))),\" \")","v":0},{"$f":"IF(Veriler!P406<=0.1, R406, IF(AND(Veriler!P406>0.1, E406=\"\", O406=\"E\"), IF(P406>Veriler!$F$2, P406*R406, IF(P406<Veriler!$F$2, Veriler!$F$2*R406, P406*R406)), 0))","v":0}," ",{"$f":"IFERROR(IF(N406=\"%10 sınırı aşılmıştır.\",K406-S406,IFERROR(IF(E406=\"\",IF(R406=1,0,IF(K406-R406=0,\"\",K406-R406)),IF(Veriler!I406=\"\",K406,IF(K406*Veriler!I406=0,\"\",K406*Veriler!I406))),K406)),0)","v":""}]
[302,{"$nulls":4},"",{"$nulls":4},"",{"$f":"IF(K407=\"\", \"\", K407/Veriler!$T$1)","v":""},{"$f":"IF(E407<>\"\", \"İthal Girdi\", IF(Veriler!P407=\"\", \"\", IF(Veriler!O407=\"H\", \"%0,5 üzerindedir\", IF(Veriler!P407>0.1, \"%10 sınırı aşılmıştır.\", \"Uygun\"))))","v":"%0,5 üzerindedir"}," ",null,null,"",{"$f":"IFERROR(IF(L407<=0.005,IF(E407=\"\",K407,0),IF(E407<>\"\",0,IF(O407=\"\",0,IF(O407=\"H\",0,IF(P407<Veriler!$F$2,K407*Veriler!$F$2,K407*P407))))),\" \")","v":0},{"$f":"IF(Veriler!P407<=0.1, R407, IF(AND(Veriler!P407>0.1, E407=\"\", O407=\"E\"), IF(P407>Veriler!$F$2, P407*R407, IF(P407<Veriler!$F$2, Veriler!$F$2*R407, P407*R407)), 0))","v":0}," ",{"$f":"IFERROR(IF(N407=\"%10 sınırı aşılmıştır.\",K407-S407,IFERROR(IF(E407=\"\",IF(R407=1,0,IF(K407-R407=0,\"\",K407-R407)),IF(Veriler!I407=\"\",K407,IF(K407*Veriler!I407=0,\"\",K407*Veriler!I407))),K407)),0)","v":""}]
[303,{"$nulls":4},"",{"$nulls":4},"",{"$f":"IF(K408=\"\", \"\", K408/Veriler!$T$1)","v":""},{"$f":"IF(E408<>\"\", \"İthal Girdi\", IF(Veriler!P408=\"\", \"\", IF(Veriler!O408=\"H\", \"%0,5 üzerindedir\", IF(Veriler!P408>0.1, \"%10 sınırı aşılmıştır.\", \"Uygun\"))))","v":"%0,5 üzerindedir"}," ",null,null,"",{"$f":"IFERROR(IF(L408<=0.005,IF(E408=\"\",K408,0),IF(E408<>\"\",0,IF(O408=\"\",0,IF(O408=\"H\",0,IF(P408<Veriler!$F$2,K408*Veriler!$F$2,K408*P408))))),\" \")","v":0},{"$f":"IF(Veriler!P408<=0.1, R408, IF(AND(Veriler!P408>0.1, E408=\"\", O408=\"E\"), IF(P408>Veriler!$F$2, P408*R408, IF(P408<Veriler!$F$2, Veriler!$F$2*R408, P408*R408)), 0))","v":0}," ",{"$f":"IFERROR(IF(N408=\"%10 sınırı aşılmıştır.\",K408-S408,IFERROR(IF(E408=\"\",IF(R408=1,0,IF(K408-R408=0,\"\",K408-R408)),IF(Veriler!I408=\"\",K408,IF(K408*Veriler!I408=0,\"\",K408*Veriler!I408))),K408)),0)","v":""}]
[304,{"$nulls":4},"",{"$nulls":4},"",{"$f":"IF(K409=\"\", \"\", K409/Veriler!$T$1)","v":""},{"$f":"IF(E409<>\"\", \"İthal Girdi\", IF(Veriler!P409=\"\", \"\", IF(Veriler!O409=\"H\", \"%0,5 üzerindedir\", IF(Veriler!P409>0.1, \"%10 sınırı aşılmıştır.\", \"Uygun\"))))","v":"%0,5 üzerindedir"}," ",null,null,"",{"$f":"IFERROR(IF(L409<=0.005,IF(E409=\"\",K409,0),IF(E409<>\"\",0,IF(O409=\"\",0,IF(O409=\"H\",0,IF(P409<Veriler!$F$2,K409*Veriler!$F$2,K409*P409))))),\" \")","v":0},{"$f":"IF(Veriler!P409<=0.1, R409, IF(AND(Veriler!P409>0.1, E409=\"\", O409=\"E\"), IF(P409>Veriler!$F$2, P409*R409, IF(P409<Veriler!$F$2, Veriler!$F$2*R409, P409*R409)), 0))","v":0}," ",{"$f":"IFERROR(IF(N409=\"%10 sınırı aşılmıştır.\",K409-S409,IFERROR(IF(E409=\"\",IF(R409=1,0,IF(K409-R409=0,\"\",K409-R409)),IF(Veriler!I409=\"\",K409,IF(K409*Veriler!I409=0,\"\",K409*Veriler!I409))),K409)),0)","v":""}]
[305,{"$nulls":4},"",{"$nulls":4},"",{"$f":"IF(K410=\"\", \"\", K410/Veriler!$T$1)","v":""},{"$f":"IF(E410<>\"\", \"İthal Girdi\", IF(Veriler!P410=\"\", \"\", IF(Veriler!O410=\"H\", \"%0,5 üzerindedir\", IF(Veriler!P410>0.1, \"%10 sınırı aşılmıştır.\", \"Uygun\"))))","v":"%0,5 üzerindedir"}," ",null,null,"",{"$f":"IFERROR(IF(L410<=0.005,IF(E410=\"\",K410,0),IF(E410<>\"\",0,IF(O410=\"\",0,IF(O410=\"H\",0,IF(P410<Veriler!$F$2,K410*Veriler!$F$2,K410*P410))))),\" \")","v":0},{"$f":"IF(Veriler!P410<=0.1, R410, IF(AND(Veriler!P410>0.1, E410=\"\", O410=\"E\"), IF(P410>Veriler!$F$2, P410*R410, IF(P410<Veriler!$F$2, Veriler!$F$2*R410, P410*R410)), 0))","v":0}," ",{"$f":"IFERROR(IF(N410=\"%10 sınırı aşılmıştır.\",K410-S410,IFERROR(IF(E410=\"\",IF(R410=1,0,IF(K410-R410=0,\"\",K410-R410)),IF(Veriler!I410=\"\",K410,IF(K410*Veriler!I410=0,\"\",K410*Veriler!I410))),K410)),0)","v":""}]
[306,{"$nulls":4},"",{"$nulls":4},"",{"$f":"IF(K411=\"\", \"\", K411/Veriler!$T$1)","v":""},{"$f":"IF(E411<>\"\", \"İthal Girdi\", IF(Veriler!P411=\"\", \"\", IF(Veriler!O411=\"H\", \"%0,5 üzerindedir\", IF(Veriler!P411>0.1, \"%10 sınırı aşılmıştır.\", \"Uygun\"))))","v":"%0,5 üzerindedir"}," ",null,null,"",{"$f":"IFERROR(IF(L411<=0.005,IF(E411=\"\",K411,0),IF(E411<>\"\",0,IF(O411=\"\",0,IF(O411=\"H\",0,IF(P411<Veriler!$F$2,K411*Veriler!$F$2,K411*P411))))),\" \")","v":0},{"$f":"IF(Veriler!P411<=0.1, R411, IF(AND(Veriler!P411>0.1, E411=\"\", O411=\"E\"), IF(P411>Veriler!$F$2, P411*R411, IF(P411<Veriler!$F$2, Veriler!$F$2*R411, P411*R411)), 0))","v":0}," ",{"$f":"IFERROR(IF(N411=\"%10 sınırı aşılmıştır.\",K411-S411,IFERROR(IF(E411=\"\",IF(R411=1,0,IF(K411-R411=0,\"\",K411-R411)),IF(Veriler!I411=\"\",K411,IF(K411*Veriler!I411=0,\"\",K411*Veriler!I411))),K411)),0)","v":""}]
[307,{"$nulls":4},"",{"$nulls":4},"",{"$f":"IF(K412=\"\", \"\", K412/Veriler!$T$1)","v":""},{"$f":"IF(E412<>\"\", \"İthal Girdi\", IF(Veriler!P412=\"\", \"\", IF(Veriler!O412=\"H\", \"%0,5 üzerindedir\", IF(Veriler!P412>0.1, \"%10 sınırı aşılmıştır.\", \"Uygun\"))))","v":"%0,5 üzerindedir"}," ",null,null,"",{"$f":"IFERROR(IF(L412<=0.005,IF(E412=\"\",K412,0),IF(E412<>\"\",0,IF(O412=\"\",0,IF(O412=\"H\",0,IF(P412<Veriler!$F$2,K412*Veriler!$F$2,K412*P412))))),\" \")","v":0},{"$f":"IF(Veriler!P412<=0.1, R412, IF(AND(Veriler!P412>0.1, E412=\"\", O412=\"E\"), IF(P412>Veriler!$F$2, P412*R412, IF(P412<Veriler!$F$2, Veriler!$F$2*R412, P412*R412)), 0))","v":0}," ",{"$f":"IFERROR(IF(N412=\"%10 sınırı aşılmıştır.\",K412-S412,IFERROR(IF(E412=\"\",IF(R412=1,0,IF(K412-R412=0,\"\",K412-R412)),IF(Veriler!I412=\"\",K412,IF(K412*Veriler!I412=0,\"\",K412*Veriler!I412))),K412)),0)","v":""}]
[308,{"$nulls":4},"",{"$nulls":4},"",{"$f":"IF(K413=\"\", \"\", K413/Veriler!$T$1)","v":""},{"$f":"IF(E413<>\"\", \"İthal Girdi\", IF(Veriler!P413=\"\", \"\", IF(Veriler!O413=\"H\", \"%0,5 üzerindedir\", IF(Veriler!P413>0.1, \"%10 sınırı aşılmıştır.\", \"Uygun\"))))","v":"%0,5 üzerindedir"}," ",null,null,"",{"$f":"IFERROR(IF(L413<=0.005,IF(E413=\"\",K413,0),IF(E413<>\"\",0,IF(O413=\"\",0,IF(O413=\"H\",0,IF(P413<Veriler!$F$2,K413*Veriler!$F$2,K413*P413))))),\" \")","v":0},{"$f":"IF(Veriler!P413<=0.1, R413, IF(AND(Veriler!P413>0.1, E413=\"\", O413=\"E\"), IF(P413>Veriler!$F$2, P413*R413, IF(P413<Veriler!$F$2, Veriler!$F$2*R413, P413*R413)), 0))","v":0}," ",{"$f":"IFERROR(IF(N413=\"%10 sınırı aşılmıştır.\",K413-S413,IFERROR(IF(E413=\"\",IF(R413=1,0,IF(K413-R413=0,\"\",K413-R413)),IF(Veriler!I413=\"\",K413,IF(K413*Veriler!I413=0,\"\",K413*Veriler!I413))),K413)),0)","v":""}]
[{"$nulls":10},{"$f":"SUM(K385:K398,K400:K413)","v":0}]
[{"$nulls":17},"T1","T1","T1","T2"]
["Sayfa Toplamı (TL)  *(Genel Dip Toplam Ek.3-D sayfasında otomatik hesaplanacaktır.)",{"$nulls":16},{"$f":"IF(SUM(#REF!,R385:R398,R400:R413)=0,\"\",SUM(#REF!,R385:R398,R400:R413))","v":{"$error":"#REF!"}},{"$f":"IF(SUM(S385:S398,S400:S413)=0,\" \",SUM(S385:S398,S400:S413))","v":" "},{"$f":"IF(SUM(T385:T398,T400:T413)=0,\" \",SUM(T385:T398,T400:T413))","v":" "},{"$f":"IF(SUM(U385:U398,U400:U413)=0,\" \",SUM(U385:U398,U400:U413))","v":" "}]
[]
[{"$f":"A456","v":"R02"}]
["YERLİ KATKI ORANI HESAP CETVELİ                      ",{"$nulls":13},false]
["A) Nihai Ürün Doğrudan ve Dolaylı Malzeme Giderleri                                                                                                                                                                                                                                                                                                                                                                                                                                         ",{"$nulls":18},"S",{"$f":"U382+1","v":12}]
["Sıra No","Malzeme adı / Faturadaki Ürün Adı",null,"Üretici Unvanı","GTİP Kodu                             (İthal girdiler için)","Gtip Katsayısı","Miktar ","Birim","Fiyatı \n(TL/Döviz)\n","Döviz Kuru               (TL ise 1 alınız)","Fatura Tutarı (TL)","Girdi Maliyet Yüzdesi (%)","Girdi yüzdesi %0,5 altında olan girdiler için %10 sınır kontrolü","Girdi yüzdesi %0,5 altında olan girdiler için %10 sınır kontrolü","SSB/  Müstahsil                (E/H)","YKO (%) (Manuel girilmeli)","Geçerli Yerli Oranı (%)","Yerli Maliyet Tutarı                            (T1)","Yerli Maliyet Tutarı (T1)","Yerli Maliyet Tutarı (T1)","İthal Maliyet Tutarı               (T2)"]
[null,"Doğrudan Girdi                                                         (Dolaylı girdiniz varsa en son 25. sayfaya doldurunuz)"]
[{"$f":"A413+1","v":309},{"$nulls":4},{"$f":"IF(AND(E423<>\"\",U423<>\"\",K423<>0),U423/K423,\"\")","v":""},{"$nulls":4},{"$f":"IF(AND(G423<>0, I423<>0, J423<>0), G423*I423*J423, \"\")","v":""},{"$f":"IF(K423=\"\", \"\", K423/Veriler!$T$1)","v":""},{"$f":"IF(E423<>\"\", \"İthal Girdi\", IF(Veriler!P423=\"\", \"\", IF(Veriler!O423=\"H\", \"%0,5 üzerindedir\", IF(Veriler!P423>0.1, \"%10 sınırı aşılmıştır.\", \"Uygun\"))))","v":"%0,5 üzerindedir"},{"$f":"IF(L423=\"\",\" \",M423)","v":" "},null,null,{"$f":"IFERROR(IF(AND(S423<>\"\",K423<>\"\",K423<>0,S423<>0),S423/K423,\"\"),\" \")","v":""},{"$f":"IFERROR(IF(L423<=0.005,IF(E423=\"\",K423,0),IF(E423<>\"\",0,IF(O423=\"\",0,IF(O423=\"H\",0,IF(P423<Veriler!$F$2,K423*Veriler!$F$2,K423*P423))))),\" \")","v":0},{"$f":"IF(Veriler!P423<=0.1, R423, IF(AND(Veriler!P423>0.1, E423=\"\", O423=\"E\"), IF(P423>Veriler!$F$2, P423*R423, IF(P423<Veriler!$F$2, Veriler!$F$2*R423, P423*R423)), 0))","v":0},{"$f":"IF(S423=0,\" \",S423)","v":" "},{"$f":"IFERROR(IF(N423=\"%10 sınırı aşılmıştır.\",K423-S423,IFERROR(IF(E423=\"\",IF(R423=1,0,IF(K423-R423=0,\"\",K423-R423)),IF(Veriler!I423=\"\",K423,IF(K423*Veriler!I423=0,\"\",K423*Veriler!I423))),K423)),0)","v":""}]
[{"$f":"A423+1","v":310},{"$nulls":4},"",{"$nulls":4},"",{"$f":"IF(K424=\"\", \"\", K424/Veriler!$T$1)","v":""},{"$f":"IF(E424<>\"\", \"İthal Girdi\", IF(Veriler!P424=\"\", \"\", IF(Veriler!O424=\"H\", \"%0,5 üzerindedir\", IF(Veriler!P424>0.1, \"%10 sınırı aşılmıştır.\", \"Uygun\"))))","v":"%0,5 üzerindedir"}," ",null,null,"",{"$f":"IFERROR(IF(L424<=0.005,IF(E424=\"\",K424,0),IF(E424<>\"\",0,IF(O424=\"\",0,IF(O424=\"H\",0,IF(P424<Veriler!$F$2,K424*Veriler!$F$2,K424*P424))))),\" \")","v":0},{"$f":"IF(Veriler!P424<=0.1, R424, IF(AND(Veriler!P424>0.1, E424=\"\", O424=\"E\"), IF(P424>Veriler!$F$2, P424*R424, IF(P424<Veriler!$F$2, Veriler!$F$2*R424, P424*R424)), 0))","v":0}," ",{"$f":"IFERROR(IF(N424=\"%10 sınırı aşılmıştır.\",K424-S424,IFERROR(IF(E424=\"\",IF(R424=1,0,IF(K424-R424=0,\"\",K424-R424)),IF(Veriler!I424=\"\",K424,IF(K424*Veriler!I424=0,\"\",K424*Veriler!I424))),K424)),0)","v":""}]
[{"$f":"A424+1","v":311},{"$nulls":4},"",{"$nulls":4},"",{"$f":"IF(K425=\"\", \"\", K425/Veriler!$T$1)","v":""},{"$f":"IF(E425<>\"\", \"İthal Girdi\", IF(Veriler!P425=\"\", \"\", IF(Veriler!O425=\"H\", \"%0,5 üzerindedir\", IF(Veriler!P425>0.1, \"%10 sınırı aşılmıştır.\", \"Uygun\"))))","v":"%0,5 üzerindedir"}," ",null,null,"",{"$f":"IFERROR(IF(L425<=0.005,IF(E425=\"\",K425,0),IF(E425<>\"\",0,IF(O425=\"\",0,IF(O425=\"H\",0,IF(P425<Veriler!$F$2,K425*Veriler!$F$2,K425*P425))))),\" \")","v":0},{"$f":"IF(Veriler!P425<=0.1, R425, IF(AND(Veriler!P425>0.1, E425=\"\", O425=\"E\"), IF(P425>Veriler!$F$2, P425*R425, IF(P425<Veriler!$F$2, Veriler!$F$2*R425, P425*R425)), 0))","v":0}," ",{"$f":"IFERROR(IF(N425=\"%10 sınırı aşılmıştır.\",K425-S425,IFERROR(IF(E425=\"\",IF(R425=1,0,IF(K425-R425=0,\"\",K425-R425)),IF(Veriler!I425=\"\",K425,IF(K425*Veriler!I425=0,\"\",K425*Veriler!I425))),K425)),0)","v":""}]
[312,{"$nulls":4},"",{"$nulls":4},"",{"$f":"IF(K426=\"\", \"\", K426/Veriler!$T$1)","v":""},{"$f":"IF(E426<>\"\", \"İthal Girdi\", IF(Veriler!P426=\"\", \"\", IF(Veriler!O426=\"H\", \"%0,5 üzerindedir\", IF(Veriler!P426>0.1, \"%10 sınırı aşılmıştır.\", \"Uygun\"))))","v":"%0,5 üzerindedir"}," ",null,null,"",{"$f":"IFERROR(IF(L426<=0.005,IF(E426=\"\",K426,0),IF(E426<>\"\",0,IF(O426=\"\",0,IF(O426=\"H\",0,IF(P426<Veriler!$F$2,K426*Veriler!$F$2,K426*P426))))),\" \")","v":0},{"$f":"IF(Veriler!P426<=0.1, R426, IF(AND(Veriler!P426>0.1, E426=\"\", O426=\"E\"), IF(P426>Veriler!$F$2, P426*R426, IF(P426<Veriler!$F$2, Veriler!$F$2*R426, P426*R426)), 0))","v":0}," ",{"$f":"IFERROR(IF(N426=\"%10 sınırı aşılmıştır.\",K426-S426,IFERROR(IF(E426=\"\",IF(R426=1,0,IF(K426-R426=0,\"\",K426-R426)),IF(Veriler!I426=\"\",K426,IF(K426*Veriler!I426=0,\"\",K426*Veriler!I426))),K426)),0)","v":""}]
[313,{"$nulls":4},"",{"$nulls":4},"",{"$f":"IF(K427=\"\", \"\", K427/Veriler!$T$1)","v":""},{"$f":"IF(E427<>\"\", \"İthal Girdi\", IF(Veriler!P427=\"\", \"\", IF(Veriler!O427=\"H\", \"%0,5 üzerindedir\", IF(Veriler!P427>0.1, \"%10 sınırı aşılmıştır.\", \"Uygun\"))))","v":"%0,5 üzerindedir"}," ",null,null,"",{"$f":"IFERROR(IF(L427<=0.005,IF(E427=\"\",K427,0),IF(E427<>\"\",0,IF(O427=\"\",0,IF(O427=\"H\",0,IF(P427<Veriler!$F$2,K427*Veriler!$F$2,K427*P427))))),\" \")","v":0},{"$f":"IF(Veriler!P427<=0.1, R427, IF(AND(Veriler!P427>0.1, E427=\"\", O427=\"E\"), IF(P427>Veriler!$F$2, P427*R427, IF(P427<Veriler!$F$2, Veriler!$F$2*R427, P427*R427)), 0))","v":0}," ",{"$f":"IFERROR(IF(N427=\"%10 sınırı aşılmıştır.\",K427-S427,IFERROR(IF(E427=\"\",IF(R427=1,0,IF(K427-R427=0,\"\",K427-R427)),IF(Veriler!I427=\"\",K427,IF(K427*Veriler!I427=0,\"\",K427*Veriler!I427))),K427)),0)","v":""}]
[314,{"$nulls":4},"",{"$nulls":4},"",{"$f":"IF(K428=\"\", \"\", K428/Veriler!$T$1)","v":""},{"$f":"IF(E428<>\"\", \"İthal Girdi\", IF(Veriler!P428=\"\", \"\", IF(Veriler!O428=\"H\", \"%0,5 üzerindedir\", IF(Veriler!P428>0.1, \"%10 sınırı aşılmıştır.\", \"Uygun\"))))","v":"%0,5 üzerindedir"}," ",null,null,"",{"$f":"IFERROR(IF(L428<=0.005,IF(E428=\"\",K428,0),IF(E428<>\"\",0,IF(O428=\"\",0,IF(O428=\"H\",0,IF(P428<Veriler!$F$2,K428*Veriler!$F$2,K428*P428))))),\" \")","v":0},{"$f":"IF(Veriler!P428<=0.1, R428, IF(AND(Veriler!P428>0.1, E428=\"\", O428=\"E\"), IF(P428>Veriler!$F$2, P428*R428, IF(P428<Veriler!$F$2, Veriler!$F$2*R428, P428*R428)), 0))","v":0}," ",{"$f":"IFERROR(IF(N428=\"%10 sınırı aşılmıştır.\",K428-S428,IFERROR(IF(E428=\"\",IF(R428=1,0,IF(K428-R428=0,\"\",K428-R428)),IF(Veriler!I428=\"\",K428,IF(K428*Veriler!I428=0,\"\",K428*Veriler!I428))),K428)),0)","v":""}]
[315,{"$nulls":4},"",{"$nulls":4},"",{"$f":"IF(K429=\"\", \"\", K429/Veriler!$T$1)","v":""},{"$f":"IF(E429<>\"\", \"İthal Girdi\", IF(Veriler!P429=\"\", \"\", IF(Veriler!O429=\"H\", \"%0,5 üzerindedir\", IF(Veriler!P429>0.1, \"%10 sınırı aşılmıştır.\", \"Uygun\"))))","v":"%0,5 üzerindedir"}," ",null,null,"",{"$f":"IFERROR(IF(L429<=0.005,IF(E429=\"\",K429,0),IF(E429<>\"\",0,IF(O429=\"\",0,IF(O429=\"H\",0,IF(P429<Veriler!$F$2,K429*Veriler!$F$2,K429*P429))))),\" \")","v":0},{"$f":"IF(Veriler!P429<=0.1, R429, IF(AND(Veriler!P429>0.1, E429=\"\", O429=\"E\"), IF(P429>Veriler!$F$2, P429*R429, IF(P429<Veriler!$F$2, Veriler!$F$2*R429, P429*R429)), 0))","v":0}," ",{"$f":"IFERROR(IF(N429=\"%10 sınırı aşılmıştır.\",K429-S429,IFERROR(IF(E429=\"\",IF(R429=1,0,IF(K429-R429=0,\"\",K429-R429)),IF(Veriler!I429=\"\",K429,IF(K429*Veriler!I429=0,\"\",K429*Veriler!I429))),K429)),0)","v":""}]
[316,{"$nulls":4},"",{"$nulls":4},"",{"$f":"IF(K430=\"\", \"\", K430/Veriler!$T$1)","v":""},{"$f":"IF(E430<>\"\", \"İthal Girdi\", IF(Veriler!P430=\"\", \"\", IF(Veriler!O430=\"H\", \"%0,5 üzerindedir\", IF(Veriler!P430>0.1, \"%10 sınırı aşılmıştır.\", \"Uygun\"))))","v":"%0,5 üzerindedir"}," ",null,null,"",{"$f":"IFERROR(IF(L430<=0.005,IF(E430=\"\",K430,0),IF(E430<>\"\",0,IF(O430=\"\",0,IF(O430=\"H\",0,IF(P430<Veriler!$F$2,K430*Veriler!$F$2,K430*P430))))),\" \")","v":0},{"$f":"IF(Veriler!P430<=0.1, R430, IF(AND(Veriler!P430>0.1, E430=\"\", O430=\"E\"), IF(P430>Veriler!$F$2, P430*R430, IF(P430<Veriler!$F$2, Veriler!$F$2*R430, P430*R430)), 0))","v":0}," ",{"$f":"IFERROR(IF(N430=\"%10 sınırı aşılmıştır.\",K430-S430,IFERROR(IF(E430=\"\",IF(R430=1,0,IF(K430-R430=0,\"\",K430-R430)),IF(Veriler!I430=\"\",K430,IF(K430*Veriler!I430=0,\"\",K430*Veriler!I430))),K430)),0)","v":""}]
[317,{"$nulls":4},"",{"$nulls":4},"",{"$f":"IF(K431=\"\", \"\", K431/Veriler!$T$1)","v":""},{"$f":"IF(E431<>\"\", \"İthal Girdi\", IF(Veriler!P431=\"\", \"\", IF(Veriler!O431=\"H\", \"%0,5 üzerindedir\", IF(Veriler!P431>0.1, \"%10 sınırı aşılmıştır.\", \"Uygun\"))))","v":"%0,5 üzerindedir"}," ",null,null,"",{"$f":"IFERROR(IF(L431<=0.005,IF(E431=\"\",K431,0),IF(E431<>\"\",0,IF(O431=\"\",0,IF(O431=\"H\",0,IF(P431<Veriler!$F$2,K431*Veriler!$F$2,K431*P431))))),\" \")","v":0},{"$f":"IF(Veriler!P431<=0.1, R431, IF(AND(Veriler!P431>0.1, E431=\"\", O431=\"E\"), IF(P431>Veriler!$F$2, P431*R431, IF(P431<Veriler!$F$2, Veriler!$F$2*R431, P431*R431)), 0))","v":0}," ",{"$f":"IFERROR(IF(N431=\"%10 sınırı aşılmıştır.\",K431-S431,IFERROR(IF(E431=\"\",IF(R431=1,0,IF(K431-R431=0,\"\",K431-R431)),IF(Veriler!I431=\"\",K431,IF(K431*Veriler!I431=0,\"\",K431*Veriler!I431))),K431)),0)","v":""}]
[318,{"$nulls":4},"",{"$nulls":4},"",{"$f":"IF(K432=\"\", \"\", K432/Veriler!$T$1)","v":""},{"$f":"IF(E432<>\"\", \"İthal Girdi\", IF(Veriler!P432=\"\", \"\", IF(Veriler!O432=\"H\", \"%0,5 üzerindedir\", IF(Veriler!P432>0.1, \"%10 sınırı aşılmıştır.\", \"Uygun\"))))","v":"%0,5 üzerindedir"}," ",null,null,"",{"$f":"IFERROR(IF(L432<=0.005,IF(E432=\"\",K432,0),IF(E432<>\"\",0,IF(O432=\"\",0,IF(O432=\"H\",0,IF(P432<Veriler!$F$2,K432*Veriler!$F$2,K432*P432))))),\" \")","v":0},{"$f":"IF(Veriler!P432<=0.1, R432, IF(AND(Veriler!P432>0.1, E432=\"\", O432=\"E\"), IF(P432>Veriler!$F$2, P432*R432, IF(P432<Veriler!$F$2, Veriler!$F$2*R432, P432*R432)), 0))","v":0}," ",{"$f":"IFERROR(IF(N432=\"%10 sınırı aşılmıştır.\",K432-S432,IFERROR(IF(E432=\"\",IF(R432=1,0,IF(K432-R432=0,\"\",K432-R432)),IF(Veriler!I432=\"\",K432,IF(K432*Veriler!I432=0,\"\",K432*Veriler!I432))),K432)),0)","v":""}]
[319,{"$nulls":4},"",{"$nulls":4},"",{"$f":"IF(K433=\"\", \"\", K433/Veriler!$T$1)","v":""},{"$f":"IF(E433<>\"\", \"İthal Girdi\", IF(Veriler!P433=\"\", \"\", IF(Veriler!O433=\"H\", \"%0,5 üzerindedir\", IF(Veriler!P433>0.1, \"%10 sınırı aşılmıştır.\", \"Uygun\"))))","v":"%0,5 üzerindedir"}," ",null,null,"",{"$f":"IFERROR(IF(L433<=0.005,IF(E433=\"\",K433,0),IF(E433<>\"\",0,IF(O433=\"\",0,IF(O433=\"H\",0,IF(P433<Veriler!$F$2,K433*Veriler!$F$2,K433*P433))))),\" \")","v":0},{"$f":"IF(Veriler!P433<=0.1, R433, IF(AND(Veriler!P433>0.1, E433=\"\", O433=\"E\"), IF(P433>Veriler!$F$2, P433*R433, IF(P433<Veriler!$F$2, Veriler!$F$2*R433, P433*R433)), 0))","v":0}," ",{"$f":"IFERROR(IF(N433=\"%10 sınırı aşılmıştır.\",K433-S433,IFERROR(IF(E433=\"\",IF(R433=1,0,IF(K433-R433=0,\"\",K433-R433)),IF(Veriler!I433=\"\",K433,IF(K433*Veriler!I433=0,\"\",K433*Veriler!I433))),K433)),0)","v":""}]
[320,{"$nulls":4},"",{"$nulls":4},"",{"$f":"IF(K434=\"\", \"\", K434/Veriler!$T$1)","v":""},{"$f":"IF(E434<>\"\", \"İthal Girdi\", IF(Veriler!P434=\"\", \"\", IF(Veriler!O434=\"H\", \"%0,5 üzerindedir\", IF(Veriler!P434>0.1, \"%10 sınırı aşılmıştır.\", \"Uygun\"))))","v":"%0,5 üzerindedir"}," ",null,null,"",{"$f":"IFERROR(IF(L434<=0.005,IF(E434=\"\",K434,0),IF(E434<>\"\",0,IF(O434=\"\",0,IF(O434=\"H\",0,IF(P434<Veriler!$F$2,K434*Veriler!$F$2,K434*P434))))),\" \")","v":0},{"$f":"IF(Veriler!P434<=0.1, R434, IF(AND(Veriler!P434>0.1, E434=\"\", O434=\"E\"), IF(P434>Veriler!$F$2, P434*R434, IF(P434<Veriler!$F$2, Veriler!$F$2*R434, P434*R434)), 0))","v":0}," ",{"$f":"IFERROR(IF(N434=\"%10 sınırı aşılmıştır.\",K434-S434,IFERROR(IF(E434=\"\",IF(R434=1,0,IF(K434-R434=0,\"\",K434-R434)),IF(Veriler!I434=\"\",K434,IF(K434*Veriler!I434=0,\"\",K434*Veriler!I434))),K434)),0)","v":""}]
[321,{"$nulls":4},"",{"$nulls":4},"",{"$f":"IF(K435=\"\", \"\", K435/Veriler!$T$1)","v":""},{"$f":"IF(E435<>\"\", \"İthal Girdi\", IF(Veriler!P435=\"\", \"\", IF(Veriler!O435=\"H\", \"%0,5 üzerindedir\", IF(Veriler!P435>0.1, \"%10 sınırı aşılmıştır.\", \"Uygun\"))))","v":"%0,5 üzerindedir"}," ",null,null,"",{"$f":"IFERROR(IF(L435<=0.005,IF(E435=\"\",K435,0),IF(E435<>\"\",0,IF(O435=\"\",0,IF(O435=\"H\",0,IF(P435<Veriler!$F$2,K435*Veriler!$F$2,K435*P435))))),\" \")","v":0},{"$f":"IF(Veriler!P435<=0.1, R435, IF(AND(Veriler!P435>0.1, E435=\"\", O435=\"E\"), IF(P435>Veriler!$F$2, P435*R435, IF(P435<Veriler!$F$2, Veriler!$F$2*R435, P435*R435)), 0))","v":0}," ",{"$f":"IFERROR(IF(N435=\"%10 sınırı aşılmıştır.\",K435-S435,IFERROR(IF(E435=\"\",IF(R435=1,0,IF(K435-R435=0,\"\",K435-R435)),IF(Veriler!I435=\"\",K435,IF(K435*Veriler!I435=0,\"\",K435*Veriler!I435))),K435)),0)","v":""}]
[322,{"$nulls":4},"",{"$nulls":4},"",{"$f":"IF(K436=\"\", \"\", K436/Veriler!$T$1)","v":""},{"$f":"IF(E436<>\"\", \"İthal Girdi\", IF(Veriler!P436=\"\", \"\", IF(Veriler!O436=\"H\", \"%0,5 üzerindedir\", IF(Veriler!P436>0.1, \"%10 sınırı aşılmıştır.\", \"Uygun\"))))","v":"%0,5 üzerindedir"}," ",null,null,"",{"$f":"IFERROR(IF(L436<=0.005,IF(E436=\"\",K436,0),IF(E436<>\"\",0,IF(O436=\"\",0,IF(O436=\"H\",0,IF(P436<Veriler!$F$2,K436*Veriler!$F$2,K436*P436))))),\" \")","v":0},{"$f":"IF(Veriler!P436<=0.1, R436, IF(AND(Veriler!P436>0.1, E436=\"\", O436=\"E\"), IF(P436>Veriler!$F$2, P436*R436, IF(P436<Veriler!$F$2, Veriler!$F$2*R436, P436*R436)), 0))","v":0}," ",{"$f":"IFERROR(IF(N436=\"%10 sınırı aşılmıştır.\",K436-S436,IFERROR(IF(E436=\"\",IF(R436=1,0,IF(K436-R436=0,\"\",K436-R436)),IF(Veriler!I436=\"\",K436,IF(K436*Veriler!I436=0,\"\",K436*Veriler!I436))),K436)),0)","v":""}]
[null,"Dolaylı"]
[{"$f":"A436+1","v":323},{"$nulls":4},{"$f":"IF(AND(E438<>\"\",U438<>\"\",K438<>0),U438/K438,\"\")","v":""},{"$nulls":4},{"$f":"IF(AND(G438<>0, I438<>0, J438<>0), G438*I438*J438, \"\")","v":""},{"$f":"IF(K438=\"\", \"\", K438/Veriler!$T$1)","v":""},{"$f":"IF(E438<>\"\", \"İthal Girdi\", IF(Veriler!P438=\"\", \"\", IF(Veriler!O438=\"H\", \"%0,5 üzerindedir\", IF(Veriler!P438>0.1, \"%10 sınırı aşılmıştır.\", \"Uygun\"))))","v":"%0,5 üzerindedir"},{"$f":"IF(L438=\"\",\" \",M438)","v":" "},null,null,{"$f":"IFERROR(IF(AND(S438<>\"\",K438<>\"\",K438<>0,S438<>0),S438/K438,\"\"),\" \")","v":""},{"$f":"IFERROR(IF(L438<=0.005,IF(E438=\"\",K438,0),IF(E438<>\"\",0,IF(O438=\"\",0,IF(O438=\"H\",0,IF(P438<Veriler!$F$2,K438*Veriler!$F$2,K438*P438))))),\" \")","v":0},{"$f":"IF(Veriler!P438<=0.1, R438, IF(AND(Veriler!P438>0.1, E438=\"\", O438=\"E\"), IF(P438>Veriler!$F$2, P438*R438, IF(P438<Veriler!$F$2, Veriler!$F$2*R438, P438*R438)), 0))","v":0},{"$f":"IF(S438=0,\" \",S438)","v":" "},{"$f":"IFERROR(IF(N438=\"%10 sınırı aşılmıştır.\",K438-S438,IFERROR(IF(E438=\"\",IF(R438=1,0,IF(K438-R438=0,\"\",K438-R438)),IF(Veriler!I438=\"\",K438,IF(K438*Veriler!I438=0,\"\",K438*Veriler!I438))),K438)),0)","v":""}]
[{"$f":"A438+1","v":324},{"$nulls":4},"",{"$nulls":4},"",{"$f":"IF(K439=\"\", \"\", K439/Veriler!$T$1)","v":""},{"$f":"IF(E439<>\"\", \"İthal Girdi\", IF(Veriler!P439=\"\", \"\", IF(Veriler!O439=\"H\", \"%0,5 üzerindedir\", IF(Veriler!P439>0.1, \"%10 sınırı aşılmıştır.\", \"Uygun\"))))","v":"%0,5 üzerindedir"}," ",null,null,"",{"$f":"IFERROR(IF(L439<=0.005,IF(E439=\"\",K439,0),IF(E439<>\"\",0,IF(O439=\"\",0,IF(O439=\"H\",0,IF(P439<Veriler!$F$2,K439*Veriler!$F$2,K439*P439))))),\" \")","v":0},{"$f":"IF(Veriler!P439<=0.1, R439, IF(AND(Veriler!P439>0.1, E439=\"\", O439=\"E\"), IF(P439>Veriler!$F$2, P439*R439, IF(P439<Veriler!$F$2, Veriler!$F$2*R439, P439*R439)), 0))","v":0}," ",{"$f":"IFERROR(IF(N439=\"%10 sınırı aşılmıştır.\",K439-S439,IFERROR(IF(E439=\"\",IF(R439=1,0,IF(K439-R439=0,\"\",K439-R439)),IF(Veriler!I439=\"\",K439,IF(K439*Veriler!I439=0,\"\",K439*Veriler!I439))),K439)),0)","v":""}]
[{"$f":"A439+1","v":325},{"$nulls":4},"",{"$nulls":4},"",{"$f":"IF(K440=\"\", \"\", K440/Veriler!$T$1)","v":""},{"$f":"IF(E440<>\"\", \"İthal Girdi\", IF(Veriler!P440=\"\", \"\", IF(Veriler!O440=\"H\", \"%0,5 üzerindedir\", IF(Veriler!P440>0.1, \"%10 sınırı aşılmıştır.\", \"Uygun\"))))","v":"%0,5 üzerindedir"}," ",null,null,"",{"$f":"IFERROR(IF(L440<=0.005,IF(E440=\"\",K440,0),IF(E440<>\"\",0,IF(O440=\"\",0,IF(O440=\"H\",0,IF(P440<Veriler!$F$2,K440*Veriler!$F$2,K440*P440))))),\" \")","v":0},{"$f":"IF(Veriler!P440<=0.1, R440, IF(AND(Veriler!P440>0.1, E440=\"\", O440=\"E\"), IF(P440>Veriler!$F$2, P440*R440, IF(P440<Veriler!$F$2, Veriler!$F$2*R440, P440*R440)), 0))","v":0}," ",{"$f":"IFERROR(IF(N440=\"%10 sınırı aşılmıştır.\",K440-S440,IFERROR(IF(E440=\"\",IF(R440=1,0,IF(K440-R440=0,\"\",K440-R440)),IF(Veriler!I440=\"\",K440,IF(K440*Veriler!I440=0,\"\",K440*Veriler!I440))),K440)),0)","v":""}]
[326,{"$nulls":4},"",{"$nulls":4},"",{"$f":"IF(K441=\"\", \"\", K441/Veriler!$T$1)","v":""},{"$f":"IF(E441<>\"\", \"İthal Girdi\", IF(Veriler!P441=\"\", \"\", IF(Veriler!O441=\"H\", \"%0,5 üzerindedir\", IF(Veriler!P441>0.1, \"%10 sınırı aşılmıştır.\", \"Uygun\"))))","v":"%0,5 üzerindedir"}," ",null,null,"",{"$f":"IFERROR(IF(L441<=0.005,IF(E441=\"\",K441,0),IF(E441<>\"\",0,IF(O441=\"\",0,IF(O441=\"H\",0,IF(P441<Veriler!$F$2,K441*Veriler!$F$2,K441*P441))))),\" \")","v":0},{"$f":"IF(Veriler!P441<=0.1, R441, IF(AND(Veriler!P441>0.1, E441=\"\", O441=\"E\"), IF(P441>Veriler!$F$2, P441*R441, IF(P441<Veriler!$F$2, Veriler!$F$2*R441, P441*R441)), 0))","v":0}," ",{"$f":"IFERROR(IF(N441=\"%10 sınırı aşılmıştır.\",K441-S441,IFERROR(IF(E441=\"\",IF(R441=1,0,IF(K441-R441=0,\"\",K441-R441)),IF(Veriler!I441=\"\",K441,IF(K441*Veriler!I441=0,\"\",K441*Veriler!I441))),K441)),0)","v":""}]
[327,{"$nulls":4},"",{"$nulls":4},"",{"$f":"IF(K442=\"\", \"\", K442/Veriler!$T$1)","v":""},{"$f":"IF(E442<>\"\", \"İthal Girdi\", IF(Veriler!P442=\"\", \"\", IF(Veriler!O442=\"H\", \"%0,5 üzerindedir\", IF(Veriler!P442>0.1, \"%10 sınırı aşılmıştır.\", \"Uygun\"))))","v":"%0,5 üzerindedir"}," ",null,null,"",{"$f":"IFERROR(IF(L442<=0.005,IF(E442=\"\",K442,0),IF(E442<>\"\",0,IF(O442=\"\",0,IF(O442=\"H\",0,IF(P442<Veriler!$F$2,K442*Veriler!$F$2,K442*P442))))),\" \")","v":0},{"$f":"IF(Veriler!P442<=0.1, R442, IF(AND(Veriler!P442>0.1, E442=\"\", O442=\"E\"), IF(P442>Veriler!$F$2, P442*R442, IF(P442<Veriler!$F$2, Veriler!$F$2*R442, P442*R442)), 0))","v":0}," ",{"$f":"IFERROR(IF(N442=\"%10 sınırı aşılmıştır.\",K442-S442,IFERROR(IF(E442=\"\",IF(R442=1,0,IF(K442-R442=0,\"\",K442-R442)),IF(Veriler!I442=\"\",K442,IF(K442*Veriler!I442=0,\"\",K442*Veriler!I442))),K442)),0)","v":""}]
[328,{"$nulls":4},"",{"$nulls":4},"",{"$f":"IF(K443=\"\", \"\", K443/Veriler!$T$1)","v":""},{"$f":"IF(E443<>\"\", \"İthal Girdi\", IF(Veriler!P443=\"\", \"\", IF(Veriler!O443=\"H\", \"%0,5 üzerindedir\", IF(Veriler!P443>0.1, \"%10 sınırı aşılmıştır.\", \"Uygun\"))))","v":"%0,5 üzerindedir"}," ",null,null,"",{"$f":"IFERROR(IF(L443<=0.005,IF(E443=\"\",K443,0),IF(E443<>\"\",0,IF(O443=\"\",0,IF(O443=\"H\",0,IF(P443<Veriler!$F$2,K443*Veriler!$F$2,K443*P443))))),\" \")","v":0},{"$f":"IF(Veriler!P443<=0.1, R443, IF(AND(Veriler!P443>0.1, E443=\"\", O443=\"E\"), IF(P443>Veriler!$F$2, P443*R443, IF(P443<Veriler!$F$2, Veriler!$F$2*R443, P443*R443)), 0))","v":0}," ",{"$f":"IFERROR(IF(N443=\"%10 sınırı aşılmıştır.\",K443-S443,IFERROR(IF(E443=\"\",IF(R443=1,0,IF(K443-R443=0,\"\",K443-R443)),IF(Veriler!I443=\"\",K443,IF(K443*Veriler!I443=0,\"\",K443*Veriler!I443))),K443)),0)","v":""}]
[329,{"$nulls":4},"",{"$nulls":4},"",{"$f":"IF(K444=\"\", \"\", K444/Veriler!$T$1)","v":""},{"$f":"IF(E444<>\"\", \"İthal Girdi\", IF(Veriler!P444=\"\", \"\", IF(Veriler!O444=\"H\", \"%0,5 üzerindedir\", IF(Veriler!P444>0.1, \"%10 sınırı aşılmıştır.\", \"Uygun\"))))","v":"%0,5 üzerindedir"}," ",null,null,"",{"$f":"IFERROR(IF(L444<=0.005,IF(E444=\"\",K444,0),IF(E444<>\"\",0,IF(O444=\"\",0,IF(O444=\"H\",0,IF(P444<Veriler!$F$2,K444*Veriler!$F$2,K444*P444))))),\" \")","v":0},{"$f":"IF(Veriler!P444<=0.1, R444, IF(AND(Veriler!P444>0.1, E444=\"\", O444=\"E\"), IF(P444>Veriler!$F$2, P444*R444, IF(P444<Veriler!$F$2, Veriler!$F$2*R444, P444*R444)), 0))","v":0}," ",{"$f":"IFERROR(IF(N444=\"%10 sınırı aşılmıştır.\",K444-S444,IFERROR(IF(E444=\"\",IF(R444=1,0,IF(K444-R444=0,\"\",K444-R444)),IF(Veriler!I444=\"\",K444,IF(K444*Veriler!I444=0,\"\",K444*Veriler!I444))),K444)),0)","v":""}]
[330,{"$nulls":4},"",{"$nulls":4},"",{"$f":"IF(K445=\"\", \"\", K445/Veriler!$T$1)","v":""},{"$f":"IF(E445<>\"\", \"İthal Girdi\", IF(Veriler!P445=\"\", \"\", IF(Veriler!O445=\"H\", \"%0,5 üzerindedir\", IF(Veriler!P445>0.1, \"%10 sınırı aşılmıştır.\", \"Uygun\"))))","v":"%0,5 üzerindedir"}," ",null,null,"",{"$f":"IFERROR(IF(L445<=0.005,IF(E445=\"\",K445,0),IF(E445<>\"\",0,IF(O445=\"\",0,IF(O445=\"H\",0,IF(P445<Veriler!$F$2,K445*Veriler!$F$2,K445*P445))))),\" \")","v":0},{"$f":"IF(Veriler!P445<=0.1, R445, IF(AND(Veriler!P445>0.1, E445=\"\", O445=\"E\"), IF(P445>Veriler!$F$2, P445*R445, IF(P445<Veriler!$F$2, Veriler!$F$2*R445, P445*R445)), 0))","v":0}," ",{"$f":"IFERROR(IF(N445=\"%10 sınırı aşılmıştır.\",K445-S445,IFERROR(IF(E445=\"\",IF(R445=1,0,IF(K445-R445=0,\"\",K445-R445)),IF(Veriler!I445=\"\",K445,IF(K445*Veriler!I445=0,\"\",K445*Veriler!I445))),K445)),0)","v":""}]
[331,{"$nulls":4},"",{"$nulls":4},"",{"$f":"IF(K446=\"\", \"\", K446/Veriler!$T$1)","v":""},{"$f":"IF(E446<>\"\", \"İthal Girdi\", IF(Veriler!P446=\"\", \"\", IF(Veriler!O446=\"H\", \"%0,5 üzerindedir\", IF(Veriler!P446>0.1, \"%10 sınırı aşılmıştır.\", \"Uygun\"))))","v":"%0,5 üzerindedir"}," ",null,null,"",{"$f":"IFERROR(IF(L446<=0.005,IF(E446=\"\",K446,0),IF(E446<>\"\",0,IF(O446=\"\",0,IF(O446=\"H\",0,IF(P446<Veriler!$F$2,K446*Veriler!$F$2,K446*P446))))),\" \")","v":0},{"$f":"IF(Veriler!P446<=0.1, R446, IF(AND(Veriler!P446>0.1, E446=\"\", O446=\"E\"), IF(P446>Veriler!$F$2, P446*R446, IF(P446<Veriler!$F$2, Veriler!$F$2*R446, P446*R446)), 0))","v":0}," ",{"$f":"IFERROR(IF(N446=\"%10 sınırı aşılmıştır.\",K446-S446,IFERROR(IF(E446=\"\",IF(R446=1,0,IF(K446-R446=0,\"\",K446-R446)),IF(Veriler!I446=\"\",K446,IF(K446*Veriler!I446=0,\"\",K446*Veriler!I446))),K446)),0)","v":""}]
[332,{"$nulls":4},"",{"$nulls":4},"",{"$f":"IF(K447=\"\", \"\", K447/Veriler!$T$1)","v":""},{"$f":"IF(E447<>\"\", \"İthal Girdi\", IF(Veriler!P447=\"\", \"\", IF(Veriler!O447=\"H\", \"%0,5 üzerindedir\", IF(Veriler!P447>0.1, \"%10 sınırı aşılmıştır.\", \"Uygun\"))))","v":"%0,5 üzerindedir"}," ",null,null,"",{"$f":"IFERROR(IF(L447<=0.005,IF(E447=\"\",K447,0),IF(E447<>\"\",0,IF(O447=\"\",0,IF(O447=\"H\",0,IF(P447<Veriler!$F$2,K447*Veriler!$F$2,K447*P447))))),\" \")","v":0},{"$f":"IF(Veriler!P447<=0.1, R447, IF(AND(Veriler!P447>0.1, E447=\"\", O447=\"E\"), IF(P447>Veriler!$F$2, P447*R447, IF(P447<Veriler!$F$2, Veriler!$F$2*R447, P447*R447)), 0))","v":0}," ",{"$f":"IFERROR(IF(N447=\"%10 sınırı aşılmıştır.\",K447-S447,IFERROR(IF(E447=\"\",IF(R447=1,0,IF(K447-R447=0,\"\",K447-R447)),IF(Veriler!I447=\"\",K447,IF(K447*Veriler!I447=0,\"\",K447*Veriler!I447))),K447)),0)","v":""}]
[333,{"$nulls":4},"",{"$nulls":4},"",{"$f":"IF(K448=\"\", \"\", K448/Veriler!$T$1)","v":""},{"$f":"IF(E448<>\"\", \"İthal Girdi\", IF(Veriler!P448=\"\", \"\", IF(Veriler!O448=\"H\", \"%0,5 üzerindedir\", IF(Veriler!P448>0.1, \"%10 sınırı aşılmıştır.\", \"Uygun\"))))","v":"%0,5 üzerindedir"}," ",null,null,"",{"$f":"IFERROR(IF(L448<=0.005,IF(E448=\"\",K448,0),IF(E448<>\"\",0,IF(O448=\"\",0,IF(O448=\"H\",0,IF(P448<Veriler!$F$2,K448*Veriler!$F$2,K448*P448))))),\" \")","v":0},{"$f":"IF(Veriler!P448<=0.1, R448, IF(AND(Veriler!P448>0.1, E448=\"\", O448=\"E\"), IF(P448>Veriler!$F$2, P448*R448, IF(P448<Veriler!$F$2, Veriler!$F$2*R448, P448*R448)), 0))","v":0}," ",{"$f":"IFERROR(IF(N448=\"%10 sınırı aşılmıştır.\",K448-S448,IFERROR(IF(E448=\"\",IF(R448=1,0,IF(K448-R448=0,\"\",K448-R448)),IF(Veriler!I448=\"\",K448,IF(K448*Veriler!I448=0,\"\",K448*Veriler!I448))),K448)),0)","v":""}]
[334,{"$nulls":4},"",{"$nulls":4},"",{"$f":"IF(K449=\"\", \"\", K449/Veriler!$T$1)","v":""},{"$f":"IF(E449<>\"\", \"İthal Girdi\", IF(Veriler!P449=\"\", \"\", IF(Veriler!O449=\"H\", \"%0,5 üzerindedir\", IF(Veriler!P449>0.1, \"%10 sınırı aşılmıştır.\", \"Uygun\"))))","v":"%0,5 üzerindedir"}," ",null,null,"",{"$f":"IFERROR(IF(L449<=0.005,IF(E449=\"\",K449,0),IF(E449<>\"\",0,IF(O449=\"\",0,IF(O449=\"H\",0,IF(P449<Veriler!$F$2,K449*Veriler!$F$2,K449*P449))))),\" \")","v":0},{"$f":"IF(Veriler!P449<=0.1, R449, IF(AND(Veriler!P449>0.1, E449=\"\", O449=\"E\"), IF(P449>Veriler!$F$2, P449*R449, IF(P449<Veriler!$F$2, Veriler!$F$2*R449, P449*R449)), 0))","v":0}," ",{"$f":"IFERROR(IF(N449=\"%10 sınırı aşılmıştır.\",K449-S449,IFERROR(IF(E449=\"\",IF(R449=1,0,IF(K449-R449=0,\"\",K449-R449)),IF(Veriler!I449=\"\",K449,IF(K449*Veriler!I449=0,\"\",K449*Veriler!I449))),K449)),0)","v":""}]
[335,{"$nulls":4},"",{"$nulls":4},"",{"$f":"IF(K450=\"\", \"\", K450/Veriler!$T$1)","v":""},{"$f":"IF(E450<>\"\", \"İthal Girdi\", IF(Veriler!P450=\"\", \"\", IF(Veriler!O450=\"H\", \"%0,5 üzerindedir\", IF(Veriler!P450>0.1, \"%10 sınırı aşılmıştır.\", \"Uygun\"))))","v":"%0,5 üzerindedir"}," ",null,null,"",{"$f":"IFERROR(IF(L450<=0.005,IF(E450=\"\",K450,0),IF(E450<>\"\",0,IF(O450=\"\",0,IF(O450=\"H\",0,IF(P450<Veriler!$F$2,K450*Veriler!$F$2,K450*P450))))),\" \")","v":0},{"$f":"IF(Veriler!P450<=0.1, R450, IF(AND(Veriler!P450>0.1, E450=\"\", O450=\"E\"), IF(P450>Veriler!$F$2, P450*R450, IF(P450<Veriler!$F$2, Veriler!$F$2*R450, P450*R450)), 0))","v":0}," ",{"$f":"IFERROR(IF(N450=\"%10 sınırı aşılmıştır.\",K450-S450,IFERROR(IF(E450=\"\",IF(R450=1,0,IF(K450-R450=0,\"\",K450-R450)),IF(Veriler!I450=\"\",K450,IF(K450*Veriler!I450=0,\"\",K450*Veriler!I450))),K450)),0)","v":""}]
[336,{"$nulls":4},"",{"$nulls":4},"",{"$f":"IF(K451=\"\", \"\", K451/Veriler!$T$1)","v":""},{"$f":"IF(E451<>\"\", \"İthal Girdi\", IF(Veriler!P451=\"\", \"\", IF(Veriler!O451=\"H\", \"%0,5 üzerindedir\", IF(Veriler!P451>0.1, \"%10 sınırı aşılmıştır.\", \"Uygun\"))))","v":"%0,5 üzerindedir"}," ",null,null,"",{"$f":"IFERROR(IF(L451<=0.005,IF(E451=\"\",K451,0),IF(E451<>\"\",0,IF(O451=\"\",0,IF(O451=\"H\",0,IF(P451<Veriler!$F$2,K451*Veriler!$F$2,K451*P451))))),\" \")","v":0},{"$f":"IF(Veriler!P451<=0.1, R451, IF(AND(Veriler!P451>0.1, E451=\"\", O451=\"E\"), IF(P451>Veriler!$F$2, P451*R451, IF(P451<Veriler!$F$2, Veriler!$F$2*R451, P451*R451)), 0))","v":0}," ",{"$f":"IFERROR(IF(N451=\"%10 sınırı aşılmıştır.\",K451-S451,IFERROR(IF(E451=\"\",IF(R451=1,0,IF(K451-R451=0,\"\",K451-R451)),IF(Veriler!I451=\"\",K451,IF(K451*Veriler!I451=0,\"\",K451*Veriler!I451))),K451)),0)","v":""}]
[{"$nulls":10},{"$f":"SUM(K423:K436,K438:K451)","v":0}]
[{"$nulls":17},"T1","T1","T1","T2"]
["Sayfa Toplamı (TL)  *(Genel Dip Toplam Ek.3-D sayfasında otomatik hesaplanacaktır.)",{"$nulls":16},{"$f":"IF(SUM(#REF!,R423:R436,R438:R451)=0,\"\",SUM(#REF!,R423:R436,R438:R451))","v":{"$error":"#REF!"}},{"$f":"IF(SUM(S423:S436,S438:S451)=0,\" \",SUM(S423:S436,S438:S451))","v":" "},{"$f":"IF(SUM(T423:T436,T438:T451)=0,\" \",SUM(T423:T436,T438:T451))","v":" "},{"$f":"IF(SUM(U423:U436,U438:U451)=0,\" \",SUM(U423:U436,U438:U451))","v":" "}]
[]
[{"$f":"A494","v":"R02"}]
["YERLİ KATKI ORANI HESAP CETVELİ                      ",{"$nulls":13},false]
["A) Nihai Ürün Doğrudan ve Dolaylı Malzeme Giderleri                                                                                                                                                                                                                                                                                                                                                                                                                                         ",{"$nulls":18},"S",{"$f":"U420+1","v":13}]
["Sıra No","Malzeme adı / Faturadaki Ürün Adı",null,"Üretici Unvanı","GTİP Kodu                             (İthal girdiler için)","Gtip Katsayısı","Miktar ","Birim","Fiyatı \n(TL/Döviz)\n","Döviz Kuru               (TL ise 1 alınız)","Fatura Tutarı (TL)","Girdi Maliyet Yüzdesi (%)","Girdi yüzdesi %0,5 altında olan girdiler için %10 sınır kontrolü","Girdi yüzdesi %0,5 altında olan girdiler için %10 sınır kontrolü","SSB/  Müstahsil                (E/H)","YKO (%) (Manuel girilmeli)","Geçerli Yerli Oranı (%)","Yerli Maliyet Tutarı                            (T1)","Yerli Maliyet Tutarı (T1)","Yerli Maliyet Tutarı (T1)","İthal Maliyet Tutarı               (T2)"]
[null,"Doğrudan Girdi                                                         (Dolaylı girdiniz varsa en son 25. sayfaya doldurunuz)"]
[{"$f":"A451+1","v":337},{"$nulls":4},{"$f":"IF(AND(E461<>\"\",U461<>\"\",K461<>0),U461/K461,\"\")","v":""},{"$nulls":4},{"$f":"IF(AND(G461<>0, I461<>0, J461<>0), G461*I461*J461, \"\")","v":""},{"$f":"IF(K461=\"\", \"\", K461/Veriler!$T$1)","v":""},{"$f":"IF(E461<>\"\", \"İthal Girdi\", IF(Veriler!P461=\"\", \"\", IF(Veriler!O461=\"H\", \"%0,5 üzerindedir\", IF(Veriler!P461>0.1, \"%10 sınırı aşılmıştır.\", \"Uygun\"))))","v":"%0,5 üzerindedir"},{"$f":"IF(L461=\"\",\" \",M461)","v":" "},null,null,{"$f":"IFERROR(IF(AND(S461<>\"\",K461<>\"\",K461<>0,S461<>0),S461/K461,\"\"),\" \")","v":""},{"$f":"IFERROR(IF(L461<=0.005,IF(E461=\"\",K461,0),IF(E461<>\"\",0,IF(O461=\"\",0,IF(O461=\"H\",0,IF(P461<Veriler!$F$2,K461*Veriler!$F$2,K461*P461))))),\" \")","v":0},{"$f":"IF(Veriler!P461<=0.1, R461, IF(AND(Veriler!P461>0.1, E461=\"\", O461=\"E\"), IF(P461>Veriler!$F$2, P461*R461, IF(P461<Veriler!$F$2, Veriler!$F$2*R461, P461*R461)), 0))","v":0},{"$f":"IF(S461=0,\" \",S461)","v":" "},{"$f":"IFERROR(IF(N461=\"%10 sınırı aşılmıştır.\",K461-S461,IFERROR(IF(E461=\"\",IF(R461=1,0,IF(K461-R461=0,\"\",K461-R461)),IF(Veriler!I461=\"\",K461,IF(K461*Veriler!I461=0,\"\",K461*Veriler!I461))),K461)),0)","v":""}]
[{"$f":"A461+1","v":338},{"$nulls":4},"",{"$nulls":4},"",{"$f":"IF(K462=\"\", \"\", K462/Veriler!$T$1)","v":""},{"$f":"IF(E462<>\"\", \"İthal Girdi\", IF(Veriler!P462=\"\", \"\", IF(Veriler!O462=\"H\", \"%0,5 üzerindedir\", IF(Veriler!P462>0.1, \"%10 sınırı aşılmıştır.\", \"Uygun\"))))","v":"%0,5 üzerindedir"}," ",null,null,"",{"$f":"IFERROR(IF(L462<=0.005,IF(E462=\"\",K462,0),IF(E462<>\"\",0,IF(O462=\"\",0,IF(O462=\"H\",0,IF(P462<Veriler!$F$2,K462*Veriler!$F$2,K462*P462))))),\" \")","v":0},{"$f":"IF(Veriler!P462<=0.1, R462, IF(AND(Veriler!P462>0.1, E462=\"\", O462=\"E\"), IF(P462>Veriler!$F$2, P462*R462, IF(P462<Veriler!$F$2, Veriler!$F$2*R462, P462*R462)), 0))","v":0}," ",{"$f":"IFERROR(IF(N462=\"%10 sınırı aşılmıştır.\",K462-S462,IFERROR(IF(E462=\"\",IF(R462=1,0,IF(K462-R462=0,\"\",K462-R462)),IF(Veriler!I462=\"\",K462,IF(K462*Veriler!I462=0,\"\",K462*Veriler!I462))),K462)),0)","v":""}]
[{"$f":"A462+1","v":339},{"$nulls":4},"",{"$nulls":4},"",{"$f":"IF(K463=\"\", \"\", K463/Veriler!$T$1)","v":""},{"$f":"IF(E463<>\"\", \"İthal Girdi\", IF(Veriler!P463=\"\", \"\", IF(Veriler!O463=\"H\", \"%0,5 üzerindedir\", IF(Veriler!P463>0.1, \"%10 sınırı aşılmıştır.\", \"Uygun\"))))","v":"%0,5 üzerindedir"}," ",null,null,"",{"$f":"IFERROR(IF(L463<=0.005,IF(E463=\"\",K463,0),IF(E463<>\"\",0,IF(O463=\"\",0,IF(O463=\"H\",0,IF(P463<Veriler!$F$2,K463*Veriler!$F$2,K463*P463))))),\" \")","v":0},{"$f":"IF(Veriler!P463<=0.1, R463, IF(AND(Veriler!P463>0.1, E463=\"\", O463=\"E\"), IF(P463>Veriler!$F$2, P463*R463, IF(P463<Veriler!$F$2, Veriler!$F$2*R463, P463*R463)), 0))","v":0}," ",{"$f":"IFERROR(IF(N463=\"%10 sınırı aşılmıştır.\",K463-S463,IFERROR(IF(E463=\"\",IF(R463=1,0,IF(K463-R463=0,\"\",K463-R463)),IF(Veriler!I463=\"\",K463,IF(K463*Veriler!I463=0,\"\",K463*Veriler!I463))),K463)),0)","v":""}]
[340,{"$nulls":4},"",{"$nulls":4},"",{"$f":"IF(K464=\"\", \"\", K464/Veriler!$T$1)","v":""},{"$f":"IF(E464<>\"\", \"İthal Girdi\", IF(Veriler!P464=\"\", \"\", IF(Veriler!O464=\"H\", \"%0,5 üzerindedir\", IF(Veriler!P464>0.1, \"%10 sınırı aşılmıştır.\", \"Uygun\"))))","v":"%0,5 üzerindedir"}," ",null,null,"",{"$f":"IFERROR(IF(L464<=0.005,IF(E464=\"\",K464,0),IF(E464<>\"\",0,IF(O464=\"\",0,IF(O464=\"H\",0,IF(P464<Veriler!$F$2,K464*Veriler!$F$2,K464*P464))))),\" \")","v":0},{"$f":"IF(Veriler!P464<=0.1, R464, IF(AND(Veriler!P464>0.1, E464=\"\", O464=\"E\"), IF(P464>Veriler!$F$2, P464*R464, IF(P464<Veriler!$F$2, Veriler!$F$2*R464, P464*R464)), 0))","v":0}," ",{"$f":"IFERROR(IF(N464=\"%10 sınırı aşılmıştır.\",K464-S464,IFERROR(IF(E464=\"\",IF(R464=1,0,IF(K464-R464=0,\"\",K464-R464)),IF(Veriler!I464=\"\",K464,IF(K464*Veriler!I464=0,\"\",K464*Veriler!I464))),K464)),0)","v":""}]
[341,{"$nulls":4},"",{"$nulls":4},"",{"$f":"IF(K465=\"\", \"\", K465/Veriler!$T$1)","v":""},{"$f":"IF(E465<>\"\", \"İthal Girdi\", IF(Veriler!P465=\"\", \"\", IF(Veriler!O465=\"H\", \"%0,5 üzerindedir\", IF(Veriler!P465>0.1, \"%10 sınırı aşılmıştır.\", \"Uygun\"))))","v":"%0,5 üzerindedir"}," ",null,null,"",{"$f":"IFERROR(IF(L465<=0.005,IF(E465=\"\",K465,0),IF(E465<>\"\",0,IF(O465=\"\",0,IF(O465=\"H\",0,IF(P465<Veriler!$F$2,K465*Veriler!$F$2,K465*P465))))),\" \")","v":0},{"$f":"IF(Veriler!P465<=0.1, R465, IF(AND(Veriler!P465>0.1, E465=\"\", O465=\"E\"), IF(P465>Veriler!$F$2, P465*R465, IF(P465<Veriler!$F$2, Veriler!$F$2*R465, P465*R465)), 0))","v":0}," ",{"$f":"IFERROR(IF(N465=\"%10 sınırı aşılmıştır.\",K465-S465,IFERROR(IF(E465=\"\",IF(R465=1,0,IF(K465-R465=0,\"\",K465-R465)),IF(Veriler!I465=\"\",K465,IF(K465*Veriler!I465=0,\"\",K465*Veriler!I465))),K465)),0)","v":""}]
[342,{"$nulls":4},"",{"$nulls":4},"",{"$f":"IF(K466=\"\", \"\", K466/Veriler!$T$1)","v":""},{"$f":"IF(E466<>\"\", \"İthal Girdi\", IF(Veriler!P466=\"\", \"\", IF(Veriler!O466=\"H\", \"%0,5 üzerindedir\", IF(Veriler!P466>0.1, \"%10 sınırı aşılmıştır.\", \"Uygun\"))))","v":"%0,5 üzerindedir"}," ",null,null,"",{"$f":"IFERROR(IF(L466<=0.005,IF(E466=\"\",K466,0),IF(E466<>\"\",0,IF(O466=\"\",0,IF(O466=\"H\",0,IF(P466<Veriler!$F$2,K466*Veriler!$F$2,K466*P466))))),\" \")","v":0},{"$f":"IF(Veriler!P466<=0.1, R466, IF(AND(Veriler!P466>0.1, E466=\"\", O466=\"E\"), IF(P466>Veriler!$F$2, P466*R466, IF(P466<Veriler!$F$2, Veriler!$F$2*R466, P466*R466)), 0))","v":0}," ",{"$f":"IFERROR(IF(N466=\"%10 sınırı aşılmıştır.\",K466-S466,IFERROR(IF(E466=\"\",IF(R466=1,0,IF(K466-R466=0,\"\",K466-R466)),IF(Veriler!I466=\"\",K466,IF(K466*Veriler!I466=0,\"\",K466*Veriler!I466))),K466)),0)","v":""}]
[343,{"$nulls":4},"",{"$nulls":4},"",{"$f":"IF(K467=\"\", \"\", K467/Veriler!$T$1)","v":""},{"$f":"IF(E467<>\"\", \"İthal Girdi\", IF(Veriler!P467=\"\", \"\", IF(Veriler!O467=\"H\", \"%0,5 üzerindedir\", IF(Veriler!P467>0.1, \"%10 sınırı aşılmıştır.\", \"Uygun\"))))","v":"%0,5 üzerindedir"}," ",null,null,"",{"$f":"IFERROR(IF(L467<=0.005,IF(E467=\"\",K467,0),IF(E467<>\"\",0,IF(O467=\"\",0,IF(O467=\"H\",0,IF(P467<Veriler!$F$2,K467*Veriler!$F$2,K467*P467))))),\" \")","v":0},{"$f":"IF(Veriler!P467<=0.1, R467, IF(AND(Veriler!P467>0.1, E467=\"\", O467=\"E\"), IF(P467>Veriler!$F$2, P467*R467, IF(P467<Veriler!$F$2, Veriler!$F$2*R467, P467*R467)), 0))","v":0}," ",{"$f":"IFERROR(IF(N467=\"%10 sınırı aşılmıştır.\",K467-S467,IFERROR(IF(E467=\"\",IF(R467=1,0,IF(K467-R467=0,\"\",K467-R467)),IF(Veriler!I467=\"\",K467,IF(K467*Veriler!I467=0,\"\",K467*Veriler!I467))),K467)),0)","v":""}]
[344,{"$nulls":4},"",{"$nulls":4},"",{"$f":"IF(K468=\"\", \"\", K468/Veriler!$T$1)","v":""},{"$f":"IF(E468<>\"\", \"İthal Girdi\", IF(Veriler!P468=\"\", \"\", IF(Veriler!O468=\"H\", \"%0,5 üzerindedir\", IF(Veriler!P468>0.1, \"%10 sınırı aşılmıştır.\", \"Uygun\"))))","v":"%0,5 üzerindedir"}," ",null,null,"",{"$f":"IFERROR(IF(L468<=0.005,IF(E468=\"\",K468,0),IF(E468<>\"\",0,IF(O468=\"\",0,IF(O468=\"H\",0,IF(P468<Veriler!$F$2,K468*Veriler!$F$2,K468*P468))))),\" \")","v":0},{"$f":"IF(Veriler!P468<=0.1, R468, IF(AND(Veriler!P468>0.1, E468=\"\", O468=\"E\"), IF(P468>Veriler!$F$2, P468*R468, IF(P468<Veriler!$F$2, Veriler!$F$2*R468, P468*R468)), 0))","v":0}," ",{"$f":"IFERROR(IF(N468=\"%10 sınırı aşılmıştır.\",K468-S468,IFERROR(IF(E468=\"\",IF(R468=1,0,IF(K468-R468=0,\"\",K468-R468)),IF(Veriler!I468=\"\",K468,IF(K468*Veriler!I468=0,\"\",K468*Veriler!I468))),K468)),0)","v":""}]
[345,{"$nulls":4},"",{"$nulls":4},"",{"$f":"IF(K469=\"\", \"\", K469/Veriler!$T$1)","v":""},{"$f":"IF(E469<>\"\", \"İthal Girdi\", IF(Veriler!P469=\"\", \"\", IF(Veriler!O469=\"H\", \"%0,5 üzerindedir\", IF(Veriler!P469>0.1, \"%10 sınırı aşılmıştır.\", \"Uygun\"))))","v":"%0,5 üzerindedir"}," ",null,null,"",{"$f":"IFERROR(IF(L469<=0.005,IF(E469=\"\",K469,0),IF(E469<>\"\",0,IF(O469=\"\",0,IF(O469=\"H\",0,IF(P469<Veriler!$F$2,K469*Veriler!$F$2,K469*P469))))),\" \")","v":0},{"$f":"IF(Veriler!P469<=0.1, R469, IF(AND(Veriler!P469>0.1, E469=\"\", O469=\"E\"), IF(P469>Veriler!$F$2, P469*R469, IF(P469<Veriler!$F$2, Veriler!$F$2*R469, P469*R469)), 0))","v":0}," ",{"$f":"IFERROR(IF(N469=\"%10 sınırı aşılmıştır.\",K469-S469,IFERROR(IF(E469=\"\",IF(R469=1,0,IF(K469-R469=0,\"\",K469-R469)),IF(Veriler!I469=\"\",K469,IF(K469*Veriler!I469=0,\"\",K469*Veriler!I469))),K469)),0)","v":""}]
[346,{"$nulls":4},"",{"$nulls":4},"",{"$f":"IF(K470=\"\", \"\", K470/Veriler!$T$1)","v":""},{"$f":"IF(E470<>\"\", \"İthal Girdi\", IF(Veriler!P470=\"\", \"\", IF(Veriler!O470=\"H\", \"%0,5 üzerindedir\", IF(Veriler!P470>0.1, \"%10 sınırı aşılmıştır.\", \"Uygun\"))))","v":"%0,5 üzerindedir"}," ",null,null,"",{"$f":"IFERROR(IF(L470<=0.005,IF(E470=\"\",K470,0),IF(E470<>\"\",0,IF(O470=\"\",0,IF(O470=\"H\",0,IF(P470<Veriler!$F$2,K470*Veriler!$F$2,K470*P470))))),\" \")","v":0},{"$f":"IF(Veriler!P470<=0.1, R470, IF(AND(Veriler!P470>0.1, E470=\"\", O470=\"E\"), IF(P470>Veriler!$F$2, P470*R470, IF(P470<Veriler!$F$2, Veriler!$F$2*R470, P470*R470)), 0))","v":0}," ",{"$f":"IFERROR(IF(N470=\"%10 sınırı aşılmıştır.\",K470-S470,IFERROR(IF(E470=\"\",IF(R470=1,0,IF(K470-R470=0,\"\",K470-R470)),IF(Veriler!I470=\"\",K470,IF(K470*Veriler!I470=0,\"\",K470*Veriler!I470))),K470)),0)","v":""}]
[347,{"$nulls":4},"",{"$nulls":4},"",{"$f":"IF(K471=\"\", \"\", K471/Veriler!$T$1)","v":""},{"$f":"IF(E471<>\"\", \"İthal Girdi\", IF(Veriler!P471=\"\", \"\", IF(Veriler!O471=\"H\", \"%0,5 üzerindedir\", IF(Veriler!P471>0.1, \"%10 sınırı aşılmıştır.\", \"Uygun\"))))","v":"%0,5 üzerindedir"}," ",null,null,"",{"$f":"IFERROR(IF(L471<=0.005,IF(E471=\"\",K471,0),IF(E471<>\"\",0,IF(O471=\"\",0,IF(O471=\"H\",0,IF(P471<Veriler!$F$2,K471*Veriler!$F$2,K471*P471))))),\" \")","v":0},{"$f":"IF(Veriler!P471<=0.1, R471, IF(AND(Veriler!P471>0.1, E471=\"\", O471=\"E\"), IF(P471>Veriler!$F$2, P471*R471, IF(P471<Veriler!$F$2, Veriler!$F$2*R471, P471*R471)), 0))","v":0}," ",{"$f":"IFERROR(IF(N471=\"%10 sınırı aşılmıştır.\",K471-S471,IFERROR(IF(E471=\"\",IF(R471=1,0,IF(K471-R471=0,\"\",K471-R471)),IF(Veriler!I471=\"\",K471,IF(K471*Veriler!I471=0,\"\",K471*Veriler!I471))),K471)),0)","v":""}]
[348,{"$nulls":4},"",{"$nulls":4},"",{"$f":"IF(K472=\"\", \"\", K472/Veriler!$T$1)","v":""},{"$f":"IF(E472<>\"\", \"İthal Girdi\", IF(Veriler!P472=\"\", \"\", IF(Veriler!O472=\"H\", \"%0,5 üzerindedir\", IF(Veriler!P472>0.1, \"%10 sınırı aşılmıştır.\", \"Uygun\"))))","v":"%0,5 üzerindedir"}," ",null,null,"",{"$f":"IFERROR(IF(L472<=0.005,IF(E472=\"\",K472,0),IF(E472<>\"\",0,IF(O472=\"\",0,IF(O472=\"H\",0,IF(P472<Veriler!$F$2,K472*Veriler!$F$2,K472*P472))))),\" \")","v":0},{"$f":"IF(Veriler!P472<=0.1, R472, IF(AND(Veriler!P472>0.1, E472=\"\", O472=\"E\"), IF(P472>Veriler!$F$2, P472*R472, IF(P472<Veriler!$F$2, Veriler!$F$2*R472, P472*R472)), 0))","v":0}," ",{"$f":"IFERROR(IF(N472=\"%10 sınırı aşılmıştır.\",K472-S472,IFERROR(IF(E472=\"\",IF(R472=1,0,IF(K472-R472=0,\"\",K472-R472)),IF(Veriler!I472=\"\",K472,IF(K472*Veriler!I472=0,\"\",K472*Veriler!I472))),K472)),0)","v":""}]
[349,{"$nulls":4},"",{"$nulls":4},"",{"$f":"IF(K473=\"\", \"\", K473/Veriler!$T$1)","v":""},{"$f":"IF(E473<>\"\", \"İthal Girdi\", IF(Veriler!P473=\"\", \"\", IF(Veriler!O473=\"H\", \"%0,5 üzerindedir\", IF(Veriler!P473>0.1, \"%10 sınırı aşılmıştır.\", \"Uygun\"))))","v":"%0,5 üzerindedir"}," ",null,null,"",{"$f":"IFERROR(IF(L473<=0.005,IF(E473=\"\",K473,0),IF(E473<>\"\",0,IF(O473=\"\",0,IF(O473=\"H\",0,IF(P473<Veriler!$F$2,K473*Veriler!$F$2,K473*P473))))),\" \")","v":0},{"$f":"IF(Veriler!P473<=0.1, R473, IF(AND(Veriler!P473>0.1, E473=\"\", O473=\"E\"), IF(P473>Veriler!$F$2, P473*R473, IF(P473<Veriler!$F$2, Veriler!$F$2*R473, P473*R473)), 0))","v":0}," ",{"$f":"IFERROR(IF(N473=\"%10 sınırı aşılmıştır.\",K473-S473,IFERROR(IF(E473=\"\",IF(R473=1,0,IF(K473-R473=0,\"\",K473-R473)),IF(Veriler!I473=\"\",K473,IF(K473*Veriler!I473=0,\"\",K473*Veriler!I473))),K473)),0)","v":""}]
[350,{"$nulls":4},"",{"$nulls":4},"",{"$f":"IF(K474=\"\", \"\", K474/Veriler!$T$1)","v":""},{"$f":"IF(E474<>\"\", \"İthal Girdi\", IF(Veriler!P474=\"\", \"\", IF(Veriler!O474=\"H\", \"%0,5 üzerindedir\", IF(Veriler!P474>0.1, \"%10 sınırı aşılmıştır.\", \"Uygun\"))))","v":"%0,5 üzerindedir"}," ",null,null,"",{"$f":"IFERROR(IF(L474<=0.005,IF(E474=\"\",K474,0),IF(E474<>\"\",0,IF(O474=\"\",0,IF(O474=\"H\",0,IF(P474<Veriler!$F$2,K474*Veriler!$F$2,K474*P474))))),\" \")","v":0},{"$f":"IF(Veriler!P474<=0.1, R474, IF(AND(Veriler!P474>0.1, E474=\"\", O474=\"E\"), IF(P474>Veriler!$F$2, P474*R474, IF(P474<Veriler!$F$2, Veriler!$F$2*R474, P474*R474)), 0))","v":0}," ",{"$f":"IFERROR(IF(N474=\"%10 sınırı aşılmıştır.\",K474-S474,IFERROR(IF(E474=\"\",IF(R474=1,0,IF(K474-R474=0,\"\",K474-R474)),IF(Veriler!I474=\"\",K474,IF(K474*Veriler!I474=0,\"\",K474*Veriler!I474))),K474)),0)","v":""}]
[null,"Dolaylı"]
[{"$f":"A474+1","v":351},{"$nulls":4},{"$f":"IF(AND(E476<>\"\",U476<>\"\",K476<>0),U476/K476,\"\")","v":""},{"$nulls":4},{"$f":"IF(AND(G476<>0, I476<>0, J476<>0), G476*I476*J476, \"\")","v":""},{"$f":"IF(K476=\"\", \"\", K476/Veriler!$T$1)","v":""},{"$f":"IF(E476<>\"\", \"İthal Girdi\", IF(Veriler!P476=\"\", \"\", IF(Veriler!O476=\"H\", \"%0,5 üzerindedir\", IF(Veriler!P476>0.1, \"%10 sınırı aşılmıştır.\", \"Uygun\"))))","v":"%0,5 üzerindedir"},{"$f":"IF(L476=\"\",\" \",M476)","v":" "},null,null,{"$f":"IFERROR(IF(AND(S476<>\"\",K476<>\"\",K476<>0,S476<>0),S476/K476,\"\"),\" \")","v":""},{"$f":"IFERROR(IF(L476<=0.005,IF(E476=\"\",K476,0),IF(E476<>\"\",0,IF(O476=\"\",0,IF(O476=\"H\",0,IF(P476<Veriler!$F$2,K476*Veriler!$F$2,K476*P476))))),\" \")","v":0},{"$f":"IF(Veriler!P476<=0.1, R476, IF(AND(Veriler!P476>0.1, E476=\"\", O476=\"E\"), IF(P476>Veriler!$F$2, P476*R476, IF(P476<Veriler!$F$2, Veriler!$F$2*R476, P476*R476)), 0))","v":0},{"$f":"IF(S476=0,\" \",S476)","v":" "},{"$f":"IFERROR(IF(N476=\"%10 sınırı aşılmıştır.\",K476-S476,IFERROR(IF(E476=\"\",IF(R476=1,0,IF(K476-R476=0,\"\",K476-R476)),IF(Veriler!I476=\"\",K476,IF(K476*Veriler!I476=0,\"\",K476*Veriler!I476))),K476)),0)","v":""}]
[{"$f":"A476+1","v":352},{"$nulls":4},"",{"$nulls":4},"",{"$f":"IF(K477=\"\", \"\", K477/Veriler!$T$1)","v":""},{"$f":"IF(E477<>\"\", \"İthal Girdi\", IF(Veriler!P477=\"\", \"\", IF(Veriler!O477=\"H\", \"%0,5 üzerindedir\", IF(Veriler!P477>0.1, \"%10 sınırı aşılmıştır.\", \"Uygun\"))))","v":"%0,5 üzerindedir"}," ",null,null,"",{"$f":"IFERROR(IF(L477<=0.005,IF(E477=\"\",K477,0),IF(E477<>\"\",0,IF(O477=\"\",0,IF(O477=\"H\",0,IF(P477<Veriler!$F$2,K477*Veriler!$F$2,K477*P477))))),\" \")","v":0},{"$f":"IF(Veriler!P477<=0.1, R477, IF(AND(Veriler!P477>0.1, E477=\"\", O477=\"E\"), IF(P477>Veriler!$F$2, P477*R477, IF(P477<Veriler!$F$2, Veriler!$F$2*R477, P477*R477)), 0))","v":0}," ",{"$f":"IFERROR(IF(N477=\"%10 sınırı aşılmıştır.\",K477-S477,IFERROR(IF(E477=\"\",IF(R477=1,0,IF(K477-R477=0,\"\",K477-R477)),IF(Veriler!I477=\"\",K477,IF(K477*Veriler!I477=0,\"\",K477*Veriler!I477))),K477)),0)","v":""}]
[{"$f":"A477+1","v":353},{"$nulls":4},"",{"$nulls":4},"",{"$f":"IF(K478=\"\", \"\", K478/Veriler!$T$1)","v":""},{"$f":"IF(E478<>\"\", \"İthal Girdi\", IF(Veriler!P478=\"\", \"\", IF(Veriler!O478=\"H\", \"%0,5 üzerindedir\", IF(Veriler!P478>0.1, \"%10 sınırı aşılmıştır.\", \"Uygun\"))))","v":"%0,5 üzerindedir"}," ",null,null,"",{"$f":"IFERROR(IF(L478<=0.005,IF(E478=\"\",K478,0),IF(E478<>\"\",0,IF(O478=\"\",0,IF(O478=\"H\",0,IF(P478<Veriler!$F$2,K478*Veriler!$F$2,K478*P478))))),\" \")","v":0},{"$f":"IF(Veriler!P478<=0.1, R478, IF(AND(Veriler!P478>0.1, E478=\"\", O478=\"E\"), IF(P478>Veriler!$F$2, P478*R478, IF(P478<Veriler!$F$2, Veriler!$F$2*R478, P478*R478)), 0))","v":0}," ",{"$f":"IFERROR(IF(N478=\"%10 sınırı aşılmıştır.\",K478-S478,IFERROR(IF(E478=\"\",IF(R478=1,0,IF(K478-R478=0,\"\",K478-R478)),IF(Veriler!I478=\"\",K478,IF(K478*Veriler!I478=0,\"\",K478*Veriler!I478))),K478)),0)","v":""}]
[354,{"$nulls":4},"",{"$nulls":4},"",{"$f":"IF(K479=\"\", \"\", K479/Veriler!$T$1)","v":""},{"$f":"IF(E479<>\"\", \"İthal Girdi\", IF(Veriler!P479=\"\", \"\", IF(Veriler!O479=\"H\", \"%0,5 üzerindedir\", IF(Veriler!P479>0.1, \"%10 sınırı aşılmıştır.\", \"Uygun\"))))","v":"%0,5 üzerindedir"}," ",null,null,"",{"$f":"IFERROR(IF(L479<=0.005,IF(E479=\"\",K479,0),IF(E479<>\"\",0,IF(O479=\"\",0,IF(O479=\"H\",0,IF(P479<Veriler!$F$2,K479*Veriler!$F$2,K479*P479))))),\" \")","v":0},{"$f":"IF(Veriler!P479<=0.1, R479, IF(AND(Veriler!P479>0.1, E479=\"\", O479=\"E\"), IF(P479>Veriler!$F$2, P479*R479, IF(P479<Veriler!$F$2, Veriler!$F$2*R479, P479*R479)), 0))","v":0}," ",{"$f":"IFERROR(IF(N479=\"%10 sınırı aşılmıştır.\",K479-S479,IFERROR(IF(E479=\"\",IF(R479=1,0,IF(K479-R479=0,\"\",K479-R479)),IF(Veriler!I479=\"\",K479,IF(K479*Veriler!I479=0,\"\",K479*Veriler!I479))),K479)),0)","v":""}]
[355,{"$nulls":4},"",{"$nulls":4},"",{"$f":"IF(K480=\"\", \"\", K480/Veriler!$T$1)","v":""},{"$f":"IF(E480<>\"\", \"İthal Girdi\", IF(Veriler!P480=\"\", \"\", IF(Veriler!O480=\"H\", \"%0,5 üzerindedir\", IF(Veriler!P480>0.1, \"%10 sınırı aşılmıştır.\", \"Uygun\"))))","v":"%0,5 üzerindedir"}," ",null,null,"",{"$f":"IFERROR(IF(L480<=0.005,IF(E480=\"\",K480,0),IF(E480<>\"\",0,IF(O480=\"\",0,IF(O480=\"H\",0,IF(P480<Veriler!$F$2,K480*Veriler!$F$2,K480*P480))))),\" \")","v":0},{"$f":"IF(Veriler!P480<=0.1, R480, IF(AND(Veriler!P480>0.1, E480=\"\", O480=\"E\"), IF(P480>Veriler!$F$2, P480*R480, IF(P480<Veriler!$F$2, Veriler!$F$2*R480, P480*R480)), 0))","v":0}," ",{"$f":"IFERROR(IF(N480=\"%10 sınırı aşılmıştır.\",K480-S480,IFERROR(IF(E480=\"\",IF(R480=1,0,IF(K480-R480=0,\"\",K480-R480)),IF(Veriler!I480=\"\",K480,IF(K480*Veriler!I480=0,\"\",K480*Veriler!I480))),K480)),0)","v":""}]
[356,{"$nulls":4},"",{"$nulls":4},"",{"$f":"IF(K481=\"\", \"\", K481/Veriler!$T$1)","v":""},{"$f":"IF(E481<>\"\", \"İthal Girdi\", IF(Veriler!P481=\"\", \"\", IF(Veriler!O481=\"H\", \"%0,5 üzerindedir\", IF(Veriler!P481>0.1, \"%10 sınırı aşılmıştır.\", \"Uygun\"))))","v":"%0,5 üzerindedir"}," ",null,null,"",{"$f":"IFERROR(IF(L481<=0.005,IF(E481=\"\",K481,0),IF(E481<>\"\",0,IF(O481=\"\",0,IF(O481=\"H\",0,IF(P481<Veriler!$F$2,K481*Veriler!$F$2,K481*P481))))),\" \")","v":0},{"$f":"IF(Veriler!P481<=0.1, R481, IF(AND(Veriler!P481>0.1, E481=\"\", O481=\"E\"), IF(P481>Veriler!$F$2, P481*R481, IF(P481<Veriler!$F$2, Veriler!$F$2*R481, P481*R481)), 0))","v":0}," ",{"$f":"IFERROR(IF(N481=\"%10 sınırı aşılmıştır.\",K481-S481,IFERROR(IF(E481=\"\",IF(R481=1,0,IF(K481-R481=0,\"\",K481-R481)),IF(Veriler!I481=\"\",K481,IF(K481*Veriler!I481=0,\"\",K481*Veriler!I481))),K481)),0)","v":""}]
[357,{"$nulls":4},"",{"$nulls":4},"",{"$f":"IF(K482=\"\", \"\", K482/Veriler!$T$1)","v":""},{"$f":"IF(E482<>\"\", \"İthal Girdi\", IF(Veriler!P482=\"\", \"\", IF(Veriler!O482=\"H\", \"%0,5 üzerindedir\", IF(Veriler!P482>0.1, \"%10 sınırı aşılmıştır.\", \"Uygun\"))))","v":"%0,5 üzerindedir"}," ",null,null,"",{"$f":"IFERROR(IF(L482<=0.005,IF(E482=\"\",K482,0),IF(E482<>\"\",0,IF(O482=\"\",0,IF(O482=\"H\",0,IF(P482<Veriler!$F$2,K482*Veriler!$F$2,K482*P482))))),\" \")","v":0},{"$f":"IF(Veriler!P482<=0.1, R482, IF(AND(Veriler!P482>0.1, E482=\"\", O482=\"E\"), IF(P482>Veriler!$F$2, P482*R482, IF(P482<Veriler!$F$2, Veriler!$F$2*R482, P482*R482)), 0))","v":0}," ",{"$f":"IFERROR(IF(N482=\"%10 sınırı aşılmıştır.\",K482-S482,IFERROR(IF(E482=\"\",IF(R482=1,0,IF(K482-R482=0,\"\",K482-R482)),IF(Veriler!I482=\"\",K482,IF(K482*Veriler!I482=0,\"\",K482*Veriler!I482))),K482)),0)","v":""}]
[358,{"$nulls":4},"",{"$nulls":4},"",{"$f":"IF(K483=\"\", \"\", K483/Veriler!$T$1)","v":""},{"$f":"IF(E483<>\"\", \"İthal Girdi\", IF(Veriler!P483=\"\", \"\", IF(Veriler!O483=\"H\", \"%0,5 üzerindedir\", IF(Veriler!P483>0.1, \"%10 sınırı aşılmıştır.\", \"Uygun\"))))","v":"%0,5 üzerindedir"}," ",null,null,"",{"$f":"IFERROR(IF(L483<=0.005,IF(E483=\"\",K483,0),IF(E483<>\"\",0,IF(O483=\"\",0,IF(O483=\"H\",0,IF(P483<Veriler!$F$2,K483*Veriler!$F$2,K483*P483))))),\" \")","v":0},{"$f":"IF(Veriler!P483<=0.1, R483, IF(AND(Veriler!P483>0.1, E483=\"\", O483=\"E\"), IF(P483>Veriler!$F$2, P483*R483, IF(P483<Veriler!$F$2, Veriler!$F$2*R483, P483*R483)), 0))","v":0}," ",{"$f":"IFERROR(IF(N483=\"%10 sınırı aşılmıştır.\",K483-S483,IFERROR(IF(E483=\"\",IF(R483=1,0,IF(K483-R483=0,\"\",K483-R483)),IF(Veriler!I483=\"\",K483,IF(K483*Veriler!I483=0,\"\",K483*Veriler!I483))),K483)),0)","v":""}]
[359,{"$nulls":4},"",{"$nulls":4},"",{"$f":"IF(K484=\"\", \"\", K484/Veriler!$T$1)","v":""},{"$f":"IF(E484<>\"\", \"İthal Girdi\", IF(Veriler!P484=\"\", \"\", IF(Veriler!O484=\"H\", \"%0,5 üzerindedir\", IF(Veriler!P484>0.1, \"%10 sınırı aşılmıştır.\", \"Uygun\"))))","v":"%0,5 üzerindedir"}," ",null,null,"",{"$f":"IFERROR(IF(L484<=0.005,IF(E484=\"\",K484,0),IF(E484<>\"\",0,IF(O484=\"\",0,IF(O484=\"H\",0,IF(P484<Veriler!$F$2,K484*Veriler!$F$2,K484*P484))))),\" \")","v":0},{"$f":"IF(Veriler!P484<=0.1, R484, IF(AND(Veriler!P484>0.1, E484=\"\", O484=\"E\"), IF(P484>Veriler!$F$2, P484*R484, IF(P484<Veriler!$F$2, Veriler!$F$2*R484, P484*R484)), 0))","v":0}," ",{"$f":"IFERROR(IF(N484=\"%10 sınırı aşılmıştır.\",K484-S484,IFERROR(IF(E484=\"\",IF(R484=1,0,IF(K484-R484=0,\"\",K484-R484)),IF(Veriler!I484=\"\",K484,IF(K484*Veriler!I484=0,\"\",K484*Veriler!I484))),K484)),0)","v":""}]
[360,{"$nulls":4},"",{"$nulls":4},"",{"$f":"IF(K485=\"\", \"\", K485/Veriler!$T$1)","v":""},{"$f":"IF(E485<>\"\", \"İthal Girdi\", IF(Veriler!P485=\"\", \"\", IF(Veriler!O485=\"H\", \"%0,5 üzerindedir\", IF(Veriler!P485>0.1, \"%10 sınırı aşılmıştır.\", \"Uygun\"))))","v":"%0,5 üzerindedir"}," ",null,null,"",{"$f":"IFERROR(IF(L485<=0.005,IF(E485=\"\",K485,0),IF(E485<>\"\",0,IF(O485=\"\",0,IF(O485=\"H\",0,IF(P485<Veriler!$F$2,K485*Veriler!$F$2,K485*P485))))),\" \")","v":0},{"$f":"IF(Veriler!P485<=0.1, R485, IF(AND(Veriler!P485>0.1, E485=\"\", O485=\"E\"), IF(P485>Veriler!$F$2, P485*R485, IF(P485<Veriler!$F$2, Veriler!$F$2*R485, P485*R485)), 0))","v":0}," ",{"$f":"IFERROR(IF(N485=\"%10 sınırı aşılmıştır.\",K485-S485,IFERROR(IF(E485=\"\",IF(R485=1,0,IF(K485-R485=0,\"\",K485-R485)),IF(Veriler!I485=\"\",K485,IF(K485*Veriler!I485=0,\"\",K485*Veriler!I485))),K485)),0)","v":""}]
[361,{"$nulls":4},"",{"$nulls":4},"",{"$f":"IF(K486=\"\", \"\", K486/Veriler!$T$1)","v":""},{"$f":"IF(E486<>\"\", \"İthal Girdi\", IF(Veriler!P486=\"\", \"\", IF(Veriler!O486=\"H\", \"%0,5 üzerindedir\", IF(Veriler!P486>0.1, \"%10 sınırı aşılmıştır.\", \"Uygun\"))))","v":"%0,5 üzerindedir"}," ",null,null,"",{"$f":"IFERROR(IF(L486<=0.005,IF(E486=\"\",K486,0),IF(E486<>\"\",0,IF(O486=\"\",0,IF(O486=\"H\",0,IF(P486<Veriler!$F$2,K486*Veriler!$F$2,K486*P486))))),\" \")","v":0},{"$f":"IF(Veriler!P486<=0.1, R486, IF(AND(Veriler!P486>0.1, E486=\"\", O486=\"E\"), IF(P486>Veriler!$F$2, P486*R486, IF(P486<Veriler!$F$2, Veriler!$F$2*R486, P486*R486)), 0))","v":0}," ",{"$f":"IFERROR(IF(N486=\"%10 sınırı aşılmıştır.\",K486-S486,IFERROR(IF(E486=\"\",IF(R486=1,0,IF(K486-R486=0,\"\",K486-R486)),IF(Veriler!I486=\"\",K486,IF(K486*Veriler!I486=0,\"\",K486*Veriler!I486))),K486)),0)","v":""}]
[362,{"$nulls":4},"",{"$nulls":4},"",{"$f":"IF(K487=\"\", \"\", K487/Veriler!$T$1)","v":""},{"$f":"IF(E487<>\"\", \"İthal Girdi\", IF(Veriler!P487=\"\", \"\", IF(Veriler!O487=\"H\", \"%0,5 üzerindedir\", IF(Veriler!P487>0.1, \"%10 sınırı aşılmıştır.\", \"Uygun\"))))","v":"%0,5 üzerindedir"}," ",null,null,"",{"$f":"IFERROR(IF(L487<=0.005,IF(E487=\"\",K487,0),IF(E487<>\"\",0,IF(O487=\"\",0,IF(O487=\"H\",0,IF(P487<Veriler!$F$2,K487*Veriler!$F$2,K487*P487))))),\" \")","v":0},{"$f":"IF(Veriler!P487<=0.1, R487, IF(AND(Veriler!P487>0.1, E487=\"\", O487=\"E\"), IF(P487>Veriler!$F$2, P487*R487, IF(P487<Veriler!$F$2, Veriler!$F$2*R487, P487*R487)), 0))","v":0}," ",{"$f":"IFERROR(IF(N487=\"%10 sınırı aşılmıştır.\",K487-S487,IFERROR(IF(E487=\"\",IF(R487=1,0,IF(K487-R487=0,\"\",K487-R487)),IF(Veriler!I487=\"\",K487,IF(K487*Veriler!I487=0,\"\",K487*Veriler!I487))),K487)),0)","v":""}]
[363,{"$nulls":4},"",{"$nulls":4},"",{"$f":"IF(K488=\"\", \"\", K488/Veriler!$T$1)","v":""},{"$f":"IF(E488<>\"\", \"İthal Girdi\", IF(Veriler!P488=\"\", \"\", IF(Veriler!O488=\"H\", \"%0,5 üzerindedir\", IF(Veriler!P488>0.1, \"%10 sınırı aşılmıştır.\", \"Uygun\"))))","v":"%0,5 üzerindedir"}," ",null,null,"",{"$f":"IFERROR(IF(L488<=0.005,IF(E488=\"\",K488,0),IF(E488<>\"\",0,IF(O488=\"\",0,IF(O488=\"H\",0,IF(P488<Veriler!$F$2,K488*Veriler!$F$2,K488*P488))))),\" \")","v":0},{"$f":"IF(Veriler!P488<=0.1, R488, IF(AND(Veriler!P488>0.1, E488=\"\", O488=\"E\"), IF(P488>Veriler!$F$2, P488*R488, IF(P488<Veriler!$F$2, Veriler!$F$2*R488, P488*R488)), 0))","v":0}," ",{"$f":"IFERROR(IF(N488=\"%10 sınırı aşılmıştır.\",K488-S488,IFERROR(IF(E488=\"\",IF(R488=1,0,IF(K488-R488=0,\"\",K488-R488)),IF(Veriler!I488=\"\",K488,IF(K488*Veriler!I488=0,\"\",K488*Veriler!I488))),K488)),0)","v":""}]
[364,{"$nulls":4},"",{"$nulls":4},"",{"$f":"IF(K489=\"\", \"\", K489/Veriler!$T$1)","v":""},{"$f":"IF(E489<>\"\", \"İthal Girdi\", IF(Veriler!P489=\"\", \"\", IF(Veriler!O489=\"H\", \"%0,5 üzerindedir\", IF(Veriler!P489>0.1, \"%10 sınırı aşılmıştır.\", \"Uygun\"))))","v":"%0,5 üzerindedir"}," ",null,null,"",{"$f":"IFERROR(IF(L489<=0.005,IF(E489=\"\",K489,0),IF(E489<>\"\",0,IF(O489=\"\",0,IF(O489=\"H\",0,IF(P489<Veriler!$F$2,K489*Veriler!$F$2,K489*P489))))),\" \")","v":0},{"$f":"IF(Veriler!P489<=0.1, R489, IF(AND(Veriler!P489>0.1, E489=\"\", O489=\"E\"), IF(P489>Veriler!$F$2, P489*R489, IF(P489<Veriler!$F$2, Veriler!$F$2*R489, P489*R489)), 0))","v":0}," ",{"$f":"IFERROR(IF(N489=\"%10 sınırı aşılmıştır.\",K489-S489,IFERROR(IF(E489=\"\",IF(R489=1,0,IF(K489-R489=0,\"\",K489-R489)),IF(Veriler!I489=\"\",K489,IF(K489*Veriler!I489=0,\"\",K489*Veriler!I489))),K489)),0)","v":""}]
[{"$nulls":10},{"$f":"SUM(K461:K474,K476:K489)","v":0}]
[{"$nulls":17},"T1","T1","T1","T2"]
["Sayfa Toplamı (TL)  *(Genel Dip Toplam Ek.3-D sayfasında otomatik hesaplanacaktır.)",{"$nulls":16},{"$f":"IF(SUM(R455,R461:R474,R476:R489)=0,\"\",SUM(R455,R461:R474,R476:R489))","v":""},{"$f":"IF(SUM(S461:S474,S476:S489)=0,\" \",SUM(S461:S474,S476:S489))","v":" "},{"$f":"IF(SUM(T461:T474,T476:T489)=0,\" \",SUM(T461:T474,T476:T489))","v":" "},{"$f":"IF(SUM(U461:U474,U476:U489)=0,\" \",SUM(U461:U474,U476:U489))","v":" "}]
[]
[{"$f":"A532","v":"R02"}]
["YERLİ KATKI ORANI HESAP CETVELİ                      ",{"$nulls":13},false]
["A) Nihai Ürün Doğrudan ve Dolaylı Malzeme Giderleri                                                                                                                                                                                                                                                                                                                                                                                                                                         ",{"$nulls":18},"S",{"$f":"U458+1","v":14}]
["Sıra No","Malzeme adı / Faturadaki Ürün Adı",null,"Üretici Unvanı","GTİP Kodu                             (İthal girdiler için)","Gtip Katsayısı","Miktar ","Birim","Fiyatı \n(TL/Döviz)\n","Döviz Kuru               (TL ise 1 alınız)","Fatura Tutarı (TL)","Girdi Maliyet Yüzdesi (%)","Girdi yüzdesi %0,5 altında olan girdiler için %10 sınır kontrolü","Girdi yüzdesi %0,5 altında olan girdiler için %10 sınır kontrolü","SSB/  Müstahsil                (E/H)","YKO (%) (Manuel girilmeli)","Geçerli Yerli Oranı (%)","Yerli Maliyet Tutarı                            (T1)","Yerli Maliyet Tutarı (T1)","Yerli Maliyet Tutarı (T1)","İthal Maliyet Tutarı               (T2)"]
[null,"Doğrudan Girdi                                                         (Dolaylı girdiniz varsa en son 25. sayfaya doldurunuz)"]
[{"$f":"A489+1","v":365},{"$nulls":4},{"$f":"IF(AND(E499<>\"\",U499<>\"\",K499<>0),U499/K499,\"\")","v":""},{"$nulls":4},{"$f":"IF(AND(G499<>0, I499<>0, J499<>0), G499*I499*J499, \"\")","v":""},{"$f":"IF(K499=\"\", \"\", K499/Veriler!$T$1)","v":""},{"$f":"IF(E499<>\"\", \"İthal Girdi\", IF(Veriler!P499=\"\", \"\", IF(Veriler!O499=\"H\", \"%0,5 üzerindedir\", IF(Veriler!P499>0.1, \"%10 sınırı aşılmıştır.\", \"Uygun\"))))","v":"%0,5 üzerindedir"},{"$f":"IF(L499=\"\",\" \",M499)","v":" "},null,null,{"$f":"IFERROR(IF(AND(S499<>\"\",K499<>\"\",K499<>0,S499<>0),S499/K499,\"\"),\" \")","v":""},{"$f":"IFERROR(IF(L499<=0.005,IF(E499=\"\",K499,0),IF(E499<>\"\",0,IF(O499=\"\",0,IF(O499=\"H\",0,IF(P499<Veriler!$F$2,K499*Veriler!$F$2,K499*P499))))),\" \")","v":0},{"$f":"IF(Veriler!P499<=0.1, R499, IF(AND(Veriler!P499>0.1, E499=\"\", O499=\"E\"), IF(P499>Veriler!$F$2, P499*R499, IF(P499<Veriler!$F$2, Veriler!$F$2*R499, P499*R499)), 0))","v":0},{"$f":"IF(S499=0,\" \",S499)","v":" "},{"$f":"IFERROR(IF(N499=\"%10 sınırı aşılmıştır.\",K499-S499,IFERROR(IF(E499=\"\",IF(R499=1,0,IF(K499-R499=0,\"\",K499-R499)),IF(Veriler!I499=\"\",K499,IF(K499*Veriler!I499=0,\"\",K499*Veriler!I499))),K499)),0)","v":""}]
[{"$f":"A499+1","v":366},{"$nulls":4},"",{"$nulls":4},"",{"$f":"IF(K500=\"\", \"\", K500/Veriler!$T$1)","v":""},{"$f":"IF(E500<>\"\", \"İthal Girdi\", IF(Veriler!P500=\"\", \"\", IF(Veriler!O500=\"H\", \"%0,5 üzerindedir\", IF(Veriler!P500>0.1, \"%10 sınırı aşılmıştır.\", \"Uygun\"))))","v":"%0,5 üzerindedir"}," ",null,null,"",{"$f":"IFERROR(IF(L500<=0.005,IF(E500=\"\",K500,0),IF(E500<>\"\",0,IF(O500=\"\",0,IF(O500=\"H\",0,IF(P500<Veriler!$F$2,K500*Veriler!$F$2,K500*P500))))),\" \")","v":0},{"$f":"IF(Veriler!P500<=0.1, R500, IF(AND(Veriler!P500>0.1, E500=\"\", O500=\"E\"), IF(P500>Veriler!$F$2, P500*R500, IF(P500<Veriler!$F$2, Veriler!$F$2*R500, P500*R500)), 0))","v":0}," ",{"$f":"IFERROR(IF(N500=\"%10 sınırı aşılmıştır.\",K500-S500,IFERROR(IF(E500=\"\",IF(R500=1,0,IF(K500-R500=0,\"\",K500-R500)),IF(Veriler!I500=\"\",K500,IF(K500*Veriler!I500=0,\"\",K500*Veriler!I500))),K500)),0)","v":""}]
[{"$f":"A500+1","v":367},{"$nulls":4},"",{"$nulls":4},"",{"$f":"IF(K501=\"\", \"\", K501/Veriler!$T$1)","v":""},{"$f":"IF(E501<>\"\", \"İthal Girdi\", IF(Veriler!P501=\"\", \"\", IF(Veriler!O501=\"H\", \"%0,5 üzerindedir\", IF(Veriler!P501>0.1, \"%10 sınırı aşılmıştır.\", \"Uygun\"))))","v":"%0,5 üzerindedir"}," ",null,null,"",{"$f":"IFERROR(IF(L501<=0.005,IF(E501=\"\",K501,0),IF(E501<>\"\",0,IF(O501=\"\",0,IF(O501=\"H\",0,IF(P501<Veriler!$F$2,K501*Veriler!$F$2,K501*P501))))),\" \")","v":0},{"$f":"IF(Veriler!P501<=0.1, R501, IF(AND(Veriler!P501>0.1, E501=\"\", O501=\"E\"), IF(P501>Veriler!$F$2, P501*R501, IF(P501<Veriler!$F$2, Veriler!$F$2*R501, P501*R501)), 0))","v":0}," ",{"$f":"IFERROR(IF(N501=\"%10 sınırı aşılmıştır.\",K501-S501,IFERROR(IF(E501=\"\",IF(R501=1,0,IF(K501-R501=0,\"\",K501-R501)),IF(Veriler!I501=\"\",K501,IF(K501*Veriler!I501=0,\"\",K501*Veriler!I501))),K501)),0)","v":""}]
[368,{"$nulls":4},"",{"$nulls":4},"",{"$f":"IF(K502=\"\", \"\", K502/Veriler!$T$1)","v":""},{"$f":"IF(E502<>\"\", \"İthal Girdi\", IF(Veriler!P502=\"\", \"\", IF(Veriler!O502=\"H\", \"%0,5 üzerindedir\", IF(Veriler!P502>0.1, \"%10 sınırı aşılmıştır.\", \"Uygun\"))))","v":"%0,5 üzerindedir"}," ",null,null,"",{"$f":"IFERROR(IF(L502<=0.005,IF(E502=\"\",K502,0),IF(E502<>\"\",0,IF(O502=\"\",0,IF(O502=\"H\",0,IF(P502<Veriler!$F$2,K502*Veriler!$F$2,K502*P502))))),\" \")","v":0},{"$f":"IF(Veriler!P502<=0.1, R502, IF(AND(Veriler!P502>0.1, E502=\"\", O502=\"E\"), IF(P502>Veriler!$F$2, P502*R502, IF(P502<Veriler!$F$2, Veriler!$F$2*R502, P502*R502)), 0))","v":0}," ",{"$f":"IFERROR(IF(N502=\"%10 sınırı aşılmıştır.\",K502-S502,IFERROR(IF(E502=\"\",IF(R502=1,0,IF(K502-R502=0,\"\",K502-R502)),IF(Veriler!I502=\"\",K502,IF(K502*Veriler!I502=0,\"\",K502*Veriler!I502))),K502)),0)","v":""}]
[369,{"$nulls":4},"",{"$nulls":4},"",{"$f":"IF(K503=\"\", \"\", K503/Veriler!$T$1)","v":""},{"$f":"IF(E503<>\"\", \"İthal Girdi\", IF(Veriler!P503=\"\", \"\", IF(Veriler!O503=\"H\", \"%0,5 üzerindedir\", IF(Veriler!P503>0.1, \"%10 sınırı aşılmıştır.\", \"Uygun\"))))","v":"%0,5 üzerindedir"}," ",null,null,"",{"$f":"IFERROR(IF(L503<=0.005,IF(E503=\"\",K503,0),IF(E503<>\"\",0,IF(O503=\"\",0,IF(O503=\"H\",0,IF(P503<Veriler!$F$2,K503*Veriler!$F$2,K503*P503))))),\" \")","v":0},{"$f":"IF(Veriler!P503<=0.1, R503, IF(AND(Veriler!P503>0.1, E503=\"\", O503=\"E\"), IF(P503>Veriler!$F$2, P503*R503, IF(P503<Veriler!$F$2, Veriler!$F$2*R503, P503*R503)), 0))","v":0}," ",{"$f":"IFERROR(IF(N503=\"%10 sınırı aşılmıştır.\",K503-S503,IFERROR(IF(E503=\"\",IF(R503=1,0,IF(K503-R503=0,\"\",K503-R503)),IF(Veriler!I503=\"\",K503,IF(K503*Veriler!I503=0,\"\",K503*Veriler!I503))),K503)),0)","v":""}]
[370,{"$nulls":4},"",{"$nulls":4},"",{"$f":"IF(K504=\"\", \"\", K504/Veriler!$T$1)","v":""},{"$f":"IF(E504<>\"\", \"İthal Girdi\", IF(Veriler!P504=\"\", \"\", IF(Veriler!O504=\"H\", \"%0,5 üzerindedir\", IF(Veriler!P504>0.1, \"%10 sınırı aşılmıştır.\", \"Uygun\"))))","v":"%0,5 üzerindedir"}," ",null,null,"",{"$f":"IFERROR(IF(L504<=0.005,IF(E504=\"\",K504,0),IF(E504<>\"\",0,IF(O504=\"\",0,IF(O504=\"H\",0,IF(P504<Veriler!$F$2,K504*Veriler!$F$2,K504*P504))))),\" \")","v":0},{"$f":"IF(Veriler!P504<=0.1, R504, IF(AND(Veriler!P504>0.1, E504=\"\", O504=\"E\"), IF(P504>Veriler!$F$2, P504*R504, IF(P504<Veriler!$F$2, Veriler!$F$2*R504, P504*R504)), 0))","v":0}," ",{"$f":"IFERROR(IF(N504=\"%10 sınırı aşılmıştır.\",K504-S504,IFERROR(IF(E504=\"\",IF(R504=1,0,IF(K504-R504=0,\"\",K504-R504)),IF(Veriler!I504=\"\",K504,IF(K504*Veriler!I504=0,\"\",K504*Veriler!I504))),K504)),0)","v":""}]
[371,{"$nulls":4},"",{"$nulls":4},"",{"$f":"IF(K505=\"\", \"\", K505/Veriler!$T$1)","v":""},{"$f":"IF(E505<>\"\", \"İthal Girdi\", IF(Veriler!P505=\"\", \"\", IF(Veriler!O505=\"H\", \"%0,5 üzerindedir\", IF(Veriler!P505>0.1, \"%10 sınırı aşılmıştır.\", \"Uygun\"))))","v":"%0,5 üzerindedir"}," ",null,null,"",{"$f":"IFERROR(IF(L505<=0.005,IF(E505=\"\",K505,0),IF(E505<>\"\",0,IF(O505=\"\",0,IF(O505=\"H\",0,IF(P505<Veriler!$F$2,K505*Veriler!$F$2,K505*P505))))),\" \")","v":0},{"$f":"IF(Veriler!P505<=0.1, R505, IF(AND(Veriler!P505>0.1, E505=\"\", O505=\"E\"), IF(P505>Veriler!$F$2, P505*R505, IF(P505<Veriler!$F$2, Veriler!$F$2*R505, P505*R505)), 0))","v":0}," ",{"$f":"IFERROR(IF(N505=\"%10 sınırı aşılmıştır.\",K505-S505,IFERROR(IF(E505=\"\",IF(R505=1,0,IF(K505-R505=0,\"\",K505-R505)),IF(Veriler!I505=\"\",K505,IF(K505*Veriler!I505=0,\"\",K505*Veriler!I505))),K505)),0)","v":""}]
[372,{"$nulls":4},"",{"$nulls":4},"",{"$f":"IF(K506=\"\", \"\", K506/Veriler!$T$1)","v":""},{"$f":"IF(E506<>\"\", \"İthal Girdi\", IF(Veriler!P506=\"\", \"\", IF(Veriler!O506=\"H\", \"%0,5 üzerindedir\", IF(Veriler!P506>0.1, \"%10 sınırı aşılmıştır.\", \"Uygun\"))))","v":"%0,5 üzerindedir"}," ",null,null,"",{"$f":"IFERROR(IF(L506<=0.005,IF(E506=\"\",K506,0),IF(E506<>\"\",0,IF(O506=\"\",0,IF(O506=\"H\",0,IF(P506<Veriler!$F$2,K506*Veriler!$F$2,K506*P506))))),\" \")","v":0},{"$f":"IF(Veriler!P506<=0.1, R506, IF(AND(Veriler!P506>0.1, E506=\"\", O506=\"E\"), IF(P506>Veriler!$F$2, P506*R506, IF(P506<Veriler!$F$2, Veriler!$F$2*R506, P506*R506)), 0))","v":0}," ",{"$f":"IFERROR(IF(N506=\"%10 sınırı aşılmıştır.\",K506-S506,IFERROR(IF(E506=\"\",IF(R506=1,0,IF(K506-R506=0,\"\",K506-R506)),IF(Veriler!I506=\"\",K506,IF(K506*Veriler!I506=0,\"\",K506*Veriler!I506))),K506)),0)","v":""}]
[373,{"$nulls":4},"",{"$nulls":4},"",{"$f":"IF(K507=\"\", \"\", K507/Veriler!$T$1)","v":""},{"$f":"IF(E507<>\"\", \"İthal Girdi\", IF(Veriler!P507=\"\", \"\", IF(Veriler!O507=\"H\", \"%0,5 üzerindedir\", IF(Veriler!P507>0.1, \"%10 sınırı aşılmıştır.\", \"Uygun\"))))","v":"%0,5 üzerindedir"}," ",null,null,"",{"$f":"IFERROR(IF(L507<=0.005,IF(E507=\"\",K507,0),IF(E507<>\"\",0,IF(O507=\"\",0,IF(O507=\"H\",0,IF(P507<Veriler!$F$2,K507*Veriler!$F$2,K507*P507))))),\" \")","v":0},{"$f":"IF(Veriler!P507<=0.1, R507, IF(AND(Veriler!P507>0.1, E507=\"\", O507=\"E\"), IF(P507>Veriler!$F$2, P507*R507, IF(P507<Veriler!$F$2, Veriler!$F$2*R507, P507*R507)), 0))","v":0}," ",{"$f":"IFERROR(IF(N507=\"%10 sınırı aşılmıştır.\",K507-S507,IFERROR(IF(E507=\"\",IF(R507=1,0,IF(K507-R507=0,\"\",K507-R507)),IF(Veriler!I507=\"\",K507,IF(K507*Veriler!I507=0,\"\",K507*Veriler!I507))),K507)),0)","v":""}]
[374,{"$nulls":4},"",{"$nulls":4},"",{"$f":"IF(K508=\"\", \"\", K508/Veriler!$T$1)","v":""},{"$f":"IF(E508<>\"\", \"İthal Girdi\", IF(Veriler!P508=\"\", \"\", IF(Veriler!O508=\"H\", \"%0,5 üzerindedir\", IF(Veriler!P508>0.1, \"%10 sınırı aşılmıştır.\", \"Uygun\"))))","v":"%0,5 üzerindedir"}," ",null,null,"",{"$f":"IFERROR(IF(L508<=0.005,IF(E508=\"\",K508,0),IF(E508<>\"\",0,IF(O508=\"\",0,IF(O508=\"H\",0,IF(P508<Veriler!$F$2,K508*Veriler!$F$2,K508*P508))))),\" \")","v":0},{"$f":"IF(Veriler!P508<=0.1, R508, IF(AND(Veriler!P508>0.1, E508=\"\", O508=\"E\"), IF(P508>Veriler!$F$2, P508*R508, IF(P508<Veriler!$F$2, Veriler!$F$2*R508, P508*R508)), 0))","v":0}," ",{"$f":"IFERROR(IF(N508=\"%10 sınırı aşılmıştır.\",K508-S508,IFERROR(IF(E508=\"\",IF(R508=1,0,IF(K508-R508=0,\"\",K508-R508)),IF(Veriler!I508=\"\",K508,IF(K508*Veriler!I508=0,\"\",K508*Veriler!I508))),K508)),0)","v":""}]
[375,{"$nulls":4},"",{"$nulls":4},"",{"$f":"IF(K509=\"\", \"\", K509/Veriler!$T$1)","v":""},{"$f":"IF(E509<>\"\", \"İthal Girdi\", IF(Veriler!P509=\"\", \"\", IF(Veriler!O509=\"H\", \"%0,5 üzerindedir\", IF(Veriler!P509>0.1, \"%10 sınırı aşılmıştır.\", \"Uygun\"))))","v":"%0,5 üzerindedir"}," ",null,null,"",{"$f":"IFERROR(IF(L509<=0.005,IF(E509=\"\",K509,0),IF(E509<>\"\",0,IF(O509=\"\",0,IF(O509=\"H\",0,IF(P509<Veriler!$F$2,K509*Veriler!$F$2,K509*P509))))),\" \")","v":0},{"$f":"IF(Veriler!P509<=0.1, R509, IF(AND(Veriler!P509>0.1, E509=\"\", O509=\"E\"), IF(P509>Veriler!$F$2, P509*R509, IF(P509<Veriler!$F$2, Veriler!$F$2*R509, P509*R509)), 0))","v":0}," ",{"$f":"IFERROR(IF(N509=\"%10 sınırı aşılmıştır.\",K509-S509,IFERROR(IF(E509=\"\",IF(R509=1,0,IF(K509-R509=0,\"\",K509-R509)),IF(Veriler!I509=\"\",K509,IF(K509*Veriler!I509=0,\"\",K509*Veriler!I509))),K509)),0)","v":""}]
[376,{"$nulls":4},"",{"$nulls":4},"",{"$f":"IF(K510=\"\", \"\", K510/Veriler!$T$1)","v":""},{"$f":"IF(E510<>\"\", \"İthal Girdi\", IF(Veriler!P510=\"\", \"\", IF(Veriler!O510=\"H\", \"%0,5 üzerindedir\", IF(Veriler!P510>0.1, \"%10 sınırı aşılmıştır.\", \"Uygun\"))))","v":"%0,5 üzerindedir"}," ",null,null,"",{"$f":"IFERROR(IF(L510<=0.005,IF(E510=\"\",K510,0),IF(E510<>\"\",0,IF(O510=\"\",0,IF(O510=\"H\",0,IF(P510<Veriler!$F$2,K510*Veriler!$F$2,K510*P510))))),\" \")","v":0},{"$f":"IF(Veriler!P510<=0.1, R510, IF(AND(Veriler!P510>0.1, E510=\"\", O510=\"E\"), IF(P510>Veriler!$F$2, P510*R510, IF(P510<Veriler!$F$2, Veriler!$F$2*R510, P510*R510)), 0))","v":0}," ",{"$f":"IFERROR(IF(N510=\"%10 sınırı aşılmıştır.\",K510-S510,IFERROR(IF(E510=\"\",IF(R510=1,0,IF(K510-R510=0,\"\",K510-R510)),IF(Veriler!I510=\"\",K510,IF(K510*Veriler!I510=0,\"\",K510*Veriler!I510))),K510)),0)","v":""}]
[377,{"$nulls":4},"",{"$nulls":4},"",{"$f":"IF(K511=\"\", \"\", K511/Veriler!$T$1)","v":""},{"$f":"IF(E511<>\"\", \"İthal Girdi\", IF(Veriler!P511=\"\", \"\", IF(Veriler!O511=\"H\", \"%0,5 üzerindedir\", IF(Veriler!P511>0.1, \"%10 sınırı aşılmıştır.\", \"Uygun\"))))","v":"%0,5 üzerindedir"}," ",null,null,"",{"$f":"IFERROR(IF(L511<=0.005,IF(E511=\"\",K511,0),IF(E511<>\"\",0,IF(O511=\"\",0,IF(O511=\"H\",0,IF(P511<Veriler!$F$2,K511*Veriler!$F$2,K511*P511))))),\" \")","v":0},{"$f":"IF(Veriler!P511<=0.1, R511, IF(AND(Veriler!P511>0.1, E511=\"\", O511=\"E\"), IF(P511>Veriler!$F$2, P511*R511, IF(P511<Veriler!$F$2, Veriler!$F$2*R511, P511*R511)), 0))","v":0}," ",{"$f":"IFERROR(IF(N511=\"%10 sınırı aşılmıştır.\",K511-S511,IFERROR(IF(E511=\"\",IF(R511=1,0,IF(K511-R511=0,\"\",K511-R511)),IF(Veriler!I511=\"\",K511,IF(K511*Veriler!I511=0,\"\",K511*Veriler!I511))),K511)),0)","v":""}]
[378,{"$nulls":4},"",{"$nulls":4},"",{"$f":"IF(K512=\"\", \"\", K512/Veriler!$T$1)","v":""},{"$f":"IF(E512<>\"\", \"İthal Girdi\", IF(Veriler!P512=\"\", \"\", IF(Veriler!O512=\"H\", \"%0,5 üzerindedir\", IF(Veriler!P512>0.1, \"%10 sınırı aşılmıştır.\", \"Uygun\"))))","v":"%0,5 üzerindedir"}," ",null,null,"",{"$f":"IFERROR(IF(L512<=0.005,IF(E512=\"\",K512,0),IF(E512<>\"\",0,IF(O512=\"\",0,IF(O512=\"H\",0,IF(P512<Veriler!$F$2,K512*Veriler!$F$2,K512*P512))))),\" \")","v":0},{"$f":"IF(Veriler!P512<=0.1, R512, IF(AND(Veriler!P512>0.1, E512=\"\", O512=\"E\"), IF(P512>Veriler!$F$2, P512*R512, IF(P512<Veriler!$F$2, Veriler!$F$2*R512, P512*R512)), 0))","v":0}," ",{"$f":"IFERROR(IF(N512=\"%10 sınırı aşılmıştır.\",K512-S512,IFERROR(IF(E512=\"\",IF(R512=1,0,IF(K512-R512=0,\"\",K512-R512)),IF(Veriler!I512=\"\",K512,IF(K512*Veriler!I512=0,\"\",K512*Veriler!I512))),K512)),0)","v":""}]
[null,"Dolaylı"]
[{"$f":"A512+1","v":379},{"$nulls":4},{"$f":"IF(AND(E514<>\"\",U514<>\"\",K514<>0),U514/K514,\"\")","v":""},{"$nulls":4},{"$f":"IF(AND(G514<>0, I514<>0, J514<>0), G514*I514*J514, \"\")","v":""},{"$f":"IF(K514=\"\", \"\", K514/Veriler!$T$1)","v":""},{"$f":"IF(E514<>\"\", \"İthal Girdi\", IF(Veriler!P514=\"\", \"\", IF(Veriler!O514=\"H\", \"%0,5 üzerindedir\", IF(Veriler!P514>0.1, \"%10 sınırı aşılmıştır.\", \"Uygun\"))))","v":"%0,5 üzerindedir"},{"$f":"IF(L514=\"\",\" \",M514)","v":" "},null,null,{"$f":"IFERROR(IF(AND(S514<>\"\",K514<>\"\",K514<>0,S514<>0),S514/K514,\"\"),\" \")","v":""},{"$f":"IFERROR(IF(L514<=0.005,IF(E514=\"\",K514,0),IF(E514<>\"\",0,IF(O514=\"\",0,IF(O514=\"H\",0,IF(P514<Veriler!$F$2,K514*Veriler!$F$2,K514*P514))))),\" \")","v":0},{"$f":"IF(Veriler!P514<=0.1, R514, IF(AND(Veriler!P514>0.1, E514=\"\", O514=\"E\"), IF(P514>Veriler!$F$2, P514*R514, IF(P514<Veriler!$F$2, Veriler!$F$2*R514, P514*R514)), 0))","v":0},{"$f":"IF(S514=0,\" \",S514)","v":" "},{"$f":"IFERROR(IF(N514=\"%10 sınırı aşılmıştır.\",K514-S514,IFERROR(IF(E514=\"\",IF(R514=1,0,IF(K514-R514=0,\"\",K514-R514)),IF(Veriler!I514=\"\",K514,IF(K514*Veriler!I514=0,\"\",K514*Veriler!I514))),K514)),0)","v":""}]
[{"$f":"A514+1","v":380},{"$nulls":4},"",{"$nulls":4},"",{"$f":"IF(K515=\"\", \"\", K515/Veriler!$T$1)","v":""},{"$f":"IF(E515<>\"\", \"İthal Girdi\", IF(Veriler!P515=\"\", \"\", IF(Veriler!O515=\"H\", \"%0,5 üzerindedir\", IF(Veriler!P515>0.1, \"%10 sınırı aşılmıştır.\", \"Uygun\"))))","v":"%0,5 üzerindedir"}," ",null,null,"",{"$f":"IFERROR(IF(L515<=0.005,IF(E515=\"\",K515,0),IF(E515<>\"\",0,IF(O515=\"\",0,IF(O515=\"H\",0,IF(P515<Veriler!$F$2,K515*Veriler!$F$2,K515*P515))))),\" \")","v":0},{"$f":"IF(Veriler!P515<=0.1, R515, IF(AND(Veriler!P515>0.1, E515=\"\", O515=\"E\"), IF(P515>Veriler!$F$2, P515*R515, IF(P515<Veriler!$F$2, Veriler!$F$2*R515, P515*R515)), 0))","v":0}," ",{"$f":"IFERROR(IF(N515=\"%10 sınırı aşılmıştır.\",K515-S515,IFERROR(IF(E515=\"\",IF(R515=1,0,IF(K515-R515=0,\"\",K515-R515)),IF(Veriler!I515=\"\",K515,IF(K515*Veriler!I515=0,\"\",K515*Veriler!I515))),K515)),0)","v":""}]
[{"$f":"A515+1","v":381},{"$nulls":4},"",{"$nulls":4},"",{"$f":"IF(K516=\"\", \"\", K516/Veriler!$T$1)","v":""},{"$f":"IF(E516<>\"\", \"İthal Girdi\", IF(Veriler!P516=\"\", \"\", IF(Veriler!O516=\"H\", \"%0,5 üzerindedir\", IF(Veriler!P516>0.1, \"%10 sınırı aşılmıştır.\", \"Uygun\"))))","v":"%0,5 üzerindedir"}," ",null,null,"",{"$f":"IFERROR(IF(L516<=0.005,IF(E516=\"\",K516,0),IF(E516<>\"\",0,IF(O516=\"\",0,IF(O516=\"H\",0,IF(P516<Veriler!$F$2,K516*Veriler!$F$2,K516*P516))))),\" \")","v":0},{"$f":"IF(Veriler!P516<=0.1, R516, IF(AND(Veriler!P516>0.1, E516=\"\", O516=\"E\"), IF(P516>Veriler!$F$2, P516*R516, IF(P516<Veriler!$F$2, Veriler!$F$2*R516, P516*R516)), 0))","v":0}," ",{"$f":"IFERROR(IF(N516=\"%10 sınırı aşılmıştır.\",K516-S516,IFERROR(IF(E516=\"\",IF(R516=1,0,IF(K516-R516=0,\"\",K516-R516)),IF(Veriler!I516=\"\",K516,IF(K516*Veriler!I516=0,\"\",K516*Veriler!I516))),K516)),0)","v":""}]
[382,{"$nulls":4},"",{"$nulls":4},"",{"$f":"IF(K517=\"\", \"\", K517/Veriler!$T$1)","v":""},{"$f":"IF(E517<>\"\", \"İthal Girdi\", IF(Veriler!P517=\"\", \"\", IF(Veriler!O517=\"H\", \"%0,5 üzerindedir\", IF(Veriler!P517>0.1, \"%10 sınırı aşılmıştır.\", \"Uygun\"))))","v":"%0,5 üzerindedir"}," ",null,null,"",{"$f":"IFERROR(IF(L517<=0.005,IF(E517=\"\",K517,0),IF(E517<>\"\",0,IF(O517=\"\",0,IF(O517=\"H\",0,IF(P517<Veriler!$F$2,K517*Veriler!$F$2,K517*P517))))),\" \")","v":0},{"$f":"IF(Veriler!P517<=0.1, R517, IF(AND(Veriler!P517>0.1, E517=\"\", O517=\"E\"), IF(P517>Veriler!$F$2, P517*R517, IF(P517<Veriler!$F$2, Veriler!$F$2*R517, P517*R517)), 0))","v":0}," ",{"$f":"IFERROR(IF(N517=\"%10 sınırı aşılmıştır.\",K517-S517,IFERROR(IF(E517=\"\",IF(R517=1,0,IF(K517-R517=0,\"\",K517-R517)),IF(Veriler!I517=\"\",K517,IF(K517*Veriler!I517=0,\"\",K517*Veriler!I517))),K517)),0)","v":""}]
[383,{"$nulls":4},"",{"$nulls":4},"",{"$f":"IF(K518=\"\", \"\", K518/Veriler!$T$1)","v":""},{"$f":"IF(E518<>\"\", \"İthal Girdi\", IF(Veriler!P518=\"\", \"\", IF(Veriler!O518=\"H\", \"%0,5 üzerindedir\", IF(Veriler!P518>0.1, \"%10 sınırı aşılmıştır.\", \"Uygun\"))))","v":"%0,5 üzerindedir"}," ",null,null,"",{"$f":"IFERROR(IF(L518<=0.005,IF(E518=\"\",K518,0),IF(E518<>\"\",0,IF(O518=\"\",0,IF(O518=\"H\",0,IF(P518<Veriler!$F$2,K518*Veriler!$F$2,K518*P518))))),\" \")","v":0},{"$f":"IF(Veriler!P518<=0.1, R518, IF(AND(Veriler!P518>0.1, E518=\"\", O518=\"E\"), IF(P518>Veriler!$F$2, P518*R518, IF(P518<Veriler!$F$2, Veriler!$F$2*R518, P518*R518)), 0))","v":0}," ",{"$f":"IFERROR(IF(N518=\"%10 sınırı aşılmıştır.\",K518-S518,IFERROR(IF(E518=\"\",IF(R518=1,0,IF(K518-R518=0,\"\",K518-R518)),IF(Veriler!I518=\"\",K518,IF(K518*Veriler!I518=0,\"\",K518*Veriler!I518))),K518)),0)","v":""}]
[384,{"$nulls":4},"",{"$nulls":4},"",{"$f":"IF(K519=\"\", \"\", K519/Veriler!$T$1)","v":""},{"$f":"IF(E519<>\"\", \"İthal Girdi\", IF(Veriler!P519=\"\", \"\", IF(Veriler!O519=\"H\", \"%0,5 üzerindedir\", IF(Veriler!P519>0.1, \"%10 sınırı aşılmıştır.\", \"Uygun\"))))","v":"%0,5 üzerindedir"}," ",null,null,"",{"$f":"IFERROR(IF(L519<=0.005,IF(E519=\"\",K519,0),IF(E519<>\"\",0,IF(O519=\"\",0,IF(O519=\"H\",0,IF(P519<Veriler!$F$2,K519*Veriler!$F$2,K519*P519))))),\" \")","v":0},{"$f":"IF(Veriler!P519<=0.1, R519, IF(AND(Veriler!P519>0.1, E519=\"\", O519=\"E\"), IF(P519>Veriler!$F$2, P519*R519, IF(P519<Veriler!$F$2, Veriler!$F$2*R519, P519*R519)), 0))","v":0}," ",{"$f":"IFERROR(IF(N519=\"%10 sınırı aşılmıştır.\",K519-S519,IFERROR(IF(E519=\"\",IF(R519=1,0,IF(K519-R519=0,\"\",K519-R519)),IF(Veriler!I519=\"\",K519,IF(K519*Veriler!I519=0,\"\",K519*Veriler!I519))),K519)),0)","v":""}]
[385,{"$nulls":4},"",{"$nulls":4},"",{"$f":"IF(K520=\"\", \"\", K520/Veriler!$T$1)","v":""},{"$f":"IF(E520<>\"\", \"İthal Girdi\", IF(Veriler!P520=\"\", \"\", IF(Veriler!O520=\"H\", \"%0,5 üzerindedir\", IF(Veriler!P520>0.1, \"%10 sınırı aşılmıştır.\", \"Uygun\"))))","v":"%0,5 üzerindedir"}," ",null,null,"",{"$f":"IFERROR(IF(L520<=0.005,IF(E520=\"\",K520,0),IF(E520<>\"\",0,IF(O520=\"\",0,IF(O520=\"H\",0,IF(P520<Veriler!$F$2,K520*Veriler!$F$2,K520*P520))))),\" \")","v":0},{"$f":"IF(Veriler!P520<=0.1, R520, IF(AND(Veriler!P520>0.1, E520=\"\", O520=\"E\"), IF(P520>Veriler!$F$2, P520*R520, IF(P520<Veriler!$F$2, Veriler!$F$2*R520, P520*R520)), 0))","v":0}," ",{"$f":"IFERROR(IF(N520=\"%10 sınırı aşılmıştır.\",K520-S520,IFERROR(IF(E520=\"\",IF(R520=1,0,IF(K520-R520=0,\"\",K520-R520)),IF(Veriler!I520=\"\",K520,IF(K520*Veriler!I520=0,\"\",K520*Veriler!I520))),K520)),0)","v":""}]
[386,{"$nulls":4},"",{"$nulls":4},"",{"$f":"IF(K521=\"\", \"\", K521/Veriler!$T$1)","v":""},{"$f":"IF(E521<>\"\", \"İthal Girdi\", IF(Veriler!P521=\"\", \"\", IF(Veriler!O521=\"H\", \"%0,5 üzerindedir\", IF(Veriler!P521>0.1, \"%10 sınırı aşılmıştır.\", \"Uygun\"))))","v":"%0,5 üzerindedir"}," ",null,null,"",{"$f":"IFERROR(IF(L521<=0.005,IF(E521=\"\",K521,0),IF(E521<>\"\",0,IF(O521=\"\",0,IF(O521=\"H\",0,IF(P521<Veriler!$F$2,K521*Veriler!$F$2,K521*P521))))),\" \")","v":0},{"$f":"IF(Veriler!P521<=0.1, R521, IF(AND(Veriler!P521>0.1, E521=\"\", O521=\"E\"), IF(P521>Veriler!$F$2, P521*R521, IF(P521<Veriler!$F$2, Veriler!$F$2*R521, P521*R521)), 0))","v":0}," ",{"$f":"IFERROR(IF(N521=\"%10 sınırı aşılmıştır.\",K521-S521,IFERROR(IF(E521=\"\",IF(R521=1,0,IF(K521-R521=0,\"\",K521-R521)),IF(Veriler!I521=\"\",K521,IF(K521*Veriler!I521=0,\"\",K521*Veriler!I521))),K521)),0)","v":""}]
[387,{"$nulls":4},"",{"$nulls":4},"",{"$f":"IF(K522=\"\", \"\", K522/Veriler!$T$1)","v":""},{"$f":"IF(E522<>\"\", \"İthal Girdi\", IF(Veriler!P522=\"\", \"\", IF(Veriler!O522=\"H\", \"%0,5 üzerindedir\", IF(Veriler!P522>0.1, \"%10 sınırı aşılmıştır.\", \"Uygun\"))))","v":"%0,5 üzerindedir"}," ",null,null,"",{"$f":"IFERROR(IF(L522<=0.005,IF(E522=\"\",K522,0),IF(E522<>\"\",0,IF(O522=\"\",0,IF(O522=\"H\",0,IF(P522<Veriler!$F$2,K522*Veriler!$F$2,K522*P522))))),\" \")","v":0},{"$f":"IF(Veriler!P522<=0.1, R522, IF(AND(Veriler!P522>0.1, E522=\"\", O522=\"E\"), IF(P522>Veriler!$F$2, P522*R522, IF(P522<Veriler!$F$2, Veriler!$F$2*R522, P522*R522)), 0))","v":0}," ",{"$f":"IFERROR(IF(N522=\"%10 sınırı aşılmıştır.\",K522-S522,IFERROR(IF(E522=\"\",IF(R522=1,0,IF(K522-R522=0,\"\",K522-R522)),IF(Veriler!I522=\"\",K522,IF(K522*Veriler!I522=0,\"\",K522*Veriler!I522))),K522)),0)","v":""}]
[388,{"$nulls":4},"",{"$nulls":4},"",{"$f":"IF(K523=\"\", \"\", K523/Veriler!$T$1)","v":""},{"$f":"IF(E523<>\"\", \"İthal Girdi\", IF(Veriler!P523=\"\", \"\", IF(Veriler!O523=\"H\", \"%0,5 üzerindedir\", IF(Veriler!P523>0.1, \"%10 sınırı aşılmıştır.\", \"Uygun\"))))","v":"%0,5 üzerindedir"}," ",null,null,"",{"$f":"IFERROR(IF(L523<=0.005,IF(E523=\"\",K523,0),IF(E523<>\"\",0,IF(O523=\"\",0,IF(O523=\"H\",0,IF(P523<Veriler!$F$2,K523*Veriler!$F$2,K523*P523))))),\" \")","v":0},{"$f":"IF(Veriler!P523<=0.1, R523, IF(AND(Veriler!P523>0.1, E523=\"\", O523=\"E\"), IF(P523>Veriler!$F$2, P523*R523, IF(P523<Veriler!$F$2, Veriler!$F$2*R523, P523*R523)), 0))","v":0}," ",{"$f":"IFERROR(IF(N523=\"%10 sınırı aşılmıştır.\",K523-S523,IFERROR(IF(E523=\"\",IF(R523=1,0,IF(K523-R523=0,\"\",K523-R523)),IF(Veriler!I523=\"\",K523,IF(K523*Veriler!I523=0,\"\",K523*Veriler!I523))),K523)),0)","v":""}]
[389,{"$nulls":4},"",{"$nulls":4},"",{"$f":"IF(K524=\"\", \"\", K524/Veriler!$T$1)","v":""},{"$f":"IF(E524<>\"\", \"İthal Girdi\", IF(Veriler!P524=\"\", \"\", IF(Veriler!O524=\"H\", \"%0,5 üzerindedir\", IF(Veriler!P524>0.1, \"%10 sınırı aşılmıştır.\", \"Uygun\"))))","v":"%0,5 üzerindedir"}," ",null,null,"",{"$f":"IFERROR(IF(L524<=0.005,IF(E524=\"\",K524,0),IF(E524<>\"\",0,IF(O524=\"\",0,IF(O524=\"H\",0,IF(P524<Veriler!$F$2,K524*Veriler!$F$2,K524*P524))))),\" \")","v":0},{"$f":"IF(Veriler!P524<=0.1, R524, IF(AND(Veriler!P524>0.1, E524=\"\", O524=\"E\"), IF(P524>Veriler!$F$2, P524*R524, IF(P524<Veriler!$F$2, Veriler!$F$2*R524, P524*R524)), 0))","v":0}," ",{"$f":"IFERROR(IF(N524=\"%10 sınırı aşılmıştır.\",K524-S524,IFERROR(IF(E524=\"\",IF(R524=1,0,IF(K524-R524=0,\"\",K524-R524)),IF(Veriler!I524=\"\",K524,IF(K524*Veriler!I524=0,\"\",K524*Veriler!I524))),K524)),0)","v":""}]
[390,{"$nulls":4},"",{"$nulls":4},"",{"$f":"IF(K525=\"\", \"\", K525/Veriler!$T$1)","v":""},{"$f":"IF(E525<>\"\", \"İthal Girdi\", IF(Veriler!P525=\"\", \"\", IF(Veriler!O525=\"H\", \"%0,5 üzerindedir\", IF(Veriler!P525>0.1, \"%10 sınırı aşılmıştır.\", \"Uygun\"))))","v":"%0,5 üzerindedir"}," ",null,null,"",{"$f":"IFERROR(IF(L525<=0.005,IF(E525=\"\",K525,0),IF(E525<>\"\",0,IF(O525=\"\",0,IF(O525=\"H\",0,IF(P525<Veriler!$F$2,K525*Veriler!$F$2,K525*P525))))),\" \")","v":0},{"$f":"IF(Veriler!P525<=0.1, R525, IF(AND(Veriler!P525>0.1, E525=\"\", O525=\"E\"), IF(P525>Veriler!$F$2, P525*R525, IF(P525<Veriler!$F$2, Veriler!$F$2*R525, P525*R525)), 0))","v":0}," ",{"$f":"IFERROR(IF(N525=\"%10 sınırı aşılmıştır.\",K525-S525,IFERROR(IF(E525=\"\",IF(R525=1,0,IF(K525-R525=0,\"\",K525-R525)),IF(Veriler!I525=\"\",K525,IF(K525*Veriler!I525=0,\"\",K525*Veriler!I525))),K525)),0)","v":""}]
[391,{"$nulls":4},"",{"$nulls":4},"",{"$f":"IF(K526=\"\", \"\", K526/Veriler!$T$1)","v":""},{"$f":"IF(E526<>\"\", \"İthal Girdi\", IF(Veriler!P526=\"\", \"\", IF(Veriler!O526=\"H\", \"%0,5 üzerindedir\", IF(Veriler!P526>0.1, \"%10 sınırı aşılmıştır.\", \"Uygun\"))))","v":"%0,5 üzerindedir"}," ",null,null,"",{"$f":"IFERROR(IF(L526<=0.005,IF(E526=\"\",K526,0),IF(E526<>\"\",0,IF(O526=\"\",0,IF(O526=\"H\",0,IF(P526<Veriler!$F$2,K526*Veriler!$F$2,K526*P526))))),\" \")","v":0},{"$f":"IF(Veriler!P526<=0.1, R526, IF(AND(Veriler!P526>0.1, E526=\"\", O526=\"E\"), IF(P526>Veriler!$F$2, P526*R526, IF(P526<Veriler!$F$2, Veriler!$F$2*R526, P526*R526)), 0))","v":0}," ",{"$f":"IFERROR(IF(N526=\"%10 sınırı aşılmıştır.\",K526-S526,IFERROR(IF(E526=\"\",IF(R526=1,0,IF(K526-R526=0,\"\",K526-R526)),IF(Veriler!I526=\"\",K526,IF(K526*Veriler!I526=0,\"\",K526*Veriler!I526))),K526)),0)","v":""}]
[392,{"$nulls":4},"",{"$nulls":4},"",{"$f":"IF(K527=\"\", \"\", K527/Veriler!$T$1)","v":""},{"$f":"IF(E527<>\"\", \"İthal Girdi\", IF(Veriler!P527=\"\", \"\", IF(Veriler!O527=\"H\", \"%0,5 üzerindedir\", IF(Veriler!P527>0.1, \"%10 sınırı aşılmıştır.\", \"Uygun\"))))","v":"%0,5 üzerindedir"}," ",null,null,"",{"$f":"IFERROR(IF(L527<=0.005,IF(E527=\"\",K527,0),IF(E527<>\"\",0,IF(O527=\"\",0,IF(O527=\"H\",0,IF(P527<Veriler!$F$2,K527*Veriler!$F$2,K527*P527))))),\" \")","v":0},{"$f":"IF(Veriler!P527<=0.1, R527, IF(AND(Veriler!P527>0.1, E527=\"\", O527=\"E\"), IF(P527>Veriler!$F$2, P527*R527, IF(P527<Veriler!$F$2, Veriler!$F$2*R527, P527*R527)), 0))","v":0}," ",{"$f":"IFERROR(IF(N527=\"%10 sınırı aşılmıştır.\",K527-S527,IFERROR(IF(E527=\"\",IF(R527=1,0,IF(K527-R527=0,\"\",K527-R527)),IF(Veriler!I527=\"\",K527,IF(K527*Veriler!I527=0,\"\",K527*Veriler!I527))),K527)),0)","v":""}]
[{"$nulls":10},{"$f":"SUM(K499:K512,K514:K527)","v":0}]
[{"$nulls":17},"T1","T1","T1","T2"]
["Sayfa Toplamı (TL)  *(Genel Dip Toplam Ek.3-D sayfasında otomatik hesaplanacaktır.)",{"$nulls":16},{"$f":"IF(SUM(#REF!,R499:R512,R514:R527)=0,\"\",SUM(#REF!,R499:R512,R514:R527))","v":{"$error":"#REF!"}},{"$f":"IF(SUM(S499:S512,S514:S527)=0,\" \",SUM(S499:S512,S514:S527))","v":" "},{"$f":"IF(SUM(T499:T512,T514:T527)=0,\" \",SUM(T499:T512,T514:T527))","v":" "},{"$f":"IF(SUM(U499:U512,U514:U527)=0,\" \",SUM(U499:U512,U514:U527))","v":" "}]
[]
[{"$f":"A570","v":"R02"}]
["YERLİ KATKI ORANI HESAP CETVELİ                      ",{"$nulls":13},false]
["A) Nihai Ürün Doğrudan ve Dolaylı Malzeme Giderleri                                                                                                                                                                                                                                                                                                                                                                                                                                         ",{"$nulls":18},"S",{"$f":"U496+1","v":15}]
["Sıra No","Malzeme adı / Faturadaki Ürün Adı",null,"Üretici Unvanı","GTİP Kodu                             (İthal girdiler için)","Gtip Katsayısı","Miktar ","Birim","Fiyatı \n(TL/Döviz)\n","Döviz Kuru               (TL ise 1 alınız)","Fatura Tutarı (TL)","Girdi Maliyet Yüzdesi (%)","Girdi yüzdesi %0,5 altında olan girdiler için %10 sınır kontrolü","Girdi yüzdesi %0,5 altında olan girdiler için %10 sınır kontrolü","SSB/  Müstahsil                (E/H)","YKO (%) (Manuel girilmeli)","Geçerli Yerli Oranı (%)","Yerli Maliyet Tutarı                            (T1)","Yerli Maliyet Tutarı (T1)","Yerli Maliyet Tutarı (T1)","İthal Maliyet Tutarı               (T2)"]
[null,"Doğrudan Girdi                                                         (Dolaylı girdiniz varsa en son 25. sayfaya doldurunuz)"]
[{"$f":"A527+1","v":393},{"$nulls":4},{"$f":"IF(AND(E537<>\"\",U537<>\"\",K537<>0),U537/K537,\"\")","v":""},{"$nulls":4},{"$f":"IF(AND(G537<>0, I537<>0, J537<>0), G537*I537*J537, \"\")","v":""},{"$f":"IF(K537=\"\", \"\", K537/Veriler!$T$1)","v":""},{"$f":"IF(E537<>\"\", \"İthal Girdi\", IF(Veriler!P537=\"\", \"\", IF(Veriler!O537=\"H\", \"%0,5 üzerindedir\", IF(Veriler!P537>0.1, \"%10 sınırı aşılmıştır.\", \"Uygun\"))))","v":"%0,5 üzerindedir"},{"$f":"IF(L537=\"\",\" \",M537)","v":" "},null,null,{"$f":"IFERROR(IF(AND(S537<>\"\",K537<>\"\",K537<>0,S537<>0),S537/K537,\"\"),\" \")","v":""},{"$f":"IFERROR(IF(L537<=0.005,IF(E537=\"\",K537,0),IF(E537<>\"\",0,IF(O537=\"\",0,IF(O537=\"H\",0,IF(P537<Veriler!$F$2,K537*Veriler!$F$2,K537*P537))))),\" \")","v":0},{"$f":"IF(Veriler!P537<=0.1, R537, IF(AND(Veriler!P537>0.1, E537=\"\", O537=\"E\"), IF(P537>Veriler!$F$2, P537*R537, IF(P537<Veriler!$F$2, Veriler!$F$2*R537, P537*R537)), 0))","v":0},{"$f":"IF(S537=0,\" \",S537)","v":" "},{"$f":"IFERROR(IF(N537=\"%10 sınırı aşılmıştır.\",K537-S537,IFERROR(IF(E537=\"\",IF(R537=1,0,IF(K537-R537=0,\"\",K537-R537)),IF(Veriler!I537=\"\",K537,IF(K537*Veriler!I537=0,\"\",K537*Veriler!I537))),K537)),0)","v":""}]
[{"$f":"A537+1","v":394},{"$nulls":4},"",{"$nulls":4},"",{"$f":"IF(K538=\"\", \"\", K538/Veriler!$T$1)","v":""},{"$f":"IF(E538<>\"\", \"İthal Girdi\", IF(Veriler!P538=\"\", \"\", IF(Veriler!O538=\"H\", \"%0,5 üzerindedir\", IF(Veriler!P538>0.1, \"%10 sınırı aşılmıştır.\", \"Uygun\"))))","v":"%0,5 üzerindedir"}," ",null,null,"",{"$f":"IFERROR(IF(L538<=0.005,IF(E538=\"\",K538,0),IF(E538<>\"\",0,IF(O538=\"\",0,IF(O538=\"H\",0,IF(P538<Veriler!$F$2,K538*Veriler!$F$2,K538*P538))))),\" \")","v":0},{"$f":"IF(Veriler!P538<=0.1, R538, IF(AND(Veriler!P538>0.1, E538=\"\", O538=\"E\"), IF(P538>Veriler!$F$2, P538*R538, IF(P538<Veriler!$F$2, Veriler!$F$2*R538, P538*R538)), 0))","v":0}," ",{"$f":"IFERROR(IF(N538=\"%10 sınırı aşılmıştır.\",K538-S538,IFERROR(IF(E538=\"\",IF(R538=1,0,IF(K538-R538=0,\"\",K538-R538)),IF(Veriler!I538=\"\",K538,IF(K538*Veriler!I538=0,\"\",K538*Veriler!I538))),K538)),0)","v":""}]
[{"$f":"A538+1","v":395},{"$nulls":4},"",{"$nulls":4},"",{"$f":"IF(K539=\"\", \"\", K539/Veriler!$T$1)","v":""},{"$f":"IF(E539<>\"\", \"İthal Girdi\", IF(Veriler!P539=\"\", \"\", IF(Veriler!O539=\"H\", \"%0,5 üzerindedir\", IF(Veriler!P539>0.1, \"%10 sınırı aşılmıştır.\", \"Uygun\"))))","v":"%0,5 üzerindedir"}," ",null,null,"",{"$f":"IFERROR(IF(L539<=0.005,IF(E539=\"\",K539,0),IF(E539<>\"\",0,IF(O539=\"\",0,IF(O539=\"H\",0,IF(P539<Veriler!$F$2,K539*Veriler!$F$2,K539*P539))))),\" \")","v":0},{"$f":"IF(Veriler!P539<=0.1, R539, IF(AND(Veriler!P539>0.1, E539=\"\", O539=\"E\"), IF(P539>Veriler!$F$2, P539*R539, IF(P539<Veriler!$F$2, Veriler!$F$2*R539, P539*R539)), 0))","v":0}," ",{"$f":"IFERROR(IF(N539=\"%10 sınırı aşılmıştır.\",K539-S539,IFERROR(IF(E539=\"\",IF(R539=1,0,IF(K539-R539=0,\"\",K539-R539)),IF(Veriler!I539=\"\",K539,IF(K539*Veriler!I539=0,\"\",K539*Veriler!I539))),K539)),0)","v":""}]
[396,{"$nulls":4},"",{"$nulls":4},"",{"$f":"IF(K540=\"\", \"\", K540/Veriler!$T$1)","v":""},{"$f":"IF(E540<>\"\", \"İthal Girdi\", IF(Veriler!P540=\"\", \"\", IF(Veriler!O540=\"H\", \"%0,5 üzerindedir\", IF(Veriler!P540>0.1, \"%10 sınırı aşılmıştır.\", \"Uygun\"))))","v":"%0,5 üzerindedir"}," ",null,null,"",{"$f":"IFERROR(IF(L540<=0.005,IF(E540=\"\",K540,0),IF(E540<>\"\",0,IF(O540=\"\",0,IF(O540=\"H\",0,IF(P540<Veriler!$F$2,K540*Veriler!$F$2,K540*P540))))),\" \")","v":0},{"$f":"IF(Veriler!P540<=0.1, R540, IF(AND(Veriler!P540>0.1, E540=\"\", O540=\"E\"), IF(P540>Veriler!$F$2, P540*R540, IF(P540<Veriler!$F$2, Veriler!$F$2*R540, P540*R540)), 0))","v":0}," ",{"$f":"IFERROR(IF(N540=\"%10 sınırı aşılmıştır.\",K540-S540,IFERROR(IF(E540=\"\",IF(R540=1,0,IF(K540-R540=0,\"\",K540-R540)),IF(Veriler!I540=\"\",K540,IF(K540*Veriler!I540=0,\"\",K540*Veriler!I540))),K540)),0)","v":""}]
[397,{"$nulls":4},"",{"$nulls":4},"",{"$f":"IF(K541=\"\", \"\", K541/Veriler!$T$1)","v":""},{"$f":"IF(E541<>\"\", \"İthal Girdi\", IF(Veriler!P541=\"\", \"\", IF(Veriler!O541=\"H\", \"%0,5 üzerindedir\", IF(Veriler!P541>0.1, \"%10 sınırı aşılmıştır.\", \"Uygun\"))))","v":"%0,5 üzerindedir"}," ",null,null,"",{"$f":"IFERROR(IF(L541<=0.005,IF(E541=\"\",K541,0),IF(E541<>\"\",0,IF(O541=\"\",0,IF(O541=\"H\",0,IF(P541<Veriler!$F$2,K541*Veriler!$F$2,K541*P541))))),\" \")","v":0},{"$f":"IF(Veriler!P541<=0.1, R541, IF(AND(Veriler!P541>0.1, E541=\"\", O541=\"E\"), IF(P541>Veriler!$F$2, P541*R541, IF(P541<Veriler!$F$2, Veriler!$F$2*R541, P541*R541)), 0))","v":0}," ",{"$f":"IFERROR(IF(N541=\"%10 sınırı aşılmıştır.\",K541-S541,IFERROR(IF(E541=\"\",IF(R541=1,0,IF(K541-R541=0,\"\",K541-R541)),IF(Veriler!I541=\"\",K541,IF(K541*Veriler!I541=0,\"\",K541*Veriler!I541))),K541)),0)","v":""}]
[398,{"$nulls":4},"",{"$nulls":4},"",{"$f":"IF(K542=\"\", \"\", K542/Veriler!$T$1)","v":""},{"$f":"IF(E542<>\"\", \"İthal Girdi\", IF(Veriler!P542=\"\", \"\", IF(Veriler!O542=\"H\", \"%0,5 üzerindedir\", IF(Veriler!P542>0.1, \"%10 sınırı aşılmıştır.\", \"Uygun\"))))","v":"%0,5 üzerindedir"}," ",null,null,"",{"$f":"IFERROR(IF(L542<=0.005,IF(E542=\"\",K542,0),IF(E542<>\"\",0,IF(O542=\"\",0,IF(O542=\"H\",0,IF(P542<Veriler!$F$2,K542*Veriler!$F$2,K542*P542))))),\" \")","v":0},{"$f":"IF(Veriler!P542<=0.1, R542, IF(AND(Veriler!P542>0.1, E542=\"\", O542=\"E\"), IF(P542>Veriler!$F$2, P542*R542, IF(P542<Veriler!$F$2, Veriler!$F$2*R542, P542*R542)), 0))","v":0}," ",{"$f":"IFERROR(IF(N542=\"%10 sınırı aşılmıştır.\",K542-S542,IFERROR(IF(E542=\"\",IF(R542=1,0,IF(K542-R542=0,\"\",K542-R542)),IF(Veriler!I542=\"\",K542,IF(K542*Veriler!I542=0,\"\",K542*Veriler!I542))),K542)),0)","v":""}]
[399,{"$nulls":4},"",{"$nulls":4},"",{"$f":"IF(K543=\"\", \"\", K543/Veriler!$T$1)","v":""},{"$f":"IF(E543<>\"\", \"İthal Girdi\", IF(Veriler!P543=\"\", \"\", IF(Veriler!O543=\"H\", \"%0,5 üzerindedir\", IF(Veriler!P543>0.1, \"%10 sınırı aşılmıştır.\", \"Uygun\"))))","v":"%0,5 üzerindedir"}," ",null,null,"",{"$f":"IFERROR(IF(L543<=0.005,IF(E543=\"\",K543,0),IF(E543<>\"\",0,IF(O543=\"\",0,IF(O543=\"H\",0,IF(P543<Veriler!$F$2,K543*Veriler!$F$2,K543*P543))))),\" \")","v":0},{"$f":"IF(Veriler!P543<=0.1, R543, IF(AND(Veriler!P543>0.1, E543=\"\", O543=\"E\"), IF(P543>Veriler!$F$2, P543*R543, IF(P543<Veriler!$F$2, Veriler!$F$2*R543, P543*R543)), 0))","v":0}," ",{"$f":"IFERROR(IF(N543=\"%10 sınırı aşılmıştır.\",K543-S543,IFERROR(IF(E543=\"\",IF(R543=1,0,IF(K543-R543=0,\"\",K543-R543)),IF(Veriler!I543=\"\",K543,IF(K543*Veriler!I543=0,\"\",K543*Veriler!I543))),K543)),0)","v":""}]
[400,{"$nulls":4},"",{"$nulls":4},"",{"$f":"IF(K544=\"\", \"\", K544/Veriler!$T$1)","v":""},{"$f":"IF(E544<>\"\", \"İthal Girdi\", IF(Veriler!P544=\"\", \"\", IF(Veriler!O544=\"H\", \"%0,5 üzerindedir\", IF(Veriler!P544>0.1, \"%10 sınırı aşılmıştır.\", \"Uygun\"))))","v":"%0,5 üzerindedir"}," ",null,null,"",{"$f":"IFERROR(IF(L544<=0.005,IF(E544=\"\",K544,0),IF(E544<>\"\",0,IF(O544=\"\",0,IF(O544=\"H\",0,IF(P544<Veriler!$F$2,K544*Veriler!$F$2,K544*P544))))),\" \")","v":0},{"$f":"IF(Veriler!P544<=0.1, R544, IF(AND(Veriler!P544>0.1, E544=\"\", O544=\"E\"), IF(P544>Veriler!$F$2, P544*R544, IF(P544<Veriler!$F$2, Veriler!$F$2*R544, P544*R544)), 0))","v":0}," ",{"$f":"IFERROR(IF(N544=\"%10 sınırı aşılmıştır.\",K544-S544,IFERROR(IF(E544=\"\",IF(R544=1,0,IF(K544-R544=0,\"\",K544-R544)),IF(Veriler!I544=\"\",K544,IF(K544*Veriler!I544=0,\"\",K544*Veriler!I544))),K544)),0)","v":""}]
[401,{"$nulls":4},"",{"$nulls":4},"",{"$f":"IF(K545=\"\", \"\", K545/Veriler!$T$1)","v":""},{"$f":"IF(E545<>\"\", \"İthal Girdi\", IF(Veriler!P545=\"\", \"\", IF(Veriler!O545=\"H\", \"%0,5 üzerindedir\", IF(Veriler!P545>0.1, \"%10 sınırı aşılmıştır.\", \"Uygun\"))))","v":"%0,5 üzerindedir"}," ",null,null,"",{"$f":"IFERROR(IF(L545<=0.005,IF(E545=\"\",K545,0),IF(E545<>\"\",0,IF(O545=\"\",0,IF(O545=\"H\",0,IF(P545<Veriler!$F$2,K545*Veriler!$F$2,K545*P545))))),\" \")","v":0},{"$f":"IF(Veriler!P545<=0.1, R545, IF(AND(Veriler!P545>0.1, E545=\"\", O545=\"E\"), IF(P545>Veriler!$F$2, P545*R545, IF(P545<Veriler!$F$2, Veriler!$F$2*R545, P545*R545)), 0))","v":0}," ",{"$f":"IFERROR(IF(N545=\"%10 sınırı aşılmıştır.\",K545-S545,IFERROR(IF(E545=\"\",IF(R545=1,0,IF(K545-R545=0,\"\",K545-R545)),IF(Veriler!I545=\"\",K545,IF(K545*Veriler!I545=0,\"\",K545*Veriler!I545))),K545)),0)","v":""}]
[402,{"$nulls":4},"",{"$nulls":4},"",{"$f":"IF(K546=\"\", \"\", K546/Veriler!$T$1)","v":""},{"$f":"IF(E546<>\"\", \"İthal Girdi\", IF(Veriler!P546=\"\", \"\", IF(Veriler!O546=\"H\", \"%0,5 üzerindedir\", IF(Veriler!P546>0.1, \"%10 sınırı aşılmıştır.\", \"Uygun\"))))","v":"%0,5 üzerindedir"}," ",null,null,"",{"$f":"IFERROR(IF(L546<=0.005,IF(E546=\"\",K546,0),IF(E546<>\"\",0,IF(O546=\"\",0,IF(O546=\"H\",0,IF(P546<Veriler!$F$2,K546*Veriler!$F$2,K546*P546))))),\" \")","v":0},{"$f":"IF(Veriler!P546<=0.1, R546, IF(AND(Veriler!P546>0.1, E546=\"\", O546=\"E\"), IF(P546>Veriler!$F$2, P546*R546, IF(P546<Veriler!$F$2, Veriler!$F$2*R546, P546*R546)), 0))","v":0}," ",{"$f":"IFERROR(IF(N546=\"%10 sınırı aşılmıştır.\",K546-S546,IFERROR(IF(E546=\"\",IF(R546=1,0,IF(K546-R546=0,\"\",K546-R546)),IF(Veriler!I546=\"\",K546,IF(K546*Veriler!I546=0,\"\",K546*Veriler!I546))),K546)),0)","v":""}]
[403,{"$nulls":4},"",{"$nulls":4},"",{"$f":"IF(K547=\"\", \"\", K547/Veriler!$T$1)","v":""},{"$f":"IF(E547<>\"\", \"İthal Girdi\", IF(Veriler!P547=\"\", \"\", IF(Veriler!O547=\"H\", \"%0,5 üzerindedir\", IF(Veriler!P547>0.1, \"%10 sınırı aşılmıştır.\", \"Uygun\"))))","v":"%0,5 üzerindedir"}," ",null,null,"",{"$f":"IFERROR(IF(L547<=0.005,IF(E547=\"\",K547,0),IF(E547<>\"\",0,IF(O547=\"\",0,IF(O547=\"H\",0,IF(P547<Veriler!$F$2,K547*Veriler!$F$2,K547*P547))))),\" \")","v":0},{"$f":"IF(Veriler!P547<=0.1, R547, IF(AND(Veriler!P547>0.1, E547=\"\", O547=\"E\"), IF(P547>Veriler!$F$2, P547*R547, IF(P547<Veriler!$F$2, Veriler!$F$2*R547, P547*R547)), 0))","v":0}," ",{"$f":"IFERROR(IF(N547=\"%10 sınırı aşılmıştır.\",K547-S547,IFERROR(IF(E547=\"\",IF(R547=1,0,IF(K547-R547=0,\"\",K547-R547)),IF(Veriler!I547=\"\",K547,IF(K547*Veriler!I547=0,\"\",K547*Veriler!I547))),K547)),0)","v":""}]
[404,{"$nulls":4},"",{"$nulls":4},"",{"$f":"IF(K548=\"\", \"\", K548/Veriler!$T$1)","v":""},{"$f":"IF(E548<>\"\", \"İthal Girdi\", IF(Veriler!P548=\"\", \"\", IF(Veriler!O548=\"H\", \"%0,5 üzerindedir\", IF(Veriler!P548>0.1, \"%10 sınırı aşılmıştır.\", \"Uygun\"))))","v":"%0,5 üzerindedir"}," ",null,null,"",{"$f":"IFERROR(IF(L548<=0.005,IF(E548=\"\",K548,0),IF(E548<>\"\",0,IF(O548=\"\",0,IF(O548=\"H\",0,IF(P548<Veriler!$F$2,K548*Veriler!$F$2,K548*P548))))),\" \")","v":0},{"$f":"IF(Veriler!P548<=0.1, R548, IF(AND(Veriler!P548>0.1, E548=\"\", O548=\"E\"), IF(P548>Veriler!$F$2, P548*R548, IF(P548<Veriler!$F$2, Veriler!$F$2*R548, P548*R548)), 0))","v":0}," ",{"$f":"IFERROR(IF(N548=\"%10 sınırı aşılmıştır.\",K548-S548,IFERROR(IF(E548=\"\",IF(R548=1,0,IF(K548-R548=0,\"\",K548-R548)),IF(Veriler!I548=\"\",K548,IF(K548*Veriler!I548=0,\"\",K548*Veriler!I548))),K548)),0)","v":""}]
[405,{"$nulls":4},"",{"$nulls":4},"",{"$f":"IF(K549=\"\", \"\", K549/Veriler!$T$1)","v":""},{"$f":"IF(E549<>\"\", \"İthal Girdi\", IF(Veriler!P549=\"\", \"\", IF(Veriler!O549=\"H\", \"%0,5 üzerindedir\", IF(Veriler!P549>0.1, \"%10 sınırı aşılmıştır.\", \"Uygun\"))))","v":"%0,5 üzerindedir"}," ",null,null,"",{"$f":"IFERROR(IF(L549<=0.005,IF(E549=\"\",K549,0),IF(E549<>\"\",0,IF(O549=\"\",0,IF(O549=\"H\",0,IF(P549<Veriler!$F$2,K549*Veriler!$F$2,K549*P549))))),\" \")","v":0},{"$f":"IF(Veriler!P549<=0.1, R549, IF(AND(Veriler!P549>0.1, E549=\"\", O549=\"E\"), IF(P549>Veriler!$F$2, P549*R549, IF(P549<Veriler!$F$2, Veriler!$F$2*R549, P549*R549)), 0))","v":0}," ",{"$f":"IFERROR(IF(N549=\"%10 sınırı aşılmıştır.\",K549-S549,IFERROR(IF(E549=\"\",IF(R549=1,0,IF(K549-R549=0,\"\",K549-R549)),IF(Veriler!I549=\"\",K549,IF(K549*Veriler!I549=0,\"\",K549*Veriler!I549))),K549)),0)","v":""}]
[406,{"$nulls":4},"",{"$nulls":4},"",{"$f":"IF(K550=\"\", \"\", K550/Veriler!$T$1)","v":""},{"$f":"IF(E550<>\"\", \"İthal Girdi\", IF(Veriler!P550=\"\", \"\", IF(Veriler!O550=\"H\", \"%0,5 üzerindedir\", IF(Veriler!P550>0.1, \"%10 sınırı aşılmıştır.\", \"Uygun\"))))","v":"%0,5 üzerindedir"}," ",null,null,"",{"$f":"IFERROR(IF(L550<=0.005,IF(E550=\"\",K550,0),IF(E550<>\"\",0,IF(O550=\"\",0,IF(O550=\"H\",0,IF(P550<Veriler!$F$2,K550*Veriler!$F$2,K550*P550))))),\" \")","v":0},{"$f":"IF(Veriler!P550<=0.1, R550, IF(AND(Veriler!P550>0.1, E550=\"\", O550=\"E\"), IF(P550>Veriler!$F$2, P550*R550, IF(P550<Veriler!$F$2, Veriler!$F$2*R550, P550*R550)), 0))","v":0}," ",{"$f":"IFERROR(IF(N550=\"%10 sınırı aşılmıştır.\",K550-S550,IFERROR(IF(E550=\"\",IF(R550=1,0,IF(K550-R550=0,\"\",K550-R550)),IF(Veriler!I550=\"\",K550,IF(K550*Veriler!I550=0,\"\",K550*Veriler!I550))),K550)),0)","v":""}]
[null,"Dolaylı"]
[{"$f":"A550+1","v":407},{"$nulls":4},{"$f":"IF(AND(E552<>\"\",U552<>\"\",K552<>0),U552/K552,\"\")","v":""},{"$nulls":4},{"$f":"IF(AND(G552<>0, I552<>0, J552<>0), G552*I552*J552, \"\")","v":""},{"$f":"IF(K552=\"\", \"\", K552/Veriler!$T$1)","v":""},{"$f":"IF(E552<>\"\", \"İthal Girdi\", IF(Veriler!P552=\"\", \"\", IF(Veriler!O552=\"H\", \"%0,5 üzerindedir\", IF(Veriler!P552>0.1, \"%10 sınırı aşılmıştır.\", \"Uygun\"))))","v":"%0,5 üzerindedir"},{"$f":"IF(L552=\"\",\" \",M552)","v":" "},null,null,{"$f":"IFERROR(IF(AND(S552<>\"\",K552<>\"\",K552<>0,S552<>0),S552/K552,\"\"),\" \")","v":""},{"$f":"IFERROR(IF(L552<=0.005,IF(E552=\"\",K552,0),IF(E552<>\"\",0,IF(O552=\"\",0,IF(O552=\"H\",0,IF(P552<Veriler!$F$2,K552*Veriler!$F$2,K552*P552))))),\" \")","v":0},{"$f":"IF(Veriler!P552<=0.1, R552, IF(AND(Veriler!P552>0.1, E552=\"\", O552=\"E\"), IF(P552>Veriler!$F$2, P552*R552, IF(P552<Veriler!$F$2, Veriler!$F$2*R552, P552*R552)), 0))","v":0},{"$f":"IF(S552=0,\" \",S552)","v":" "},{"$f":"IFERROR(IF(N552=\"%10 sınırı aşılmıştır.\",K552-S552,IFERROR(IF(E552=\"\",IF(R552=1,0,IF(K552-R552=0,\"\",K552-R552)),IF(Veriler!I552=\"\",K552,IF(K552*Veriler!I552=0,\"\",K552*Veriler!I552))),K552)),0)","v":""}]
[{"$f":"A552+1","v":408},{"$nulls":4},"",{"$nulls":4},"",{"$f":"IF(K553=\"\", \"\", K553/Veriler!$T$1)","v":""},{"$f":"IF(E553<>\"\", \"İthal Girdi\", IF(Veriler!P553=\"\", \"\", IF(Veriler!O553=\"H\", \"%0,5 üzerindedir\", IF(Veriler!P553>0.1, \"%10 sınırı aşılmıştır.\", \"Uygun\"))))","v":"%0,5 üzerindedir"}," ",null,null,"",{"$f":"IFERROR(IF(L553<=0.005,IF(E553=\"\",K553,0),IF(E553<>\"\",0,IF(O553=\"\",0,IF(O553=\"H\",0,IF(P553<Veriler!$F$2,K553*Veriler!$F$2,K553*P553))))),\" \")","v":0},{"$f":"IF(Veriler!P553<=0.1, R553, IF(AND(Veriler!P553>0.1, E553=\"\", O553=\"E\"), IF(P553>Veriler!$F$2, P553*R553, IF(P553<Veriler!$F$2, Veriler!$F$2*R553, P553*R553)), 0))","v":0}," ",{"$f":"IFERROR(IF(N553=\"%10 sınırı aşılmıştır.\",K553-S553,IFERROR(IF(E553=\"\",IF(R553=1,0,IF(K553-R553=0,\"\",K553-R553)),IF(Veriler!I553=\"\",K553,IF(K553*Veriler!I553=0,\"\",K553*Veriler!I553))),K553)),0)","v":""}]
[{"$f":"A553+1","v":409},{"$nulls":4},"",{"$nulls":4},"",{"$f":"IF(K554=\"\", \"\", K554/Veriler!$T$1)","v":""},{"$f":"IF(E554<>\"\", \"İthal Girdi\", IF(Veriler!P554=\"\", \"\", IF(Veriler!O554=\"H\", \"%0,5 üzerindedir\", IF(Veriler!P554>0.1, \"%10 sınırı aşılmıştır.\", \"Uygun\"))))","v":"%0,5 üzerindedir"}," ",null,null,"",{"$f":"IFERROR(IF(L554<=0.005,IF(E554=\"\",K554,0),IF(E554<>\"\",0,IF(O554=\"\",0,IF(O554=\"H\",0,IF(P554<Veriler!$F$2,K554*Veriler!$F$2,K554*P554))))),\" \")","v":0},{"$f":"IF(Veriler!P554<=0.1, R554, IF(AND(Veriler!P554>0.1, E554=\"\", O554=\"E\"), IF(P554>Veriler!$F$2, P554*R554, IF(P554<Veriler!$F$2, Veriler!$F$2*R554, P554*R554)), 0))","v":0}," ",{"$f":"IFERROR(IF(N554=\"%10 sınırı aşılmıştır.\",K554-S554,IFERROR(IF(E554=\"\",IF(R554=1,0,IF(K554-R554=0,\"\",K554-R554)),IF(Veriler!I554=\"\",K554,IF(K554*Veriler!I554=0,\"\",K554*Veriler!I554))),K554)),0)","v":""}]
[410,{"$nulls":4},"",{"$nulls":4},"",{"$f":"IF(K555=\"\", \"\", K555/Veriler!$T$1)","v":""},{"$f":"IF(E555<>\"\", \"İthal Girdi\", IF(Veriler!P555=\"\", \"\", IF(Veriler!O555=\"H\", \"%0,5 üzerindedir\", IF(Veriler!P555>0.1, \"%10 sınırı aşılmıştır.\", \"Uygun\"))))","v":"%0,5 üzerindedir"}," ",null,null,"",{"$f":"IFERROR(IF(L555<=0.005,IF(E555=\"\",K555,0),IF(E555<>\"\",0,IF(O555=\"\",0,IF(O555=\"H\",0,IF(P555<Veriler!$F$2,K555*Veriler!$F$2,K555*P555))))),\" \")","v":0},{"$f":"IF(Veriler!P555<=0.1, R555, IF(AND(Veriler!P555>0.1, E555=\"\", O555=\"E\"), IF(P555>Veriler!$F$2, P555*R555, IF(P555<Veriler!$F$2, Veriler!$F$2*R555, P555*R555)), 0))","v":0}," ",{"$f":"IFERROR(IF(N555=\"%10 sınırı aşılmıştır.\",K555-S555,IFERROR(IF(E555=\"\",IF(R555=1,0,IF(K555-R555=0,\"\",K555-R555)),IF(Veriler!I555=\"\",K555,IF(K555*Veriler!I555=0,\"\",K555*Veriler!I555))),K555)),0)","v":""}]
[411,{"$nulls":4},"",{"$nulls":4},"",{"$f":"IF(K556=\"\", \"\", K556/Veriler!$T$1)","v":""},{"$f":"IF(E556<>\"\", \"İthal Girdi\", IF(Veriler!P556=\"\", \"\", IF(Veriler!O556=\"H\", \"%0,5 üzerindedir\", IF(Veriler!P556>0.1, \"%10 sınırı aşılmıştır.\", \"Uygun\"))))","v":"%0,5 üzerindedir"}," ",null,null,"",{"$f":"IFERROR(IF(L556<=0.005,IF(E556=\"\",K556,0),IF(E556<>\"\",0,IF(O556=\"\",0,IF(O556=\"H\",0,IF(P556<Veriler!$F$2,K556*Veriler!$F$2,K556*P556))))),\" \")","v":0},{"$f":"IF(Veriler!P556<=0.1, R556, IF(AND(Veriler!P556>0.1, E556=\"\", O556=\"E\"), IF(P556>Veriler!$F$2, P556*R556, IF(P556<Veriler!$F$2, Veriler!$F$2*R556, P556*R556)), 0))","v":0}," ",{"$f":"IFERROR(IF(N556=\"%10 sınırı aşılmıştır.\",K556-S556,IFERROR(IF(E556=\"\",IF(R556=1,0,IF(K556-R556=0,\"\",K556-R556)),IF(Veriler!I556=\"\",K556,IF(K556*Veriler!I556=0,\"\",K556*Veriler!I556))),K556)),0)","v":""}]
[412,{"$nulls":4},"",{"$nulls":4},"",{"$f":"IF(K557=\"\", \"\", K557/Veriler!$T$1)","v":""},{"$f":"IF(E557<>\"\", \"İthal Girdi\", IF(Veriler!P557=\"\", \"\", IF(Veriler!O557=\"H\", \"%0,5 üzerindedir\", IF(Veriler!P557>0.1, \"%10 sınırı aşılmıştır.\", \"Uygun\"))))","v":"%0,5 üzerindedir"}," ",null,null,"",{"$f":"IFERROR(IF(L557<=0.005,IF(E557=\"\",K557,0),IF(E557<>\"\",0,IF(O557=\"\",0,IF(O557=\"H\",0,IF(P557<Veriler!$F$2,K557*Veriler!$F$2,K557*P557))))),\" \")","v":0},{"$f":"IF(Veriler!P557<=0.1, R557, IF(AND(Veriler!P557>0.1, E557=\"\", O557=\"E\"), IF(P557>Veriler!$F$2, P557*R557, IF(P557<Veriler!$F$2, Veriler!$F$2*R557, P557*R557)), 0))","v":0}," ",{"$f":"IFERROR(IF(N557=\"%10 sınırı aşılmıştır.\",K557-S557,IFERROR(IF(E557=\"\",IF(R557=1,0,IF(K557-R557=0,\"\",K557-R557)),IF(Veriler!I557=\"\",K557,IF(K557*Veriler!I557=0,\"\",K557*Veriler!I557))),K557)),0)","v":""}]
[413,{"$nulls":4},"",{"$nulls":4},"",{"$f":"IF(K558=\"\", \"\", K558/Veriler!$T$1)","v":""},{"$f":"IF(E558<>\"\", \"İthal Girdi\", IF(Veriler!P558=\"\", \"\", IF(Veriler!O558=\"H\", \"%0,5 üzerindedir\", IF(Veriler!P558>0.1, \"%10 sınırı aşılmıştır.\", \"Uygun\"))))","v":"%0,5 üzerindedir"}," ",null,null,"",{"$f":"IFERROR(IF(L558<=0.005,IF(E558=\"\",K558,0),IF(E558<>\"\",0,IF(O558=\"\",0,IF(O558=\"H\",0,IF(P558<Veriler!$F$2,K558*Veriler!$F$2,K558*P558))))),\" \")","v":0},{"$f":"IF(Veriler!P558<=0.1, R558, IF(AND(Veriler!P558>0.1, E558=\"\", O558=\"E\"), IF(P558>Veriler!$F$2, P558*R558, IF(P558<Veriler!$F$2, Veriler!$F$2*R558, P558*R558)), 0))","v":0}," ",{"$f":"IFERROR(IF(N558=\"%10 sınırı aşılmıştır.\",K558-S558,IFERROR(IF(E558=\"\",IF(R558=1,0,IF(K558-R558=0,\"\",K558-R558)),IF(Veriler!I558=\"\",K558,IF(K558*Veriler!I558=0,\"\",K558*Veriler!I558))),K558)),0)","v":""}]
[414,{"$nulls":4},"",{"$nulls":4},"",{"$f":"IF(K559=\"\", \"\", K559/Veriler!$T$1)","v":""},{"$f":"IF(E559<>\"\", \"İthal Girdi\", IF(Veriler!P559=\"\", \"\", IF(Veriler!O559=\"H\", \"%0,5 üzerindedir\", IF(Veriler!P559>0.1, \"%10 sınırı aşılmıştır.\", \"Uygun\"))))","v":"%0,5 üzerindedir"}," ",null,null,"",{"$f":"IFERROR(IF(L559<=0.005,IF(E559=\"\",K559,0),IF(E559<>\"\",0,IF(O559=\"\",0,IF(O559=\"H\",0,IF(P559<Veriler!$F$2,K559*Veriler!$F$2,K559*P559))))),\" \")","v":0},{"$f":"IF(Veriler!P559<=0.1, R559, IF(AND(Veriler!P559>0.1, E559=\"\", O559=\"E\"), IF(P559>Veriler!$F$2, P559*R559, IF(P559<Veriler!$F$2, Veriler!$F$2*R559, P559*R559)), 0))","v":0}," ",{"$f":"IFERROR(IF(N559=\"%10 sınırı aşılmıştır.\",K559-S559,IFERROR(IF(E559=\"\",IF(R559=1,0,IF(K559-R559=0,\"\",K559-R559)),IF(Veriler!I559=\"\",K559,IF(K559*Veriler!I559=0,\"\",K559*Veriler!I559))),K559)),0)","v":""}]
[415,{"$nulls":4},"",{"$nulls":4},"",{"$f":"IF(K560=\"\", \"\", K560/Veriler!$T$1)","v":""},{"$f":"IF(E560<>\"\", \"İthal Girdi\", IF(Veriler!P560=\"\", \"\", IF(Veriler!O560=\"H\", \"%0,5 üzerindedir\", IF(Veriler!P560>0.1, \"%10 sınırı aşılmıştır.\", \"Uygun\"))))","v":"%0,5 üzerindedir"}," ",null,null,"",{"$f":"IFERROR(IF(L560<=0.005,IF(E560=\"\",K560,0),IF(E560<>\"\",0,IF(O560=\"\",0,IF(O560=\"H\",0,IF(P560<Veriler!$F$2,K560*Veriler!$F$2,K560*P560))))),\" \")","v":0},{"$f":"IF(Veriler!P560<=0.1, R560, IF(AND(Veriler!P560>0.1, E560=\"\", O560=\"E\"), IF(P560>Veriler!$F$2, P560*R560, IF(P560<Veriler!$F$2, Veriler!$F$2*R560, P560*R560)), 0))","v":0}," ",{"$f":"IFERROR(IF(N560=\"%10 sınırı aşılmıştır.\",K560-S560,IFERROR(IF(E560=\"\",IF(R560=1,0,IF(K560-R560=0,\"\",K560-R560)),IF(Veriler!I560=\"\",K560,IF(K560*Veriler!I560=0,\"\",K560*Veriler!I560))),K560)),0)","v":""}]
[416,{"$nulls":4},"",{"$nulls":4},"",{"$f":"IF(K561=\"\", \"\", K561/Veriler!$T$1)","v":""},{"$f":"IF(E561<>\"\", \"İthal Girdi\", IF(Veriler!P561=\"\", \"\", IF(Veriler!O561=\"H\", \"%0,5 üzerindedir\", IF(Veriler!P561>0.1, \"%10 sınırı aşılmıştır.\", \"Uygun\"))))","v":"%0,5 üzerindedir"}," ",null,null,"",{"$f":"IFERROR(IF(L561<=0.005,IF(E561=\"\",K561,0),IF(E561<>\"\",0,IF(O561=\"\",0,IF(O561=\"H\",0,IF(P561<Veriler!$F$2,K561*Veriler!$F$2,K561*P561))))),\" \")","v":0},{"$f":"IF(Veriler!P561<=0.1, R561, IF(AND(Veriler!P561>0.1, E561=\"\", O561=\"E\"), IF(P561>Veriler!$F$2, P561*R561, IF(P561<Veriler!$F$2, Veriler!$F$2*R561, P561*R561)), 0))","v":0}," ",{"$f":"IFERROR(IF(N561=\"%10 sınırı aşılmıştır.\",K561-S561,IFERROR(IF(E561=\"\",IF(R561=1,0,IF(K561-R561=0,\"\",K561-R561)),IF(Veriler!I561=\"\",K561,IF(K561*Veriler!I561=0,\"\",K561*Veriler!I561))),K561)),0)","v":""}]
[417,{"$nulls":4},"",{"$nulls":4},"",{"$f":"IF(K562=\"\", \"\", K562/Veriler!$T$1)","v":""},{"$f":"IF(E562<>\"\", \"İthal Girdi\", IF(Veriler!P562=\"\", \"\", IF(Veriler!O562=\"H\", \"%0,5 üzerindedir\", IF(Veriler!P562>0.1, \"%10 sınırı aşılmıştır.\", \"Uygun\"))))","v":"%0,5 üzerindedir"}," ",null,null,"",{"$f":"IFERROR(IF(L562<=0.005,IF(E562=\"\",K562,0),IF(E562<>\"\",0,IF(O562=\"\",0,IF(O562=\"H\",0,IF(P562<Veriler!$F$2,K562*Veriler!$F$2,K562*P562))))),\" \")","v":0},{"$f":"IF(Veriler!P562<=0.1, R562, IF(AND(Veriler!P562>0.1, E562=\"\", O562=\"E\"), IF(P562>Veriler!$F$2, P562*R562, IF(P562<Veriler!$F$2, Veriler!$F$2*R562, P562*R562)), 0))","v":0}," ",{"$f":"IFERROR(IF(N562=\"%10 sınırı aşılmıştır.\",K562-S562,IFERROR(IF(E562=\"\",IF(R562=1,0,IF(K562-R562=0,\"\",K562-R562)),IF(Veriler!I562=\"\",K562,IF(K562*Veriler!I562=0,\"\",K562*Veriler!I562))),K562)),0)","v":""}]
[418,{"$nulls":4},"",{"$nulls":4},"",{"$f":"IF(K563=\"\", \"\", K563/Veriler!$T$1)","v":""},{"$f":"IF(E563<>\"\", \"İthal Girdi\", IF(Veriler!P563=\"\", \"\", IF(Veriler!O563=\"H\", \"%0,5 üzerindedir\", IF(Veriler!P563>0.1, \"%10 sınırı aşılmıştır.\", \"Uygun\"))))","v":"%0,5 üzerindedir"}," ",null,null,"",{"$f":"IFERROR(IF(L563<=0.005,IF(E563=\"\",K563,0),IF(E563<>\"\",0,IF(O563=\"\",0,IF(O563=\"H\",0,IF(P563<Veriler!$F$2,K563*Veriler!$F$2,K563*P563))))),\" \")","v":0},{"$f":"IF(Veriler!P563<=0.1, R563, IF(AND(Veriler!P563>0.1, E563=\"\", O563=\"E\"), IF(P563>Veriler!$F$2, P563*R563, IF(P563<Veriler!$F$2, Veriler!$F$2*R563, P563*R563)), 0))","v":0}," ",{"$f":"IFERROR(IF(N563=\"%10 sınırı aşılmıştır.\",K563-S563,IFERROR(IF(E563=\"\",IF(R563=1,0,IF(K563-R563=0,\"\",K563-R563)),IF(Veriler!I563=\"\",K563,IF(K563*Veriler!I563=0,\"\",K563*Veriler!I563))),K563)),0)","v":""}]
[419,{"$nulls":4},"",{"$nulls":4},"",{"$f":"IF(K564=\"\", \"\", K564/Veriler!$T$1)","v":""},{"$f":"IF(E564<>\"\", \"İthal Girdi\", IF(Veriler!P564=\"\", \"\", IF(Veriler!O564=\"H\", \"%0,5 üzerindedir\", IF(Veriler!P564>0.1, \"%10 sınırı aşılmıştır.\", \"Uygun\"))))","v":"%0,5 üzerindedir"}," ",null,null,"",{"$f":"IFERROR(IF(L564<=0.005,IF(E564=\"\",K564,0),IF(E564<>\"\",0,IF(O564=\"\",0,IF(O564=\"H\",0,IF(P564<Veriler!$F$2,K564*Veriler!$F$2,K564*P564))))),\" \")","v":0},{"$f":"IF(Veriler!P564<=0.1, R564, IF(AND(Veriler!P564>0.1, E564=\"\", O564=\"E\"), IF(P564>Veriler!$F$2, P564*R564, IF(P564<Veriler!$F$2, Veriler!$F$2*R564, P564*R564)), 0))","v":0}," ",{"$f":"IFERROR(IF(N564=\"%10 sınırı aşılmıştır.\",K564-S564,IFERROR(IF(E564=\"\",IF(R564=1,0,IF(K564-R564=0,\"\",K564-R564)),IF(Veriler!I564=\"\",K564,IF(K564*Veriler!I564=0,\"\",K564*Veriler!I564))),K564)),0)","v":""}]
[420,{"$nulls":4},"",{"$nulls":4},"",{"$f":"IF(K565=\"\", \"\", K565/Veriler!$T$1)","v":""},{"$f":"IF(E565<>\"\", \"İthal Girdi\", IF(Veriler!P565=\"\", \"\", IF(Veriler!O565=\"H\", \"%0,5 üzerindedir\", IF(Veriler!P565>0.1, \"%10 sınırı aşılmıştır.\", \"Uygun\"))))","v":"%0,5 üzerindedir"}," ",null,null,"",{"$f":"IFERROR(IF(L565<=0.005,IF(E565=\"\",K565,0),IF(E565<>\"\",0,IF(O565=\"\",0,IF(O565=\"H\",0,IF(P565<Veriler!$F$2,K565*Veriler!$F$2,K565*P565))))),\" \")","v":0},{"$f":"IF(Veriler!P565<=0.1, R565, IF(AND(Veriler!P565>0.1, E565=\"\", O565=\"E\"), IF(P565>Veriler!$F$2, P565*R565, IF(P565<Veriler!$F$2, Veriler!$F$2*R565, P565*R565)), 0))","v":0}," ",{"$f":"IFERROR(IF(N565=\"%10 sınırı aşılmıştır.\",K565-S565,IFERROR(IF(E565=\"\",IF(R565=1,0,IF(K565-R565=0,\"\",K565-R565)),IF(Veriler!I565=\"\",K565,IF(K565*Veriler!I565=0,\"\",K565*Veriler!I565))),K565)),0)","v":""}]
[{"$nulls":10},{"$f":"SUM(K537:K550,K552:K565)","v":0}]
[{"$nulls":17},"T1","T1","T1","T2"]
["Sayfa Toplamı (TL)  *(Genel Dip Toplam Ek.3-D sayfasında otomatik hesaplanacaktır.)",{"$nulls":16},{"$f":"IF(SUM(#REF!,R537:R550,R552:R565)=0,\"\",SUM(#REF!,R537:R550,R552:R565))","v":{"$error":"#REF!"}},{"$f":"IF(SUM(S537:S550,S552:S565)=0,\" \",SUM(S537:S550,S552:S565))","v":" "},{"$f":"IF(SUM(T537:T550,T552:T565)=0,\" \",SUM(T537:T550,T552:T565))","v":" "},{"$f":"IF(SUM(U537:U550,U552:U565)=0,\" \",SUM(U537:U550,U552:U565))","v":" "}]
[]
[{"$f":"A608","v":"R02"}]
["YERLİ KATKI ORANI HESAP CETVELİ                      ",{"$nulls":13},false]
["A) Nihai Ürün Doğrudan ve Dolaylı Malzeme Giderleri                                                                                                                                                                                                                                                                                                                                                                                                                                         ",{"$nulls":18},"S",{"$f":"U534+1","v":16}]
["Sıra No","Malzeme adı / Faturadaki Ürün Adı",null,"Üretici Unvanı","GTİP Kodu                             (İthal girdiler için)","Gtip Katsayısı","Miktar ","Birim","Fiyatı \n(TL/Döviz)\n","Döviz Kuru               (TL ise 1 alınız)","Fatura Tutarı (TL)","Girdi Maliyet Yüzdesi (%)","Girdi yüzdesi %0,5 altında olan girdiler için %10 sınır kontrolü","Girdi yüzdesi %0,5 altında olan girdiler için %10 sınır kontrolü","SSB/  Müstahsil                (E/H)","YKO (%) (Manuel girilmeli)","Geçerli Yerli Oranı (%)","Yerli Maliyet Tutarı                            (T1)","Yerli Maliyet Tutarı (T1)","Yerli Maliyet Tutarı (T1)","İthal Maliyet Tutarı               (T2)"]
[null,"Doğrudan Girdi                                                         (Dolaylı girdiniz varsa en son 25. sayfaya doldurunuz)"]
[{"$f":"A565+1","v":421},{"$nulls":4},{"$f":"IF(AND(E575<>\"\",U575<>\"\",K575<>0),U575/K575,\"\")","v":""},{"$nulls":4},{"$f":"IF(AND(G575<>0, I575<>0, J575<>0), G575*I575*J575, \"\")","v":""},{"$f":"IF(K575=\"\", \"\", K575/Veriler!$T$1)","v":""},{"$f":"IF(E575<>\"\", \"İthal Girdi\", IF(Veriler!P575=\"\", \"\", IF(Veriler!O575=\"H\", \"%0,5 üzerindedir\", IF(Veriler!P575>0.1, \"%10 sınırı aşılmıştır.\", \"Uygun\"))))","v":"%0,5 üzerindedir"},{"$f":"IF(L575=\"\",\" \",M575)","v":" "},null,null,{"$f":"IFERROR(IF(AND(S575<>\"\",K575<>\"\",K575<>0,S575<>0),S575/K575,\"\"),\" \")","v":""},{"$f":"IFERROR(IF(L575<=0.005,IF(E575=\"\",K575,0),IF(E575<>\"\",0,IF(O575=\"\",0,IF(O575=\"H\",0,IF(P575<Veriler!$F$2,K575*Veriler!$F$2,K575*P575))))),\" \")","v":0},{"$f":"IF(Veriler!P575<=0.1, R575, IF(AND(Veriler!P575>0.1, E575=\"\", O575=\"E\"), IF(P575>Veriler!$F$2, P575*R575, IF(P575<Veriler!$F$2, Veriler!$F$2*R575, P575*R575)), 0))","v":0},{"$f":"IF(S575=0,\" \",S575)","v":" "},{"$f":"IFERROR(IF(N575=\"%10 sınırı aşılmıştır.\",K575-S575,IFERROR(IF(E575=\"\",IF(R575=1,0,IF(K575-R575=0,\"\",K575-R575)),IF(Veriler!I575=\"\",K575,IF(K575*Veriler!I575=0,\"\",K575*Veriler!I575))),K575)),0)","v":""}]
[{"$f":"A575+1","v":422},{"$nulls":4},"",{"$nulls":4},"",{"$f":"IF(K576=\"\", \"\", K576/Veriler!$T$1)","v":""},{"$f":"IF(E576<>\"\", \"İthal Girdi\", IF(Veriler!P576=\"\", \"\", IF(Veriler!O576=\"H\", \"%0,5 üzerindedir\", IF(Veriler!P576>0.1, \"%10 sınırı aşılmıştır.\", \"Uygun\"))))","v":"%0,5 üzerindedir"}," ",null,null,"",{"$f":"IFERROR(IF(L576<=0.005,IF(E576=\"\",K576,0),IF(E576<>\"\",0,IF(O576=\"\",0,IF(O576=\"H\",0,IF(P576<Veriler!$F$2,K576*Veriler!$F$2,K576*P576))))),\" \")","v":0},{"$f":"IF(Veriler!P576<=0.1, R576, IF(AND(Veriler!P576>0.1, E576=\"\", O576=\"E\"), IF(P576>Veriler!$F$2, P576*R576, IF(P576<Veriler!$F$2, Veriler!$F$2*R576, P576*R576)), 0))","v":0}," ",{"$f":"IFERROR(IF(N576=\"%10 sınırı aşılmıştır.\",K576-S576,IFERROR(IF(E576=\"\",IF(R576=1,0,IF(K576-R576=0,\"\",K576-R576)),IF(Veriler!I576=\"\",K576,IF(K576*Veriler!I576=0,\"\",K576*Veriler!I576))),K576)),0)","v":""}]
[{"$f":"A576+1","v":423},{"$nulls":4},"",{"$nulls":4},"",{"$f":"IF(K577=\"\", \"\", K577/Veriler!$T$1)","v":""},{"$f":"IF(E577<>\"\", \"İthal Girdi\", IF(Veriler!P577=\"\", \"\", IF(Veriler!O577=\"H\", \"%0,5 üzerindedir\", IF(Veriler!P577>0.1, \"%10 sınırı aşılmıştır.\", \"Uygun\"))))","v":"%0,5 üzerindedir"}," ",null,null,"",{"$f":"IFERROR(IF(L577<=0.005,IF(E577=\"\",K577,0),IF(E577<>\"\",0,IF(O577=\"\",0,IF(O577=\"H\",0,IF(P577<Veriler!$F$2,K577*Veriler!$F$2,K577*P577))))),\" \")","v":0},{"$f":"IF(Veriler!P577<=0.1, R577, IF(AND(Veriler!P577>0.1, E577=\"\", O577=\"E\"), IF(P577>Veriler!$F$2, P577*R577, IF(P577<Veriler!$F$2, Veriler!$F$2*R577, P577*R577)), 0))","v":0}," ",{"$f":"IFERROR(IF(N577=\"%10 sınırı aşılmıştır.\",K577-S577,IFERROR(IF(E577=\"\",IF(R577=1,0,IF(K577-R577=0,\"\",K577-R577)),IF(Veriler!I577=\"\",K577,IF(K577*Veriler!I577=0,\"\",K577*Veriler!I577))),K577)),0)","v":""}]
[424,{"$nulls":4},"",{"$nulls":4},"",{"$f":"IF(K578=\"\", \"\", K578/Veriler!$T$1)","v":""},{"$f":"IF(E578<>\"\", \"İthal Girdi\", IF(Veriler!P578=\"\", \"\", IF(Veriler!O578=\"H\", \"%0,5 üzerindedir\", IF(Veriler!P578>0.1, \"%10 sınırı aşılmıştır.\", \"Uygun\"))))","v":"%0,5 üzerindedir"}," ",null,null,"",{"$f":"IFERROR(IF(L578<=0.005,IF(E578=\"\",K578,0),IF(E578<>\"\",0,IF(O578=\"\",0,IF(O578=\"H\",0,IF(P578<Veriler!$F$2,K578*Veriler!$F$2,K578*P578))))),\" \")","v":0},{"$f":"IF(Veriler!P578<=0.1, R578, IF(AND(Veriler!P578>0.1, E578=\"\", O578=\"E\"), IF(P578>Veriler!$F$2, P578*R578, IF(P578<Veriler!$F$2, Veriler!$F$2*R578, P578*R578)), 0))","v":0}," ",{"$f":"IFERROR(IF(N578=\"%10 sınırı aşılmıştır.\",K578-S578,IFERROR(IF(E578=\"\",IF(R578=1,0,IF(K578-R578=0,\"\",K578-R578)),IF(Veriler!I578=\"\",K578,IF(K578*Veriler!I578=0,\"\",K578*Veriler!I578))),K578)),0)","v":""}]
[425,{"$nulls":4},"",{"$nulls":4},"",{"$f":"IF(K579=\"\", \"\", K579/Veriler!$T$1)","v":""},{"$f":"IF(E579<>\"\", \"İthal Girdi\", IF(Veriler!P579=\"\", \"\", IF(Veriler!O579=\"H\", \"%0,5 üzerindedir\", IF(Veriler!P579>0.1, \"%10 sınırı aşılmıştır.\", \"Uygun\"))))","v":"%0,5 üzerindedir"}," ",null,null,"",{"$f":"IFERROR(IF(L579<=0.005,IF(E579=\"\",K579,0),IF(E579<>\"\",0,IF(O579=\"\",0,IF(O579=\"H\",0,IF(P579<Veriler!$F$2,K579*Veriler!$F$2,K579*P579))))),\" \")","v":0},{"$f":"IF(Veriler!P579<=0.1, R579, IF(AND(Veriler!P579>0.1, E579=\"\", O579=\"E\"), IF(P579>Veriler!$F$2, P579*R579, IF(P579<Veriler!$F$2, Veriler!$F$2*R579, P579*R579)), 0))","v":0}," ",{"$f":"IFERROR(IF(N579=\"%10 sınırı aşılmıştır.\",K579-S579,IFERROR(IF(E579=\"\",IF(R579=1,0,IF(K579-R579=0,\"\",K579-R579)),IF(Veriler!I579=\"\",K579,IF(K579*Veriler!I579=0,\"\",K579*Veriler!I579))),K579)),0)","v":""}]
[426,{"$nulls":4},"",{"$nulls":4},"",{"$f":"IF(K580=\"\", \"\", K580/Veriler!$T$1)","v":""},{"$f":"IF(E580<>\"\", \"İthal Girdi\", IF(Veriler!P580=\"\", \"\", IF(Veriler!O580=\"H\", \"%0,5 üzerindedir\", IF(Veriler!P580>0.1, \"%10 sınırı aşılmıştır.\", \"Uygun\"))))","v":"%0,5 üzerindedir"}," ",null,null,"",{"$f":"IFERROR(IF(L580<=0.005,IF(E580=\"\",K580,0),IF(E580<>\"\",0,IF(O580=\"\",0,IF(O580=\"H\",0,IF(P580<Veriler!$F$2,K580*Veriler!$F$2,K580*P580))))),\" \")","v":0},{"$f":"IF(Veriler!P580<=0.1, R580, IF(AND(Veriler!P580>0.1, E580=\"\", O580=\"E\"), IF(P580>Veriler!$F$2, P580*R580, IF(P580<Veriler!$F$2, Veriler!$F$2*R580, P580*R580)), 0))","v":0}," ",{"$f":"IFERROR(IF(N580=\"%10 sınırı aşılmıştır.\",K580-S580,IFERROR(IF(E580=\"\",IF(R580=1,0,IF(K580-R580=0,\"\",K580-R580)),IF(Veriler!I580=\"\",K580,IF(K580*Veriler!I580=0,\"\",K580*Veriler!I580))),K580)),0)","v":""}]
[427,{"$nulls":4},"",{"$nulls":4},"",{"$f":"IF(K581=\"\", \"\", K581/Veriler!$T$1)","v":""},{"$f":"IF(E581<>\"\", \"İthal Girdi\", IF(Veriler!P581=\"\", \"\", IF(Veriler!O581=\"H\", \"%0,5 üzerindedir\", IF(Veriler!P581>0.1, \"%10 sınırı aşılmıştır.\", \"Uygun\"))))","v":"%0,5 üzerindedir"}," ",null,null,"",{"$f":"IFERROR(IF(L581<=0.005,IF(E581=\"\",K581,0),IF(E581<>\"\",0,IF(O581=\"\",0,IF(O581=\"H\",0,IF(P581<Veriler!$F$2,K581*Veriler!$F$2,K581*P581))))),\" \")","v":0},{"$f":"IF(Veriler!P581<=0.1, R581, IF(AND(Veriler!P581>0.1, E581=\"\", O581=\"E\"), IF(P581>Veriler!$F$2, P581*R581, IF(P581<Veriler!$F$2, Veriler!$F$2*R581, P581*R581)), 0))","v":0}," ",{"$f":"IFERROR(IF(N581=\"%10 sınırı aşılmıştır.\",K581-S581,IFERROR(IF(E581=\"\",IF(R581=1,0,IF(K581-R581=0,\"\",K581-R581)),IF(Veriler!I581=\"\",K581,IF(K581*Veriler!I581=0,\"\",K581*Veriler!I581))),K581)),0)","v":""}]
[428,{"$nulls":4},"",{"$nulls":4},"",{"$f":"IF(K582=\"\", \"\", K582/Veriler!$T$1)","v":""},{"$f":"IF(E582<>\"\", \"İthal Girdi\", IF(Veriler!P582=\"\", \"\", IF(Veriler!O582=\"H\", \"%0,5 üzerindedir\", IF(Veriler!P582>0.1, \"%10 sınırı aşılmıştır.\", \"Uygun\"))))","v":"%0,5 üzerindedir"}," ",null,null,"",{"$f":"IFERROR(IF(L582<=0.005,IF(E582=\"\",K582,0),IF(E582<>\"\",0,IF(O582=\"\",0,IF(O582=\"H\",0,IF(P582<Veriler!$F$2,K582*Veriler!$F$2,K582*P582))))),\" \")","v":0},{"$f":"IF(Veriler!P582<=0.1, R582, IF(AND(Veriler!P582>0.1, E582=\"\", O582=\"E\"), IF(P582>Veriler!$F$2, P582*R582, IF(P582<Veriler!$F$2, Veriler!$F$2*R582, P582*R582)), 0))","v":0}," ",{"$f":"IFERROR(IF(N582=\"%10 sınırı aşılmıştır.\",K582-S582,IFERROR(IF(E582=\"\",IF(R582=1,0,IF(K582-R582=0,\"\",K582-R582)),IF(Veriler!I582=\"\",K582,IF(K582*Veriler!I582=0,\"\",K582*Veriler!I582))),K582)),0)","v":""}]
[429,{"$nulls":4},"",{"$nulls":4},"",{"$f":"IF(K583=\"\", \"\", K583/Veriler!$T$1)","v":""},{"$f":"IF(E583<>\"\", \"İthal Girdi\", IF(Veriler!P583=\"\", \"\", IF(Veriler!O583=\"H\", \"%0,5 üzerindedir\", IF(Veriler!P583>0.1, \"%10 sınırı aşılmıştır.\", \"Uygun\"))))","v":"%0,5 üzerindedir"}," ",null,null,"",{"$f":"IFERROR(IF(L583<=0.005,IF(E583=\"\",K583,0),IF(E583<>\"\",0,IF(O583=\"\",0,IF(O583=\"H\",0,IF(P583<Veriler!$F$2,K583*Veriler!$F$2,K583*P583))))),\" \")","v":0},{"$f":"IF(Veriler!P583<=0.1, R583, IF(AND(Veriler!P583>0.1, E583=\"\", O583=\"E\"), IF(P583>Veriler!$F$2, P583*R583, IF(P583<Veriler!$F$2, Veriler!$F$2*R583, P583*R583)), 0))","v":0}," ",{"$f":"IFERROR(IF(N583=\"%10 sınırı aşılmıştır.\",K583-S583,IFERROR(IF(E583=\"\",IF(R583=1,0,IF(K583-R583=0,\"\",K583-R583)),IF(Veriler!I583=\"\",K583,IF(K583*Veriler!I583=0,\"\",K583*Veriler!I583))),K583)),0)","v":""}]
[430,{"$nulls":4},"",{"$nulls":4},"",{"$f":"IF(K584=\"\", \"\", K584/Veriler!$T$1)","v":""},{"$f":"IF(E584<>\"\", \"İthal Girdi\", IF(Veriler!P584=\"\", \"\", IF(Veriler!O584=\"H\", \"%0,5 üzerindedir\", IF(Veriler!P584>0.1, \"%10 sınırı aşılmıştır.\", \"Uygun\"))))","v":"%0,5 üzerindedir"}," ",null,null,"",{"$f":"IFERROR(IF(L584<=0.005,IF(E584=\"\",K584,0),IF(E584<>\"\",0,IF(O584=\"\",0,IF(O584=\"H\",0,IF(P584<Veriler!$F$2,K584*Veriler!$F$2,K584*P584))))),\" \")","v":0},{"$f":"IF(Veriler!P584<=0.1, R584, IF(AND(Veriler!P584>0.1, E584=\"\", O584=\"E\"), IF(P584>Veriler!$F$2, P584*R584, IF(P584<Veriler!$F$2, Veriler!$F$2*R584, P584*R584)), 0))","v":0}," ",{"$f":"IFERROR(IF(N584=\"%10 sınırı aşılmıştır.\",K584-S584,IFERROR(IF(E584=\"\",IF(R584=1,0,IF(K584-R584=0,\"\",K584-R584)),IF(Veriler!I584=\"\",K584,IF(K584*Veriler!I584=0,\"\",K584*Veriler!I584))),K584)),0)","v":""}]
[431,{"$nulls":4},"",{"$nulls":4},"",{"$f":"IF(K585=\"\", \"\", K585/Veriler!$T$1)","v":""},{"$f":"IF(E585<>\"\", \"İthal Girdi\", IF(Veriler!P585=\"\", \"\", IF(Veriler!O585=\"H\", \"%0,5 üzerindedir\", IF(Veriler!P585>0.1, \"%10 sınırı aşılmıştır.\", \"Uygun\"))))","v":"%0,5 üzerindedir"}," ",null,null,"",{"$f":"IFERROR(IF(L585<=0.005,IF(E585=\"\",K585,0),IF(E585<>\"\",0,IF(O585=\"\",0,IF(O585=\"H\",0,IF(P585<Veriler!$F$2,K585*Veriler!$F$2,K585*P585))))),\" \")","v":0},{"$f":"IF(Veriler!P585<=0.1, R585, IF(AND(Veriler!P585>0.1, E585=\"\", O585=\"E\"), IF(P585>Veriler!$F$2, P585*R585, IF(P585<Veriler!$F$2, Veriler!$F$2*R585, P585*R585)), 0))","v":0}," ",{"$f":"IFERROR(IF(N585=\"%10 sınırı aşılmıştır.\",K585-S585,IFERROR(IF(E585=\"\",IF(R585=1,0,IF(K585-R585=0,\"\",K585-R585)),IF(Veriler!I585=\"\",K585,IF(K585*Veriler!I585=0,\"\",K585*Veriler!I585))),K585)),0)","v":""}]
[432,{"$nulls":4},"",{"$nulls":4},"",{"$f":"IF(K586=\"\", \"\", K586/Veriler!$T$1)","v":""},{"$f":"IF(E586<>\"\", \"İthal Girdi\", IF(Veriler!P586=\"\", \"\", IF(Veriler!O586=\"H\", \"%0,5 üzerindedir\", IF(Veriler!P586>0.1, \"%10 sınırı aşılmıştır.\", \"Uygun\"))))","v":"%0,5 üzerindedir"}," ",null,null,"",{"$f":"IFERROR(IF(L586<=0.005,IF(E586=\"\",K586,0),IF(E586<>\"\",0,IF(O586=\"\",0,IF(O586=\"H\",0,IF(P586<Veriler!$F$2,K586*Veriler!$F$2,K586*P586))))),\" \")","v":0},{"$f":"IF(Veriler!P586<=0.1, R586, IF(AND(Veriler!P586>0.1, E586=\"\", O586=\"E\"), IF(P586>Veriler!$F$2, P586*R586, IF(P586<Veriler!$F$2, Veriler!$F$2*R586, P586*R586)), 0))","v":0}," ",{"$f":"IFERROR(IF(N586=\"%10 sınırı aşılmıştır.\",K586-S586,IFERROR(IF(E586=\"\",IF(R586=1,0,IF(K586-R586=0,\"\",K586-R586)),IF(Veriler!I586=\"\",K586,IF(K586*Veriler!I586=0,\"\",K586*Veriler!I586))),K586)),0)","v":""}]
[433,{"$nulls":4},"",{"$nulls":4},"",{"$f":"IF(K587=\"\", \"\", K587/Veriler!$T$1)","v":""},{"$f":"IF(E587<>\"\", \"İthal Girdi\", IF(Veriler!P587=\"\", \"\", IF(Veriler!O587=\"H\", \"%0,5 üzerindedir\", IF(Veriler!P587>0.1, \"%10 sınırı aşılmıştır.\", \"Uygun\"))))","v":"%0,5 üzerindedir"}," ",null,null,"",{"$f":"IFERROR(IF(L587<=0.005,IF(E587=\"\",K587,0),IF(E587<>\"\",0,IF(O587=\"\",0,IF(O587=\"H\",0,IF(P587<Veriler!$F$2,K587*Veriler!$F$2,K587*P587))))),\" \")","v":0},{"$f":"IF(Veriler!P587<=0.1, R587, IF(AND(Veriler!P587>0.1, E587=\"\", O587=\"E\"), IF(P587>Veriler!$F$2, P587*R587, IF(P587<Veriler!$F$2, Veriler!$F$2*R587, P587*R587)), 0))","v":0}," ",{"$f":"IFERROR(IF(N587=\"%10 sınırı aşılmıştır.\",K587-S587,IFERROR(IF(E587=\"\",IF(R587=1,0,IF(K587-R587=0,\"\",K587-R587)),IF(Veriler!I587=\"\",K587,IF(K587*Veriler!I587=0,\"\",K587*Veriler!I587))),K587)),0)","v":""}]
[434,{"$nulls":4},"",{"$nulls":4},"",{"$f":"IF(K588=\"\", \"\", K588/Veriler!$T$1)","v":""},{"$f":"IF(E588<>\"\", \"İthal Girdi\", IF(Veriler!P588=\"\", \"\", IF(Veriler!O588=\"H\", \"%0,5 üzerindedir\", IF(Veriler!P588>0.1, \"%10 sınırı aşılmıştır.\", \"Uygun\"))))","v":"%0,5 üzerindedir"}," ",null,null,"",{"$f":"IFERROR(IF(L588<=0.005,IF(E588=\"\",K588,0),IF(E588<>\"\",0,IF(O588=\"\",0,IF(O588=\"H\",0,IF(P588<Veriler!$F$2,K588*Veriler!$F$2,K588*P588))))),\" \")","v":0},{"$f":"IF(Veriler!P588<=0.1, R588, IF(AND(Veriler!P588>0.1, E588=\"\", O588=\"E\"), IF(P588>Veriler!$F$2, P588*R588, IF(P588<Veriler!$F$2, Veriler!$F$2*R588, P588*R588)), 0))","v":0}," ",{"$f":"IFERROR(IF(N588=\"%10 sınırı aşılmıştır.\",K588-S588,IFERROR(IF(E588=\"\",IF(R588=1,0,IF(K588-R588=0,\"\",K588-R588)),IF(Veriler!I588=\"\",K588,IF(K588*Veriler!I588=0,\"\",K588*Veriler!I588))),K588)),0)","v":""}]
[null,"Dolaylı"]
[{"$f":"A588+1","v":435},{"$nulls":4},{"$f":"IF(AND(E590<>\"\",U590<>\"\",K590<>0),U590/K590,\"\")","v":""},{"$nulls":4},{"$f":"IF(AND(G590<>0, I590<>0, J590<>0), G590*I590*J590, \"\")","v":""},{"$f":"IF(K590=\"\", \"\", K590/Veriler!$T$1)","v":""},{"$f":"IF(E590<>\"\", \"İthal Girdi\", IF(Veriler!P590=\"\", \"\", IF(Veriler!O590=\"H\", \"%0,5 üzerindedir\", IF(Veriler!P590>0.1, \"%10 sınırı aşılmıştır.\", \"Uygun\"))))","v":"%0,5 üzerindedir"},{"$f":"IF(L590=\"\",\" \",M590)","v":" "},null,null,{"$f":"IFERROR(IF(AND(S590<>\"\",K590<>\"\",K590<>0,S590<>0),S590/K590,\"\"),\" \")","v":""},{"$f":"IFERROR(IF(L590<=0.005,IF(E590=\"\",K590,0),IF(E590<>\"\",0,IF(O590=\"\",0,IF(O590=\"H\",0,IF(P590<Veriler!$F$2,K590*Veriler!$F$2,K590*P590))))),\" \")","v":0},{"$f":"IF(Veriler!P590<=0.1, R590, IF(AND(Veriler!P590>0.1, E590=\"\", O590=\"E\"), IF(P590>Veriler!$F$2, P590*R590, IF(P590<Veriler!$F$2, Veriler!$F$2*R590, P590*R590)), 0))","v":0},{"$f":"IF(S590=0,\" \",S590)","v":" "},{"$f":"IFERROR(IF(N590=\"%10 sınırı aşılmıştır.\",K590-S590,IFERROR(IF(E590=\"\",IF(R590=1,0,IF(K590-R590=0,\"\",K590-R590)),IF(Veriler!I590=\"\",K590,IF(K590*Veriler!I590=0,\"\",K590*Veriler!I590))),K590)),0)","v":""}]
[{"$f":"A590+1","v":436},{"$nulls":4},"",{"$nulls":4},"",{"$f":"IF(K591=\"\", \"\", K591/Veriler!$T$1)","v":""},{"$f":"IF(E591<>\"\", \"İthal Girdi\", IF(Veriler!P591=\"\", \"\", IF(Veriler!O591=\"H\", \"%0,5 üzerindedir\", IF(Veriler!P591>0.1, \"%10 sınırı aşılmıştır.\", \"Uygun\"))))","v":"%0,5 üzerindedir"}," ",null,null,"",{"$f":"IFERROR(IF(L591<=0.005,IF(E591=\"\",K591,0),IF(E591<>\"\",0,IF(O591=\"\",0,IF(O591=\"H\",0,IF(P591<Veriler!$F$2,K591*Veriler!$F$2,K591*P591))))),\" \")","v":0},{"$f":"IF(Veriler!P591<=0.1, R591, IF(AND(Veriler!P591>0.1, E591=\"\", O591=\"E\"), IF(P591>Veriler!$F$2, P591*R591, IF(P591<Veriler!$F$2, Veriler!$F$2*R591, P591*R591)), 0))","v":0}," ",{"$f":"IFERROR(IF(N591=\"%10 sınırı aşılmıştır.\",K591-S591,IFERROR(IF(E591=\"\",IF(R591=1,0,IF(K591-R591=0,\"\",K591-R591)),IF(Veriler!I591=\"\",K591,IF(K591*Veriler!I591=0,\"\",K591*Veriler!I591))),K591)),0)","v":""}]
[{"$f":"A591+1","v":437},{"$nulls":4},"",{"$nulls":4},"",{"$f":"IF(K592=\"\", \"\", K592/Veriler!$T$1)","v":""},{"$f":"IF(E592<>\"\", \"İthal Girdi\", IF(Veriler!P592=\"\", \"\", IF(Veriler!O592=\"H\", \"%0,5 üzerindedir\", IF(Veriler!P592>0.1, \"%10 sınırı aşılmıştır.\", \"Uygun\"))))","v":"%0,5 üzerindedir"}," ",null,null,"",{"$f":"IFERROR(IF(L592<=0.005,IF(E592=\"\",K592,0),IF(E592<>\"\",0,IF(O592=\"\",0,IF(O592=\"H\",0,IF(P592<Veriler!$F$2,K592*Veriler!$F$2,K592*P592))))),\" \")","v":0},{"$f":"IF(Veriler!P592<=0.1, R592, IF(AND(Veriler!P592>0.1, E592=\"\", O592=\"E\"), IF(P592>Veriler!$F$2, P592*R592, IF(P592<Veriler!$F$2, Veriler!$F$2*R592, P592*R592)), 0))","v":0}," ",{"$f":"IFERROR(IF(N592=\"%10 sınırı aşılmıştır.\",K592-S592,IFERROR(IF(E592=\"\",IF(R592=1,0,IF(K592-R592=0,\"\",K592-R592)),IF(Veriler!I592=\"\",K592,IF(K592*Veriler!I592=0,\"\",K592*Veriler!I592))),K592)),0)","v":""}]
[438,{"$nulls":4},"",{"$nulls":4},"",{"$f":"IF(K593=\"\", \"\", K593/Veriler!$T$1)","v":""},{"$f":"IF(E593<>\"\", \"İthal Girdi\", IF(Veriler!P593=\"\", \"\", IF(Veriler!O593=\"H\", \"%0,5 üzerindedir\", IF(Veriler!P593>0.1, \"%10 sınırı aşılmıştır.\", \"Uygun\"))))","v":"%0,5 üzerindedir"}," ",null,null,"",{"$f":"IFERROR(IF(L593<=0.005,IF(E593=\"\",K593,0),IF(E593<>\"\",0,IF(O593=\"\",0,IF(O593=\"H\",0,IF(P593<Veriler!$F$2,K593*Veriler!$F$2,K593*P593))))),\" \")","v":0},{"$f":"IF(Veriler!P593<=0.1, R593, IF(AND(Veriler!P593>0.1, E593=\"\", O593=\"E\"), IF(P593>Veriler!$F$2, P593*R593, IF(P593<Veriler!$F$2, Veriler!$F$2*R593, P593*R593)), 0))","v":0}," ",{"$f":"IFERROR(IF(N593=\"%10 sınırı aşılmıştır.\",K593-S593,IFERROR(IF(E593=\"\",IF(R593=1,0,IF(K593-R593=0,\"\",K593-R593)),IF(Veriler!I593=\"\",K593,IF(K593*Veriler!I593=0,\"\",K593*Veriler!I593))),K593)),0)","v":""}]
[439,{"$nulls":4},"",{"$nulls":4},"",{"$f":"IF(K594=\"\", \"\", K594/Veriler!$T$1)","v":""},{"$f":"IF(E594<>\"\", \"İthal Girdi\", IF(Veriler!P594=\"\", \"\", IF(Veriler!O594=\"H\", \"%0,5 üzerindedir\", IF(Veriler!P594>0.1, \"%10 sınırı aşılmıştır.\", \"Uygun\"))))","v":"%0,5 üzerindedir"}," ",null,null,"",{"$f":"IFERROR(IF(L594<=0.005,IF(E594=\"\",K594,0),IF(E594<>\"\",0,IF(O594=\"\",0,IF(O594=\"H\",0,IF(P594<Veriler!$F$2,K594*Veriler!$F$2,K594*P594))))),\" \")","v":0},{"$f":"IF(Veriler!P594<=0.1, R594, IF(AND(Veriler!P594>0.1, E594=\"\", O594=\"E\"), IF(P594>Veriler!$F$2, P594*R594, IF(P594<Veriler!$F$2, Veriler!$F$2*R594, P594*R594)), 0))","v":0}," ",{"$f":"IFERROR(IF(N594=\"%10 sınırı aşılmıştır.\",K594-S594,IFERROR(IF(E594=\"\",IF(R594=1,0,IF(K594-R594=0,\"\",K594-R594)),IF(Veriler!I594=\"\",K594,IF(K594*Veriler!I594=0,\"\",K594*Veriler!I594))),K594)),0)","v":""}]
[440,{"$nulls":4},"",{"$nulls":4},"",{"$f":"IF(K595=\"\", \"\", K595/Veriler!$T$1)","v":""},{"$f":"IF(E595<>\"\", \"İthal Girdi\", IF(Veriler!P595=\"\", \"\", IF(Veriler!O595=\"H\", \"%0,5 üzerindedir\", IF(Veriler!P595>0.1, \"%10 sınırı aşılmıştır.\", \"Uygun\"))))","v":"%0,5 üzerindedir"}," ",null,null,"",{"$f":"IFERROR(IF(L595<=0.005,IF(E595=\"\",K595,0),IF(E595<>\"\",0,IF(O595=\"\",0,IF(O595=\"H\",0,IF(P595<Veriler!$F$2,K595*Veriler!$F$2,K595*P595))))),\" \")","v":0},{"$f":"IF(Veriler!P595<=0.1, R595, IF(AND(Veriler!P595>0.1, E595=\"\", O595=\"E\"), IF(P595>Veriler!$F$2, P595*R595, IF(P595<Veriler!$F$2, Veriler!$F$2*R595, P595*R595)), 0))","v":0}," ",{"$f":"IFERROR(IF(N595=\"%10 sınırı aşılmıştır.\",K595-S595,IFERROR(IF(E595=\"\",IF(R595=1,0,IF(K595-R595=0,\"\",K595-R595)),IF(Veriler!I595=\"\",K595,IF(K595*Veriler!I595=0,\"\",K595*Veriler!I595))),K595)),0)","v":""}]
[441,{"$nulls":4},"",{"$nulls":4},"",{"$f":"IF(K596=\"\", \"\", K596/Veriler!$T$1)","v":""},{"$f":"IF(E596<>\"\", \"İthal Girdi\", IF(Veriler!P596=\"\", \"\", IF(Veriler!O596=\"H\", \"%0,5 üzerindedir\", IF(Veriler!P596>0.1, \"%10 sınırı aşılmıştır.\", \"Uygun\"))))","v":"%0,5 üzerindedir"}," ",null,null,"",{"$f":"IFERROR(IF(L596<=0.005,IF(E596=\"\",K596,0),IF(E596<>\"\",0,IF(O596=\"\",0,IF(O596=\"H\",0,IF(P596<Veriler!$F$2,K596*Veriler!$F$2,K596*P596))))),\" \")","v":0},{"$f":"IF(Veriler!P596<=0.1, R596, IF(AND(Veriler!P596>0.1, E596=\"\", O596=\"E\"), IF(P596>Veriler!$F$2, P596*R596, IF(P596<Veriler!$F$2, Veriler!$F$2*R596, P596*R596)), 0))","v":0}," ",{"$f":"IFERROR(IF(N596=\"%10 sınırı aşılmıştır.\",K596-S596,IFERROR(IF(E596=\"\",IF(R596=1,0,IF(K596-R596=0,\"\",K596-R596)),IF(Veriler!I596=\"\",K596,IF(K596*Veriler!I596=0,\"\",K596*Veriler!I596))),K596)),0)","v":""}]
[442,{"$nulls":4},"",{"$nulls":4},"",{"$f":"IF(K597=\"\", \"\", K597/Veriler!$T$1)","v":""},{"$f":"IF(E597<>\"\", \"İthal Girdi\", IF(Veriler!P597=\"\", \"\", IF(Veriler!O597=\"H\", \"%0,5 üzerindedir\", IF(Veriler!P597>0.1, \"%10 sınırı aşılmıştır.\", \"Uygun\"))))","v":"%0,5 üzerindedir"}," ",null,null,"",{"$f":"IFERROR(IF(L597<=0.005,IF(E597=\"\",K597,0),IF(E597<>\"\",0,IF(O597=\"\",0,IF(O597=\"H\",0,IF(P597<Veriler!$F$2,K597*Veriler!$F$2,K597*P597))))),\" \")","v":0},{"$f":"IF(Veriler!P597<=0.1, R597, IF(AND(Veriler!P597>0.1, E597=\"\", O597=\"E\"), IF(P597>Veriler!$F$2, P597*R597, IF(P597<Veriler!$F$2, Veriler!$F$2*R597, P597*R597)), 0))","v":0}," ",{"$f":"IFERROR(IF(N597=\"%10 sınırı aşılmıştır.\",K597-S597,IFERROR(IF(E597=\"\",IF(R597=1,0,IF(K597-R597=0,\"\",K597-R597)),IF(Veriler!I597=\"\",K597,IF(K597*Veriler!I597=0,\"\",K597*Veriler!I597))),K597)),0)","v":""}]
[443,{"$nulls":4},"",{"$nulls":4},"",{"$f":"IF(K598=\"\", \"\", K598/Veriler!$T$1)","v":""},{"$f":"IF(E598<>\"\", \"İthal Girdi\", IF(Veriler!P598=\"\", \"\", IF(Veriler!O598=\"H\", \"%0,5 üzerindedir\", IF(Veriler!P598>0.1, \"%10 sınırı aşılmıştır.\", \"Uygun\"))))","v":"%0,5 üzerindedir"}," ",null,null,"",{"$f":"IFERROR(IF(L598<=0.005,IF(E598=\"\",K598,0),IF(E598<>\"\",0,IF(O598=\"\",0,IF(O598=\"H\",0,IF(P598<Veriler!$F$2,K598*Veriler!$F$2,K598*P598))))),\" \")","v":0},{"$f":"IF(Veriler!P598<=0.1, R598, IF(AND(Veriler!P598>0.1, E598=\"\", O598=\"E\"), IF(P598>Veriler!$F$2, P598*R598, IF(P598<Veriler!$F$2, Veriler!$F$2*R598, P598*R598)), 0))","v":0}," ",{"$f":"IFERROR(IF(N598=\"%10 sınırı aşılmıştır.\",K598-S598,IFERROR(IF(E598=\"\",IF(R598=1,0,IF(K598-R598=0,\"\",K598-R598)),IF(Veriler!I598=\"\",K598,IF(K598*Veriler!I598=0,\"\",K598*Veriler!I598))),K598)),0)","v":""}]
[444,{"$nulls":4},"",{"$nulls":4},"",{"$f":"IF(K599=\"\", \"\", K599/Veriler!$T$1)","v":""},{"$f":"IF(E599<>\"\", \"İthal Girdi\", IF(Veriler!P599=\"\", \"\", IF(Veriler!O599=\"H\", \"%0,5 üzerindedir\", IF(Veriler!P599>0.1, \"%10 sınırı aşılmıştır.\", \"Uygun\"))))","v":"%0,5 üzerindedir"}," ",null,null,"",{"$f":"IFERROR(IF(L599<=0.005,IF(E599=\"\",K599,0),IF(E599<>\"\",0,IF(O599=\"\",0,IF(O599=\"H\",0,IF(P599<Veriler!$F$2,K599*Veriler!$F$2,K599*P599))))),\" \")","v":0},{"$f":"IF(Veriler!P599<=0.1, R599, IF(AND(Veriler!P599>0.1, E599=\"\", O599=\"E\"), IF(P599>Veriler!$F$2, P599*R599, IF(P599<Veriler!$F$2, Veriler!$F$2*R599, P599*R599)), 0))","v":0}," ",{"$f":"IFERROR(IF(N599=\"%10 sınırı aşılmıştır.\",K599-S599,IFERROR(IF(E599=\"\",IF(R599=1,0,IF(K599-R599=0,\"\",K599-R599)),IF(Veriler!I599=\"\",K599,IF(K599*Veriler!I599=0,\"\",K599*Veriler!I599))),K599)),0)","v":""}]
[445,{"$nulls":4},"",{"$nulls":4},"",{"$f":"IF(K600=\"\", \"\", K600/Veriler!$T$1)","v":""},{"$f":"IF(E600<>\"\", \"İthal Girdi\", IF(Veriler!P600=\"\", \"\", IF(Veriler!O600=\"H\", \"%0,5 üzerindedir\", IF(Veriler!P600>0.1, \"%10 sınırı aşılmıştır.\", \"Uygun\"))))","v":"%0,5 üzerindedir"}," ",null,null,"",{"$f":"IFERROR(IF(L600<=0.005,IF(E600=\"\",K600,0),IF(E600<>\"\",0,IF(O600=\"\",0,IF(O600=\"H\",0,IF(P600<Veriler!$F$2,K600*Veriler!$F$2,K600*P600))))),\" \")","v":0},{"$f":"IF(Veriler!P600<=0.1, R600, IF(AND(Veriler!P600>0.1, E600=\"\", O600=\"E\"), IF(P600>Veriler!$F$2, P600*R600, IF(P600<Veriler!$F$2, Veriler!$F$2*R600, P600*R600)), 0))","v":0}," ",{"$f":"IFERROR(IF(N600=\"%10 sınırı aşılmıştır.\",K600-S600,IFERROR(IF(E600=\"\",IF(R600=1,0,IF(K600-R600=0,\"\",K600-R600)),IF(Veriler!I600=\"\",K600,IF(K600*Veriler!I600=0,\"\",K600*Veriler!I600))),K600)),0)","v":""}]
[446,{"$nulls":4},"",{"$nulls":4},"",{"$f":"IF(K601=\"\", \"\", K601/Veriler!$T$1)","v":""},{"$f":"IF(E601<>\"\", \"İthal Girdi\", IF(Veriler!P601=\"\", \"\", IF(Veriler!O601=\"H\", \"%0,5 üzerindedir\", IF(Veriler!P601>0.1, \"%10 sınırı aşılmıştır.\", \"Uygun\"))))","v":"%0,5 üzerindedir"}," ",null,null,"",{"$f":"IFERROR(IF(L601<=0.005,IF(E601=\"\",K601,0),IF(E601<>\"\",0,IF(O601=\"\",0,IF(O601=\"H\",0,IF(P601<Veriler!$F$2,K601*Veriler!$F$2,K601*P601))))),\" \")","v":0},{"$f":"IF(Veriler!P601<=0.1, R601, IF(AND(Veriler!P601>0.1, E601=\"\", O601=\"E\"), IF(P601>Veriler!$F$2, P601*R601, IF(P601<Veriler!$F$2, Veriler!$F$2*R601, P601*R601)), 0))","v":0}," ",{"$f":"IFERROR(IF(N601=\"%10 sınırı aşılmıştır.\",K601-S601,IFERROR(IF(E601=\"\",IF(R601=1,0,IF(K601-R601=0,\"\",K601-R601)),IF(Veriler!I601=\"\",K601,IF(K601*Veriler!I601=0,\"\",K601*Veriler!I601))),K601)),0)","v":""}]
[447,{"$nulls":4},"",{"$nulls":4},"",{"$f":"IF(K602=\"\", \"\", K602/Veriler!$T$1)","v":""},{"$f":"IF(E602<>\"\", \"İthal Girdi\", IF(Veriler!P602=\"\", \"\", IF(Veriler!O602=\"H\", \"%0,5 üzerindedir\", IF(Veriler!P602>0.1, \"%10 sınırı aşılmıştır.\", \"Uygun\"))))","v":"%0,5 üzerindedir"}," ",null,null,"",{"$f":"IFERROR(IF(L602<=0.005,IF(E602=\"\",K602,0),IF(E602<>\"\",0,IF(O602=\"\",0,IF(O602=\"H\",0,IF(P602<Veriler!$F$2,K602*Veriler!$F$2,K602*P602))))),\" \")","v":0},{"$f":"IF(Veriler!P602<=0.1, R602, IF(AND(Veriler!P602>0.1, E602=\"\", O602=\"E\"), IF(P602>Veriler!$F$2, P602*R602, IF(P602<Veriler!$F$2, Veriler!$F$2*R602, P602*R602)), 0))","v":0}," ",{"$f":"IFERROR(IF(N602=\"%10 sınırı aşılmıştır.\",K602-S602,IFERROR(IF(E602=\"\",IF(R602=1,0,IF(K602-R602=0,\"\",K602-R602)),IF(Veriler!I602=\"\",K602,IF(K602*Veriler!I602=0,\"\",K602*Veriler!I602))),K602)),0)","v":""}]
[448,{"$nulls":4},"",{"$nulls":4},"",{"$f":"IF(K603=\"\", \"\", K603/Veriler!$T$1)","v":""},{"$f":"IF(E603<>\"\", \"İthal Girdi\", IF(Veriler!P603=\"\", \"\", IF(Veriler!O603=\"H\", \"%0,5 üzerindedir\", IF(Veriler!P603>0.1, \"%10 sınırı aşılmıştır.\", \"Uygun\"))))","v":"%0,5 üzerindedir"}," ",null,null,"",{"$f":"IFERROR(IF(L603<=0.005,IF(E603=\"\",K603,0),IF(E603<>\"\",0,IF(O603=\"\",0,IF(O603=\"H\",0,IF(P603<Veriler!$F$2,K603*Veriler!$F$2,K603*P603))))),\" \")","v":0},{"$f":"IF(Veriler!P603<=0.1, R603, IF(AND(Veriler!P603>0.1, E603=\"\", O603=\"E\"), IF(P603>Veriler!$F$2, P603*R603, IF(P603<Veriler!$F$2, Veriler!$F$2*R603, P603*R603)), 0))","v":0}," ",{"$f":"IFERROR(IF(N603=\"%10 sınırı aşılmıştır.\",K603-S603,IFERROR(IF(E603=\"\",IF(R603=1,0,IF(K603-R603=0,\"\",K603-R603)),IF(Veriler!I603=\"\",K603,IF(K603*Veriler!I603=0,\"\",K603*Veriler!I603))),K603)),0)","v":""}]
[{"$nulls":10},{"$f":"SUM(K575:K588,K590:K603)","v":0}]
[{"$nulls":17},"T1","T1","T1","T2"]
["Sayfa Toplamı (TL)  *(Genel Dip Toplam Ek.3-D sayfasında otomatik hesaplanacaktır.)",{"$nulls":16},{"$f":"IF(SUM(#REF!,R575:R588,R590:R603)=0,\"\",SUM(#REF!,R575:R588,R590:R603))","v":{"$error":"#REF!"}},{"$f":"IF(SUM(S575:S588,S590:S603)=0,\" \",SUM(S575:S588,S590:S603))","v":" "},{"$f":"IF(SUM(T575:T588,T590:T603)=0,\" \",SUM(T575:T588,T590:T603))","v":" "},{"$f":"IF(SUM(U575:U588,U590:U603)=0,\" \",SUM(U575:U588,U590:U603))","v":" "}]
[]
[{"$f":"A646","v":"R02"}]
["YERLİ KATKI ORANI HESAP CETVELİ                      ",{"$nulls":13},false]
["A) Nihai Ürün Doğrudan ve Dolaylı Malzeme Giderleri                                                                                                                                                                                                                                                                                                                                                                                                                                         ",{"$nulls":18},"S",{"$f":"U572+1","v":17}]
["Sıra No","Malzeme adı / Faturadaki Ürün Adı",null,"Üretici Unvanı","GTİP Kodu                             (İthal girdiler için)","Gtip Katsayısı","Miktar ","Birim","Fiyatı \n(TL/Döviz)\n","Döviz Kuru               (TL ise 1 alınız)","Fatura Tutarı (TL)","Girdi Maliyet Yüzdesi (%)","Girdi yüzdesi %0,5 altında olan girdiler için %10 sınır kontrolü","Girdi yüzdesi %0,5 altında olan girdiler için %10 sınır kontrolü","SSB/  Müstahsil                (E/H)","YKO (%) (Manuel girilmeli)","Geçerli Yerli Oranı (%)","Yerli Maliyet Tutarı                            (T1)","Yerli Maliyet Tutarı (T1)","Yerli Maliyet Tutarı (T1)","İthal Maliyet Tutarı               (T2)"]
[null,"Doğrudan Girdi                                                         (Dolaylı girdiniz varsa en son 25. sayfaya doldurunuz)"]
[{"$f":"A603+1","v":449},{"$nulls":4},{"$f":"IF(AND(E613<>\"\",U613<>\"\",K613<>0),U613/K613,\"\")","v":""},{"$nulls":4},{"$f":"IF(AND(G613<>0, I613<>0, J613<>0), G613*I613*J613, \"\")","v":""},{"$f":"IF(K613=\"\", \"\", K613/Veriler!$T$1)","v":""},{"$f":"IF(E613<>\"\", \"İthal Girdi\", IF(Veriler!P613=\"\", \"\", IF(Veriler!O613=\"H\", \"%0,5 üzerindedir\", IF(Veriler!P613>0.1, \"%10 sınırı aşılmıştır.\", \"Uygun\"))))","v":"%0,5 üzerindedir"},{"$f":"IF(L613=\"\",\" \",M613)","v":" "},null,null,{"$f":"IFERROR(IF(AND(S613<>\"\",K613<>\"\",K613<>0,S613<>0),S613/K613,\"\"),\" \")","v":""},{"$f":"IFERROR(IF(L613<=0.005,IF(E613=\"\",K613,0),IF(E613<>\"\",0,IF(O613=\"\",0,IF(O613=\"H\",0,IF(P613<Veriler!$F$2,K613*Veriler!$F$2,K613*P613))))),\" \")","v":0},{"$f":"IF(Veriler!P613<=0.1, R613, IF(AND(Veriler!P613>0.1, E613=\"\", O613=\"E\"), IF(P613>Veriler!$F$2, P613*R613, IF(P613<Veriler!$F$2, Veriler!$F$2*R613, P613*R613)), 0))","v":0},{"$f":"IF(S613=0,\" \",S613)","v":" "},{"$f":"IFERROR(IF(N613=\"%10 sınırı aşılmıştır.\",K613-S613,IFERROR(IF(E613=\"\",IF(R613=1,0,IF(K613-R613=0,\"\",K613-R613)),IF(Veriler!I613=\"\",K613,IF(K613*Veriler!I613=0,\"\",K613*Veriler!I613))),K613)),0)","v":""}]
[{"$f":"A613+1","v":450},{"$nulls":4},"",{"$nulls":4},"",{"$f":"IF(K614=\"\", \"\", K614/Veriler!$T$1)","v":""},{"$f":"IF(E614<>\"\", \"İthal Girdi\", IF(Veriler!P614=\"\", \"\", IF(Veriler!O614=\"H\", \"%0,5 üzerindedir\", IF(Veriler!P614>0.1, \"%10 sınırı aşılmıştır.\", \"Uygun\"))))","v":"%0,5 üzerindedir"}," ",null,null,"",{"$f":"IFERROR(IF(L614<=0.005,IF(E614=\"\",K614,0),IF(E614<>\"\",0,IF(O614=\"\",0,IF(O614=\"H\",0,IF(P614<Veriler!$F$2,K614*Veriler!$F$2,K614*P614))))),\" \")","v":0},{"$f":"IF(Veriler!P614<=0.1, R614, IF(AND(Veriler!P614>0.1, E614=\"\", O614=\"E\"), IF(P614>Veriler!$F$2, P614*R614, IF(P614<Veriler!$F$2, Veriler!$F$2*R614, P614*R614)), 0))","v":0}," ",{"$f":"IFERROR(IF(N614=\"%10 sınırı aşılmıştır.\",K614-S614,IFERROR(IF(E614=\"\",IF(R614=1,0,IF(K614-R614=0,\"\",K614-R614)),IF(Veriler!I614=\"\",K614,IF(K614*Veriler!I614=0,\"\",K614*Veriler!I614))),K614)),0)","v":""}]
[{"$f":"A614+1","v":451},{"$nulls":4},"",{"$nulls":4},"",{"$f":"IF(K615=\"\", \"\", K615/Veriler!$T$1)","v":""},{"$f":"IF(E615<>\"\", \"İthal Girdi\", IF(Veriler!P615=\"\", \"\", IF(Veriler!O615=\"H\", \"%0,5 üzerindedir\", IF(Veriler!P615>0.1, \"%10 sınırı aşılmıştır.\", \"Uygun\"))))","v":"%0,5 üzerindedir"}," ",null,null,"",{"$f":"IFERROR(IF(L615<=0.005,IF(E615=\"\",K615,0),IF(E615<>\"\",0,IF(O615=\"\",0,IF(O615=\"H\",0,IF(P615<Veriler!$F$2,K615*Veriler!$F$2,K615*P615))))),\" \")","v":0},{"$f":"IF(Veriler!P615<=0.1, R615, IF(AND(Veriler!P615>0.1, E615=\"\", O615=\"E\"), IF(P615>Veriler!$F$2, P615*R615, IF(P615<Veriler!$F$2, Veriler!$F$2*R615, P615*R615)), 0))","v":0}," ",{"$f":"IFERROR(IF(N615=\"%10 sınırı aşılmıştır.\",K615-S615,IFERROR(IF(E615=\"\",IF(R615=1,0,IF(K615-R615=0,\"\",K615-R615)),IF(Veriler!I615=\"\",K615,IF(K615*Veriler!I615=0,\"\",K615*Veriler!I615))),K615)),0)","v":""}]
[452,{"$nulls":4},"",{"$nulls":4},"",{"$f":"IF(K616=\"\", \"\", K616/Veriler!$T$1)","v":""},{"$f":"IF(E616<>\"\", \"İthal Girdi\", IF(Veriler!P616=\"\", \"\", IF(Veriler!O616=\"H\", \"%0,5 üzerindedir\", IF(Veriler!P616>0.1, \"%10 sınırı aşılmıştır.\", \"Uygun\"))))","v":"%0,5 üzerindedir"}," ",null,null,"",{"$f":"IFERROR(IF(L616<=0.005,IF(E616=\"\",K616,0),IF(E616<>\"\",0,IF(O616=\"\",0,IF(O616=\"H\",0,IF(P616<Veriler!$F$2,K616*Veriler!$F$2,K616*P616))))),\" \")","v":0},{"$f":"IF(Veriler!P616<=0.1, R616, IF(AND(Veriler!P616>0.1, E616=\"\", O616=\"E\"), IF(P616>Veriler!$F$2, P616*R616, IF(P616<Veriler!$F$2, Veriler!$F$2*R616, P616*R616)), 0))","v":0}," ",{"$f":"IFERROR(IF(N616=\"%10 sınırı aşılmıştır.\",K616-S616,IFERROR(IF(E616=\"\",IF(R616=1,0,IF(K616-R616=0,\"\",K616-R616)),IF(Veriler!I616=\"\",K616,IF(K616*Veriler!I616=0,\"\",K616*Veriler!I616))),K616)),0)","v":""}]
[453,{"$nulls":4},"",{"$nulls":4},"",{"$f":"IF(K617=\"\", \"\", K617/Veriler!$T$1)","v":""},{"$f":"IF(E617<>\"\", \"İthal Girdi\", IF(Veriler!P617=\"\", \"\", IF(Veriler!O617=\"H\", \"%0,5 üzerindedir\", IF(Veriler!P617>0.1, \"%10 sınırı aşılmıştır.\", \"Uygun\"))))","v":"%0,5 üzerindedir"}," ",null,null,"",{"$f":"IFERROR(IF(L617<=0.005,IF(E617=\"\",K617,0),IF(E617<>\"\",0,IF(O617=\"\",0,IF(O617=\"H\",0,IF(P617<Veriler!$F$2,K617*Veriler!$F$2,K617*P617))))),\" \")","v":0},{"$f":"IF(Veriler!P617<=0.1, R617, IF(AND(Veriler!P617>0.1, E617=\"\", O617=\"E\"), IF(P617>Veriler!$F$2, P617*R617, IF(P617<Veriler!$F$2, Veriler!$F$2*R617, P617*R617)), 0))","v":0}," ",{"$f":"IFERROR(IF(N617=\"%10 sınırı aşılmıştır.\",K617-S617,IFERROR(IF(E617=\"\",IF(R617=1,0,IF(K617-R617=0,\"\",K617-R617)),IF(Veriler!I617=\"\",K617,IF(K617*Veriler!I617=0,\"\",K617*Veriler!I617))),K617)),0)","v":""}]
[454,{"$nulls":4},"",{"$nulls":4},"",{"$f":"IF(K618=\"\", \"\", K618/Veriler!$T$1)","v":""},{"$f":"IF(E618<>\"\", \"İthal Girdi\", IF(Veriler!P618=\"\", \"\", IF(Veriler!O618=\"H\", \"%0,5 üzerindedir\", IF(Veriler!P618>0.1, \"%10 sınırı aşılmıştır.\", \"Uygun\"))))","v":"%0,5 üzerindedir"}," ",null,null,"",{"$f":"IFERROR(IF(L618<=0.005,IF(E618=\"\",K618,0),IF(E618<>\"\",0,IF(O618=\"\",0,IF(O618=\"H\",0,IF(P618<Veriler!$F$2,K618*Veriler!$F$2,K618*P618))))),\" \")","v":0},{"$f":"IF(Veriler!P618<=0.1, R618, IF(AND(Veriler!P618>0.1, E618=\"\", O618=\"E\"), IF(P618>Veriler!$F$2, P618*R618, IF(P618<Veriler!$F$2, Veriler!$F$2*R618, P618*R618)), 0))","v":0}," ",{"$f":"IFERROR(IF(N618=\"%10 sınırı aşılmıştır.\",K618-S618,IFERROR(IF(E618=\"\",IF(R618=1,0,IF(K618-R618=0,\"\",K618-R618)),IF(Veriler!I618=\"\",K618,IF(K618*Veriler!I618=0,\"\",K618*Veriler!I618))),K618)),0)","v":""}]
[455,{"$nulls":4},"",{"$nulls":4},"",{"$f":"IF(K619=\"\", \"\", K619/Veriler!$T$1)","v":""},{"$f":"IF(E619<>\"\", \"İthal Girdi\", IF(Veriler!P619=\"\", \"\", IF(Veriler!O619=\"H\", \"%0,5 üzerindedir\", IF(Veriler!P619>0.1, \"%10 sınırı aşılmıştır.\", \"Uygun\"))))","v":"%0,5 üzerindedir"}," ",null,null,"",{"$f":"IFERROR(IF(L619<=0.005,IF(E619=\"\",K619,0),IF(E619<>\"\",0,IF(O619=\"\",0,IF(O619=\"H\",0,IF(P619<Veriler!$F$2,K619*Veriler!$F$2,K619*P619))))),\" \")","v":0},{"$f":"IF(Veriler!P619<=0.1, R619, IF(AND(Veriler!P619>0.1, E619=\"\", O619=\"E\"), IF(P619>Veriler!$F$2, P619*R619, IF(P619<Veriler!$F$2, Veriler!$F$2*R619, P619*R619)), 0))","v":0}," ",{"$f":"IFERROR(IF(N619=\"%10 sınırı aşılmıştır.\",K619-S619,IFERROR(IF(E619=\"\",IF(R619=1,0,IF(K619-R619=0,\"\",K619-R619)),IF(Veriler!I619=\"\",K619,IF(K619*Veriler!I619=0,\"\",K619*Veriler!I619))),K619)),0)","v":""}]
[456,{"$nulls":4},"",{"$nulls":4},"",{"$f":"IF(K620=\"\", \"\", K620/Veriler!$T$1)","v":""},{"$f":"IF(E620<>\"\", \"İthal Girdi\", IF(Veriler!P620=\"\", \"\", IF(Veriler!O620=\"H\", \"%0,5 üzerindedir\", IF(Veriler!P620>0.1, \"%10 sınırı aşılmıştır.\", \"Uygun\"))))","v":"%0,5 üzerindedir"}," ",null,null,"",{"$f":"IFERROR(IF(L620<=0.005,IF(E620=\"\",K620,0),IF(E620<>\"\",0,IF(O620=\"\",0,IF(O620=\"H\",0,IF(P620<Veriler!$F$2,K620*Veriler!$F$2,K620*P620))))),\" \")","v":0},{"$f":"IF(Veriler!P620<=0.1, R620, IF(AND(Veriler!P620>0.1, E620=\"\", O620=\"E\"), IF(P620>Veriler!$F$2, P620*R620, IF(P620<Veriler!$F$2, Veriler!$F$2*R620, P620*R620)), 0))","v":0}," ",{"$f":"IFERROR(IF(N620=\"%10 sınırı aşılmıştır.\",K620-S620,IFERROR(IF(E620=\"\",IF(R620=1,0,IF(K620-R620=0,\"\",K620-R620)),IF(Veriler!I620=\"\",K620,IF(K620*Veriler!I620=0,\"\",K620*Veriler!I620))),K620)),0)","v":""}]
[457,{"$nulls":4},"",{"$nulls":4},"",{"$f":"IF(K621=\"\", \"\", K621/Veriler!$T$1)","v":""},{"$f":"IF(E621<>\"\", \"İthal Girdi\", IF(Veriler!P621=\"\", \"\", IF(Veriler!O621=\"H\", \"%0,5 üzerindedir\", IF(Veriler!P621>0.1, \"%10 sınırı aşılmıştır.\", \"Uygun\"))))","v":"%0,5 üzerindedir"}," ",null,null,"",{"$f":"IFERROR(IF(L621<=0.005,IF(E621=\"\",K621,0),IF(E621<>\"\",0,IF(O621=\"\",0,IF(O621=\"H\",0,IF(P621<Veriler!$F$2,K621*Veriler!$F$2,K621*P621))))),\" \")","v":0},{"$f":"IF(Veriler!P621<=0.1, R621, IF(AND(Veriler!P621>0.1, E621=\"\", O621=\"E\"), IF(P621>Veriler!$F$2, P621*R621, IF(P621<Veriler!$F$2, Veriler!$F$2*R621, P621*R621)), 0))","v":0}," ",{"$f":"IFERROR(IF(N621=\"%10 sınırı aşılmıştır.\",K621-S621,IFERROR(IF(E621=\"\",IF(R621=1,0,IF(K621-R621=0,\"\",K621-R621)),IF(Veriler!I621=\"\",K621,IF(K621*Veriler!I621=0,\"\",K621*Veriler!I621))),K621)),0)","v":""}]
[458,{"$nulls":4},"",{"$nulls":4},"",{"$f":"IF(K622=\"\", \"\", K622/Veriler!$T$1)","v":""},{"$f":"IF(E622<>\"\", \"İthal Girdi\", IF(Veriler!P622=\"\", \"\", IF(Veriler!O622=\"H\", \"%0,5 üzerindedir\", IF(Veriler!P622>0.1, \"%10 sınırı aşılmıştır.\", \"Uygun\"))))","v":"%0,5 üzerindedir"}," ",null,null,"",{"$f":"IFERROR(IF(L622<=0.005,IF(E622=\"\",K622,0),IF(E622<>\"\",0,IF(O622=\"\",0,IF(O622=\"H\",0,IF(P622<Veriler!$F$2,K622*Veriler!$F$2,K622*P622))))),\" \")","v":0},{"$f":"IF(Veriler!P622<=0.1, R622, IF(AND(Veriler!P622>0.1, E622=\"\", O622=\"E\"), IF(P622>Veriler!$F$2, P622*R622, IF(P622<Veriler!$F$2, Veriler!$F$2*R622, P622*R622)), 0))","v":0}," ",{"$f":"IFERROR(IF(N622=\"%10 sınırı aşılmıştır.\",K622-S622,IFERROR(IF(E622=\"\",IF(R622=1,0,IF(K622-R622=0,\"\",K622-R622)),IF(Veriler!I622=\"\",K622,IF(K622*Veriler!I622=0,\"\",K622*Veriler!I622))),K622)),0)","v":""}]
[459,{"$nulls":4},"",{"$nulls":4},"",{"$f":"IF(K623=\"\", \"\", K623/Veriler!$T$1)","v":""},{"$f":"IF(E623<>\"\", \"İthal Girdi\", IF(Veriler!P623=\"\", \"\", IF(Veriler!O623=\"H\", \"%0,5 üzerindedir\", IF(Veriler!P623>0.1, \"%10 sınırı aşılmıştır.\", \"Uygun\"))))","v":"%0,5 üzerindedir"}," ",null,null,"",{"$f":"IFERROR(IF(L623<=0.005,IF(E623=\"\",K623,0),IF(E623<>\"\",0,IF(O623=\"\",0,IF(O623=\"H\",0,IF(P623<Veriler!$F$2,K623*Veriler!$F$2,K623*P623))))),\" \")","v":0},{"$f":"IF(Veriler!P623<=0.1, R623, IF(AND(Veriler!P623>0.1, E623=\"\", O623=\"E\"), IF(P623>Veriler!$F$2, P623*R623, IF(P623<Veriler!$F$2, Veriler!$F$2*R623, P623*R623)), 0))","v":0}," ",{"$f":"IFERROR(IF(N623=\"%10 sınırı aşılmıştır.\",K623-S623,IFERROR(IF(E623=\"\",IF(R623=1,0,IF(K623-R623=0,\"\",K623-R623)),IF(Veriler!I623=\"\",K623,IF(K623*Veriler!I623=0,\"\",K623*Veriler!I623))),K623)),0)","v":""}]
[460,{"$nulls":4},"",{"$nulls":4},"",{"$f":"IF(K624=\"\", \"\", K624/Veriler!$T$1)","v":""},{"$f":"IF(E624<>\"\", \"İthal Girdi\", IF(Veriler!P624=\"\", \"\", IF(Veriler!O624=\"H\", \"%0,5 üzerindedir\", IF(Veriler!P624>0.1, \"%10 sınırı aşılmıştır.\", \"Uygun\"))))","v":"%0,5 üzerindedir"}," ",null,null,"",{"$f":"IFERROR(IF(L624<=0.005,IF(E624=\"\",K624,0),IF(E624<>\"\",0,IF(O624=\"\",0,IF(O624=\"H\",0,IF(P624<Veriler!$F$2,K624*Veriler!$F$2,K624*P624))))),\" \")","v":0},{"$f":"IF(Veriler!P624<=0.1, R624, IF(AND(Veriler!P624>0.1, E624=\"\", O624=\"E\"), IF(P624>Veriler!$F$2, P624*R624, IF(P624<Veriler!$F$2, Veriler!$F$2*R624, P624*R624)), 0))","v":0}," ",{"$f":"IFERROR(IF(N624=\"%10 sınırı aşılmıştır.\",K624-S624,IFERROR(IF(E624=\"\",IF(R624=1,0,IF(K624-R624=0,\"\",K624-R624)),IF(Veriler!I624=\"\",K624,IF(K624*Veriler!I624=0,\"\",K624*Veriler!I624))),K624)),0)","v":""}]
[461,{"$nulls":4},"",{"$nulls":4},"",{"$f":"IF(K625=\"\", \"\", K625/Veriler!$T$1)","v":""},{"$f":"IF(E625<>\"\", \"İthal Girdi\", IF(Veriler!P625=\"\", \"\", IF(Veriler!O625=\"H\", \"%0,5 üzerindedir\", IF(Veriler!P625>0.1, \"%10 sınırı aşılmıştır.\", \"Uygun\"))))","v":"%0,5 üzerindedir"}," ",null,null,"",{"$f":"IFERROR(IF(L625<=0.005,IF(E625=\"\",K625,0),IF(E625<>\"\",0,IF(O625=\"\",0,IF(O625=\"H\",0,IF(P625<Veriler!$F$2,K625*Veriler!$F$2,K625*P625))))),\" \")","v":0},{"$f":"IF(Veriler!P625<=0.1, R625, IF(AND(Veriler!P625>0.1, E625=\"\", O625=\"E\"), IF(P625>Veriler!$F$2, P625*R625, IF(P625<Veriler!$F$2, Veriler!$F$2*R625, P625*R625)), 0))","v":0}," ",{"$f":"IFERROR(IF(N625=\"%10 sınırı aşılmıştır.\",K625-S625,IFERROR(IF(E625=\"\",IF(R625=1,0,IF(K625-R625=0,\"\",K625-R625)),IF(Veriler!I625=\"\",K625,IF(K625*Veriler!I625=0,\"\",K625*Veriler!I625))),K625)),0)","v":""}]
[462,{"$nulls":4},"",{"$nulls":4},"",{"$f":"IF(K626=\"\", \"\", K626/Veriler!$T$1)","v":""},{"$f":"IF(E626<>\"\", \"İthal Girdi\", IF(Veriler!P626=\"\", \"\", IF(Veriler!O626=\"H\", \"%0,5 üzerindedir\", IF(Veriler!P626>0.1, \"%10 sınırı aşılmıştır.\", \"Uygun\"))))","v":"%0,5 üzerindedir"}," ",null,null,"",{"$f":"IFERROR(IF(L626<=0.005,IF(E626=\"\",K626,0),IF(E626<>\"\",0,IF(O626=\"\",0,IF(O626=\"H\",0,IF(P626<Veriler!$F$2,K626*Veriler!$F$2,K626*P626))))),\" \")","v":0},{"$f":"IF(Veriler!P626<=0.1, R626, IF(AND(Veriler!P626>0.1, E626=\"\", O626=\"E\"), IF(P626>Veriler!$F$2, P626*R626, IF(P626<Veriler!$F$2, Veriler!$F$2*R626, P626*R626)), 0))","v":0}," ",{"$f":"IFERROR(IF(N626=\"%10 sınırı aşılmıştır.\",K626-S626,IFERROR(IF(E626=\"\",IF(R626=1,0,IF(K626-R626=0,\"\",K626-R626)),IF(Veriler!I626=\"\",K626,IF(K626*Veriler!I626=0,\"\",K626*Veriler!I626))),K626)),0)","v":""}]
[null,"Dolaylı"]
[{"$f":"A626+1","v":463},{"$nulls":4},{"$f":"IF(AND(E628<>\"\",U628<>\"\",K628<>0),U628/K628,\"\")","v":""},{"$nulls":4},{"$f":"IF(AND(G628<>0, I628<>0, J628<>0), G628*I628*J628, \"\")","v":""},{"$f":"IF(K628=\"\", \"\", K628/Veriler!$T$1)","v":""},{"$f":"IF(E628<>\"\", \"İthal Girdi\", IF(Veriler!P628=\"\", \"\", IF(Veriler!O628=\"H\", \"%0,5 üzerindedir\", IF(Veriler!P628>0.1, \"%10 sınırı aşılmıştır.\", \"Uygun\"))))","v":"%0,5 üzerindedir"},{"$f":"IF(L628=\"\",\" \",M628)","v":" "},null,null,{"$f":"IFERROR(IF(AND(S628<>\"\",K628<>\"\",K628<>0,S628<>0),S628/K628,\"\"),\" \")","v":""},{"$f":"IFERROR(IF(L628<=0.005,IF(E628=\"\",K628,0),IF(E628<>\"\",0,IF(O628=\"\",0,IF(O628=\"H\",0,IF(P628<Veriler!$F$2,K628*Veriler!$F$2,K628*P628))))),\" \")","v":0},{"$f":"IF(Veriler!P628<=0.1, R628, IF(AND(Veriler!P628>0.1, E628=\"\", O628=\"E\"), IF(P628>Veriler!$F$2, P628*R628, IF(P628<Veriler!$F$2, Veriler!$F$2*R628, P628*R628)), 0))","v":0},{"$f":"IF(S628=0,\" \",S628)","v":" "},{"$f":"IFERROR(IF(N628=\"%10 sınırı aşılmıştır.\",K628-S628,IFERROR(IF(E628=\"\",IF(R628=1,0,IF(K628-R628=0,\"\",K628-R628)),IF(Veriler!I628=\"\",K628,IF(K628*Veriler!I628=0,\"\",K628*Veriler!I628))),K628)),0)","v":""}]
[{"$f":"A628+1","v":464},{"$nulls":4},"",{"$nulls":4},"",{"$f":"IF(K629=\"\", \"\", K629/Veriler!$T$1)","v":""},{"$f":"IF(E629<>\"\", \"İthal Girdi\", IF(Veriler!P629=\"\", \"\", IF(Veriler!O629=\"H\", \"%0,5 üzerindedir\", IF(Veriler!P629>0.1, \"%10 sınırı aşılmıştır.\", \"Uygun\"))))","v":"%0,5 üzerindedir"}," ",null,null,"",{"$f":"IFERROR(IF(L629<=0.005,IF(E629=\"\",K629,0),IF(E629<>\"\",0,IF(O629=\"\",0,IF(O629=\"H\",0,IF(P629<Veriler!$F$2,K629*Veriler!$F$2,K629*P629))))),\" \")","v":0},{"$f":"IF(Veriler!P629<=0.1, R629, IF(AND(Veriler!P629>0.1, E629=\"\", O629=\"E\"), IF(P629>Veriler!$F$2, P629*R629, IF(P629<Veriler!$F$2, Veriler!$F$2*R629, P629*R629)), 0))","v":0}," ",{"$f":"IFERROR(IF(N629=\"%10 sınırı aşılmıştır.\",K629-S629,IFERROR(IF(E629=\"\",IF(R629=1,0,IF(K629-R629=0,\"\",K629-R629)),IF(Veriler!I629=\"\",K629,IF(K629*Veriler!I629=0,\"\",K629*Veriler!I629))),K629)),0)","v":""}]
[{"$f":"A629+1","v":465},{"$nulls":4},"",{"$nulls":4},"",{"$f":"IF(K630=\"\", \"\", K630/Veriler!$T$1)","v":""},{"$f":"IF(E630<>\"\", \"İthal Girdi\", IF(Veriler!P630=\"\", \"\", IF(Veriler!O630=\"H\", \"%0,5 üzerindedir\", IF(Veriler!P630>0.1, \"%10 sınırı aşılmıştır.\", \"Uygun\"))))","v":"%0,5 üzerindedir"}," ",null,null,"",{"$f":"IFERROR(IF(L630<=0.005,IF(E630=\"\",K630,0),IF(E630<>\"\",0,IF(O630=\"\",0,IF(O630=\"H\",0,IF(P630<Veriler!$F$2,K630*Veriler!$F$2,K630*P630))))),\" \")","v":0},{"$f":"IF(Veriler!P630<=0.1, R630, IF(AND(Veriler!P630>0.1, E630=\"\", O630=\"E\"), IF(P630>Veriler!$F$2, P630*R630, IF(P630<Veriler!$F$2, Veriler!$F$2*R630, P630*R630)), 0))","v":0}," ",{"$f":"IFERROR(IF(N630=\"%10 sınırı aşılmıştır.\",K630-S630,IFERROR(IF(E630=\"\",IF(R630=1,0,IF(K630-R630=0,\"\",K630-R630)),IF(Veriler!I630=\"\",K630,IF(K630*Veriler!I630=0,\"\",K630*Veriler!I630))),K630)),0)","v":""}]
[466,{"$nulls":4},"",{"$nulls":4},"",{"$f":"IF(K631=\"\", \"\", K631/Veriler!$T$1)","v":""},{"$f":"IF(E631<>\"\", \"İthal Girdi\", IF(Veriler!P631=\"\", \"\", IF(Veriler!O631=\"H\", \"%0,5 üzerindedir\", IF(Veriler!P631>0.1, \"%10 sınırı aşılmıştır.\", \"Uygun\"))))","v":"%0,5 üzerindedir"}," ",null,null,"",{"$f":"IFERROR(IF(L631<=0.005,IF(E631=\"\",K631,0),IF(E631<>\"\",0,IF(O631=\"\",0,IF(O631=\"H\",0,IF(P631<Veriler!$F$2,K631*Veriler!$F$2,K631*P631))))),\" \")","v":0},{"$f":"IF(Veriler!P631<=0.1, R631, IF(AND(Veriler!P631>0.1, E631=\"\", O631=\"E\"), IF(P631>Veriler!$F$2, P631*R631, IF(P631<Veriler!$F$2, Veriler!$F$2*R631, P631*R631)), 0))","v":0}," ",{"$f":"IFERROR(IF(N631=\"%10 sınırı aşılmıştır.\",K631-S631,IFERROR(IF(E631=\"\",IF(R631=1,0,IF(K631-R631=0,\"\",K631-R631)),IF(Veriler!I631=\"\",K631,IF(K631*Veriler!I631=0,\"\",K631*Veriler!I631))),K631)),0)","v":""}]
[467,{"$nulls":4},"",{"$nulls":4},"",{"$f":"IF(K632=\"\", \"\", K632/Veriler!$T$1)","v":""},{"$f":"IF(E632<>\"\", \"İthal Girdi\", IF(Veriler!P632=\"\", \"\", IF(Veriler!O632=\"H\", \"%0,5 üzerindedir\", IF(Veriler!P632>0.1, \"%10 sınırı aşılmıştır.\", \"Uygun\"))))","v":"%0,5 üzerindedir"}," ",null,null,"",{"$f":"IFERROR(IF(L632<=0.005,IF(E632=\"\",K632,0),IF(E632<>\"\",0,IF(O632=\"\",0,IF(O632=\"H\",0,IF(P632<Veriler!$F$2,K632*Veriler!$F$2,K632*P632))))),\" \")","v":0},{"$f":"IF(Veriler!P632<=0.1, R632, IF(AND(Veriler!P632>0.1, E632=\"\", O632=\"E\"), IF(P632>Veriler!$F$2, P632*R632, IF(P632<Veriler!$F$2, Veriler!$F$2*R632, P632*R632)), 0))","v":0}," ",{"$f":"IFERROR(IF(N632=\"%10 sınırı aşılmıştır.\",K632-S632,IFERROR(IF(E632=\"\",IF(R632=1,0,IF(K632-R632=0,\"\",K632-R632)),IF(Veriler!I632=\"\",K632,IF(K632*Veriler!I632=0,\"\",K632*Veriler!I632))),K632)),0)","v":""}]
[468,{"$nulls":4},"",{"$nulls":4},"",{"$f":"IF(K633=\"\", \"\", K633/Veriler!$T$1)","v":""},{"$f":"IF(E633<>\"\", \"İthal Girdi\", IF(Veriler!P633=\"\", \"\", IF(Veriler!O633=\"H\", \"%0,5 üzerindedir\", IF(Veriler!P633>0.1, \"%10 sınırı aşılmıştır.\", \"Uygun\"))))","v":"%0,5 üzerindedir"}," ",null,null,"",{"$f":"IFERROR(IF(L633<=0.005,IF(E633=\"\",K633,0),IF(E633<>\"\",0,IF(O633=\"\",0,IF(O633=\"H\",0,IF(P633<Veriler!$F$2,K633*Veriler!$F$2,K633*P633))))),\" \")","v":0},{"$f":"IF(Veriler!P633<=0.1, R633, IF(AND(Veriler!P633>0.1, E633=\"\", O633=\"E\"), IF(P633>Veriler!$F$2, P633*R633, IF(P633<Veriler!$F$2, Veriler!$F$2*R633, P633*R633)), 0))","v":0}," ",{"$f":"IFERROR(IF(N633=\"%10 sınırı aşılmıştır.\",K633-S633,IFERROR(IF(E633=\"\",IF(R633=1,0,IF(K633-R633=0,\"\",K633-R633)),IF(Veriler!I633=\"\",K633,IF(K633*Veriler!I633=0,\"\",K633*Veriler!I633))),K633)),0)","v":""}]
[469,{"$nulls":4},"",{"$nulls":4},"",{"$f":"IF(K634=\"\", \"\", K634/Veriler!$T$1)","v":""},{"$f":"IF(E634<>\"\", \"İthal Girdi\", IF(Veriler!P634=\"\", \"\", IF(Veriler!O634=\"H\", \"%0,5 üzerindedir\", IF(Veriler!P634>0.1, \"%10 sınırı aşılmıştır.\", \"Uygun\"))))","v":"%0,5 üzerindedir"}," ",null,null,"",{"$f":"IFERROR(IF(L634<=0.005,IF(E634=\"\",K634,0),IF(E634<>\"\",0,IF(O634=\"\",0,IF(O634=\"H\",0,IF(P634<Veriler!$F$2,K634*Veriler!$F$2,K634*P634))))),\" \")","v":0},{"$f":"IF(Veriler!P634<=0.1, R634, IF(AND(Veriler!P634>0.1, E634=\"\", O634=\"E\"), IF(P634>Veriler!$F$2, P634*R634, IF(P634<Veriler!$F$2, Veriler!$F$2*R634, P634*R634)), 0))","v":0}," ",{"$f":"IFERROR(IF(N634=\"%10 sınırı aşılmıştır.\",K634-S634,IFERROR(IF(E634=\"\",IF(R634=1,0,IF(K634-R634=0,\"\",K634-R634)),IF(Veriler!I634=\"\",K634,IF(K634*Veriler!I634=0,\"\",K634*Veriler!I634))),K634)),0)","v":""}]
[470,{"$nulls":4},"",{"$nulls":4},"",{"$f":"IF(K635=\"\", \"\", K635/Veriler!$T$1)","v":""},{"$f":"IF(E635<>\"\", \"İthal Girdi\", IF(Veriler!P635=\"\", \"\", IF(Veriler!O635=\"H\", \"%0,5 üzerindedir\", IF(Veriler!P635>0.1, \"%10 sınırı aşılmıştır.\", \"Uygun\"))))","v":"%0,5 üzerindedir"}," ",null,null,"",{"$f":"IFERROR(IF(L635<=0.005,IF(E635=\"\",K635,0),IF(E635<>\"\",0,IF(O635=\"\",0,IF(O635=\"H\",0,IF(P635<Veriler!$F$2,K635*Veriler!$F$2,K635*P635))))),\" \")","v":0},{"$f":"IF(Veriler!P635<=0.1, R635, IF(AND(Veriler!P635>0.1, E635=\"\", O635=\"E\"), IF(P635>Veriler!$F$2, P635*R635, IF(P635<Veriler!$F$2, Veriler!$F$2*R635, P635*R635)), 0))","v":0}," ",{"$f":"IFERROR(IF(N635=\"%10 sınırı aşılmıştır.\",K635-S635,IFERROR(IF(E635=\"\",IF(R635=1,0,IF(K635-R635=0,\"\",K635-R635)),IF(Veriler!I635=\"\",K635,IF(K635*Veriler!I635=0,\"\",K635*Veriler!I635))),K635)),0)","v":""}]
[471,{"$nulls":4},"",{"$nulls":4},"",{"$f":"IF(K636=\"\", \"\", K636/Veriler!$T$1)","v":""},{"$f":"IF(E636<>\"\", \"İthal Girdi\", IF(Veriler!P636=\"\", \"\", IF(Veriler!O636=\"H\", \"%0,5 üzerindedir\", IF(Veriler!P636>0.1, \"%10 sınırı aşılmıştır.\", \"Uygun\"))))","v":"%0,5 üzerindedir"}," ",null,null,"",{"$f":"IFERROR(IF(L636<=0.005,IF(E636=\"\",K636,0),IF(E636<>\"\",0,IF(O636=\"\",0,IF(O636=\"H\",0,IF(P636<Veriler!$F$2,K636*Veriler!$F$2,K636*P636))))),\" \")","v":0},{"$f":"IF(Veriler!P636<=0.1, R636, IF(AND(Veriler!P636>0.1, E636=\"\", O636=\"E\"), IF(P636>Veriler!$F$2, P636*R636, IF(P636<Veriler!$F$2, Veriler!$F$2*R636, P636*R636)), 0))","v":0}," ",{"$f":"IFERROR(IF(N636=\"%10 sınırı aşılmıştır.\",K636-S636,IFERROR(IF(E636=\"\",IF(R636=1,0,IF(K636-R636=0,\"\",K636-R636)),IF(Veriler!I636=\"\",K636,IF(K636*Veriler!I636=0,\"\",K636*Veriler!I636))),K636)),0)","v":""}]
[472,{"$nulls":4},"",{"$nulls":4},"",{"$f":"IF(K637=\"\", \"\", K637/Veriler!$T$1)","v":""},{"$f":"IF(E637<>\"\", \"İthal Girdi\", IF(Veriler!P637=\"\", \"\", IF(Veriler!O637=\"H\", \"%0,5 üzerindedir\", IF(Veriler!P637>0.1, \"%10 sınırı aşılmıştır.\", \"Uygun\"))))","v":"%0,5 üzerindedir"}," ",null,null,"",{"$f":"IFERROR(IF(L637<=0.005,IF(E637=\"\",K637,0),IF(E637<>\"\",0,IF(O637=\"\",0,IF(O637=\"H\",0,IF(P637<Veriler!$F$2,K637*Veriler!$F$2,K637*P637))))),\" \")","v":0},{"$f":"IF(Veriler!P637<=0.1, R637, IF(AND(Veriler!P637>0.1, E637=\"\", O637=\"E\"), IF(P637>Veriler!$F$2, P637*R637, IF(P637<Veriler!$F$2, Veriler!$F$2*R637, P637*R637)), 0))","v":0}," ",{"$f":"IFERROR(IF(N637=\"%10 sınırı aşılmıştır.\",K637-S637,IFERROR(IF(E637=\"\",IF(R637=1,0,IF(K637-R637=0,\"\",K637-R637)),IF(Veriler!I637=\"\",K637,IF(K637*Veriler!I637=0,\"\",K637*Veriler!I637))),K637)),0)","v":""}]
[473,{"$nulls":4},"",{"$nulls":4},"",{"$f":"IF(K638=\"\", \"\", K638/Veriler!$T$1)","v":""},{"$f":"IF(E638<>\"\", \"İthal Girdi\", IF(Veriler!P638=\"\", \"\", IF(Veriler!O638=\"H\", \"%0,5 üzerindedir\", IF(Veriler!P638>0.1, \"%10 sınırı aşılmıştır.\", \"Uygun\"))))","v":"%0,5 üzerindedir"}," ",null,null,"",{"$f":"IFERROR(IF(L638<=0.005,IF(E638=\"\",K638,0),IF(E638<>\"\",0,IF(O638=\"\",0,IF(O638=\"H\",0,IF(P638<Veriler!$F$2,K638*Veriler!$F$2,K638*P638))))),\" \")","v":0},{"$f":"IF(Veriler!P638<=0.1, R638, IF(AND(Veriler!P638>0.1, E638=\"\", O638=\"E\"), IF(P638>Veriler!$F$2, P638*R638, IF(P638<Veriler!$F$2, Veriler!$F$2*R638, P638*R638)), 0))","v":0}," ",{"$f":"IFERROR(IF(N638=\"%10 sınırı aşılmıştır.\",K638-S638,IFERROR(IF(E638=\"\",IF(R638=1,0,IF(K638-R638=0,\"\",K638-R638)),IF(Veriler!I638=\"\",K638,IF(K638*Veriler!I638=0,\"\",K638*Veriler!I638))),K638)),0)","v":""}]
[474,{"$nulls":4},"",{"$nulls":4},"",{"$f":"IF(K639=\"\", \"\", K639/Veriler!$T$1)","v":""},{"$f":"IF(E639<>\"\", \"İthal Girdi\", IF(Veriler!P639=\"\", \"\", IF(Veriler!O639=\"H\", \"%0,5 üzerindedir\", IF(Veriler!P639>0.1, \"%10 sınırı aşılmıştır.\", \"Uygun\"))))","v":"%0,5 üzerindedir"}," ",null,null,"",{"$f":"IFERROR(IF(L639<=0.005,IF(E639=\"\",K639,0),IF(E639<>\"\",0,IF(O639=\"\",0,IF(O639=\"H\",0,IF(P639<Veriler!$F$2,K639*Veriler!$F$2,K639*P639))))),\" \")","v":0},{"$f":"IF(Veriler!P639<=0.1, R639, IF(AND(Veriler!P639>0.1, E639=\"\", O639=\"E\"), IF(P639>Veriler!$F$2, P639*R639, IF(P639<Veriler!$F$2, Veriler!$F$2*R639, P639*R639)), 0))","v":0}," ",{"$f":"IFERROR(IF(N639=\"%10 sınırı aşılmıştır.\",K639-S639,IFERROR(IF(E639=\"\",IF(R639=1,0,IF(K639-R639=0,\"\",K639-R639)),IF(Veriler!I639=\"\",K639,IF(K639*Veriler!I639=0,\"\",K639*Veriler!I639))),K639)),0)","v":""}]
[475,{"$nulls":4},"",{"$nulls":4},"",{"$f":"IF(K640=\"\", \"\", K640/Veriler!$T$1)","v":""},{"$f":"IF(E640<>\"\", \"İthal Girdi\", IF(Veriler!P640=\"\", \"\", IF(Veriler!O640=\"H\", \"%0,5 üzerindedir\", IF(Veriler!P640>0.1, \"%10 sınırı aşılmıştır.\", \"Uygun\"))))","v":"%0,5 üzerindedir"}," ",null,null,"",{"$f":"IFERROR(IF(L640<=0.005,IF(E640=\"\",K640,0),IF(E640<>\"\",0,IF(O640=\"\",0,IF(O640=\"H\",0,IF(P640<Veriler!$F$2,K640*Veriler!$F$2,K640*P640))))),\" \")","v":0},{"$f":"IF(Veriler!P640<=0.1, R640, IF(AND(Veriler!P640>0.1, E640=\"\", O640=\"E\"), IF(P640>Veriler!$F$2, P640*R640, IF(P640<Veriler!$F$2, Veriler!$F$2*R640, P640*R640)), 0))","v":0}," ",{"$f":"IFERROR(IF(N640=\"%10 sınırı aşılmıştır.\",K640-S640,IFERROR(IF(E640=\"\",IF(R640=1,0,IF(K640-R640=0,\"\",K640-R640)),IF(Veriler!I640=\"\",K640,IF(K640*Veriler!I640=0,\"\",K640*Veriler!I640))),K640)),0)","v":""}]
[476,{"$nulls":4},"",{"$nulls":4},"",{"$f":"IF(K641=\"\", \"\", K641/Veriler!$T$1)","v":""},{"$f":"IF(E641<>\"\", \"İthal Girdi\", IF(Veriler!P641=\"\", \"\", IF(Veriler!O641=\"H\", \"%0,5 üzerindedir\", IF(Veriler!P641>0.1, \"%10 sınırı aşılmıştır.\", \"Uygun\"))))","v":"%0,5 üzerindedir"}," ",null,null,"",{"$f":"IFERROR(IF(L641<=0.005,IF(E641=\"\",K641,0),IF(E641<>\"\",0,IF(O641=\"\",0,IF(O641=\"H\",0,IF(P641<Veriler!$F$2,K641*Veriler!$F$2,K641*P641))))),\" \")","v":0},{"$f":"IF(Veriler!P641<=0.1, R641, IF(AND(Veriler!P641>0.1, E641=\"\", O641=\"E\"), IF(P641>Veriler!$F$2, P641*R641, IF(P641<Veriler!$F$2, Veriler!$F$2*R641, P641*R641)), 0))","v":0}," ",{"$f":"IFERROR(IF(N641=\"%10 sınırı aşılmıştır.\",K641-S641,IFERROR(IF(E641=\"\",IF(R641=1,0,IF(K641-R641=0,\"\",K641-R641)),IF(Veriler!I641=\"\",K641,IF(K641*Veriler!I641=0,\"\",K641*Veriler!I641))),K641)),0)","v":""}]
[{"$nulls":10},{"$f":"SUM(K613:K626,K628:K641)","v":0}]
[{"$nulls":17},"T1","T1","T1","T2"]
["Sayfa Toplamı (TL)  *(Genel Dip Toplam Ek.3-D sayfasında otomatik hesaplanacaktır.)",{"$nulls":16},{"$f":"IF(SUM(#REF!,R613:R626,R628:R641)=0,\"\",SUM(#REF!,R613:R626,R628:R641))","v":{"$error":"#REF!"}},{"$f":"IF(SUM(S613:S626,S628:S641)=0,\" \",SUM(S613:S626,S628:S641))","v":" "},{"$f":"IF(SUM(T613:T626,T628:T641)=0,\" \",SUM(T613:T626,T628:T641))","v":" "},{"$f":"IF(SUM(U613:U626,U628:U641)=0,\" \",SUM(U613:U626,U628:U641))","v":" "}]
[]
[{"$f":"A684","v":"R02"}]
["YERLİ KATKI ORANI HESAP CETVELİ                      ",{"$nulls":13},false]
["A) Nihai Ürün Doğrudan ve Dolaylı Malzeme Giderleri                                                                                                                                                                                                                                                                                                                                                                                                                                         ",{"$nulls":18},"S",{"$f":"U610+1","v":18}]
["Sıra No","Malzeme adı / Faturadaki Ürün Adı",null,"Üretici Unvanı","GTİP Kodu                             (İthal girdiler için)","Gtip Katsayısı","Miktar ","Birim","Fiyatı \n(TL/Döviz)\n","Döviz Kuru               (TL ise 1 alınız)","Fatura Tutarı (TL)","Girdi Maliyet Yüzdesi (%)","Girdi yüzdesi %0,5 altında olan girdiler için %10 sınır kontrolü","Girdi yüzdesi %0,5 altında olan girdiler için %10 sınır kontrolü","SSB/  Müstahsil                (E/H)","YKO (%) (Manuel girilmeli)","Geçerli Yerli Oranı (%)","Yerli Maliyet Tutarı                            (T1)","Yerli Maliyet Tutarı (T1)","Yerli Maliyet Tutarı (T1)","İthal Maliyet Tutarı               (T2)"]
[null,"Doğrudan Girdi                                                         (Dolaylı girdiniz varsa en son 25. sayfaya doldurunuz)"]
[{"$f":"A641+1","v":477},{"$nulls":4},{"$f":"IF(AND(E651<>\"\",U651<>\"\",K651<>0),U651/K651,\"\")","v":""},{"$nulls":4},{"$f":"IF(AND(G651<>0, I651<>0, J651<>0), G651*I651*J651, \"\")","v":""},{"$f":"IF(K651=\"\", \"\", K651/Veriler!$T$1)","v":""},{"$f":"IF(E651<>\"\", \"İthal Girdi\", IF(Veriler!P651=\"\", \"\", IF(Veriler!O651=\"H\", \"%0,5 üzerindedir\", IF(Veriler!P651>0.1, \"%10 sınırı aşılmıştır.\", \"Uygun\"))))","v":"%0,5 üzerindedir"},{"$f":"IF(L651=\"\",\" \",M651)","v":" "},null,null,{"$f":"IFERROR(IF(AND(S651<>\"\",K651<>\"\",K651<>0,S651<>0),S651/K651,\"\"),\" \")","v":""},{"$f":"IFERROR(IF(L651<=0.005,IF(E651=\"\",K651,0),IF(E651<>\"\",0,IF(O651=\"\",0,IF(O651=\"H\",0,IF(P651<Veriler!$F$2,K651*Veriler!$F$2,K651*P651))))),\" \")","v":0},{"$f":"IF(Veriler!P651<=0.1, R651, IF(AND(Veriler!P651>0.1, E651=\"\", O651=\"E\"), IF(P651>Veriler!$F$2, P651*R651, IF(P651<Veriler!$F$2, Veriler!$F$2*R651, P651*R651)), 0))","v":0},{"$f":"IF(S651=0,\" \",S651)","v":" "},{"$f":"IFERROR(IF(N651=\"%10 sınırı aşılmıştır.\",K651-S651,IFERROR(IF(E651=\"\",IF(R651=1,0,IF(K651-R651=0,\"\",K651-R651)),IF(Veriler!I651=\"\",K651,IF(K651*Veriler!I651=0,\"\",K651*Veriler!I651))),K651)),0)","v":""}]
[{"$f":"A651+1","v":478},{"$nulls":4},"",{"$nulls":4},"",{"$f":"IF(K652=\"\", \"\", K652/Veriler!$T$1)","v":""},{"$f":"IF(E652<>\"\", \"İthal Girdi\", IF(Veriler!P652=\"\", \"\", IF(Veriler!O652=\"H\", \"%0,5 üzerindedir\", IF(Veriler!P652>0.1, \"%10 sınırı aşılmıştır.\", \"Uygun\"))))","v":"%0,5 üzerindedir"}," ",null,null,"",{"$f":"IFERROR(IF(L652<=0.005,IF(E652=\"\",K652,0),IF(E652<>\"\",0,IF(O652=\"\",0,IF(O652=\"H\",0,IF(P652<Veriler!$F$2,K652*Veriler!$F$2,K652*P652))))),\" \")","v":0},{"$f":"IF(Veriler!P652<=0.1, R652, IF(AND(Veriler!P652>0.1, E652=\"\", O652=\"E\"), IF(P652>Veriler!$F$2, P652*R652, IF(P652<Veriler!$F$2, Veriler!$F$2*R652, P652*R652)), 0))","v":0}," ",{"$f":"IFERROR(IF(N652=\"%10 sınırı aşılmıştır.\",K652-S652,IFERROR(IF(E652=\"\",IF(R652=1,0,IF(K652-R652=0,\"\",K652-R652)),IF(Veriler!I652=\"\",K652,IF(K652*Veriler!I652=0,\"\",K652*Veriler!I652))),K652)),0)","v":""}]
[{"$f":"A652+1","v":479},{"$nulls":4},"",{"$nulls":4},"",{"$f":"IF(K653=\"\", \"\", K653/Veriler!$T$1)","v":""},{"$f":"IF(E653<>\"\", \"İthal Girdi\", IF(Veriler!P653=\"\", \"\", IF(Veriler!O653=\"H\", \"%0,5 üzerindedir\", IF(Veriler!P653>0.1, \"%10 sınırı aşılmıştır.\", \"Uygun\"))))","v":"%0,5 üzerindedir"}," ",null,null,"",{"$f":"IFERROR(IF(L653<=0.005,IF(E653=\"\",K653,0),IF(E653<>\"\",0,IF(O653=\"\",0,IF(O653=\"H\",0,IF(P653<Veriler!$F$2,K653*Veriler!$F$2,K653*P653))))),\" \")","v":0},{"$f":"IF(Veriler!P653<=0.1, R653, IF(AND(Veriler!P653>0.1, E653=\"\", O653=\"E\"), IF(P653>Veriler!$F$2, P653*R653, IF(P653<Veriler!$F$2, Veriler!$F$2*R653, P653*R653)), 0))","v":0}," ",{"$f":"IFERROR(IF(N653=\"%10 sınırı aşılmıştır.\",K653-S653,IFERROR(IF(E653=\"\",IF(R653=1,0,IF(K653-R653=0,\"\",K653-R653)),IF(Veriler!I653=\"\",K653,IF(K653*Veriler!I653=0,\"\",K653*Veriler!I653))),K653)),0)","v":""}]
[480,{"$nulls":4},"",{"$nulls":4},"",{"$f":"IF(K654=\"\", \"\", K654/Veriler!$T$1)","v":""},{"$f":"IF(E654<>\"\", \"İthal Girdi\", IF(Veriler!P654=\"\", \"\", IF(Veriler!O654=\"H\", \"%0,5 üzerindedir\", IF(Veriler!P654>0.1, \"%10 sınırı aşılmıştır.\", \"Uygun\"))))","v":"%0,5 üzerindedir"}," ",null,null,"",{"$f":"IFERROR(IF(L654<=0.005,IF(E654=\"\",K654,0),IF(E654<>\"\",0,IF(O654=\"\",0,IF(O654=\"H\",0,IF(P654<Veriler!$F$2,K654*Veriler!$F$2,K654*P654))))),\" \")","v":0},{"$f":"IF(Veriler!P654<=0.1, R654, IF(AND(Veriler!P654>0.1, E654=\"\", O654=\"E\"), IF(P654>Veriler!$F$2, P654*R654, IF(P654<Veriler!$F$2, Veriler!$F$2*R654, P654*R654)), 0))","v":0}," ",{"$f":"IFERROR(IF(N654=\"%10 sınırı aşılmıştır.\",K654-S654,IFERROR(IF(E654=\"\",IF(R654=1,0,IF(K654-R654=0,\"\",K654-R654)),IF(Veriler!I654=\"\",K654,IF(K654*Veriler!I654=0,\"\",K654*Veriler!I654))),K654)),0)","v":""}]
[481,{"$nulls":4},"",{"$nulls":4},"",{"$f":"IF(K655=\"\", \"\", K655/Veriler!$T$1)","v":""},{"$f":"IF(E655<>\"\", \"İthal Girdi\", IF(Veriler!P655=\"\", \"\", IF(Veriler!O655=\"H\", \"%0,5 üzerindedir\", IF(Veriler!P655>0.1, \"%10 sınırı aşılmıştır.\", \"Uygun\"))))","v":"%0,5 üzerindedir"}," ",null,null,"",{"$f":"IFERROR(IF(L655<=0.005,IF(E655=\"\",K655,0),IF(E655<>\"\",0,IF(O655=\"\",0,IF(O655=\"H\",0,IF(P655<Veriler!$F$2,K655*Veriler!$F$2,K655*P655))))),\" \")","v":0},{"$f":"IF(Veriler!P655<=0.1, R655, IF(AND(Veriler!P655>0.1, E655=\"\", O655=\"E\"), IF(P655>Veriler!$F$2, P655*R655, IF(P655<Veriler!$F$2, Veriler!$F$2*R655, P655*R655)), 0))","v":0}," ",{"$f":"IFERROR(IF(N655=\"%10 sınırı aşılmıştır.\",K655-S655,IFERROR(IF(E655=\"\",IF(R655=1,0,IF(K655-R655=0,\"\",K655-R655)),IF(Veriler!I655=\"\",K655,IF(K655*Veriler!I655=0,\"\",K655*Veriler!I655))),K655)),0)","v":""}]
[482,{"$nulls":4},"",{"$nulls":4},"",{"$f":"IF(K656=\"\", \"\", K656/Veriler!$T$1)","v":""},{"$f":"IF(E656<>\"\", \"İthal Girdi\", IF(Veriler!P656=\"\", \"\", IF(Veriler!O656=\"H\", \"%0,5 üzerindedir\", IF(Veriler!P656>0.1, \"%10 sınırı aşılmıştır.\", \"Uygun\"))))","v":"%0,5 üzerindedir"}," ",null,null,"",{"$f":"IFERROR(IF(L656<=0.005,IF(E656=\"\",K656,0),IF(E656<>\"\",0,IF(O656=\"\",0,IF(O656=\"H\",0,IF(P656<Veriler!$F$2,K656*Veriler!$F$2,K656*P656))))),\" \")","v":0},{"$f":"IF(Veriler!P656<=0.1, R656, IF(AND(Veriler!P656>0.1, E656=\"\", O656=\"E\"), IF(P656>Veriler!$F$2, P656*R656, IF(P656<Veriler!$F$2, Veriler!$F$2*R656, P656*R656)), 0))","v":0}," ",{"$f":"IFERROR(IF(N656=\"%10 sınırı aşılmıştır.\",K656-S656,IFERROR(IF(E656=\"\",IF(R656=1,0,IF(K656-R656=0,\"\",K656-R656)),IF(Veriler!I656=\"\",K656,IF(K656*Veriler!I656=0,\"\",K656*Veriler!I656))),K656)),0)","v":""}]
[483,{"$nulls":4},"",{"$nulls":4},"",{"$f":"IF(K657=\"\", \"\", K657/Veriler!$T$1)","v":""},{"$f":"IF(E657<>\"\", \"İthal Girdi\", IF(Veriler!P657=\"\", \"\", IF(Veriler!O657=\"H\", \"%0,5 üzerindedir\", IF(Veriler!P657>0.1, \"%10 sınırı aşılmıştır.\", \"Uygun\"))))","v":"%0,5 üzerindedir"}," ",null,null,"",{"$f":"IFERROR(IF(L657<=0.005,IF(E657=\"\",K657,0),IF(E657<>\"\",0,IF(O657=\"\",0,IF(O657=\"H\",0,IF(P657<Veriler!$F$2,K657*Veriler!$F$2,K657*P657))))),\" \")","v":0},{"$f":"IF(Veriler!P657<=0.1, R657, IF(AND(Veriler!P657>0.1, E657=\"\", O657=\"E\"), IF(P657>Veriler!$F$2, P657*R657, IF(P657<Veriler!$F$2, Veriler!$F$2*R657, P657*R657)), 0))","v":0}," ",{"$f":"IFERROR(IF(N657=\"%10 sınırı aşılmıştır.\",K657-S657,IFERROR(IF(E657=\"\",IF(R657=1,0,IF(K657-R657=0,\"\",K657-R657)),IF(Veriler!I657=\"\",K657,IF(K657*Veriler!I657=0,\"\",K657*Veriler!I657))),K657)),0)","v":""}]
[484,{"$nulls":4},"",{"$nulls":4},"",{"$f":"IF(K658=\"\", \"\", K658/Veriler!$T$1)","v":""},{"$f":"IF(E658<>\"\", \"İthal Girdi\", IF(Veriler!P658=\"\", \"\", IF(Veriler!O658=\"H\", \"%0,5 üzerindedir\", IF(Veriler!P658>0.1, \"%10 sınırı aşılmıştır.\", \"Uygun\"))))","v":"%0,5 üzerindedir"}," ",null,null,"",{"$f":"IFERROR(IF(L658<=0.005,IF(E658=\"\",K658,0),IF(E658<>\"\",0,IF(O658=\"\",0,IF(O658=\"H\",0,IF(P658<Veriler!$F$2,K658*Veriler!$F$2,K658*P658))))),\" \")","v":0},{"$f":"IF(Veriler!P658<=0.1, R658, IF(AND(Veriler!P658>0.1, E658=\"\", O658=\"E\"), IF(P658>Veriler!$F$2, P658*R658, IF(P658<Veriler!$F$2, Veriler!$F$2*R658, P658*R658)), 0))","v":0}," ",{"$f":"IFERROR(IF(N658=\"%10 sınırı aşılmıştır.\",K658-S658,IFERROR(IF(E658=\"\",IF(R658=1,0,IF(K658-R658=0,\"\",K658-R658)),IF(Veriler!I658=\"\",K658,IF(K658*Veriler!I658=0,\"\",K658*Veriler!I658))),K658)),0)","v":""}]
[485,{"$nulls":4},"",{"$nulls":4},"",{"$f":"IF(K659=\"\", \"\", K659/Veriler!$T$1)","v":""},{"$f":"IF(E659<>\"\", \"İthal Girdi\", IF(Veriler!P659=\"\", \"\", IF(Veriler!O659=\"H\", \"%0,5 üzerindedir\", IF(Veriler!P659>0.1, \"%10 sınırı aşılmıştır.\", \"Uygun\"))))","v":"%0,5 üzerindedir"}," ",null,null,"",{"$f":"IFERROR(IF(L659<=0.005,IF(E659=\"\",K659,0),IF(E659<>\"\",0,IF(O659=\"\",0,IF(O659=\"H\",0,IF(P659<Veriler!$F$2,K659*Veriler!$F$2,K659*P659))))),\" \")","v":0},{"$f":"IF(Veriler!P659<=0.1, R659, IF(AND(Veriler!P659>0.1, E659=\"\", O659=\"E\"), IF(P659>Veriler!$F$2, P659*R659, IF(P659<Veriler!$F$2, Veriler!$F$2*R659, P659*R659)), 0))","v":0}," ",{"$f":"IFERROR(IF(N659=\"%10 sınırı aşılmıştır.\",K659-S659,IFERROR(IF(E659=\"\",IF(R659=1,0,IF(K659-R659=0,\"\",K659-R659)),IF(Veriler!I659=\"\",K659,IF(K659*Veriler!I659=0,\"\",K659*Veriler!I659))),K659)),0)","v":""}]
[486,{"$nulls":4},"",{"$nulls":4},"",{"$f":"IF(K660=\"\", \"\", K660/Veriler!$T$1)","v":""},{"$f":"IF(E660<>\"\", \"İthal Girdi\", IF(Veriler!P660=\"\", \"\", IF(Veriler!O660=\"H\", \"%0,5 üzerindedir\", IF(Veriler!P660>0.1, \"%10 sınırı aşılmıştır.\", \"Uygun\"))))","v":"%0,5 üzerindedir"}," ",null,null,"",{"$f":"IFERROR(IF(L660<=0.005,IF(E660=\"\",K660,0),IF(E660<>\"\",0,IF(O660=\"\",0,IF(O660=\"H\",0,IF(P660<Veriler!$F$2,K660*Veriler!$F$2,K660*P660))))),\" \")","v":0},{"$f":"IF(Veriler!P660<=0.1, R660, IF(AND(Veriler!P660>0.1, E660=\"\", O660=\"E\"), IF(P660>Veriler!$F$2, P660*R660, IF(P660<Veriler!$F$2, Veriler!$F$2*R660, P660*R660)), 0))","v":0}," ",{"$f":"IFERROR(IF(N660=\"%10 sınırı aşılmıştır.\",K660-S660,IFERROR(IF(E660=\"\",IF(R660=1,0,IF(K660-R660=0,\"\",K660-R660)),IF(Veriler!I660=\"\",K660,IF(K660*Veriler!I660=0,\"\",K660*Veriler!I660))),K660)),0)","v":""}]
[487,{"$nulls":4},"",{"$nulls":4},"",{"$f":"IF(K661=\"\", \"\", K661/Veriler!$T$1)","v":""},{"$f":"IF(E661<>\"\", \"İthal Girdi\", IF(Veriler!P661=\"\", \"\", IF(Veriler!O661=\"H\", \"%0,5 üzerindedir\", IF(Veriler!P661>0.1, \"%10 sınırı aşılmıştır.\", \"Uygun\"))))","v":"%0,5 üzerindedir"}," ",null,null,"",{"$f":"IFERROR(IF(L661<=0.005,IF(E661=\"\",K661,0),IF(E661<>\"\",0,IF(O661=\"\",0,IF(O661=\"H\",0,IF(P661<Veriler!$F$2,K661*Veriler!$F$2,K661*P661))))),\" \")","v":0},{"$f":"IF(Veriler!P661<=0.1, R661, IF(AND(Veriler!P661>0.1, E661=\"\", O661=\"E\"), IF(P661>Veriler!$F$2, P661*R661, IF(P661<Veriler!$F$2, Veriler!$F$2*R661, P661*R661)), 0))","v":0}," ",{"$f":"IFERROR(IF(N661=\"%10 sınırı aşılmıştır.\",K661-S661,IFERROR(IF(E661=\"\",IF(R661=1,0,IF(K661-R661=0,\"\",K661-R661)),IF(Veriler!I661=\"\",K661,IF(K661*Veriler!I661=0,\"\",K661*Veriler!I661))),K661)),0)","v":""}]
[488,{"$nulls":4},"",{"$nulls":4},"",{"$f":"IF(K662=\"\", \"\", K662/Veriler!$T$1)","v":""},{"$f":"IF(E662<>\"\", \"İthal Girdi\", IF(Veriler!P662=\"\", \"\", IF(Veriler!O662=\"H\", \"%0,5 üzerindedir\", IF(Veriler!P662>0.1, \"%10 sınırı aşılmıştır.\", \"Uygun\"))))","v":"%0,5 üzerindedir"}," ",null,null,"",{"$f":"IFERROR(IF(L662<=0.005,IF(E662=\"\",K662,0),IF(E662<>\"\",0,IF(O662=\"\",0,IF(O662=\"H\",0,IF(P662<Veriler!$F$2,K662*Veriler!$F$2,K662*P662))))),\" \")","v":0},{"$f":"IF(Veriler!P662<=0.1, R662, IF(AND(Veriler!P662>0.1, E662=\"\", O662=\"E\"), IF(P662>Veriler!$F$2, P662*R662, IF(P662<Veriler!$F$2, Veriler!$F$2*R662, P662*R662)), 0))","v":0}," ",{"$f":"IFERROR(IF(N662=\"%10 sınırı aşılmıştır.\",K662-S662,IFERROR(IF(E662=\"\",IF(R662=1,0,IF(K662-R662=0,\"\",K662-R662)),IF(Veriler!I662=\"\",K662,IF(K662*Veriler!I662=0,\"\",K662*Veriler!I662))),K662)),0)","v":""}]
[489,{"$nulls":4},"",{"$nulls":4},"",{"$f":"IF(K663=\"\", \"\", K663/Veriler!$T$1)","v":""},{"$f":"IF(E663<>\"\", \"İthal Girdi\", IF(Veriler!P663=\"\", \"\", IF(Veriler!O663=\"H\", \"%0,5 üzerindedir\", IF(Veriler!P663>0.1, \"%10 sınırı aşılmıştır.\", \"Uygun\"))))","v":"%0,5 üzerindedir"}," ",null,null,"",{"$f":"IFERROR(IF(L663<=0.005,IF(E663=\"\",K663,0),IF(E663<>\"\",0,IF(O663=\"\",0,IF(O663=\"H\",0,IF(P663<Veriler!$F$2,K663*Veriler!$F$2,K663*P663))))),\" \")","v":0},{"$f":"IF(Veriler!P663<=0.1, R663, IF(AND(Veriler!P663>0.1, E663=\"\", O663=\"E\"), IF(P663>Veriler!$F$2, P663*R663, IF(P663<Veriler!$F$2, Veriler!$F$2*R663, P663*R663)), 0))","v":0}," ",{"$f":"IFERROR(IF(N663=\"%10 sınırı aşılmıştır.\",K663-S663,IFERROR(IF(E663=\"\",IF(R663=1,0,IF(K663-R663=0,\"\",K663-R663)),IF(Veriler!I663=\"\",K663,IF(K663*Veriler!I663=0,\"\",K663*Veriler!I663))),K663)),0)","v":""}]
[490,{"$nulls":4},"",{"$nulls":4},"",{"$f":"IF(K664=\"\", \"\", K664/Veriler!$T$1)","v":""},{"$f":"IF(E664<>\"\", \"İthal Girdi\", IF(Veriler!P664=\"\", \"\", IF(Veriler!O664=\"H\", \"%0,5 üzerindedir\", IF(Veriler!P664>0.1, \"%10 sınırı aşılmıştır.\", \"Uygun\"))))","v":"%0,5 üzerindedir"}," ",null,null,"",{"$f":"IFERROR(IF(L664<=0.005,IF(E664=\"\",K664,0),IF(E664<>\"\",0,IF(O664=\"\",0,IF(O664=\"H\",0,IF(P664<Veriler!$F$2,K664*Veriler!$F$2,K664*P664))))),\" \")","v":0},{"$f":"IF(Veriler!P664<=0.1, R664, IF(AND(Veriler!P664>0.1, E664=\"\", O664=\"E\"), IF(P664>Veriler!$F$2, P664*R664, IF(P664<Veriler!$F$2, Veriler!$F$2*R664, P664*R664)), 0))","v":0}," ",{"$f":"IFERROR(IF(N664=\"%10 sınırı aşılmıştır.\",K664-S664,IFERROR(IF(E664=\"\",IF(R664=1,0,IF(K664-R664=0,\"\",K664-R664)),IF(Veriler!I664=\"\",K664,IF(K664*Veriler!I664=0,\"\",K664*Veriler!I664))),K664)),0)","v":""}]
[null,"Dolaylı"]
[{"$f":"A664+1","v":491},{"$nulls":4},{"$f":"IF(AND(E666<>\"\",U666<>\"\",K666<>0),U666/K666,\"\")","v":""},{"$nulls":4},{"$f":"IF(AND(G666<>0, I666<>0, J666<>0), G666*I666*J666, \"\")","v":""},{"$f":"IF(K666=\"\", \"\", K666/Veriler!$T$1)","v":""},{"$f":"IF(E666<>\"\", \"İthal Girdi\", IF(Veriler!P666=\"\", \"\", IF(Veriler!O666=\"H\", \"%0,5 üzerindedir\", IF(Veriler!P666>0.1, \"%10 sınırı aşılmıştır.\", \"Uygun\"))))","v":"%0,5 üzerindedir"},{"$f":"IF(L666=\"\",\" \",M666)","v":" "},null,null,{"$f":"IFERROR(IF(AND(S666<>\"\",K666<>\"\",K666<>0,S666<>0),S666/K666,\"\"),\" \")","v":""},{"$f":"IFERROR(IF(L666<=0.005,IF(E666=\"\",K666,0),IF(E666<>\"\",0,IF(O666=\"\",0,IF(O666=\"H\",0,IF(P666<Veriler!$F$2,K666*Veriler!$F$2,K666*P666))))),\" \")","v":0},{"$f":"IF(Veriler!P666<=0.1, R666, IF(AND(Veriler!P666>0.1, E666=\"\", O666=\"E\"), IF(P666>Veriler!$F$2, P666*R666, IF(P666<Veriler!$F$2, Veriler!$F$2*R666, P666*R666)), 0))","v":0},{"$f":"IF(S666=0,\" \",S666)","v":" "},{"$f":"IFERROR(IF(N666=\"%10 sınırı aşılmıştır.\",K666-S666,IFERROR(IF(E666=\"\",IF(R666=1,0,IF(K666-R666=0,\"\",K666-R666)),IF(Veriler!I666=\"\",K666,IF(K666*Veriler!I666=0,\"\",K666*Veriler!I666))),K666)),0)","v":""}]
[{"$f":"A666+1","v":492},{"$nulls":4},"",{"$nulls":4},"",{"$f":"IF(K667=\"\", \"\", K667/Veriler!$T$1)","v":""},{"$f":"IF(E667<>\"\", \"İthal Girdi\", IF(Veriler!P667=\"\", \"\", IF(Veriler!O667=\"H\", \"%0,5 üzerindedir\", IF(Veriler!P667>0.1, \"%10 sınırı aşılmıştır.\", \"Uygun\"))))","v":"%0,5 üzerindedir"}," ",null,null,"",{"$f":"IFERROR(IF(L667<=0.005,IF(E667=\"\",K667,0),IF(E667<>\"\",0,IF(O667=\"\",0,IF(O667=\"H\",0,IF(P667<Veriler!$F$2,K667*Veriler!$F$2,K667*P667))))),\" \")","v":0},{"$f":"IF(Veriler!P667<=0.1, R667, IF(AND(Veriler!P667>0.1, E667=\"\", O667=\"E\"), IF(P667>Veriler!$F$2, P667*R667, IF(P667<Veriler!$F$2, Veriler!$F$2*R667, P667*R667)), 0))","v":0}," ",{"$f":"IFERROR(IF(N667=\"%10 sınırı aşılmıştır.\",K667-S667,IFERROR(IF(E667=\"\",IF(R667=1,0,IF(K667-R667=0,\"\",K667-R667)),IF(Veriler!I667=\"\",K667,IF(K667*Veriler!I667=0,\"\",K667*Veriler!I667))),K667)),0)","v":""}]
[{"$f":"A667+1","v":493},{"$nulls":4},"",{"$nulls":4},"",{"$f":"IF(K668=\"\", \"\", K668/Veriler!$T$1)","v":""},{"$f":"IF(E668<>\"\", \"İthal Girdi\", IF(Veriler!P668=\"\", \"\", IF(Veriler!O668=\"H\", \"%0,5 üzerindedir\", IF(Veriler!P668>0.1, \"%10 sınırı aşılmıştır.\", \"Uygun\"))))","v":"%0,5 üzerindedir"}," ",null,null,"",{"$f":"IFERROR(IF(L668<=0.005,IF(E668=\"\",K668,0),IF(E668<>\"\",0,IF(O668=\"\",0,IF(O668=\"H\",0,IF(P668<Veriler!$F$2,K668*Veriler!$F$2,K668*P668))))),\" \")","v":0},{"$f":"IF(Veriler!P668<=0.1, R668, IF(AND(Veriler!P668>0.1, E668=\"\", O668=\"E\"), IF(P668>Veriler!$F$2, P668*R668, IF(P668<Veriler!$F$2, Veriler!$F$2*R668, P668*R668)), 0))","v":0}," ",{"$f":"IFERROR(IF(N668=\"%10 sınırı aşılmıştır.\",K668-S668,IFERROR(IF(E668=\"\",IF(R668=1,0,IF(K668-R668=0,\"\",K668-R668)),IF(Veriler!I668=\"\",K668,IF(K668*Veriler!I668=0,\"\",K668*Veriler!I668))),K668)),0)","v":""}]
[494,{"$nulls":4},"",{"$nulls":4},"",{"$f":"IF(K669=\"\", \"\", K669/Veriler!$T$1)","v":""},{"$f":"IF(E669<>\"\", \"İthal Girdi\", IF(Veriler!P669=\"\", \"\", IF(Veriler!O669=\"H\", \"%0,5 üzerindedir\", IF(Veriler!P669>0.1, \"%10 sınırı aşılmıştır.\", \"Uygun\"))))","v":"%0,5 üzerindedir"}," ",null,null,"",{"$f":"IFERROR(IF(L669<=0.005,IF(E669=\"\",K669,0),IF(E669<>\"\",0,IF(O669=\"\",0,IF(O669=\"H\",0,IF(P669<Veriler!$F$2,K669*Veriler!$F$2,K669*P669))))),\" \")","v":0},{"$f":"IF(Veriler!P669<=0.1, R669, IF(AND(Veriler!P669>0.1, E669=\"\", O669=\"E\"), IF(P669>Veriler!$F$2, P669*R669, IF(P669<Veriler!$F$2, Veriler!$F$2*R669, P669*R669)), 0))","v":0}," ",{"$f":"IFERROR(IF(N669=\"%10 sınırı aşılmıştır.\",K669-S669,IFERROR(IF(E669=\"\",IF(R669=1,0,IF(K669-R669=0,\"\",K669-R669)),IF(Veriler!I669=\"\",K669,IF(K669*Veriler!I669=0,\"\",K669*Veriler!I669))),K669)),0)","v":""}]
[495,{"$nulls":4},"",{"$nulls":4},"",{"$f":"IF(K670=\"\", \"\", K670/Veriler!$T$1)","v":""},{"$f":"IF(E670<>\"\", \"İthal Girdi\", IF(Veriler!P670=\"\", \"\", IF(Veriler!O670=\"H\", \"%0,5 üzerindedir\", IF(Veriler!P670>0.1, \"%10 sınırı aşılmıştır.\", \"Uygun\"))))","v":"%0,5 üzerindedir"}," ",null,null,"",{"$f":"IFERROR(IF(L670<=0.005,IF(E670=\"\",K670,0),IF(E670<>\"\",0,IF(O670=\"\",0,IF(O670=\"H\",0,IF(P670<Veriler!$F$2,K670*Veriler!$F$2,K670*P670))))),\" \")","v":0},{"$f":"IF(Veriler!P670<=0.1, R670, IF(AND(Veriler!P670>0.1, E670=\"\", O670=\"E\"), IF(P670>Veriler!$F$2, P670*R670, IF(P670<Veriler!$F$2, Veriler!$F$2*R670, P670*R670)), 0))","v":0}," ",{"$f":"IFERROR(IF(N670=\"%10 sınırı aşılmıştır.\",K670-S670,IFERROR(IF(E670=\"\",IF(R670=1,0,IF(K670-R670=0,\"\",K670-R670)),IF(Veriler!I670=\"\",K670,IF(K670*Veriler!I670=0,\"\",K670*Veriler!I670))),K670)),0)","v":""}]
[496,{"$nulls":4},"",{"$nulls":4},"",{"$f":"IF(K671=\"\", \"\", K671/Veriler!$T$1)","v":""},{"$f":"IF(E671<>\"\", \"İthal Girdi\", IF(Veriler!P671=\"\", \"\", IF(Veriler!O671=\"H\", \"%0,5 üzerindedir\", IF(Veriler!P671>0.1, \"%10 sınırı aşılmıştır.\", \"Uygun\"))))","v":"%0,5 üzerindedir"}," ",null,null,"",{"$f":"IFERROR(IF(L671<=0.005,IF(E671=\"\",K671,0),IF(E671<>\"\",0,IF(O671=\"\",0,IF(O671=\"H\",0,IF(P671<Veriler!$F$2,K671*Veriler!$F$2,K671*P671))))),\" \")","v":0},{"$f":"IF(Veriler!P671<=0.1, R671, IF(AND(Veriler!P671>0.1, E671=\"\", O671=\"E\"), IF(P671>Veriler!$F$2, P671*R671, IF(P671<Veriler!$F$2, Veriler!$F$2*R671, P671*R671)), 0))","v":0}," ",{"$f":"IFERROR(IF(N671=\"%10 sınırı aşılmıştır.\",K671-S671,IFERROR(IF(E671=\"\",IF(R671=1,0,IF(K671-R671=0,\"\",K671-R671)),IF(Veriler!I671=\"\",K671,IF(K671*Veriler!I671=0,\"\",K671*Veriler!I671))),K671)),0)","v":""}]
[497,{"$nulls":4},"",{"$nulls":4},"",{"$f":"IF(K672=\"\", \"\", K672/Veriler!$T$1)","v":""},{"$f":"IF(E672<>\"\", \"İthal Girdi\", IF(Veriler!P672=\"\", \"\", IF(Veriler!O672=\"H\", \"%0,5 üzerindedir\", IF(Veriler!P672>0.1, \"%10 sınırı aşılmıştır.\", \"Uygun\"))))","v":"%0,5 üzerindedir"}," ",null,null,"",{"$f":"IFERROR(IF(L672<=0.005,IF(E672=\"\",K672,0),IF(E672<>\"\",0,IF(O672=\"\",0,IF(O672=\"H\",0,IF(P672<Veriler!$F$2,K672*Veriler!$F$2,K672*P672))))),\" \")","v":0},{"$f":"IF(Veriler!P672<=0.1, R672, IF(AND(Veriler!P672>0.1, E672=\"\", O672=\"E\"), IF(P672>Veriler!$F$2, P672*R672, IF(P672<Veriler!$F$2, Veriler!$F$2*R672, P672*R672)), 0))","v":0}," ",{"$f":"IFERROR(IF(N672=\"%10 sınırı aşılmıştır.\",K672-S672,IFERROR(IF(E672=\"\",IF(R672=1,0,IF(K672-R672=0,\"\",K672-R672)),IF(Veriler!I672=\"\",K672,IF(K672*Veriler!I672=0,\"\",K672*Veriler!I672))),K672)),0)","v":""}]
[498,{"$nulls":4},"",{"$nulls":4},"",{"$f":"IF(K673=\"\", \"\", K673/Veriler!$T$1)","v":""},{"$f":"IF(E673<>\"\", \"İthal Girdi\", IF(Veriler!P673=\"\", \"\", IF(Veriler!O673=\"H\", \"%0,5 üzerindedir\", IF(Veriler!P673>0.1, \"%10 sınırı aşılmıştır.\", \"Uygun\"))))","v":"%0,5 üzerindedir"}," ",null,null,"",{"$f":"IFERROR(IF(L673<=0.005,IF(E673=\"\",K673,0),IF(E673<>\"\",0,IF(O673=\"\",0,IF(O673=\"H\",0,IF(P673<Veriler!$F$2,K673*Veriler!$F$2,K673*P673))))),\" \")","v":0},{"$f":"IF(Veriler!P673<=0.1, R673, IF(AND(Veriler!P673>0.1, E673=\"\", O673=\"E\"), IF(P673>Veriler!$F$2, P673*R673, IF(P673<Veriler!$F$2, Veriler!$F$2*R673, P673*R673)), 0))","v":0}," ",{"$f":"IFERROR(IF(N673=\"%10 sınırı aşılmıştır.\",K673-S673,IFERROR(IF(E673=\"\",IF(R673=1,0,IF(K673-R673=0,\"\",K673-R673)),IF(Veriler!I673=\"\",K673,IF(K673*Veriler!I673=0,\"\",K673*Veriler!I673))),K673)),0)","v":""}]
[499,{"$nulls":4},"",{"$nulls":4},"",{"$f":"IF(K674=\"\", \"\", K674/Veriler!$T$1)","v":""},{"$f":"IF(E674<>\"\", \"İthal Girdi\", IF(Veriler!P674=\"\", \"\", IF(Veriler!O674=\"H\", \"%0,5 üzerindedir\", IF(Veriler!P674>0.1, \"%10 sınırı aşılmıştır.\", \"Uygun\"))))","v":"%0,5 üzerindedir"}," ",null,null,"",{"$f":"IFERROR(IF(L674<=0.005,IF(E674=\"\",K674,0),IF(E674<>\"\",0,IF(O674=\"\",0,IF(O674=\"H\",0,IF(P674<Veriler!$F$2,K674*Veriler!$F$2,K674*P674))))),\" \")","v":0},{"$f":"IF(Veriler!P674<=0.1, R674, IF(AND(Veriler!P674>0.1, E674=\"\", O674=\"E\"), IF(P674>Veriler!$F$2, P674*R674, IF(P674<Veriler!$F$2, Veriler!$F$2*R674, P674*R674)), 0))","v":0}," ",{"$f":"IFERROR(IF(N674=\"%10 sınırı aşılmıştır.\",K674-S674,IFERROR(IF(E674=\"\",IF(R674=1,0,IF(K674-R674=0,\"\",K674-R674)),IF(Veriler!I674=\"\",K674,IF(K674*Veriler!I674=0,\"\",K674*Veriler!I674))),K674)),0)","v":""}]
[500,{"$nulls":4},"",{"$nulls":4},"",{"$f":"IF(K675=\"\", \"\", K675/Veriler!$T$1)","v":""},{"$f":"IF(E675<>\"\", \"İthal Girdi\", IF(Veriler!P675=\"\", \"\", IF(Veriler!O675=\"H\", \"%0,5 üzerindedir\", IF(Veriler!P675>0.1, \"%10 sınırı aşılmıştır.\", \"Uygun\"))))","v":"%0,5 üzerindedir"}," ",null,null,"",{"$f":"IFERROR(IF(L675<=0.005,IF(E675=\"\",K675,0),IF(E675<>\"\",0,IF(O675=\"\",0,IF(O675=\"H\",0,IF(P675<Veriler!$F$2,K675*Veriler!$F$2,K675*P675))))),\" \")","v":0},{"$f":"IF(Veriler!P675<=0.1, R675, IF(AND(Veriler!P675>0.1, E675=\"\", O675=\"E\"), IF(P675>Veriler!$F$2, P675*R675, IF(P675<Veriler!$F$2, Veriler!$F$2*R675, P675*R675)), 0))","v":0}," ",{"$f":"IFERROR(IF(N675=\"%10 sınırı aşılmıştır.\",K675-S675,IFERROR(IF(E675=\"\",IF(R675=1,0,IF(K675-R675=0,\"\",K675-R675)),IF(Veriler!I675=\"\",K675,IF(K675*Veriler!I675=0,\"\",K675*Veriler!I675))),K675)),0)","v":""}]
[501,{"$nulls":4},"",{"$nulls":4},"",{"$f":"IF(K676=\"\", \"\", K676/Veriler!$T$1)","v":""},{"$f":"IF(E676<>\"\", \"İthal Girdi\", IF(Veriler!P676=\"\", \"\", IF(Veriler!O676=\"H\", \"%0,5 üzerindedir\", IF(Veriler!P676>0.1, \"%10 sınırı aşılmıştır.\", \"Uygun\"))))","v":"%0,5 üzerindedir"}," ",null,null,"",{"$f":"IFERROR(IF(L676<=0.005,IF(E676=\"\",K676,0),IF(E676<>\"\",0,IF(O676=\"\",0,IF(O676=\"H\",0,IF(P676<Veriler!$F$2,K676*Veriler!$F$2,K676*P676))))),\" \")","v":0},{"$f":"IF(Veriler!P676<=0.1, R676, IF(AND(Veriler!P676>0.1, E676=\"\", O676=\"E\"), IF(P676>Veriler!$F$2, P676*R676, IF(P676<Veriler!$F$2, Veriler!$F$2*R676, P676*R676)), 0))","v":0}," ",{"$f":"IFERROR(IF(N676=\"%10 sınırı aşılmıştır.\",K676-S676,IFERROR(IF(E676=\"\",IF(R676=1,0,IF(K676-R676=0,\"\",K676-R676)),IF(Veriler!I676=\"\",K676,IF(K676*Veriler!I676=0,\"\",K676*Veriler!I676))),K676)),0)","v":""}]
[502,{"$nulls":4},"",{"$nulls":4},"",{"$f":"IF(K677=\"\", \"\", K677/Veriler!$T$1)","v":""},{"$f":"IF(E677<>\"\", \"İthal Girdi\", IF(Veriler!P677=\"\", \"\", IF(Veriler!O677=\"H\", \"%0,5 üzerindedir\", IF(Veriler!P677>0.1, \"%10 sınırı aşılmıştır.\", \"Uygun\"))))","v":"%0,5 üzerindedir"}," ",null,null,"",{"$f":"IFERROR(IF(L677<=0.005,IF(E677=\"\",K677,0),IF(E677<>\"\",0,IF(O677=\"\",0,IF(O677=\"H\",0,IF(P677<Veriler!$F$2,K677*Veriler!$F$2,K677*P677))))),\" \")","v":0},{"$f":"IF(Veriler!P677<=0.1, R677, IF(AND(Veriler!P677>0.1, E677=\"\", O677=\"E\"), IF(P677>Veriler!$F$2, P677*R677, IF(P677<Veriler!$F$2, Veriler!$F$2*R677, P677*R677)), 0))","v":0}," ",{"$f":"IFERROR(IF(N677=\"%10 sınırı aşılmıştır.\",K677-S677,IFERROR(IF(E677=\"\",IF(R677=1,0,IF(K677-R677=0,\"\",K677-R677)),IF(Veriler!I677=\"\",K677,IF(K677*Veriler!I677=0,\"\",K677*Veriler!I677))),K677)),0)","v":""}]
[503,{"$nulls":4},"",{"$nulls":4},"",{"$f":"IF(K678=\"\", \"\", K678/Veriler!$T$1)","v":""},{"$f":"IF(E678<>\"\", \"İthal Girdi\", IF(Veriler!P678=\"\", \"\", IF(Veriler!O678=\"H\", \"%0,5 üzerindedir\", IF(Veriler!P678>0.1, \"%10 sınırı aşılmıştır.\", \"Uygun\"))))","v":"%0,5 üzerindedir"}," ",null,null,"",{"$f":"IFERROR(IF(L678<=0.005,IF(E678=\"\",K678,0),IF(E678<>\"\",0,IF(O678=\"\",0,IF(O678=\"H\",0,IF(P678<Veriler!$F$2,K678*Veriler!$F$2,K678*P678))))),\" \")","v":0},{"$f":"IF(Veriler!P678<=0.1, R678, IF(AND(Veriler!P678>0.1, E678=\"\", O678=\"E\"), IF(P678>Veriler!$F$2, P678*R678, IF(P678<Veriler!$F$2, Veriler!$F$2*R678, P678*R678)), 0))","v":0}," ",{"$f":"IFERROR(IF(N678=\"%10 sınırı aşılmıştır.\",K678-S678,IFERROR(IF(E678=\"\",IF(R678=1,0,IF(K678-R678=0,\"\",K678-R678)),IF(Veriler!I678=\"\",K678,IF(K678*Veriler!I678=0,\"\",K678*Veriler!I678))),K678)),0)","v":""}]
[504,{"$nulls":4},"",{"$nulls":4},"",{"$f":"IF(K679=\"\", \"\", K679/Veriler!$T$1)","v":""},{"$f":"IF(E679<>\"\", \"İthal Girdi\", IF(Veriler!P679=\"\", \"\", IF(Veriler!O679=\"H\", \"%0,5 üzerindedir\", IF(Veriler!P679>0.1, \"%10 sınırı aşılmıştır.\", \"Uygun\"))))","v":"%0,5 üzerindedir"}," ",null,null,"",{"$f":"IFERROR(IF(L679<=0.005,IF(E679=\"\",K679,0),IF(E679<>\"\",0,IF(O679=\"\",0,IF(O679=\"H\",0,IF(P679<Veriler!$F$2,K679*Veriler!$F$2,K679*P679))))),\" \")","v":0},{"$f":"IF(Veriler!P679<=0.1, R679, IF(AND(Veriler!P679>0.1, E679=\"\", O679=\"E\"), IF(P679>Veriler!$F$2, P679*R679, IF(P679<Veriler!$F$2, Veriler!$F$2*R679, P679*R679)), 0))","v":0}," ",{"$f":"IFERROR(IF(N679=\"%10 sınırı aşılmıştır.\",K679-S679,IFERROR(IF(E679=\"\",IF(R679=1,0,IF(K679-R679=0,\"\",K679-R679)),IF(Veriler!I679=\"\",K679,IF(K679*Veriler!I679=0,\"\",K679*Veriler!I679))),K679)),0)","v":""}]
[{"$nulls":10},{"$f":"SUM(K651:K664,K666:K679)","v":0}]
[{"$nulls":17},"T1","T1","T1","T2"]
["Sayfa Toplamı (TL)  *(Genel Dip Toplam Ek.3-D sayfasında otomatik hesaplanacaktır.)",{"$nulls":16},{"$f":"IF(SUM(#REF!,R651:R664,R666:R679)=0,\"\",SUM(#REF!,R651:R664,R666:R679))","v":{"$error":"#REF!"}},{"$f":"IF(SUM(S651:S664,S666:S679)=0,\" \",SUM(S651:S664,S666:S679))","v":" "},{"$f":"IF(SUM(T651:T664,T666:T679)=0,\" \",SUM(T651:T664,T666:T679))","v":" "},{"$f":"IF(SUM(U651:U664,U666:U679)=0,\" \",SUM(U651:U664,U666:U679))","v":" "}]
[]
[{"$f":"A722","v":"R02"}]
["YERLİ KATKI ORANI HESAP CETVELİ                      ",{"$nulls":13},false]
["A) Nihai Ürün Doğrudan ve Dolaylı Malzeme Giderleri                                                                                                                                                                                                                                                                                                                                                                                                                                         ",{"$nulls":18},"S",{"$f":"U648+1","v":19}]
["Sıra No","Malzeme adı / Faturadaki Ürün Adı",null,"Üretici Unvanı","GTİP Kodu                             (İthal girdiler için)","Gtip Katsayısı","Miktar ","Birim","Fiyatı \n(TL/Döviz)\n","Döviz Kuru               (TL ise 1 alınız)","Fatura Tutarı (TL)","Girdi Maliyet Yüzdesi (%)","Girdi yüzdesi %0,5 altında olan girdiler için %10 sınır kontrolü","Girdi yüzdesi %0,5 altında olan girdiler için %10 sınır kontrolü","SSB/  Müstahsil                (E/H)","YKO (%) (Manuel girilmeli)","Geçerli Yerli Oranı (%)","Yerli Maliyet Tutarı                            (T1)","Yerli Maliyet Tutarı (T1)","Yerli Maliyet Tutarı (T1)","İthal Maliyet Tutarı               (T2)"]
[null,"Doğrudan Girdi                                                         (Dolaylı girdiniz varsa en son 25. sayfaya doldurunuz)"]
[{"$f":"A679+1","v":505},{"$nulls":4},{"$f":"IF(AND(E689<>\"\",U689<>\"\",K689<>0),U689/K689,\"\")","v":""},{"$nulls":4},{"$f":"IF(AND(G689<>0, I689<>0, J689<>0), G689*I689*J689, \"\")","v":""},{"$f":"IF(K689=\"\", \"\", K689/Veriler!$T$1)","v":""},{"$f":"IF(E689<>\"\", \"İthal Girdi\", IF(Veriler!P689=\"\", \"\", IF(Veriler!O689=\"H\", \"%0,5 üzerindedir\", IF(Veriler!P689>0.1, \"%10 sınırı aşılmıştır.\", \"Uygun\"))))","v":"%0,5 üzerindedir"},{"$f":"IF(L689=\"\",\" \",M689)","v":" "},null,null,{"$f":"IFERROR(IF(AND(S689<>\"\",K689<>\"\",K689<>0,S689<>0),S689/K689,\"\"),\" \")","v":""},{"$f":"IFERROR(IF(L689<=0.005,IF(E689=\"\",K689,0),IF(E689<>\"\",0,IF(O689=\"\",0,IF(O689=\"H\",0,IF(P689<Veriler!$F$2,K689*Veriler!$F$2,K689*P689))))),\" \")","v":0},{"$f":"IF(Veriler!P689<=0.1, R689, IF(AND(Veriler!P689>0.1, E689=\"\", O689=\"E\"), IF(P689>Veriler!$F$2, P689*R689, IF(P689<Veriler!$F$2, Veriler!$F$2*R689, P689*R689)), 0))","v":0},{"$f":"IF(S689=0,\" \",S689)","v":" "},{"$f":"IFERROR(IF(N689=\"%10 sınırı aşılmıştır.\",K689-S689,IFERROR(IF(E689=\"\",IF(R689=1,0,IF(K689-R689=0,\"\",K689-R689)),IF(Veriler!I689=\"\",K689,IF(K689*Veriler!I689=0,\"\",K689*Veriler!I689))),K689)),0)","v":""}]
[{"$f":"A689+1","v":506},{"$nulls":4},"",{"$nulls":4},"",{"$f":"IF(K690=\"\", \"\", K690/Veriler!$T$1)","v":""},{"$f":"IF(E690<>\"\", \"İthal Girdi\", IF(Veriler!P690=\"\", \"\", IF(Veriler!O690=\"H\", \"%0,5 üzerindedir\", IF(Veriler!P690>0.1, \"%10 sınırı aşılmıştır.\", \"Uygun\"))))","v":"%0,5 üzerindedir"}," ",null,null,"",{"$f":"IFERROR(IF(L690<=0.005,IF(E690=\"\",K690,0),IF(E690<>\"\",0,IF(O690=\"\",0,IF(O690=\"H\",0,IF(P690<Veriler!$F$2,K690*Veriler!$F$2,K690*P690))))),\" \")","v":0},{"$f":"IF(Veriler!P690<=0.1, R690, IF(AND(Veriler!P690>0.1, E690=\"\", O690=\"E\"), IF(P690>Veriler!$F$2, P690*R690, IF(P690<Veriler!$F$2, Veriler!$F$2*R690, P690*R690)), 0))","v":0}," ",{"$f":"IFERROR(IF(N690=\"%10 sınırı aşılmıştır.\",K690-S690,IFERROR(IF(E690=\"\",IF(R690=1,0,IF(K690-R690=0,\"\",K690-R690)),IF(Veriler!I690=\"\",K690,IF(K690*Veriler!I690=0,\"\",K690*Veriler!I690))),K690)),0)","v":""}]
[{"$f":"A690+1","v":507},{"$nulls":4},"",{"$nulls":4},"",{"$f":"IF(K691=\"\", \"\", K691/Veriler!$T$1)","v":""},{"$f":"IF(E691<>\"\", \"İthal Girdi\", IF(Veriler!P691=\"\", \"\", IF(Veriler!O691=\"H\", \"%0,5 üzerindedir\", IF(Veriler!P691>0.1, \"%10 sınırı aşılmıştır.\", \"Uygun\"))))","v":"%0,5 üzerindedir"}," ",null,null,"",{"$f":"IFERROR(IF(L691<=0.005,IF(E691=\"\",K691,0),IF(E691<>\"\",0,IF(O691=\"\",0,IF(O691=\"H\",0,IF(P691<Veriler!$F$2,K691*Veriler!$F$2,K691*P691))))),\" \")","v":0},{"$f":"IF(Veriler!P691<=0.1, R691, IF(AND(Veriler!P691>0.1, E691=\"\", O691=\"E\"), IF(P691>Veriler!$F$2, P691*R691, IF(P691<Veriler!$F$2, Veriler!$F$2*R691, P691*R691)), 0))","v":0}," ",{"$f":"IFERROR(IF(N691=\"%10 sınırı aşılmıştır.\",K691-S691,IFERROR(IF(E691=\"\",IF(R691=1,0,IF(K691-R691=0,\"\",K691-R691)),IF(Veriler!I691=\"\",K691,IF(K691*Veriler!I691=0,\"\",K691*Veriler!I691))),K691)),0)","v":""}]
[508,{"$nulls":4},"",{"$nulls":4},"",{"$f":"IF(K692=\"\", \"\", K692/Veriler!$T$1)","v":""},{"$f":"IF(E692<>\"\", \"İthal Girdi\", IF(Veriler!P692=\"\", \"\", IF(Veriler!O692=\"H\", \"%0,5 üzerindedir\", IF(Veriler!P692>0.1, \"%10 sınırı aşılmıştır.\", \"Uygun\"))))","v":"%0,5 üzerindedir"}," ",null,null,"",{"$f":"IFERROR(IF(L692<=0.005,IF(E692=\"\",K692,0),IF(E692<>\"\",0,IF(O692=\"\",0,IF(O692=\"H\",0,IF(P692<Veriler!$F$2,K692*Veriler!$F$2,K692*P692))))),\" \")","v":0},{"$f":"IF(Veriler!P692<=0.1, R692, IF(AND(Veriler!P692>0.1, E692=\"\", O692=\"E\"), IF(P692>Veriler!$F$2, P692*R692, IF(P692<Veriler!$F$2, Veriler!$F$2*R692, P692*R692)), 0))","v":0}," ",{"$f":"IFERROR(IF(N692=\"%10 sınırı aşılmıştır.\",K692-S692,IFERROR(IF(E692=\"\",IF(R692=1,0,IF(K692-R692=0,\"\",K692-R692)),IF(Veriler!I692=\"\",K692,IF(K692*Veriler!I692=0,\"\",K692*Veriler!I692))),K692)),0)","v":""}]
[509,{"$nulls":4},"",{"$nulls":4},"",{"$f":"IF(K693=\"\", \"\", K693/Veriler!$T$1)","v":""},{"$f":"IF(E693<>\"\", \"İthal Girdi\", IF(Veriler!P693=\"\", \"\", IF(Veriler!O693=\"H\", \"%0,5 üzerindedir\", IF(Veriler!P693>0.1, \"%10 sınırı aşılmıştır.\", \"Uygun\"))))","v":"%0,5 üzerindedir"}," ",null,null,"",{"$f":"IFERROR(IF(L693<=0.005,IF(E693=\"\",K693,0),IF(E693<>\"\",0,IF(O693=\"\",0,IF(O693=\"H\",0,IF(P693<Veriler!$F$2,K693*Veriler!$F$2,K693*P693))))),\" \")","v":0},{"$f":"IF(Veriler!P693<=0.1, R693, IF(AND(Veriler!P693>0.1, E693=\"\", O693=\"E\"), IF(P693>Veriler!$F$2, P693*R693, IF(P693<Veriler!$F$2, Veriler!$F$2*R693, P693*R693)), 0))","v":0}," ",{"$f":"IFERROR(IF(N693=\"%10 sınırı aşılmıştır.\",K693-S693,IFERROR(IF(E693=\"\",IF(R693=1,0,IF(K693-R693=0,\"\",K693-R693)),IF(Veriler!I693=\"\",K693,IF(K693*Veriler!I693=0,\"\",K693*Veriler!I693))),K693)),0)","v":""}]
[510,{"$nulls":4},"",{"$nulls":4},"",{"$f":"IF(K694=\"\", \"\", K694/Veriler!$T$1)","v":""},{"$f":"IF(E694<>\"\", \"İthal Girdi\", IF(Veriler!P694=\"\", \"\", IF(Veriler!O694=\"H\", \"%0,5 üzerindedir\", IF(Veriler!P694>0.1, \"%10 sınırı aşılmıştır.\", \"Uygun\"))))","v":"%0,5 üzerindedir"}," ",null,null,"",{"$f":"IFERROR(IF(L694<=0.005,IF(E694=\"\",K694,0),IF(E694<>\"\",0,IF(O694=\"\",0,IF(O694=\"H\",0,IF(P694<Veriler!$F$2,K694*Veriler!$F$2,K694*P694))))),\" \")","v":0},{"$f":"IF(Veriler!P694<=0.1, R694, IF(AND(Veriler!P694>0.1, E694=\"\", O694=\"E\"), IF(P694>Veriler!$F$2, P694*R694, IF(P694<Veriler!$F$2, Veriler!$F$2*R694, P694*R694)), 0))","v":0}," ",{"$f":"IFERROR(IF(N694=\"%10 sınırı aşılmıştır.\",K694-S694,IFERROR(IF(E694=\"\",IF(R694=1,0,IF(K694-R694=0,\"\",K694-R694)),IF(Veriler!I694=\"\",K694,IF(K694*Veriler!I694=0,\"\",K694*Veriler!I694))),K694)),0)","v":""}]
[511,{"$nulls":4},"",{"$nulls":4},"",{"$f":"IF(K695=\"\", \"\", K695/Veriler!$T$1)","v":""},{"$f":"IF(E695<>\"\", \"İthal Girdi\", IF(Veriler!P695=\"\", \"\", IF(Veriler!O695=\"H\", \"%0,5 üzerindedir\", IF(Veriler!P695>0.1, \"%10 sınırı aşılmıştır.\", \"Uygun\"))))","v":"%0,5 üzerindedir"}," ",null,null,"",{"$f":"IFERROR(IF(L695<=0.005,IF(E695=\"\",K695,0),IF(E695<>\"\",0,IF(O695=\"\",0,IF(O695=\"H\",0,IF(P695<Veriler!$F$2,K695*Veriler!$F$2,K695*P695))))),\" \")","v":0},{"$f":"IF(Veriler!P695<=0.1, R695, IF(AND(Veriler!P695>0.1, E695=\"\", O695=\"E\"), IF(P695>Veriler!$F$2, P695*R695, IF(P695<Veriler!$F$2, Veriler!$F$2*R695, P695*R695)), 0))","v":0}," ",{"$f":"IFERROR(IF(N695=\"%10 sınırı aşılmıştır.\",K695-S695,IFERROR(IF(E695=\"\",IF(R695=1,0,IF(K695-R695=0,\"\",K695-R695)),IF(Veriler!I695=\"\",K695,IF(K695*Veriler!I695=0,\"\",K695*Veriler!I695))),K695)),0)","v":""}]
[512,{"$nulls":4},"",{"$nulls":4},"",{"$f":"IF(K696=\"\", \"\", K696/Veriler!$T$1)","v":""},{"$f":"IF(E696<>\"\", \"İthal Girdi\", IF(Veriler!P696=\"\", \"\", IF(Veriler!O696=\"H\", \"%0,5 üzerindedir\", IF(Veriler!P696>0.1, \"%10 sınırı aşılmıştır.\", \"Uygun\"))))","v":"%0,5 üzerindedir"}," ",null,null,"",{"$f":"IFERROR(IF(L696<=0.005,IF(E696=\"\",K696,0),IF(E696<>\"\",0,IF(O696=\"\",0,IF(O696=\"H\",0,IF(P696<Veriler!$F$2,K696*Veriler!$F$2,K696*P696))))),\" \")","v":0},{"$f":"IF(Veriler!P696<=0.1, R696, IF(AND(Veriler!P696>0.1, E696=\"\", O696=\"E\"), IF(P696>Veriler!$F$2, P696*R696, IF(P696<Veriler!$F$2, Veriler!$F$2*R696, P696*R696)), 0))","v":0}," ",{"$f":"IFERROR(IF(N696=\"%10 sınırı aşılmıştır.\",K696-S696,IFERROR(IF(E696=\"\",IF(R696=1,0,IF(K696-R696=0,\"\",K696-R696)),IF(Veriler!I696=\"\",K696,IF(K696*Veriler!I696=0,\"\",K696*Veriler!I696))),K696)),0)","v":""}]
[513,{"$nulls":4},"",{"$nulls":4},"",{"$f":"IF(K697=\"\", \"\", K697/Veriler!$T$1)","v":""},{"$f":"IF(E697<>\"\", \"İthal Girdi\", IF(Veriler!P697=\"\", \"\", IF(Veriler!O697=\"H\", \"%0,5 üzerindedir\", IF(Veriler!P697>0.1, \"%10 sınırı aşılmıştır.\", \"Uygun\"))))","v":"%0,5 üzerindedir"}," ",null,null,"",{"$f":"IFERROR(IF(L697<=0.005,IF(E697=\"\",K697,0),IF(E697<>\"\",0,IF(O697=\"\",0,IF(O697=\"H\",0,IF(P697<Veriler!$F$2,K697*Veriler!$F$2,K697*P697))))),\" \")","v":0},{"$f":"IF(Veriler!P697<=0.1, R697, IF(AND(Veriler!P697>0.1, E697=\"\", O697=\"E\"), IF(P697>Veriler!$F$2, P697*R697, IF(P697<Veriler!$F$2, Veriler!$F$2*R697, P697*R697)), 0))","v":0}," ",{"$f":"IFERROR(IF(N697=\"%10 sınırı aşılmıştır.\",K697-S697,IFERROR(IF(E697=\"\",IF(R697=1,0,IF(K697-R697=0,\"\",K697-R697)),IF(Veriler!I697=\"\",K697,IF(K697*Veriler!I697=0,\"\",K697*Veriler!I697))),K697)),0)","v":""}]
[514,{"$nulls":4},"",{"$nulls":4},"",{"$f":"IF(K698=\"\", \"\", K698/Veriler!$T$1)","v":""},{"$f":"IF(E698<>\"\", \"İthal Girdi\", IF(Veriler!P698=\"\", \"\", IF(Veriler!O698=\"H\", \"%0,5 üzerindedir\", IF(Veriler!P698>0.1, \"%10 sınırı aşılmıştır.\", \"Uygun\"))))","v":"%0,5 üzerindedir"}," ",null,null,"",{"$f":"IFERROR(IF(L698<=0.005,IF(E698=\"\",K698,0),IF(E698<>\"\",0,IF(O698=\"\",0,IF(O698=\"H\",0,IF(P698<Veriler!$F$2,K698*Veriler!$F$2,K698*P698))))),\" \")","v":0},{"$f":"IF(Veriler!P698<=0.1, R698, IF(AND(Veriler!P698>0.1, E698=\"\", O698=\"E\"), IF(P698>Veriler!$F$2, P698*R698, IF(P698<Veriler!$F$2, Veriler!$F$2*R698, P698*R698)), 0))","v":0}," ",{"$f":"IFERROR(IF(N698=\"%10 sınırı aşılmıştır.\",K698-S698,IFERROR(IF(E698=\"\",IF(R698=1,0,IF(K698-R698=0,\"\",K698-R698)),IF(Veriler!I698=\"\",K698,IF(K698*Veriler!I698=0,\"\",K698*Veriler!I698))),K698)),0)","v":""}]
[515,{"$nulls":4},"",{"$nulls":4},"",{"$f":"IF(K699=\"\", \"\", K699/Veriler!$T$1)","v":""},{"$f":"IF(E699<>\"\", \"İthal Girdi\", IF(Veriler!P699=\"\", \"\", IF(Veriler!O699=\"H\", \"%0,5 üzerindedir\", IF(Veriler!P699>0.1, \"%10 sınırı aşılmıştır.\", \"Uygun\"))))","v":"%0,5 üzerindedir"}," ",null,null,"",{"$f":"IFERROR(IF(L699<=0.005,IF(E699=\"\",K699,0),IF(E699<>\"\",0,IF(O699=\"\",0,IF(O699=\"H\",0,IF(P699<Veriler!$F$2,K699*Veriler!$F$2,K699*P699))))),\" \")","v":0},{"$f":"IF(Veriler!P699<=0.1, R699, IF(AND(Veriler!P699>0.1, E699=\"\", O699=\"E\"), IF(P699>Veriler!$F$2, P699*R699, IF(P699<Veriler!$F$2, Veriler!$F$2*R699, P699*R699)), 0))","v":0}," ",{"$f":"IFERROR(IF(N699=\"%10 sınırı aşılmıştır.\",K699-S699,IFERROR(IF(E699=\"\",IF(R699=1,0,IF(K699-R699=0,\"\",K699-R699)),IF(Veriler!I699=\"\",K699,IF(K699*Veriler!I699=0,\"\",K699*Veriler!I699))),K699)),0)","v":""}]
[516,{"$nulls":4},"",{"$nulls":4},"",{"$f":"IF(K700=\"\", \"\", K700/Veriler!$T$1)","v":""},{"$f":"IF(E700<>\"\", \"İthal Girdi\", IF(Veriler!P700=\"\", \"\", IF(Veriler!O700=\"H\", \"%0,5 üzerindedir\", IF(Veriler!P700>0.1, \"%10 sınırı aşılmıştır.\", \"Uygun\"))))","v":"%0,5 üzerindedir"}," ",null,null,"",{"$f":"IFERROR(IF(L700<=0.005,IF(E700=\"\",K700,0),IF(E700<>\"\",0,IF(O700=\"\",0,IF(O700=\"H\",0,IF(P700<Veriler!$F$2,K700*Veriler!$F$2,K700*P700))))),\" \")","v":0},{"$f":"IF(Veriler!P700<=0.1, R700, IF(AND(Veriler!P700>0.1, E700=\"\", O700=\"E\"), IF(P700>Veriler!$F$2, P700*R700, IF(P700<Veriler!$F$2, Veriler!$F$2*R700, P700*R700)), 0))","v":0}," ",{"$f":"IFERROR(IF(N700=\"%10 sınırı aşılmıştır.\",K700-S700,IFERROR(IF(E700=\"\",IF(R700=1,0,IF(K700-R700=0,\"\",K700-R700)),IF(Veriler!I700=\"\",K700,IF(K700*Veriler!I700=0,\"\",K700*Veriler!I700))),K700)),0)","v":""}]
[517,{"$nulls":4},"",{"$nulls":4},"",{"$f":"IF(K701=\"\", \"\", K701/Veriler!$T$1)","v":""},{"$f":"IF(E701<>\"\", \"İthal Girdi\", IF(Veriler!P701=\"\", \"\", IF(Veriler!O701=\"H\", \"%0,5 üzerindedir\", IF(Veriler!P701>0.1, \"%10 sınırı aşılmıştır.\", \"Uygun\"))))","v":"%0,5 üzerindedir"}," ",null,null,"",{"$f":"IFERROR(IF(L701<=0.005,IF(E701=\"\",K701,0),IF(E701<>\"\",0,IF(O701=\"\",0,IF(O701=\"H\",0,IF(P701<Veriler!$F$2,K701*Veriler!$F$2,K701*P701))))),\" \")","v":0},{"$f":"IF(Veriler!P701<=0.1, R701, IF(AND(Veriler!P701>0.1, E701=\"\", O701=\"E\"), IF(P701>Veriler!$F$2, P701*R701, IF(P701<Veriler!$F$2, Veriler!$F$2*R701, P701*R701)), 0))","v":0}," ",{"$f":"IFERROR(IF(N701=\"%10 sınırı aşılmıştır.\",K701-S701,IFERROR(IF(E701=\"\",IF(R701=1,0,IF(K701-R701=0,\"\",K701-R701)),IF(Veriler!I701=\"\",K701,IF(K701*Veriler!I701=0,\"\",K701*Veriler!I701))),K701)),0)","v":""}]
[518,{"$nulls":4},"",{"$nulls":4},"",{"$f":"IF(K702=\"\", \"\", K702/Veriler!$T$1)","v":""},{"$f":"IF(E702<>\"\", \"İthal Girdi\", IF(Veriler!P702=\"\", \"\", IF(Veriler!O702=\"H\", \"%0,5 üzerindedir\", IF(Veriler!P702>0.1, \"%10 sınırı aşılmıştır.\", \"Uygun\"))))","v":"%0,5 üzerindedir"}," ",null,null,"",{"$f":"IFERROR(IF(L702<=0.005,IF(E702=\"\",K702,0),IF(E702<>\"\",0,IF(O702=\"\",0,IF(O702=\"H\",0,IF(P702<Veriler!$F$2,K702*Veriler!$F$2,K702*P702))))),\" \")","v":0},{"$f":"IF(Veriler!P702<=0.1, R702, IF(AND(Veriler!P702>0.1, E702=\"\", O702=\"E\"), IF(P702>Veriler!$F$2, P702*R702, IF(P702<Veriler!$F$2, Veriler!$F$2*R702, P702*R702)), 0))","v":0}," ",{"$f":"IFERROR(IF(N702=\"%10 sınırı aşılmıştır.\",K702-S702,IFERROR(IF(E702=\"\",IF(R702=1,0,IF(K702-R702=0,\"\",K702-R702)),IF(Veriler!I702=\"\",K702,IF(K702*Veriler!I702=0,\"\",K702*Veriler!I702))),K702)),0)","v":""}]
[null,"Dolaylı"]
[{"$f":"A702+1","v":519},{"$nulls":4},{"$f":"IF(AND(E704<>\"\",U704<>\"\",K704<>0),U704/K704,\"\")","v":""},{"$nulls":4},{"$f":"IF(AND(G704<>0, I704<>0, J704<>0), G704*I704*J704, \"\")","v":""},{"$f":"IF(K704=\"\", \"\", K704/Veriler!$T$1)","v":""},{"$f":"IF(E704<>\"\", \"İthal Girdi\", IF(Veriler!P704=\"\", \"\", IF(Veriler!O704=\"H\", \"%0,5 üzerindedir\", IF(Veriler!P704>0.1, \"%10 sınırı aşılmıştır.\", \"Uygun\"))))","v":"%0,5 üzerindedir"},{"$f":"IF(L704=\"\",\" \",M704)","v":" "},null,null,{"$f":"IFERROR(IF(AND(S704<>\"\",K704<>\"\",K704<>0,S704<>0),S704/K704,\"\"),\" \")","v":""},{"$f":"IFERROR(IF(L704<=0.005,IF(E704=\"\",K704,0),IF(E704<>\"\",0,IF(O704=\"\",0,IF(O704=\"H\",0,IF(P704<Veriler!$F$2,K704*Veriler!$F$2,K704*P704))))),\" \")","v":0},{"$f":"IF(Veriler!P704<=0.1, R704, IF(AND(Veriler!P704>0.1, E704=\"\", O704=\"E\"), IF(P704>Veriler!$F$2, P704*R704, IF(P704<Veriler!$F$2, Veriler!$F$2*R704, P704*R704)), 0))","v":0},{"$f":"IF(S704=0,\" \",S704)","v":" "},{"$f":"IFERROR(IF(N704=\"%10 sınırı aşılmıştır.\",K704-S704,IFERROR(IF(E704=\"\",IF(R704=1,0,IF(K704-R704=0,\"\",K704-R704)),IF(Veriler!I704=\"\",K704,IF(K704*Veriler!I704=0,\"\",K704*Veriler!I704))),K704)),0)","v":""}]
[{"$f":"A704+1","v":520},{"$nulls":4},"",{"$nulls":4},"",{"$f":"IF(K705=\"\", \"\", K705/Veriler!$T$1)","v":""},{"$f":"IF(E705<>\"\", \"İthal Girdi\", IF(Veriler!P705=\"\", \"\", IF(Veriler!O705=\"H\", \"%0,5 üzerindedir\", IF(Veriler!P705>0.1, \"%10 sınırı aşılmıştır.\", \"Uygun\"))))","v":"%0,5 üzerindedir"}," ",null,null,"",{"$f":"IFERROR(IF(L705<=0.005,IF(E705=\"\",K705,0),IF(E705<>\"\",0,IF(O705=\"\",0,IF(O705=\"H\",0,IF(P705<Veriler!$F$2,K705*Veriler!$F$2,K705*P705))))),\" \")","v":0},{"$f":"IF(Veriler!P705<=0.1, R705, IF(AND(Veriler!P705>0.1, E705=\"\", O705=\"E\"), IF(P705>Veriler!$F$2, P705*R705, IF(P705<Veriler!$F$2, Veriler!$F$2*R705, P705*R705)), 0))","v":0}," ",{"$f":"IFERROR(IF(N705=\"%10 sınırı aşılmıştır.\",K705-S705,IFERROR(IF(E705=\"\",IF(R705=1,0,IF(K705-R705=0,\"\",K705-R705)),IF(Veriler!I705=\"\",K705,IF(K705*Veriler!I705=0,\"\",K705*Veriler!I705))),K705)),0)","v":""}]
[{"$f":"A705+1","v":521},{"$nulls":4},"",{"$nulls":4},"",{"$f":"IF(K706=\"\", \"\", K706/Veriler!$T$1)","v":""},{"$f":"IF(E706<>\"\", \"İthal Girdi\", IF(Veriler!P706=\"\", \"\", IF(Veriler!O706=\"H\", \"%0,5 üzerindedir\", IF(Veriler!P706>0.1, \"%10 sınırı aşılmıştır.\", \"Uygun\"))))","v":"%0,5 üzerindedir"}," ",null,null,"",{"$f":"IFERROR(IF(L706<=0.005,IF(E706=\"\",K706,0),IF(E706<>\"\",0,IF(O706=\"\",0,IF(O706=\"H\",0,IF(P706<Veriler!$F$2,K706*Veriler!$F$2,K706*P706))))),\" \")","v":0},{"$f":"IF(Veriler!P706<=0.1, R706, IF(AND(Veriler!P706>0.1, E706=\"\", O706=\"E\"), IF(P706>Veriler!$F$2, P706*R706, IF(P706<Veriler!$F$2, Veriler!$F$2*R706, P706*R706)), 0))","v":0}," ",{"$f":"IFERROR(IF(N706=\"%10 sınırı aşılmıştır.\",K706-S706,IFERROR(IF(E706=\"\",IF(R706=1,0,IF(K706-R706=0,\"\",K706-R706)),IF(Veriler!I706=\"\",K706,IF(K706*Veriler!I706=0,\"\",K706*Veriler!I706))),K706)),0)","v":""}]
[522,{"$nulls":4},"",{"$nulls":4},"",{"$f":"IF(K707=\"\", \"\", K707/Veriler!$T$1)","v":""},{"$f":"IF(E707<>\"\", \"İthal Girdi\", IF(Veriler!P707=\"\", \"\", IF(Veriler!O707=\"H\", \"%0,5 üzerindedir\", IF(Veriler!P707>0.1, \"%10 sınırı aşılmıştır.\", \"Uygun\"))))","v":"%0,5 üzerindedir"}," ",null,null,"",{"$f":"IFERROR(IF(L707<=0.005,IF(E707=\"\",K707,0),IF(E707<>\"\",0,IF(O707=\"\",0,IF(O707=\"H\",0,IF(P707<Veriler!$F$2,K707*Veriler!$F$2,K707*P707))))),\" \")","v":0},{"$f":"IF(Veriler!P707<=0.1, R707, IF(AND(Veriler!P707>0.1, E707=\"\", O707=\"E\"), IF(P707>Veriler!$F$2, P707*R707, IF(P707<Veriler!$F$2, Veriler!$F$2*R707, P707*R707)), 0))","v":0}," ",{"$f":"IFERROR(IF(N707=\"%10 sınırı aşılmıştır.\",K707-S707,IFERROR(IF(E707=\"\",IF(R707=1,0,IF(K707-R707=0,\"\",K707-R707)),IF(Veriler!I707=\"\",K707,IF(K707*Veriler!I707=0,\"\",K707*Veriler!I707))),K707)),0)","v":""}]
[523,{"$nulls":4},"",{"$nulls":4},"",{"$f":"IF(K708=\"\", \"\", K708/Veriler!$T$1)","v":""},{"$f":"IF(E708<>\"\", \"İthal Girdi\", IF(Veriler!P708=\"\", \"\", IF(Veriler!O708=\"H\", \"%0,5 üzerindedir\", IF(Veriler!P708>0.1, \"%10 sınırı aşılmıştır.\", \"Uygun\"))))","v":"%0,5 üzerindedir"}," ",null,null,"",{"$f":"IFERROR(IF(L708<=0.005,IF(E708=\"\",K708,0),IF(E708<>\"\",0,IF(O708=\"\",0,IF(O708=\"H\",0,IF(P708<Veriler!$F$2,K708*Veriler!$F$2,K708*P708))))),\" \")","v":0},{"$f":"IF(Veriler!P708<=0.1, R708, IF(AND(Veriler!P708>0.1, E708=\"\", O708=\"E\"), IF(P708>Veriler!$F$2, P708*R708, IF(P708<Veriler!$F$2, Veriler!$F$2*R708, P708*R708)), 0))","v":0}," ",{"$f":"IFERROR(IF(N708=\"%10 sınırı aşılmıştır.\",K708-S708,IFERROR(IF(E708=\"\",IF(R708=1,0,IF(K708-R708=0,\"\",K708-R708)),IF(Veriler!I708=\"\",K708,IF(K708*Veriler!I708=0,\"\",K708*Veriler!I708))),K708)),0)","v":""}]
[524,{"$nulls":4},"",{"$nulls":4},"",{"$f":"IF(K709=\"\", \"\", K709/Veriler!$T$1)","v":""},{"$f":"IF(E709<>\"\", \"İthal Girdi\", IF(Veriler!P709=\"\", \"\", IF(Veriler!O709=\"H\", \"%0,5 üzerindedir\", IF(Veriler!P709>0.1, \"%10 sınırı aşılmıştır.\", \"Uygun\"))))","v":"%0,5 üzerindedir"}," ",null,null,"",{"$f":"IFERROR(IF(L709<=0.005,IF(E709=\"\",K709,0),IF(E709<>\"\",0,IF(O709=\"\",0,IF(O709=\"H\",0,IF(P709<Veriler!$F$2,K709*Veriler!$F$2,K709*P709))))),\" \")","v":0},{"$f":"IF(Veriler!P709<=0.1, R709, IF(AND(Veriler!P709>0.1, E709=\"\", O709=\"E\"), IF(P709>Veriler!$F$2, P709*R709, IF(P709<Veriler!$F$2, Veriler!$F$2*R709, P709*R709)), 0))","v":0}," ",{"$f":"IFERROR(IF(N709=\"%10 sınırı aşılmıştır.\",K709-S709,IFERROR(IF(E709=\"\",IF(R709=1,0,IF(K709-R709=0,\"\",K709-R709)),IF(Veriler!I709=\"\",K709,IF(K709*Veriler!I709=0,\"\",K709*Veriler!I709))),K709)),0)","v":""}]
[525,{"$nulls":4},"",{"$nulls":4},"",{"$f":"IF(K710=\"\", \"\", K710/Veriler!$T$1)","v":""},{"$f":"IF(E710<>\"\", \"İthal Girdi\", IF(Veriler!P710=\"\", \"\", IF(Veriler!O710=\"H\", \"%0,5 üzerindedir\", IF(Veriler!P710>0.1, \"%10 sınırı aşılmıştır.\", \"Uygun\"))))","v":"%0,5 üzerindedir"}," ",null,null,"",{"$f":"IFERROR(IF(L710<=0.005,IF(E710=\"\",K710,0),IF(E710<>\"\",0,IF(O710=\"\",0,IF(O710=\"H\",0,IF(P710<Veriler!$F$2,K710*Veriler!$F$2,K710*P710))))),\" \")","v":0},{"$f":"IF(Veriler!P710<=0.1, R710, IF(AND(Veriler!P710>0.1, E710=\"\", O710=\"E\"), IF(P710>Veriler!$F$2, P710*R710, IF(P710<Veriler!$F$2, Veriler!$F$2*R710, P710*R710)), 0))","v":0}," ",{"$f":"IFERROR(IF(N710=\"%10 sınırı aşılmıştır.\",K710-S710,IFERROR(IF(E710=\"\",IF(R710=1,0,IF(K710-R710=0,\"\",K710-R710)),IF(Veriler!I710=\"\",K710,IF(K710*Veriler!I710=0,\"\",K710*Veriler!I710))),K710)),0)","v":""}]
[526,{"$nulls":4},"",{"$nulls":4},"",{"$f":"IF(K711=\"\", \"\", K711/Veriler!$T$1)","v":""},{"$f":"IF(E711<>\"\", \"İthal Girdi\", IF(Veriler!P711=\"\", \"\", IF(Veriler!O711=\"H\", \"%0,5 üzerindedir\", IF(Veriler!P711>0.1, \"%10 sınırı aşılmıştır.\", \"Uygun\"))))","v":"%0,5 üzerindedir"}," ",null,null,"",{"$f":"IFERROR(IF(L711<=0.005,IF(E711=\"\",K711,0),IF(E711<>\"\",0,IF(O711=\"\",0,IF(O711=\"H\",0,IF(P711<Veriler!$F$2,K711*Veriler!$F$2,K711*P711))))),\" \")","v":0},{"$f":"IF(Veriler!P711<=0.1, R711, IF(AND(Veriler!P711>0.1, E711=\"\", O711=\"E\"), IF(P711>Veriler!$F$2, P711*R711, IF(P711<Veriler!$F$2, Veriler!$F$2*R711, P711*R711)), 0))","v":0}," ",{"$f":"IFERROR(IF(N711=\"%10 sınırı aşılmıştır.\",K711-S711,IFERROR(IF(E711=\"\",IF(R711=1,0,IF(K711-R711=0,\"\",K711-R711)),IF(Veriler!I711=\"\",K711,IF(K711*Veriler!I711=0,\"\",K711*Veriler!I711))),K711)),0)","v":""}]
[527,{"$nulls":4},"",{"$nulls":4},"",{"$f":"IF(K712=\"\", \"\", K712/Veriler!$T$1)","v":""},{"$f":"IF(E712<>\"\", \"İthal Girdi\", IF(Veriler!P712=\"\", \"\", IF(Veriler!O712=\"H\", \"%0,5 üzerindedir\", IF(Veriler!P712>0.1, \"%10 sınırı aşılmıştır.\", \"Uygun\"))))","v":"%0,5 üzerindedir"}," ",null,null,"",{"$f":"IFERROR(IF(L712<=0.005,IF(E712=\"\",K712,0),IF(E712<>\"\",0,IF(O712=\"\",0,IF(O712=\"H\",0,IF(P712<Veriler!$F$2,K712*Veriler!$F$2,K712*P712))))),\" \")","v":0},{"$f":"IF(Veriler!P712<=0.1, R712, IF(AND(Veriler!P712>0.1, E712=\"\", O712=\"E\"), IF(P712>Veriler!$F$2, P712*R712, IF(P712<Veriler!$F$2, Veriler!$F$2*R712, P712*R712)), 0))","v":0}," ",{"$f":"IFERROR(IF(N712=\"%10 sınırı aşılmıştır.\",K712-S712,IFERROR(IF(E712=\"\",IF(R712=1,0,IF(K712-R712=0,\"\",K712-R712)),IF(Veriler!I712=\"\",K712,IF(K712*Veriler!I712=0,\"\",K712*Veriler!I712))),K712)),0)","v":""}]
[528,{"$nulls":4},"",{"$nulls":4},"",{"$f":"IF(K713=\"\", \"\", K713/Veriler!$T$1)","v":""},{"$f":"IF(E713<>\"\", \"İthal Girdi\", IF(Veriler!P713=\"\", \"\", IF(Veriler!O713=\"H\", \"%0,5 üzerindedir\", IF(Veriler!P713>0.1, \"%10 sınırı aşılmıştır.\", \"Uygun\"))))","v":"%0,5 üzerindedir"}," ",null,null,"",{"$f":"IFERROR(IF(L713<=0.005,IF(E713=\"\",K713,0),IF(E713<>\"\",0,IF(O713=\"\",0,IF(O713=\"H\",0,IF(P713<Veriler!$F$2,K713*Veriler!$F$2,K713*P713))))),\" \")","v":0},{"$f":"IF(Veriler!P713<=0.1, R713, IF(AND(Veriler!P713>0.1, E713=\"\", O713=\"E\"), IF(P713>Veriler!$F$2, P713*R713, IF(P713<Veriler!$F$2, Veriler!$F$2*R713, P713*R713)), 0))","v":0}," ",{"$f":"IFERROR(IF(N713=\"%10 sınırı aşılmıştır.\",K713-S713,IFERROR(IF(E713=\"\",IF(R713=1,0,IF(K713-R713=0,\"\",K713-R713)),IF(Veriler!I713=\"\",K713,IF(K713*Veriler!I713=0,\"\",K713*Veriler!I713))),K713)),0)","v":""}]
[529,{"$nulls":4},"",{"$nulls":4},"",{"$f":"IF(K714=\"\", \"\", K714/Veriler!$T$1)","v":""},{"$f":"IF(E714<>\"\", \"İthal Girdi\", IF(Veriler!P714=\"\", \"\", IF(Veriler!O714=\"H\", \"%0,5 üzerindedir\", IF(Veriler!P714>0.1, \"%10 sınırı aşılmıştır.\", \"Uygun\"))))","v":"%0,5 üzerindedir"}," ",null,null,"",{"$f":"IFERROR(IF(L714<=0.005,IF(E714=\"\",K714,0),IF(E714<>\"\",0,IF(O714=\"\",0,IF(O714=\"H\",0,IF(P714<Veriler!$F$2,K714*Veriler!$F$2,K714*P714))))),\" \")","v":0},{"$f":"IF(Veriler!P714<=0.1, R714, IF(AND(Veriler!P714>0.1, E714=\"\", O714=\"E\"), IF(P714>Veriler!$F$2, P714*R714, IF(P714<Veriler!$F$2, Veriler!$F$2*R714, P714*R714)), 0))","v":0}," ",{"$f":"IFERROR(IF(N714=\"%10 sınırı aşılmıştır.\",K714-S714,IFERROR(IF(E714=\"\",IF(R714=1,0,IF(K714-R714=0,\"\",K714-R714)),IF(Veriler!I714=\"\",K714,IF(K714*Veriler!I714=0,\"\",K714*Veriler!I714))),K714)),0)","v":""}]
[530,{"$nulls":4},"",{"$nulls":4},"",{"$f":"IF(K715=\"\", \"\", K715/Veriler!$T$1)","v":""},{"$f":"IF(E715<>\"\", \"İthal Girdi\", IF(Veriler!P715=\"\", \"\", IF(Veriler!O715=\"H\", \"%0,5 üzerindedir\", IF(Veriler!P715>0.1, \"%10 sınırı aşılmıştır.\", \"Uygun\"))))","v":"%0,5 üzerindedir"}," ",null,null,"",{"$f":"IFERROR(IF(L715<=0.005,IF(E715=\"\",K715,0),IF(E715<>\"\",0,IF(O715=\"\",0,IF(O715=\"H\",0,IF(P715<Veriler!$F$2,K715*Veriler!$F$2,K715*P715))))),\" \")","v":0},{"$f":"IF(Veriler!P715<=0.1, R715, IF(AND(Veriler!P715>0.1, E715=\"\", O715=\"E\"), IF(P715>Veriler!$F$2, P715*R715, IF(P715<Veriler!$F$2, Veriler!$F$2*R715, P715*R715)), 0))","v":0}," ",{"$f":"IFERROR(IF(N715=\"%10 sınırı aşılmıştır.\",K715-S715,IFERROR(IF(E715=\"\",IF(R715=1,0,IF(K715-R715=0,\"\",K715-R715)),IF(Veriler!I715=\"\",K715,IF(K715*Veriler!I715=0,\"\",K715*Veriler!I715))),K715)),0)","v":""}]
[531,{"$nulls":4},"",{"$nulls":4},"",{"$f":"IF(K716=\"\", \"\", K716/Veriler!$T$1)","v":""},{"$f":"IF(E716<>\"\", \"İthal Girdi\", IF(Veriler!P716=\"\", \"\", IF(Veriler!O716=\"H\", \"%0,5 üzerindedir\", IF(Veriler!P716>0.1, \"%10 sınırı aşılmıştır.\", \"Uygun\"))))","v":"%0,5 üzerindedir"}," ",null,null,"",{"$f":"IFERROR(IF(L716<=0.005,IF(E716=\"\",K716,0),IF(E716<>\"\",0,IF(O716=\"\",0,IF(O716=\"H\",0,IF(P716<Veriler!$F$2,K716*Veriler!$F$2,K716*P716))))),\" \")","v":0},{"$f":"IF(Veriler!P716<=0.1, R716, IF(AND(Veriler!P716>0.1, E716=\"\", O716=\"E\"), IF(P716>Veriler!$F$2, P716*R716, IF(P716<Veriler!$F$2, Veriler!$F$2*R716, P716*R716)), 0))","v":0}," ",{"$f":"IFERROR(IF(N716=\"%10 sınırı aşılmıştır.\",K716-S716,IFERROR(IF(E716=\"\",IF(R716=1,0,IF(K716-R716=0,\"\",K716-R716)),IF(Veriler!I716=\"\",K716,IF(K716*Veriler!I716=0,\"\",K716*Veriler!I716))),K716)),0)","v":""}]
[532,{"$nulls":4},"",{"$nulls":4},"",{"$f":"IF(K717=\"\", \"\", K717/Veriler!$T$1)","v":""},{"$f":"IF(E717<>\"\", \"İthal Girdi\", IF(Veriler!P717=\"\", \"\", IF(Veriler!O717=\"H\", \"%0,5 üzerindedir\", IF(Veriler!P717>0.1, \"%10 sınırı aşılmıştır.\", \"Uygun\"))))","v":"%0,5 üzerindedir"}," ",null,null,"",{"$f":"IFERROR(IF(L717<=0.005,IF(E717=\"\",K717,0),IF(E717<>\"\",0,IF(O717=\"\",0,IF(O717=\"H\",0,IF(P717<Veriler!$F$2,K717*Veriler!$F$2,K717*P717))))),\" \")","v":0},{"$f":"IF(Veriler!P717<=0.1, R717, IF(AND(Veriler!P717>0.1, E717=\"\", O717=\"E\"), IF(P717>Veriler!$F$2, P717*R717, IF(P717<Veriler!$F$2, Veriler!$F$2*R717, P717*R717)), 0))","v":0}," ",{"$f":"IFERROR(IF(N717=\"%10 sınırı aşılmıştır.\",K717-S717,IFERROR(IF(E717=\"\",IF(R717=1,0,IF(K717-R717=0,\"\",K717-R717)),IF(Veriler!I717=\"\",K717,IF(K717*Veriler!I717=0,\"\",K717*Veriler!I717))),K717)),0)","v":""}]
[{"$nulls":10},{"$f":"SUM(K689:K702,K704:K717)","v":0}]
[{"$nulls":17},"T1","T1","T1","T2"]
["Sayfa Toplamı (TL)  *(Genel Dip Toplam Ek.3-D sayfasında otomatik hesaplanacaktır.)",{"$nulls":16},{"$f":"IF(SUM(#REF!,R689:R702,R704:R717)=0,\"\",SUM(#REF!,R689:R702,R704:R717))","v":{"$error":"#REF!"}},{"$f":"IF(SUM(S689:S702,S704:S717)=0,\" \",SUM(S689:S702,S704:S717))","v":" "},{"$f":"IF(SUM(T689:T702,T704:T717)=0,\" \",SUM(T689:T702,T704:T717))","v":" "},{"$f":"IF(SUM(U689:U702,U704:U717)=0,\" \",SUM(U689:U702,U704:U717))","v":" "}]
[]
[{"$f":"A760","v":"R02"}]
["YERLİ KATKI ORANI HESAP CETVELİ                      ",{"$nulls":13},false]
["A) Nihai Ürün Doğrudan ve Dolaylı Malzeme Giderleri                                                                                                                                                                                                                                                                                                                                                                                                                                         ",{"$nulls":18},"S",{"$f":"U686+1","v":20}]
["Sıra No","Malzeme adı / Faturadaki Ürün Adı",null,"Üretici Unvanı","GTİP Kodu                             (İthal girdiler için)","Gtip Katsayısı","Miktar ","Birim","Fiyatı \n(TL/Döviz)\n","Döviz Kuru               (TL ise 1 alınız)","Fatura Tutarı (TL)","Girdi Maliyet Yüzdesi (%)","Girdi yüzdesi %0,5 altında olan girdiler için %10 sınır kontrolü","Girdi yüzdesi %0,5 altında olan girdiler için %10 sınır kontrolü","SSB/  Müstahsil                (E/H)","YKO (%) (Manuel girilmeli)","Geçerli Yerli Oranı (%)","Yerli Maliyet Tutarı                            (T1)","Yerli Maliyet Tutarı (T1)","Yerli Maliyet Tutarı (T1)","İthal Maliyet Tutarı               (T2)"]
[null,"Doğrudan Girdi                                                         (Dolaylı girdiniz varsa en son 25. sayfaya doldurunuz)"]
[{"$f":"A717+1","v":533},{"$nulls":4},{"$f":"IF(AND(E727<>\"\",U727<>\"\",K727<>0),U727/K727,\"\")","v":""},{"$nulls":4},{"$f":"IF(AND(G727<>0, I727<>0, J727<>0), G727*I727*J727, \"\")","v":""},{"$f":"IF(K727=\"\", \"\", K727/Veriler!$T$1)","v":""},{"$f":"IF(E727<>\"\", \"İthal Girdi\", IF(Veriler!P727=\"\", \"\", IF(Veriler!O727=\"H\", \"%0,5 üzerindedir\", IF(Veriler!P727>0.1, \"%10 sınırı aşılmıştır.\", \"Uygun\"))))","v":"%0,5 üzerindedir"},{"$f":"IF(L727=\"\",\" \",M727)","v":" "},null,null,{"$f":"IFERROR(IF(AND(S727<>\"\",K727<>\"\",K727<>0,S727<>0),S727/K727,\"\"),\" \")","v":""},{"$f":"IFERROR(IF(L727<=0.005,IF(E727=\"\",K727,0),IF(E727<>\"\",0,IF(O727=\"\",0,IF(O727=\"H\",0,IF(P727<Veriler!$F$2,K727*Veriler!$F$2,K727*P727))))),\" \")","v":0},{"$f":"IF(Veriler!P727<=0.1, R727, IF(AND(Veriler!P727>0.1, E727=\"\", O727=\"E\"), IF(P727>Veriler!$F$2, P727*R727, IF(P727<Veriler!$F$2, Veriler!$F$2*R727, P727*R727)), 0))","v":0},{"$f":"IF(S727=0,\" \",S727)","v":" "},{"$f":"IFERROR(IF(N727=\"%10 sınırı aşılmıştır.\",K727-S727,IFERROR(IF(E727=\"\",IF(R727=1,0,IF(K727-R727=0,\"\",K727-R727)),IF(Veriler!I727=\"\",K727,IF(K727*Veriler!I727=0,\"\",K727*Veriler!I727))),K727)),0)","v":""}]
[{"$f":"A727+1","v":534},{"$nulls":4},"",{"$nulls":4},"",{"$f":"IF(K728=\"\", \"\", K728/Veriler!$T$1)","v":""},{"$f":"IF(E728<>\"\", \"İthal Girdi\", IF(Veriler!P728=\"\", \"\", IF(Veriler!O728=\"H\", \"%0,5 üzerindedir\", IF(Veriler!P728>0.1, \"%10 sınırı aşılmıştır.\", \"Uygun\"))))","v":"%0,5 üzerindedir"}," ",null,null,"",{"$f":"IFERROR(IF(L728<=0.005,IF(E728=\"\",K728,0),IF(E728<>\"\",0,IF(O728=\"\",0,IF(O728=\"H\",0,IF(P728<Veriler!$F$2,K728*Veriler!$F$2,K728*P728))))),\" \")","v":0},{"$f":"IF(Veriler!P728<=0.1, R728, IF(AND(Veriler!P728>0.1, E728=\"\", O728=\"E\"), IF(P728>Veriler!$F$2, P728*R728, IF(P728<Veriler!$F$2, Veriler!$F$2*R728, P728*R728)), 0))","v":0}," ",{"$f":"IFERROR(IF(N728=\"%10 sınırı aşılmıştır.\",K728-S728,IFERROR(IF(E728=\"\",IF(R728=1,0,IF(K728-R728=0,\"\",K728-R728)),IF(Veriler!I728=\"\",K728,IF(K728*Veriler!I728=0,\"\",K728*Veriler!I728))),K728)),0)","v":""}]
[{"$f":"A728+1","v":535},{"$nulls":4},"",{"$nulls":4},"",{"$f":"IF(K729=\"\", \"\", K729/Veriler!$T$1)","v":""},{"$f":"IF(E729<>\"\", \"İthal Girdi\", IF(Veriler!P729=\"\", \"\", IF(Veriler!O729=\"H\", \"%0,5 üzerindedir\", IF(Veriler!P729>0.1, \"%10 sınırı aşılmıştır.\", \"Uygun\"))))","v":"%0,5 üzerindedir"}," ",null,null,"",{"$f":"IFERROR(IF(L729<=0.005,IF(E729=\"\",K729,0),IF(E729<>\"\",0,IF(O729=\"\",0,IF(O729=\"H\",0,IF(P729<Veriler!$F$2,K729*Veriler!$F$2,K729*P729))))),\" \")","v":0},{"$f":"IF(Veriler!P729<=0.1, R729, IF(AND(Veriler!P729>0.1, E729=\"\", O729=\"E\"), IF(P729>Veriler!$F$2, P729*R729, IF(P729<Veriler!$F$2, Veriler!$F$2*R729, P729*R729)), 0))","v":0}," ",{"$f":"IFERROR(IF(N729=\"%10 sınırı aşılmıştır.\",K729-S729,IFERROR(IF(E729=\"\",IF(R729=1,0,IF(K729-R729=0,\"\",K729-R729)),IF(Veriler!I729=\"\",K729,IF(K729*Veriler!I729=0,\"\",K729*Veriler!I729))),K729)),0)","v":""}]
[536,{"$nulls":4},"",{"$nulls":4},"",{"$f":"IF(K730=\"\", \"\", K730/Veriler!$T$1)","v":""},{"$f":"IF(E730<>\"\", \"İthal Girdi\", IF(Veriler!P730=\"\", \"\", IF(Veriler!O730=\"H\", \"%0,5 üzerindedir\", IF(Veriler!P730>0.1, \"%10 sınırı aşılmıştır.\", \"Uygun\"))))","v":"%0,5 üzerindedir"}," ",null,null,"",{"$f":"IFERROR(IF(L730<=0.005,IF(E730=\"\",K730,0),IF(E730<>\"\",0,IF(O730=\"\",0,IF(O730=\"H\",0,IF(P730<Veriler!$F$2,K730*Veriler!$F$2,K730*P730))))),\" \")","v":0},{"$f":"IF(Veriler!P730<=0.1, R730, IF(AND(Veriler!P730>0.1, E730=\"\", O730=\"E\"), IF(P730>Veriler!$F$2, P730*R730, IF(P730<Veriler!$F$2, Veriler!$F$2*R730, P730*R730)), 0))","v":0}," ",{"$f":"IFERROR(IF(N730=\"%10 sınırı aşılmıştır.\",K730-S730,IFERROR(IF(E730=\"\",IF(R730=1,0,IF(K730-R730=0,\"\",K730-R730)),IF(Veriler!I730=\"\",K730,IF(K730*Veriler!I730=0,\"\",K730*Veriler!I730))),K730)),0)","v":""}]
[537,{"$nulls":4},"",{"$nulls":4},"",{"$f":"IF(K731=\"\", \"\", K731/Veriler!$T$1)","v":""},{"$f":"IF(E731<>\"\", \"İthal Girdi\", IF(Veriler!P731=\"\", \"\", IF(Veriler!O731=\"H\", \"%0,5 üzerindedir\", IF(Veriler!P731>0.1, \"%10 sınırı aşılmıştır.\", \"Uygun\"))))","v":"%0,5 üzerindedir"}," ",null,null,"",{"$f":"IFERROR(IF(L731<=0.005,IF(E731=\"\",K731,0),IF(E731<>\"\",0,IF(O731=\"\",0,IF(O731=\"H\",0,IF(P731<Veriler!$F$2,K731*Veriler!$F$2,K731*P731))))),\" \")","v":0},{"$f":"IF(Veriler!P731<=0.1, R731, IF(AND(Veriler!P731>0.1, E731=\"\", O731=\"E\"), IF(P731>Veriler!$F$2, P731*R731, IF(P731<Veriler!$F$2, Veriler!$F$2*R731, P731*R731)), 0))","v":0}," ",{"$f":"IFERROR(IF(N731=\"%10 sınırı aşılmıştır.\",K731-S731,IFERROR(IF(E731=\"\",IF(R731=1,0,IF(K731-R731=0,\"\",K731-R731)),IF(Veriler!I731=\"\",K731,IF(K731*Veriler!I731=0,\"\",K731*Veriler!I731))),K731)),0)","v":""}]
[538,{"$nulls":4},"",{"$nulls":4},"",{"$f":"IF(K732=\"\", \"\", K732/Veriler!$T$1)","v":""},{"$f":"IF(E732<>\"\", \"İthal Girdi\", IF(Veriler!P732=\"\", \"\", IF(Veriler!O732=\"H\", \"%0,5 üzerindedir\", IF(Veriler!P732>0.1, \"%10 sınırı aşılmıştır.\", \"Uygun\"))))","v":"%0,5 üzerindedir"}," ",null,null,"",{"$f":"IFERROR(IF(L732<=0.005,IF(E732=\"\",K732,0),IF(E732<>\"\",0,IF(O732=\"\",0,IF(O732=\"H\",0,IF(P732<Veriler!$F$2,K732*Veriler!$F$2,K732*P732))))),\" \")","v":0},{"$f":"IF(Veriler!P732<=0.1, R732, IF(AND(Veriler!P732>0.1, E732=\"\", O732=\"E\"), IF(P732>Veriler!$F$2, P732*R732, IF(P732<Veriler!$F$2, Veriler!$F$2*R732, P732*R732)), 0))","v":0}," ",{"$f":"IFERROR(IF(N732=\"%10 sınırı aşılmıştır.\",K732-S732,IFERROR(IF(E732=\"\",IF(R732=1,0,IF(K732-R732=0,\"\",K732-R732)),IF(Veriler!I732=\"\",K732,IF(K732*Veriler!I732=0,\"\",K732*Veriler!I732))),K732)),0)","v":""}]
[539,{"$nulls":4},"",{"$nulls":4},"",{"$f":"IF(K733=\"\", \"\", K733/Veriler!$T$1)","v":""},{"$f":"IF(E733<>\"\", \"İthal Girdi\", IF(Veriler!P733=\"\", \"\", IF(Veriler!O733=\"H\", \"%0,5 üzerindedir\", IF(Veriler!P733>0.1, \"%10 sınırı aşılmıştır.\", \"Uygun\"))))","v":"%0,5 üzerindedir"}," ",null,null,"",{"$f":"IFERROR(IF(L733<=0.005,IF(E733=\"\",K733,0),IF(E733<>\"\",0,IF(O733=\"\",0,IF(O733=\"H\",0,IF(P733<Veriler!$F$2,K733*Veriler!$F$2,K733*P733))))),\" \")","v":0},{"$f":"IF(Veriler!P733<=0.1, R733, IF(AND(Veriler!P733>0.1, E733=\"\", O733=\"E\"), IF(P733>Veriler!$F$2, P733*R733, IF(P733<Veriler!$F$2, Veriler!$F$2*R733, P733*R733)), 0))","v":0}," ",{"$f":"IFERROR(IF(N733=\"%10 sınırı aşılmıştır.\",K733-S733,IFERROR(IF(E733=\"\",IF(R733=1,0,IF(K733-R733=0,\"\",K733-R733)),IF(Veriler!I733=\"\",K733,IF(K733*Veriler!I733=0,\"\",K733*Veriler!I733))),K733)),0)","v":""}]
[540,{"$nulls":4},"",{"$nulls":4},"",{"$f":"IF(K734=\"\", \"\", K734/Veriler!$T$1)","v":""},{"$f":"IF(E734<>\"\", \"İthal Girdi\", IF(Veriler!P734=\"\", \"\", IF(Veriler!O734=\"H\", \"%0,5 üzerindedir\", IF(Veriler!P734>0.1, \"%10 sınırı aşılmıştır.\", \"Uygun\"))))","v":"%0,5 üzerindedir"}," ",null,null,"",{"$f":"IFERROR(IF(L734<=0.005,IF(E734=\"\",K734,0),IF(E734<>\"\",0,IF(O734=\"\",0,IF(O734=\"H\",0,IF(P734<Veriler!$F$2,K734*Veriler!$F$2,K734*P734))))),\" \")","v":0},{"$f":"IF(Veriler!P734<=0.1, R734, IF(AND(Veriler!P734>0.1, E734=\"\", O734=\"E\"), IF(P734>Veriler!$F$2, P734*R734, IF(P734<Veriler!$F$2, Veriler!$F$2*R734, P734*R734)), 0))","v":0}," ",{"$f":"IFERROR(IF(N734=\"%10 sınırı aşılmıştır.\",K734-S734,IFERROR(IF(E734=\"\",IF(R734=1,0,IF(K734-R734=0,\"\",K734-R734)),IF(Veriler!I734=\"\",K734,IF(K734*Veriler!I734=0,\"\",K734*Veriler!I734))),K734)),0)","v":""}]
[541,{"$nulls":4},"",{"$nulls":4},"",{"$f":"IF(K735=\"\", \"\", K735/Veriler!$T$1)","v":""},{"$f":"IF(E735<>\"\", \"İthal Girdi\", IF(Veriler!P735=\"\", \"\", IF(Veriler!O735=\"H\", \"%0,5 üzerindedir\", IF(Veriler!P735>0.1, \"%10 sınırı aşılmıştır.\", \"Uygun\"))))","v":"%0,5 üzerindedir"}," ",null,null,"",{"$f":"IFERROR(IF(L735<=0.005,IF(E735=\"\",K735,0),IF(E735<>\"\",0,IF(O735=\"\",0,IF(O735=\"H\",0,IF(P735<Veriler!$F$2,K735*Veriler!$F$2,K735*P735))))),\" \")","v":0},{"$f":"IF(Veriler!P735<=0.1, R735, IF(AND(Veriler!P735>0.1, E735=\"\", O735=\"E\"), IF(P735>Veriler!$F$2, P735*R735, IF(P735<Veriler!$F$2, Veriler!$F$2*R735, P735*R735)), 0))","v":0}," ",{"$f":"IFERROR(IF(N735=\"%10 sınırı aşılmıştır.\",K735-S735,IFERROR(IF(E735=\"\",IF(R735=1,0,IF(K735-R735=0,\"\",K735-R735)),IF(Veriler!I735=\"\",K735,IF(K735*Veriler!I735=0,\"\",K735*Veriler!I735))),K735)),0)","v":""}]
[542,{"$nulls":4},"",{"$nulls":4},"",{"$f":"IF(K736=\"\", \"\", K736/Veriler!$T$1)","v":""},{"$f":"IF(E736<>\"\", \"İthal Girdi\", IF(Veriler!P736=\"\", \"\", IF(Veriler!O736=\"H\", \"%0,5 üzerindedir\", IF(Veriler!P736>0.1, \"%10 sınırı aşılmıştır.\", \"Uygun\"))))","v":"%0,5 üzerindedir"}," ",null,null,"",{"$f":"IFERROR(IF(L736<=0.005,IF(E736=\"\",K736,0),IF(E736<>\"\",0,IF(O736=\"\",0,IF(O736=\"H\",0,IF(P736<Veriler!$F$2,K736*Veriler!$F$2,K736*P736))))),\" \")","v":0},{"$f":"IF(Veriler!P736<=0.1, R736, IF(AND(Veriler!P736>0.1, E736=\"\", O736=\"E\"), IF(P736>Veriler!$F$2, P736*R736, IF(P736<Veriler!$F$2, Veriler!$F$2*R736, P736*R736)), 0))","v":0}," ",{"$f":"IFERROR(IF(N736=\"%10 sınırı aşılmıştır.\",K736-S736,IFERROR(IF(E736=\"\",IF(R736=1,0,IF(K736-R736=0,\"\",K736-R736)),IF(Veriler!I736=\"\",K736,IF(K736*Veriler!I736=0,\"\",K736*Veriler!I736))),K736)),0)","v":""}]
[543,{"$nulls":4},"",{"$nulls":4},"",{"$f":"IF(K737=\"\", \"\", K737/Veriler!$T$1)","v":""},{"$f":"IF(E737<>\"\", \"İthal Girdi\", IF(Veriler!P737=\"\", \"\", IF(Veriler!O737=\"H\", \"%0,5 üzerindedir\", IF(Veriler!P737>0.1, \"%10 sınırı aşılmıştır.\", \"Uygun\"))))","v":"%0,5 üzerindedir"}," ",null,null,"",{"$f":"IFERROR(IF(L737<=0.005,IF(E737=\"\",K737,0),IF(E737<>\"\",0,IF(O737=\"\",0,IF(O737=\"H\",0,IF(P737<Veriler!$F$2,K737*Veriler!$F$2,K737*P737))))),\" \")","v":0},{"$f":"IF(Veriler!P737<=0.1, R737, IF(AND(Veriler!P737>0.1, E737=\"\", O737=\"E\"), IF(P737>Veriler!$F$2, P737*R737, IF(P737<Veriler!$F$2, Veriler!$F$2*R737, P737*R737)), 0))","v":0}," ",{"$f":"IFERROR(IF(N737=\"%10 sınırı aşılmıştır.\",K737-S737,IFERROR(IF(E737=\"\",IF(R737=1,0,IF(K737-R737=0,\"\",K737-R737)),IF(Veriler!I737=\"\",K737,IF(K737*Veriler!I737=0,\"\",K737*Veriler!I737))),K737)),0)","v":""}]
[544,{"$nulls":4},"",{"$nulls":4},"",{"$f":"IF(K738=\"\", \"\", K738/Veriler!$T$1)","v":""},{"$f":"IF(E738<>\"\", \"İthal Girdi\", IF(Veriler!P738=\"\", \"\", IF(Veriler!O738=\"H\", \"%0,5 üzerindedir\", IF(Veriler!P738>0.1, \"%10 sınırı aşılmıştır.\", \"Uygun\"))))","v":"%0,5 üzerindedir"}," ",null,null,"",{"$f":"IFERROR(IF(L738<=0.005,IF(E738=\"\",K738,0),IF(E738<>\"\",0,IF(O738=\"\",0,IF(O738=\"H\",0,IF(P738<Veriler!$F$2,K738*Veriler!$F$2,K738*P738))))),\" \")","v":0},{"$f":"IF(Veriler!P738<=0.1, R738, IF(AND(Veriler!P738>0.1, E738=\"\", O738=\"E\"), IF(P738>Veriler!$F$2, P738*R738, IF(P738<Veriler!$F$2, Veriler!$F$2*R738, P738*R738)), 0))","v":0}," ",{"$f":"IFERROR(IF(N738=\"%10 sınırı aşılmıştır.\",K738-S738,IFERROR(IF(E738=\"\",IF(R738=1,0,IF(K738-R738=0,\"\",K738-R738)),IF(Veriler!I738=\"\",K738,IF(K738*Veriler!I738=0,\"\",K738*Veriler!I738))),K738)),0)","v":""}]
[545,{"$nulls":4},"",{"$nulls":4},"",{"$f":"IF(K739=\"\", \"\", K739/Veriler!$T$1)","v":""},{"$f":"IF(E739<>\"\", \"İthal Girdi\", IF(Veriler!P739=\"\", \"\", IF(Veriler!O739=\"H\", \"%0,5 üzerindedir\", IF(Veriler!P739>0.1, \"%10 sınırı aşılmıştır.\", \"Uygun\"))))","v":"%0,5 üzerindedir"}," ",null,null,"",{"$f":"IFERROR(IF(L739<=0.005,IF(E739=\"\",K739,0),IF(E739<>\"\",0,IF(O739=\"\",0,IF(O739=\"H\",0,IF(P739<Veriler!$F$2,K739*Veriler!$F$2,K739*P739))))),\" \")","v":0},{"$f":"IF(Veriler!P739<=0.1, R739, IF(AND(Veriler!P739>0.1, E739=\"\", O739=\"E\"), IF(P739>Veriler!$F$2, P739*R739, IF(P739<Veriler!$F$2, Veriler!$F$2*R739, P739*R739)), 0))","v":0}," ",{"$f":"IFERROR(IF(N739=\"%10 sınırı aşılmıştır.\",K739-S739,IFERROR(IF(E739=\"\",IF(R739=1,0,IF(K739-R739=0,\"\",K739-R739)),IF(Veriler!I739=\"\",K739,IF(K739*Veriler!I739=0,\"\",K739*Veriler!I739))),K739)),0)","v":""}]
[546,{"$nulls":4},"",{"$nulls":4},"",{"$f":"IF(K740=\"\", \"\", K740/Veriler!$T$1)","v":""},{"$f":"IF(E740<>\"\", \"İthal Girdi\", IF(Veriler!P740=\"\", \"\", IF(Veriler!O740=\"H\", \"%0,5 üzerindedir\", IF(Veriler!P740>0.1, \"%10 sınırı aşılmıştır.\", \"Uygun\"))))","v":"%0,5 üzerindedir"}," ",null,null,"",{"$f":"IFERROR(IF(L740<=0.005,IF(E740=\"\",K740,0),IF(E740<>\"\",0,IF(O740=\"\",0,IF(O740=\"H\",0,IF(P740<Veriler!$F$2,K740*Veriler!$F$2,K740*P740))))),\" \")","v":0},{"$f":"IF(Veriler!P740<=0.1, R740, IF(AND(Veriler!P740>0.1, E740=\"\", O740=\"E\"), IF(P740>Veriler!$F$2, P740*R740, IF(P740<Veriler!$F$2, Veriler!$F$2*R740, P740*R740)), 0))","v":0}," ",{"$f":"IFERROR(IF(N740=\"%10 sınırı aşılmıştır.\",K740-S740,IFERROR(IF(E740=\"\",IF(R740=1,0,IF(K740-R740=0,\"\",K740-R740)),IF(Veriler!I740=\"\",K740,IF(K740*Veriler!I740=0,\"\",K740*Veriler!I740))),K740)),0)","v":""}]
[null,"Dolaylı"]
[{"$f":"A740+1","v":547},{"$nulls":4},{"$f":"IF(AND(E742<>\"\",U742<>\"\",K742<>0),U742/K742,\"\")","v":""},{"$nulls":4},{"$f":"IF(AND(G742<>0, I742<>0, J742<>0), G742*I742*J742, \"\")","v":""},{"$f":"IF(K742=\"\", \"\", K742/Veriler!$T$1)","v":""},{"$f":"IF(E742<>\"\", \"İthal Girdi\", IF(Veriler!P742=\"\", \"\", IF(Veriler!O742=\"H\", \"%0,5 üzerindedir\", IF(Veriler!P742>0.1, \"%10 sınırı aşılmıştır.\", \"Uygun\"))))","v":"%0,5 üzerindedir"},{"$f":"IF(L742=\"\",\" \",M742)","v":" "},null,null,{"$f":"IFERROR(IF(AND(S742<>\"\",K742<>\"\",K742<>0,S742<>0),S742/K742,\"\"),\" \")","v":""},{"$f":"IFERROR(IF(L742<=0.005,IF(E742=\"\",K742,0),IF(E742<>\"\",0,IF(O742=\"\",0,IF(O742=\"H\",0,IF(P742<Veriler!$F$2,K742*Veriler!$F$2,K742*P742))))),\" \")","v":0},{"$f":"IF(Veriler!P742<=0.1, R742, IF(AND(Veriler!P742>0.1, E742=\"\", O742=\"E\"), IF(P742>Veriler!$F$2, P742*R742, IF(P742<Veriler!$F$2, Veriler!$F$2*R742, P742*R742)), 0))","v":0},{"$f":"IF(S742=0,\" \",S742)","v":" "},{"$f":"IFERROR(IF(N742=\"%10 sınırı aşılmıştır.\",K742-S742,IFERROR(IF(E742=\"\",IF(R742=1,0,IF(K742-R742=0,\"\",K742-R742)),IF(Veriler!I742=\"\",K742,IF(K742*Veriler!I742=0,\"\",K742*Veriler!I742))),K742)),0)","v":""}]
[{"$f":"A742+1","v":548},{"$nulls":4},"",{"$nulls":4},"",{"$f":"IF(K743=\"\", \"\", K743/Veriler!$T$1)","v":""},{"$f":"IF(E743<>\"\", \"İthal Girdi\", IF(Veriler!P743=\"\", \"\", IF(Veriler!O743=\"H\", \"%0,5 üzerindedir\", IF(Veriler!P743>0.1, \"%10 sınırı aşılmıştır.\", \"Uygun\"))))","v":"%0,5 üzerindedir"}," ",null,null,"",{"$f":"IFERROR(IF(L743<=0.005,IF(E743=\"\",K743,0),IF(E743<>\"\",0,IF(O743=\"\",0,IF(O743=\"H\",0,IF(P743<Veriler!$F$2,K743*Veriler!$F$2,K743*P743))))),\" \")","v":0},{"$f":"IF(Veriler!P743<=0.1, R743, IF(AND(Veriler!P743>0.1, E743=\"\", O743=\"E\"), IF(P743>Veriler!$F$2, P743*R743, IF(P743<Veriler!$F$2, Veriler!$F$2*R743, P743*R743)), 0))","v":0}," ",{"$f":"IFERROR(IF(N743=\"%10 sınırı aşılmıştır.\",K743-S743,IFERROR(IF(E743=\"\",IF(R743=1,0,IF(K743-R743=0,\"\",K743-R743)),IF(Veriler!I743=\"\",K743,IF(K743*Veriler!I743=0,\"\",K743*Veriler!I743))),K743)),0)","v":""}]
[{"$f":"A743+1","v":549},{"$nulls":4},"",{"$nulls":4},"",{"$f":"IF(K744=\"\", \"\", K744/Veriler!$T$1)","v":""},{"$f":"IF(E744<>\"\", \"İthal Girdi\", IF(Veriler!P744=\"\", \"\", IF(Veriler!O744=\"H\", \"%0,5 üzerindedir\", IF(Veriler!P744>0.1, \"%10 sınırı aşılmıştır.\", \"Uygun\"))))","v":"%0,5 üzerindedir"}," ",null,null,"",{"$f":"IFERROR(IF(L744<=0.005,IF(E744=\"\",K744,0),IF(E744<>\"\",0,IF(O744=\"\",0,IF(O744=\"H\",0,IF(P744<Veriler!$F$2,K744*Veriler!$F$2,K744*P744))))),\" \")","v":0},{"$f":"IF(Veriler!P744<=0.1, R744, IF(AND(Veriler!P744>0.1, E744=\"\", O744=\"E\"), IF(P744>Veriler!$F$2, P744*R744, IF(P744<Veriler!$F$2, Veriler!$F$2*R744, P744*R744)), 0))","v":0}," ",{"$f":"IFERROR(IF(N744=\"%10 sınırı aşılmıştır.\",K744-S744,IFERROR(IF(E744=\"\",IF(R744=1,0,IF(K744-R744=0,\"\",K744-R744)),IF(Veriler!I744=\"\",K744,IF(K744*Veriler!I744=0,\"\",K744*Veriler!I744))),K744)),0)","v":""}]
[550,{"$nulls":4},"",{"$nulls":4},"",{"$f":"IF(K745=\"\", \"\", K745/Veriler!$T$1)","v":""},{"$f":"IF(E745<>\"\", \"İthal Girdi\", IF(Veriler!P745=\"\", \"\", IF(Veriler!O745=\"H\", \"%0,5 üzerindedir\", IF(Veriler!P745>0.1, \"%10 sınırı aşılmıştır.\", \"Uygun\"))))","v":"%0,5 üzerindedir"}," ",null,null,"",{"$f":"IFERROR(IF(L745<=0.005,IF(E745=\"\",K745,0),IF(E745<>\"\",0,IF(O745=\"\",0,IF(O745=\"H\",0,IF(P745<Veriler!$F$2,K745*Veriler!$F$2,K745*P745))))),\" \")","v":0},{"$f":"IF(Veriler!P745<=0.1, R745, IF(AND(Veriler!P745>0.1, E745=\"\", O745=\"E\"), IF(P745>Veriler!$F$2, P745*R745, IF(P745<Veriler!$F$2, Veriler!$F$2*R745, P745*R745)), 0))","v":0}," ",{"$f":"IFERROR(IF(N745=\"%10 sınırı aşılmıştır.\",K745-S745,IFERROR(IF(E745=\"\",IF(R745=1,0,IF(K745-R745=0,\"\",K745-R745)),IF(Veriler!I745=\"\",K745,IF(K745*Veriler!I745=0,\"\",K745*Veriler!I745))),K745)),0)","v":""}]
[551,{"$nulls":4},"",{"$nulls":4},"",{"$f":"IF(K746=\"\", \"\", K746/Veriler!$T$1)","v":""},{"$f":"IF(E746<>\"\", \"İthal Girdi\", IF(Veriler!P746=\"\", \"\", IF(Veriler!O746=\"H\", \"%0,5 üzerindedir\", IF(Veriler!P746>0.1, \"%10 sınırı aşılmıştır.\", \"Uygun\"))))","v":"%0,5 üzerindedir"}," ",null,null,"",{"$f":"IFERROR(IF(L746<=0.005,IF(E746=\"\",K746,0),IF(E746<>\"\",0,IF(O746=\"\",0,IF(O746=\"H\",0,IF(P746<Veriler!$F$2,K746*Veriler!$F$2,K746*P746))))),\" \")","v":0},{"$f":"IF(Veriler!P746<=0.1, R746, IF(AND(Veriler!P746>0.1, E746=\"\", O746=\"E\"), IF(P746>Veriler!$F$2, P746*R746, IF(P746<Veriler!$F$2, Veriler!$F$2*R746, P746*R746)), 0))","v":0}," ",{"$f":"IFERROR(IF(N746=\"%10 sınırı aşılmıştır.\",K746-S746,IFERROR(IF(E746=\"\",IF(R746=1,0,IF(K746-R746=0,\"\",K746-R746)),IF(Veriler!I746=\"\",K746,IF(K746*Veriler!I746=0,\"\",K746*Veriler!I746))),K746)),0)","v":""}]
[552,{"$nulls":4},"",{"$nulls":4},"",{"$f":"IF(K747=\"\", \"\", K747/Veriler!$T$1)","v":""},{"$f":"IF(E747<>\"\", \"İthal Girdi\", IF(Veriler!P747=\"\", \"\", IF(Veriler!O747=\"H\", \"%0,5 üzerindedir\", IF(Veriler!P747>0.1, \"%10 sınırı aşılmıştır.\", \"Uygun\"))))","v":"%0,5 üzerindedir"}," ",null,null,"",{"$f":"IFERROR(IF(L747<=0.005,IF(E747=\"\",K747,0),IF(E747<>\"\",0,IF(O747=\"\",0,IF(O747=\"H\",0,IF(P747<Veriler!$F$2,K747*Veriler!$F$2,K747*P747))))),\" \")","v":0},{"$f":"IF(Veriler!P747<=0.1, R747, IF(AND(Veriler!P747>0.1, E747=\"\", O747=\"E\"), IF(P747>Veriler!$F$2, P747*R747, IF(P747<Veriler!$F$2, Veriler!$F$2*R747, P747*R747)), 0))","v":0}," ",{"$f":"IFERROR(IF(N747=\"%10 sınırı aşılmıştır.\",K747-S747,IFERROR(IF(E747=\"\",IF(R747=1,0,IF(K747-R747=0,\"\",K747-R747)),IF(Veriler!I747=\"\",K747,IF(K747*Veriler!I747=0,\"\",K747*Veriler!I747))),K747)),0)","v":""}]
[553,{"$nulls":4},"",{"$nulls":4},"",{"$f":"IF(K748=\"\", \"\", K748/Veriler!$T$1)","v":""},{"$f":"IF(E748<>\"\", \"İthal Girdi\", IF(Veriler!P748=\"\", \"\", IF(Veriler!O748=\"H\", \"%0,5 üzerindedir\", IF(Veriler!P748>0.1, \"%10 sınırı aşılmıştır.\", \"Uygun\"))))","v":"%0,5 üzerindedir"}," ",null,null,"",{"$f":"IFERROR(IF(L748<=0.005,IF(E748=\"\",K748,0),IF(E748<>\"\",0,IF(O748=\"\",0,IF(O748=\"H\",0,IF(P748<Veriler!$F$2,K748*Veriler!$F$2,K748*P748))))),\" \")","v":0},{"$f":"IF(Veriler!P748<=0.1, R748, IF(AND(Veriler!P748>0.1, E748=\"\", O748=\"E\"), IF(P748>Veriler!$F$2, P748*R748, IF(P748<Veriler!$F$2, Veriler!$F$2*R748, P748*R748)), 0))","v":0}," ",{"$f":"IFERROR(IF(N748=\"%10 sınırı aşılmıştır.\",K748-S748,IFERROR(IF(E748=\"\",IF(R748=1,0,IF(K748-R748=0,\"\",K748-R748)),IF(Veriler!I748=\"\",K748,IF(K748*Veriler!I748=0,\"\",K748*Veriler!I748))),K748)),0)","v":""}]
[554,{"$nulls":4},"",{"$nulls":4},"",{"$f":"IF(K749=\"\", \"\", K749/Veriler!$T$1)","v":""},{"$f":"IF(E749<>\"\", \"İthal Girdi\", IF(Veriler!P749=\"\", \"\", IF(Veriler!O749=\"H\", \"%0,5 üzerindedir\", IF(Veriler!P749>0.1, \"%10 sınırı aşılmıştır.\", \"Uygun\"))))","v":"%0,5 üzerindedir"}," ",null,null,"",{"$f":"IFERROR(IF(L749<=0.005,IF(E749=\"\",K749,0),IF(E749<>\"\",0,IF(O749=\"\",0,IF(O749=\"H\",0,IF(P749<Veriler!$F$2,K749*Veriler!$F$2,K749*P749))))),\" \")","v":0},{"$f":"IF(Veriler!P749<=0.1, R749, IF(AND(Veriler!P749>0.1, E749=\"\", O749=\"E\"), IF(P749>Veriler!$F$2, P749*R749, IF(P749<Veriler!$F$2, Veriler!$F$2*R749, P749*R749)), 0))","v":0}," ",{"$f":"IFERROR(IF(N749=\"%10 sınırı aşılmıştır.\",K749-S749,IFERROR(IF(E749=\"\",IF(R749=1,0,IF(K749-R749=0,\"\",K749-R749)),IF(Veriler!I749=\"\",K749,IF(K749*Veriler!I749=0,\"\",K749*Veriler!I749))),K749)),0)","v":""}]
[555,{"$nulls":4},"",{"$nulls":4},"",{"$f":"IF(K750=\"\", \"\", K750/Veriler!$T$1)","v":""},{"$f":"IF(E750<>\"\", \"İthal Girdi\", IF(Veriler!P750=\"\", \"\", IF(Veriler!O750=\"H\", \"%0,5 üzerindedir\", IF(Veriler!P750>0.1, \"%10 sınırı aşılmıştır.\", \"Uygun\"))))","v":"%0,5 üzerindedir"}," ",null,null,"",{"$f":"IFERROR(IF(L750<=0.005,IF(E750=\"\",K750,0),IF(E750<>\"\",0,IF(O750=\"\",0,IF(O750=\"H\",0,IF(P750<Veriler!$F$2,K750*Veriler!$F$2,K750*P750))))),\" \")","v":0},{"$f":"IF(Veriler!P750<=0.1, R750, IF(AND(Veriler!P750>0.1, E750=\"\", O750=\"E\"), IF(P750>Veriler!$F$2, P750*R750, IF(P750<Veriler!$F$2, Veriler!$F$2*R750, P750*R750)), 0))","v":0}," ",{"$f":"IFERROR(IF(N750=\"%10 sınırı aşılmıştır.\",K750-S750,IFERROR(IF(E750=\"\",IF(R750=1,0,IF(K750-R750=0,\"\",K750-R750)),IF(Veriler!I750=\"\",K750,IF(K750*Veriler!I750=0,\"\",K750*Veriler!I750))),K750)),0)","v":""}]
[556,{"$nulls":4},"",{"$nulls":4},"",{"$f":"IF(K751=\"\", \"\", K751/Veriler!$T$1)","v":""},{"$f":"IF(E751<>\"\", \"İthal Girdi\", IF(Veriler!P751=\"\", \"\", IF(Veriler!O751=\"H\", \"%0,5 üzerindedir\", IF(Veriler!P751>0.1, \"%10 sınırı aşılmıştır.\", \"Uygun\"))))","v":"%0,5 üzerindedir"}," ",null,null,"",{"$f":"IFERROR(IF(L751<=0.005,IF(E751=\"\",K751,0),IF(E751<>\"\",0,IF(O751=\"\",0,IF(O751=\"H\",0,IF(P751<Veriler!$F$2,K751*Veriler!$F$2,K751*P751))))),\" \")","v":0},{"$f":"IF(Veriler!P751<=0.1, R751, IF(AND(Veriler!P751>0.1, E751=\"\", O751=\"E\"), IF(P751>Veriler!$F$2, P751*R751, IF(P751<Veriler!$F$2, Veriler!$F$2*R751, P751*R751)), 0))","v":0}," ",{"$f":"IFERROR(IF(N751=\"%10 sınırı aşılmıştır.\",K751-S751,IFERROR(IF(E751=\"\",IF(R751=1,0,IF(K751-R751=0,\"\",K751-R751)),IF(Veriler!I751=\"\",K751,IF(K751*Veriler!I751=0,\"\",K751*Veriler!I751))),K751)),0)","v":""}]
[557,{"$nulls":4},"",{"$nulls":4},"",{"$f":"IF(K752=\"\", \"\", K752/Veriler!$T$1)","v":""},{"$f":"IF(E752<>\"\", \"İthal Girdi\", IF(Veriler!P752=\"\", \"\", IF(Veriler!O752=\"H\", \"%0,5 üzerindedir\", IF(Veriler!P752>0.1, \"%10 sınırı aşılmıştır.\", \"Uygun\"))))","v":"%0,5 üzerindedir"}," ",null,null,"",{"$f":"IFERROR(IF(L752<=0.005,IF(E752=\"\",K752,0),IF(E752<>\"\",0,IF(O752=\"\",0,IF(O752=\"H\",0,IF(P752<Veriler!$F$2,K752*Veriler!$F$2,K752*P752))))),\" \")","v":0},{"$f":"IF(Veriler!P752<=0.1, R752, IF(AND(Veriler!P752>0.1, E752=\"\", O752=\"E\"), IF(P752>Veriler!$F$2, P752*R752, IF(P752<Veriler!$F$2, Veriler!$F$2*R752, P752*R752)), 0))","v":0}," ",{"$f":"IFERROR(IF(N752=\"%10 sınırı aşılmıştır.\",K752-S752,IFERROR(IF(E752=\"\",IF(R752=1,0,IF(K752-R752=0,\"\",K752-R752)),IF(Veriler!I752=\"\",K752,IF(K752*Veriler!I752=0,\"\",K752*Veriler!I752))),K752)),0)","v":""}]
[558,{"$nulls":4},"",{"$nulls":4},"",{"$f":"IF(K753=\"\", \"\", K753/Veriler!$T$1)","v":""},{"$f":"IF(E753<>\"\", \"İthal Girdi\", IF(Veriler!P753=\"\", \"\", IF(Veriler!O753=\"H\", \"%0,5 üzerindedir\", IF(Veriler!P753>0.1, \"%10 sınırı aşılmıştır.\", \"Uygun\"))))","v":"%0,5 üzerindedir"}," ",null,null,"",{"$f":"IFERROR(IF(L753<=0.005,IF(E753=\"\",K753,0),IF(E753<>\"\",0,IF(O753=\"\",0,IF(O753=\"H\",0,IF(P753<Veriler!$F$2,K753*Veriler!$F$2,K753*P753))))),\" \")","v":0},{"$f":"IF(Veriler!P753<=0.1, R753, IF(AND(Veriler!P753>0.1, E753=\"\", O753=\"E\"), IF(P753>Veriler!$F$2, P753*R753, IF(P753<Veriler!$F$2, Veriler!$F$2*R753, P753*R753)), 0))","v":0}," ",{"$f":"IFERROR(IF(N753=\"%10 sınırı aşılmıştır.\",K753-S753,IFERROR(IF(E753=\"\",IF(R753=1,0,IF(K753-R753=0,\"\",K753-R753)),IF(Veriler!I753=\"\",K753,IF(K753*Veriler!I753=0,\"\",K753*Veriler!I753))),K753)),0)","v":""}]
[559,{"$nulls":4},"",{"$nulls":4},"",{"$f":"IF(K754=\"\", \"\", K754/Veriler!$T$1)","v":""},{"$f":"IF(E754<>\"\", \"İthal Girdi\", IF(Veriler!P754=\"\", \"\", IF(Veriler!O754=\"H\", \"%0,5 üzerindedir\", IF(Veriler!P754>0.1, \"%10 sınırı aşılmıştır.\", \"Uygun\"))))","v":"%0,5 üzerindedir"}," ",null,null,"",{"$f":"IFERROR(IF(L754<=0.005,IF(E754=\"\",K754,0),IF(E754<>\"\",0,IF(O754=\"\",0,IF(O754=\"H\",0,IF(P754<Veriler!$F$2,K754*Veriler!$F$2,K754*P754))))),\" \")","v":0},{"$f":"IF(Veriler!P754<=0.1, R754, IF(AND(Veriler!P754>0.1, E754=\"\", O754=\"E\"), IF(P754>Veriler!$F$2, P754*R754, IF(P754<Veriler!$F$2, Veriler!$F$2*R754, P754*R754)), 0))","v":0}," ",{"$f":"IFERROR(IF(N754=\"%10 sınırı aşılmıştır.\",K754-S754,IFERROR(IF(E754=\"\",IF(R754=1,0,IF(K754-R754=0,\"\",K754-R754)),IF(Veriler!I754=\"\",K754,IF(K754*Veriler!I754=0,\"\",K754*Veriler!I754))),K754)),0)","v":""}]
[560,{"$nulls":4},"",{"$nulls":4},"",{"$f":"IF(K755=\"\", \"\", K755/Veriler!$T$1)","v":""},{"$f":"IF(E755<>\"\", \"İthal Girdi\", IF(Veriler!P755=\"\", \"\", IF(Veriler!O755=\"H\", \"%0,5 üzerindedir\", IF(Veriler!P755>0.1, \"%10 sınırı aşılmıştır.\", \"Uygun\"))))","v":"%0,5 üzerindedir"}," ",null,null,"",{"$f":"IFERROR(IF(L755<=0.005,IF(E755=\"\",K755,0),IF(E755<>\"\",0,IF(O755=\"\",0,IF(O755=\"H\",0,IF(P755<Veriler!$F$2,K755*Veriler!$F$2,K755*P755))))),\" \")","v":0},{"$f":"IF(Veriler!P755<=0.1, R755, IF(AND(Veriler!P755>0.1, E755=\"\", O755=\"E\"), IF(P755>Veriler!$F$2, P755*R755, IF(P755<Veriler!$F$2, Veriler!$F$2*R755, P755*R755)), 0))","v":0}," ",{"$f":"IFERROR(IF(N755=\"%10 sınırı aşılmıştır.\",K755-S755,IFERROR(IF(E755=\"\",IF(R755=1,0,IF(K755-R755=0,\"\",K755-R755)),IF(Veriler!I755=\"\",K755,IF(K755*Veriler!I755=0,\"\",K755*Veriler!I755))),K755)),0)","v":""}]
[{"$nulls":10},{"$f":"SUM(K727:K740,K742:K755)","v":0}]
[{"$nulls":17},"T1","T1","T1","T2"]
["Sayfa Toplamı (TL)  *(Genel Dip Toplam Ek.3-D sayfasında otomatik hesaplanacaktır.)",{"$nulls":16},{"$f":"IF(SUM(#REF!,R727:R740,R742:R755)=0,\"\",SUM(#REF!,R727:R740,R742:R755))","v":{"$error":"#REF!"}},{"$f":"IF(SUM(S727:S740,S742:S755)=0,\" \",SUM(S727:S740,S742:S755))","v":" "},{"$f":"IF(SUM(T727:T740,T742:T755)=0,\" \",SUM(T727:T740,T742:T755))","v":" "},{"$f":"IF(SUM(U727:U740,U742:U755)=0,\" \",SUM(U727:U740,U742:U755))","v":" "}]
[]
[{"$f":"A798","v":"R02"}]
["YERLİ KATKI ORANI HESAP CETVELİ                      ",{"$nulls":13},false]
["A) Nihai Ürün Doğrudan ve Dolaylı Malzeme Giderleri                                                                                                                                                                                                                                                                                                                                                                                                                                         ",{"$nulls":18},"S",{"$f":"U724+1","v":21}]
["Sıra No","Malzeme adı / Faturadaki Ürün Adı",null,"Üretici Unvanı","GTİP Kodu                             (İthal girdiler için)","Gtip Katsayısı","Miktar ","Birim","Fiyatı \n(TL/Döviz)\n","Döviz Kuru               (TL ise 1 alınız)","Fatura Tutarı (TL)","Girdi Maliyet Yüzdesi (%)","Girdi yüzdesi %0,5 altında olan girdiler için %10 sınır kontrolü","Girdi yüzdesi %0,5 altında olan girdiler için %10 sınır kontrolü","SSB/  Müstahsil                (E/H)","YKO (%) (Manuel girilmeli)","Geçerli Yerli Oranı (%)","Yerli Maliyet Tutarı                            (T1)","Yerli Maliyet Tutarı (T1)","Yerli Maliyet Tutarı (T1)","İthal Maliyet Tutarı               (T2)"]
[null,"Doğrudan Girdi                                                         (Dolaylı girdiniz varsa en son 25. sayfaya doldurunuz)"]
[{"$f":"A755+1","v":561},{"$nulls":4},{"$f":"IF(AND(E765<>\"\",U765<>\"\",K765<>0),U765/K765,\"\")","v":""},{"$nulls":4},{"$f":"IF(AND(G765<>0, I765<>0, J765<>0), G765*I765*J765, \"\")","v":""},{"$f":"IF(K765=\"\", \"\", K765/Veriler!$T$1)","v":""},{"$f":"IF(E765<>\"\", \"İthal Girdi\", IF(Veriler!P765=\"\", \"\", IF(Veriler!O765=\"H\", \"%0,5 üzerindedir\", IF(Veriler!P765>0.1, \"%10 sınırı aşılmıştır.\", \"Uygun\"))))","v":"%0,5 üzerindedir"},{"$f":"IF(L765=\"\",\" \",M765)","v":" "},null,null,{"$f":"IFERROR(IF(AND(S765<>\"\",K765<>\"\",K765<>0,S765<>0),S765/K765,\"\"),\" \")","v":""},{"$f":"IFERROR(IF(L765<=0.005,IF(E765=\"\",K765,0),IF(E765<>\"\",0,IF(O765=\"\",0,IF(O765=\"H\",0,IF(P765<Veriler!$F$2,K765*Veriler!$F$2,K765*P765))))),\" \")","v":0},{"$f":"IF(Veriler!P765<=0.1, R765, IF(AND(Veriler!P765>0.1, E765=\"\", O765=\"E\"), IF(P765>Veriler!$F$2, P765*R765, IF(P765<Veriler!$F$2, Veriler!$F$2*R765, P765*R765)), 0))","v":0},{"$f":"IF(S765=0,\" \",S765)","v":" "},{"$f":"IFERROR(IF(N765=\"%10 sınırı aşılmıştır.\",K765-S765,IFERROR(IF(E765=\"\",IF(R765=1,0,IF(K765-R765=0,\"\",K765-R765)),IF(Veriler!I765=\"\",K765,IF(K765*Veriler!I765=0,\"\",K765*Veriler!I765))),K765)),0)","v":""}]
[{"$f":"A765+1","v":562},{"$nulls":4},"",{"$nulls":4},"",{"$f":"IF(K766=\"\", \"\", K766/Veriler!$T$1)","v":""},{"$f":"IF(E766<>\"\", \"İthal Girdi\", IF(Veriler!P766=\"\", \"\", IF(Veriler!O766=\"H\", \"%0,5 üzerindedir\", IF(Veriler!P766>0.1, \"%10 sınırı aşılmıştır.\", \"Uygun\"))))","v":"%0,5 üzerindedir"}," ",null,null,"",{"$f":"IFERROR(IF(L766<=0.005,IF(E766=\"\",K766,0),IF(E766<>\"\",0,IF(O766=\"\",0,IF(O766=\"H\",0,IF(P766<Veriler!$F$2,K766*Veriler!$F$2,K766*P766))))),\" \")","v":0},{"$f":"IF(Veriler!P766<=0.1, R766, IF(AND(Veriler!P766>0.1, E766=\"\", O766=\"E\"), IF(P766>Veriler!$F$2, P766*R766, IF(P766<Veriler!$F$2, Veriler!$F$2*R766, P766*R766)), 0))","v":0}," ",{"$f":"IFERROR(IF(N766=\"%10 sınırı aşılmıştır.\",K766-S766,IFERROR(IF(E766=\"\",IF(R766=1,0,IF(K766-R766=0,\"\",K766-R766)),IF(Veriler!I766=\"\",K766,IF(K766*Veriler!I766=0,\"\",K766*Veriler!I766))),K766)),0)","v":""}]
[{"$f":"A766+1","v":563},{"$nulls":4},"",{"$nulls":4},"",{"$f":"IF(K767=\"\", \"\", K767/Veriler!$T$1)","v":""},{"$f":"IF(E767<>\"\", \"İthal Girdi\", IF(Veriler!P767=\"\", \"\", IF(Veriler!O767=\"H\", \"%0,5 üzerindedir\", IF(Veriler!P767>0.1, \"%10 sınırı aşılmıştır.\", \"Uygun\"))))","v":"%0,5 üzerindedir"}," ",null,null,"",{"$f":"IFERROR(IF(L767<=0.005,IF(E767=\"\",K767,0),IF(E767<>\"\",0,IF(O767=\"\",0,IF(O767=\"H\",0,IF(P767<Veriler!$F$2,K767*Veriler!$F$2,K767*P767))))),\" \")","v":0},{"$f":"IF(Veriler!P767<=0.1, R767, IF(AND(Veriler!P767>0.1, E767=\"\", O767=\"E\"), IF(P767>Veriler!$F$2, P767*R767, IF(P767<Veriler!$F$2, Veriler!$F$2*R767, P767*R767)), 0))","v":0}," ",{"$f":"IFERROR(IF(N767=\"%10 sınırı aşılmıştır.\",K767-S767,IFERROR(IF(E767=\"\",IF(R767=1,0,IF(K767-R767=0,\"\",K767-R767)),IF(Veriler!I767=\"\",K767,IF(K767*Veriler!I767=0,\"\",K767*Veriler!I767))),K767)),0)","v":""}]
[564,{"$nulls":4},"",{"$nulls":4},"",{"$f":"IF(K768=\"\", \"\", K768/Veriler!$T$1)","v":""},{"$f":"IF(E768<>\"\", \"İthal Girdi\", IF(Veriler!P768=\"\", \"\", IF(Veriler!O768=\"H\", \"%0,5 üzerindedir\", IF(Veriler!P768>0.1, \"%10 sınırı aşılmıştır.\", \"Uygun\"))))","v":"%0,5 üzerindedir"}," ",null,null,"",{"$f":"IFERROR(IF(L768<=0.005,IF(E768=\"\",K768,0),IF(E768<>\"\",0,IF(O768=\"\",0,IF(O768=\"H\",0,IF(P768<Veriler!$F$2,K768*Veriler!$F$2,K768*P768))))),\" \")","v":0},{"$f":"IF(Veriler!P768<=0.1, R768, IF(AND(Veriler!P768>0.1, E768=\"\", O768=\"E\"), IF(P768>Veriler!$F$2, P768*R768, IF(P768<Veriler!$F$2, Veriler!$F$2*R768, P768*R768)), 0))","v":0}," ",{"$f":"IFERROR(IF(N768=\"%10 sınırı aşılmıştır.\",K768-S768,IFERROR(IF(E768=\"\",IF(R768=1,0,IF(K768-R768=0,\"\",K768-R768)),IF(Veriler!I768=\"\",K768,IF(K768*Veriler!I768=0,\"\",K768*Veriler!I768))),K768)),0)","v":""}]
[565,{"$nulls":4},"",{"$nulls":4},"",{"$f":"IF(K769=\"\", \"\", K769/Veriler!$T$1)","v":""},{"$f":"IF(E769<>\"\", \"İthal Girdi\", IF(Veriler!P769=\"\", \"\", IF(Veriler!O769=\"H\", \"%0,5 üzerindedir\", IF(Veriler!P769>0.1, \"%10 sınırı aşılmıştır.\", \"Uygun\"))))","v":"%0,5 üzerindedir"}," ",null,null,"",{"$f":"IFERROR(IF(L769<=0.005,IF(E769=\"\",K769,0),IF(E769<>\"\",0,IF(O769=\"\",0,IF(O769=\"H\",0,IF(P769<Veriler!$F$2,K769*Veriler!$F$2,K769*P769))))),\" \")","v":0},{"$f":"IF(Veriler!P769<=0.1, R769, IF(AND(Veriler!P769>0.1, E769=\"\", O769=\"E\"), IF(P769>Veriler!$F$2, P769*R769, IF(P769<Veriler!$F$2, Veriler!$F$2*R769, P769*R769)), 0))","v":0}," ",{"$f":"IFERROR(IF(N769=\"%10 sınırı aşılmıştır.\",K769-S769,IFERROR(IF(E769=\"\",IF(R769=1,0,IF(K769-R769=0,\"\",K769-R769)),IF(Veriler!I769=\"\",K769,IF(K769*Veriler!I769=0,\"\",K769*Veriler!I769))),K769)),0)","v":""}]
[566,{"$nulls":4},"",{"$nulls":4},"",{"$f":"IF(K770=\"\", \"\", K770/Veriler!$T$1)","v":""},{"$f":"IF(E770<>\"\", \"İthal Girdi\", IF(Veriler!P770=\"\", \"\", IF(Veriler!O770=\"H\", \"%0,5 üzerindedir\", IF(Veriler!P770>0.1, \"%10 sınırı aşılmıştır.\", \"Uygun\"))))","v":"%0,5 üzerindedir"}," ",null,null,"",{"$f":"IFERROR(IF(L770<=0.005,IF(E770=\"\",K770,0),IF(E770<>\"\",0,IF(O770=\"\",0,IF(O770=\"H\",0,IF(P770<Veriler!$F$2,K770*Veriler!$F$2,K770*P770))))),\" \")","v":0},{"$f":"IF(Veriler!P770<=0.1, R770, IF(AND(Veriler!P770>0.1, E770=\"\", O770=\"E\"), IF(P770>Veriler!$F$2, P770*R770, IF(P770<Veriler!$F$2, Veriler!$F$2*R770, P770*R770)), 0))","v":0}," ",{"$f":"IFERROR(IF(N770=\"%10 sınırı aşılmıştır.\",K770-S770,IFERROR(IF(E770=\"\",IF(R770=1,0,IF(K770-R770=0,\"\",K770-R770)),IF(Veriler!I770=\"\",K770,IF(K770*Veriler!I770=0,\"\",K770*Veriler!I770))),K770)),0)","v":""}]
[567,{"$nulls":4},"",{"$nulls":4},"",{"$f":"IF(K771=\"\", \"\", K771/Veriler!$T$1)","v":""},{"$f":"IF(E771<>\"\", \"İthal Girdi\", IF(Veriler!P771=\"\", \"\", IF(Veriler!O771=\"H\", \"%0,5 üzerindedir\", IF(Veriler!P771>0.1, \"%10 sınırı aşılmıştır.\", \"Uygun\"))))","v":"%0,5 üzerindedir"}," ",null,null,"",{"$f":"IFERROR(IF(L771<=0.005,IF(E771=\"\",K771,0),IF(E771<>\"\",0,IF(O771=\"\",0,IF(O771=\"H\",0,IF(P771<Veriler!$F$2,K771*Veriler!$F$2,K771*P771))))),\" \")","v":0},{"$f":"IF(Veriler!P771<=0.1, R771, IF(AND(Veriler!P771>0.1, E771=\"\", O771=\"E\"), IF(P771>Veriler!$F$2, P771*R771, IF(P771<Veriler!$F$2, Veriler!$F$2*R771, P771*R771)), 0))","v":0}," ",{"$f":"IFERROR(IF(N771=\"%10 sınırı aşılmıştır.\",K771-S771,IFERROR(IF(E771=\"\",IF(R771=1,0,IF(K771-R771=0,\"\",K771-R771)),IF(Veriler!I771=\"\",K771,IF(K771*Veriler!I771=0,\"\",K771*Veriler!I771))),K771)),0)","v":""}]
[568,{"$nulls":4},"",{"$nulls":4},"",{"$f":"IF(K772=\"\", \"\", K772/Veriler!$T$1)","v":""},{"$f":"IF(E772<>\"\", \"İthal Girdi\", IF(Veriler!P772=\"\", \"\", IF(Veriler!O772=\"H\", \"%0,5 üzerindedir\", IF(Veriler!P772>0.1, \"%10 sınırı aşılmıştır.\", \"Uygun\"))))","v":"%0,5 üzerindedir"}," ",null,null,"",{"$f":"IFERROR(IF(L772<=0.005,IF(E772=\"\",K772,0),IF(E772<>\"\",0,IF(O772=\"\",0,IF(O772=\"H\",0,IF(P772<Veriler!$F$2,K772*Veriler!$F$2,K772*P772))))),\" \")","v":0},{"$f":"IF(Veriler!P772<=0.1, R772, IF(AND(Veriler!P772>0.1, E772=\"\", O772=\"E\"), IF(P772>Veriler!$F$2, P772*R772, IF(P772<Veriler!$F$2, Veriler!$F$2*R772, P772*R772)), 0))","v":0}," ",{"$f":"IFERROR(IF(N772=\"%10 sınırı aşılmıştır.\",K772-S772,IFERROR(IF(E772=\"\",IF(R772=1,0,IF(K772-R772=0,\"\",K772-R772)),IF(Veriler!I772=\"\",K772,IF(K772*Veriler!I772=0,\"\",K772*Veriler!I772))),K772)),0)","v":""}]
[569,{"$nulls":4},"",{"$nulls":4},"",{"$f":"IF(K773=\"\", \"\", K773/Veriler!$T$1)","v":""},{"$f":"IF(E773<>\"\", \"İthal Girdi\", IF(Veriler!P773=\"\", \"\", IF(Veriler!O773=\"H\", \"%0,5 üzerindedir\", IF(Veriler!P773>0.1, \"%10 sınırı aşılmıştır.\", \"Uygun\"))))","v":"%0,5 üzerindedir"}," ",null,null,"",{"$f":"IFERROR(IF(L773<=0.005,IF(E773=\"\",K773,0),IF(E773<>\"\",0,IF(O773=\"\",0,IF(O773=\"H\",0,IF(P773<Veriler!$F$2,K773*Veriler!$F$2,K773*P773))))),\" \")","v":0},{"$f":"IF(Veriler!P773<=0.1, R773, IF(AND(Veriler!P773>0.1, E773=\"\", O773=\"E\"), IF(P773>Veriler!$F$2, P773*R773, IF(P773<Veriler!$F$2, Veriler!$F$2*R773, P773*R773)), 0))","v":0}," ",{"$f":"IFERROR(IF(N773=\"%10 sınırı aşılmıştır.\",K773-S773,IFERROR(IF(E773=\"\",IF(R773=1,0,IF(K773-R773=0,\"\",K773-R773)),IF(Veriler!I773=\"\",K773,IF(K773*Veriler!I773=0,\"\",K773*Veriler!I773))),K773)),0)","v":""}]
[570,{"$nulls":4},"",{"$nulls":4},"",{"$f":"IF(K774=\"\", \"\", K774/Veriler!$T$1)","v":""},{"$f":"IF(E774<>\"\", \"İthal Girdi\", IF(Veriler!P774=\"\", \"\", IF(Veriler!O774=\"H\", \"%0,5 üzerindedir\", IF(Veriler!P774>0.1, \"%10 sınırı aşılmıştır.\", \"Uygun\"))))","v":"%0,5 üzerindedir"}," ",null,null,"",{"$f":"IFERROR(IF(L774<=0.005,IF(E774=\"\",K774,0),IF(E774<>\"\",0,IF(O774=\"\",0,IF(O774=\"H\",0,IF(P774<Veriler!$F$2,K774*Veriler!$F$2,K774*P774))))),\" \")","v":0},{"$f":"IF(Veriler!P774<=0.1, R774, IF(AND(Veriler!P774>0.1, E774=\"\", O774=\"E\"), IF(P774>Veriler!$F$2, P774*R774, IF(P774<Veriler!$F$2, Veriler!$F$2*R774, P774*R774)), 0))","v":0}," ",{"$f":"IFERROR(IF(N774=\"%10 sınırı aşılmıştır.\",K774-S774,IFERROR(IF(E774=\"\",IF(R774=1,0,IF(K774-R774=0,\"\",K774-R774)),IF(Veriler!I774=\"\",K774,IF(K774*Veriler!I774=0,\"\",K774*Veriler!I774))),K774)),0)","v":""}]
[571,{"$nulls":4},"",{"$nulls":4},"",{"$f":"IF(K775=\"\", \"\", K775/Veriler!$T$1)","v":""},{"$f":"IF(E775<>\"\", \"İthal Girdi\", IF(Veriler!P775=\"\", \"\", IF(Veriler!O775=\"H\", \"%0,5 üzerindedir\", IF(Veriler!P775>0.1, \"%10 sınırı aşılmıştır.\", \"Uygun\"))))","v":"%0,5 üzerindedir"}," ",null,null,"",{"$f":"IFERROR(IF(L775<=0.005,IF(E775=\"\",K775,0),IF(E775<>\"\",0,IF(O775=\"\",0,IF(O775=\"H\",0,IF(P775<Veriler!$F$2,K775*Veriler!$F$2,K775*P775))))),\" \")","v":0},{"$f":"IF(Veriler!P775<=0.1, R775, IF(AND(Veriler!P775>0.1, E775=\"\", O775=\"E\"), IF(P775>Veriler!$F$2, P775*R775, IF(P775<Veriler!$F$2, Veriler!$F$2*R775, P775*R775)), 0))","v":0}," ",{"$f":"IFERROR(IF(N775=\"%10 sınırı aşılmıştır.\",K775-S775,IFERROR(IF(E775=\"\",IF(R775=1,0,IF(K775-R775=0,\"\",K775-R775)),IF(Veriler!I775=\"\",K775,IF(K775*Veriler!I775=0,\"\",K775*Veriler!I775))),K775)),0)","v":""}]
[572,{"$nulls":4},"",{"$nulls":4},"",{"$f":"IF(K776=\"\", \"\", K776/Veriler!$T$1)","v":""},{"$f":"IF(E776<>\"\", \"İthal Girdi\", IF(Veriler!P776=\"\", \"\", IF(Veriler!O776=\"H\", \"%0,5 üzerindedir\", IF(Veriler!P776>0.1, \"%10 sınırı aşılmıştır.\", \"Uygun\"))))","v":"%0,5 üzerindedir"}," ",null,null,"",{"$f":"IFERROR(IF(L776<=0.005,IF(E776=\"\",K776,0),IF(E776<>\"\",0,IF(O776=\"\",0,IF(O776=\"H\",0,IF(P776<Veriler!$F$2,K776*Veriler!$F$2,K776*P776))))),\" \")","v":0},{"$f":"IF(Veriler!P776<=0.1, R776, IF(AND(Veriler!P776>0.1, E776=\"\", O776=\"E\"), IF(P776>Veriler!$F$2, P776*R776, IF(P776<Veriler!$F$2, Veriler!$F$2*R776, P776*R776)), 0))","v":0}," ",{"$f":"IFERROR(IF(N776=\"%10 sınırı aşılmıştır.\",K776-S776,IFERROR(IF(E776=\"\",IF(R776=1,0,IF(K776-R776=0,\"\",K776-R776)),IF(Veriler!I776=\"\",K776,IF(K776*Veriler!I776=0,\"\",K776*Veriler!I776))),K776)),0)","v":""}]
[573,{"$nulls":4},"",{"$nulls":4},"",{"$f":"IF(K777=\"\", \"\", K777/Veriler!$T$1)","v":""},{"$f":"IF(E777<>\"\", \"İthal Girdi\", IF(Veriler!P777=\"\", \"\", IF(Veriler!O777=\"H\", \"%0,5 üzerindedir\", IF(Veriler!P777>0.1, \"%10 sınırı aşılmıştır.\", \"Uygun\"))))","v":"%0,5 üzerindedir"}," ",null,null,"",{"$f":"IFERROR(IF(L777<=0.005,IF(E777=\"\",K777,0),IF(E777<>\"\",0,IF(O777=\"\",0,IF(O777=\"H\",0,IF(P777<Veriler!$F$2,K777*Veriler!$F$2,K777*P777))))),\" \")","v":0},{"$f":"IF(Veriler!P777<=0.1, R777, IF(AND(Veriler!P777>0.1, E777=\"\", O777=\"E\"), IF(P777>Veriler!$F$2, P777*R777, IF(P777<Veriler!$F$2, Veriler!$F$2*R777, P777*R777)), 0))","v":0}," ",{"$f":"IFERROR(IF(N777=\"%10 sınırı aşılmıştır.\",K777-S777,IFERROR(IF(E777=\"\",IF(R777=1,0,IF(K777-R777=0,\"\",K777-R777)),IF(Veriler!I777=\"\",K777,IF(K777*Veriler!I777=0,\"\",K777*Veriler!I777))),K777)),0)","v":""}]
[574,{"$nulls":4},"",{"$nulls":4},"",{"$f":"IF(K778=\"\", \"\", K778/Veriler!$T$1)","v":""},{"$f":"IF(E778<>\"\", \"İthal Girdi\", IF(Veriler!P778=\"\", \"\", IF(Veriler!O778=\"H\", \"%0,5 üzerindedir\", IF(Veriler!P778>0.1, \"%10 sınırı aşılmıştır.\", \"Uygun\"))))","v":"%0,5 üzerindedir"}," ",null,null,"",{"$f":"IFERROR(IF(L778<=0.005,IF(E778=\"\",K778,0),IF(E778<>\"\",0,IF(O778=\"\",0,IF(O778=\"H\",0,IF(P778<Veriler!$F$2,K778*Veriler!$F$2,K778*P778))))),\" \")","v":0},{"$f":"IF(Veriler!P778<=0.1, R778, IF(AND(Veriler!P778>0.1, E778=\"\", O778=\"E\"), IF(P778>Veriler!$F$2, P778*R778, IF(P778<Veriler!$F$2, Veriler!$F$2*R778, P778*R778)), 0))","v":0}," ",{"$f":"IFERROR(IF(N778=\"%10 sınırı aşılmıştır.\",K778-S778,IFERROR(IF(E778=\"\",IF(R778=1,0,IF(K778-R778=0,\"\",K778-R778)),IF(Veriler!I778=\"\",K778,IF(K778*Veriler!I778=0,\"\",K778*Veriler!I778))),K778)),0)","v":""}]
[null,"Dolaylı"]
[{"$f":"A778+1","v":575},{"$nulls":4},{"$f":"IF(AND(E780<>\"\",U780<>\"\",K780<>0),U780/K780,\"\")","v":""},{"$nulls":4},{"$f":"IF(AND(G780<>0, I780<>0, J780<>0), G780*I780*J780, \"\")","v":""},{"$f":"IF(K780=\"\", \"\", K780/Veriler!$T$1)","v":""},{"$f":"IF(E780<>\"\", \"İthal Girdi\", IF(Veriler!P780=\"\", \"\", IF(Veriler!O780=\"H\", \"%0,5 üzerindedir\", IF(Veriler!P780>0.1, \"%10 sınırı aşılmıştır.\", \"Uygun\"))))","v":"%0,5 üzerindedir"},{"$f":"IF(L780=\"\",\" \",M780)","v":" "},null,null,{"$f":"IFERROR(IF(AND(S780<>\"\",K780<>\"\",K780<>0,S780<>0),S780/K780,\"\"),\" \")","v":""},{"$f":"IFERROR(IF(L780<=0.005,IF(E780=\"\",K780,0),IF(E780<>\"\",0,IF(O780=\"\",0,IF(O780=\"H\",0,IF(P780<Veriler!$F$2,K780*Veriler!$F$2,K780*P780))))),\" \")","v":0},{"$f":"IF(Veriler!P780<=0.1, R780, IF(AND(Veriler!P780>0.1, E780=\"\", O780=\"E\"), IF(P780>Veriler!$F$2, P780*R780, IF(P780<Veriler!$F$2, Veriler!$F$2*R780, P780*R780)), 0))","v":0},{"$f":"IF(S780=0,\" \",S780)","v":" "},{"$f":"IFERROR(IF(N780=\"%10 sınırı aşılmıştır.\",K780-S780,IFERROR(IF(E780=\"\",IF(R780=1,0,IF(K780-R780=0,\"\",K780-R780)),IF(Veriler!I780=\"\",K780,IF(K780*Veriler!I780=0,\"\",K780*Veriler!I780))),K780)),0)","v":""}]
[{"$f":"A780+1","v":576},{"$nulls":4},"",{"$nulls":4},"",{"$f":"IF(K781=\"\", \"\", K781/Veriler!$T$1)","v":""},{"$f":"IF(E781<>\"\", \"İthal Girdi\", IF(Veriler!P781=\"\", \"\", IF(Veriler!O781=\"H\", \"%0,5 üzerindedir\", IF(Veriler!P781>0.1, \"%10 sınırı aşılmıştır.\", \"Uygun\"))))","v":"%0,5 üzerindedir"}," ",null,null,"",{"$f":"IFERROR(IF(L781<=0.005,IF(E781=\"\",K781,0),IF(E781<>\"\",0,IF(O781=\"\",0,IF(O781=\"H\",0,IF(P781<Veriler!$F$2,K781*Veriler!$F$2,K781*P781))))),\" \")","v":0},{"$f":"IF(Veriler!P781<=0.1, R781, IF(AND(Veriler!P781>0.1, E781=\"\", O781=\"E\"), IF(P781>Veriler!$F$2, P781*R781, IF(P781<Veriler!$F$2, Veriler!$F$2*R781, P781*R781)), 0))","v":0}," ",{"$f":"IFERROR(IF(N781=\"%10 sınırı aşılmıştır.\",K781-S781,IFERROR(IF(E781=\"\",IF(R781=1,0,IF(K781-R781=0,\"\",K781-R781)),IF(Veriler!I781=\"\",K781,IF(K781*Veriler!I781=0,\"\",K781*Veriler!I781))),K781)),0)","v":""}]
[{"$f":"A781+1","v":577},{"$nulls":4},"",{"$nulls":4},"",{"$f":"IF(K782=\"\", \"\", K782/Veriler!$T$1)","v":""},{"$f":"IF(E782<>\"\", \"İthal Girdi\", IF(Veriler!P782=\"\", \"\", IF(Veriler!O782=\"H\", \"%0,5 üzerindedir\", IF(Veriler!P782>0.1, \"%10 sınırı aşılmıştır.\", \"Uygun\"))))","v":"%0,5 üzerindedir"}," ",null,null,"",{"$f":"IFERROR(IF(L782<=0.005,IF(E782=\"\",K782,0),IF(E782<>\"\",0,IF(O782=\"\",0,IF(O782=\"H\",0,IF(P782<Veriler!$F$2,K782*Veriler!$F$2,K782*P782))))),\" \")","v":0},{"$f":"IF(Veriler!P782<=0.1, R782, IF(AND(Veriler!P782>0.1, E782=\"\", O782=\"E\"), IF(P782>Veriler!$F$2, P782*R782, IF(P782<Veriler!$F$2, Veriler!$F$2*R782, P782*R782)), 0))","v":0}," ",{"$f":"IFERROR(IF(N782=\"%10 sınırı aşılmıştır.\",K782-S782,IFERROR(IF(E782=\"\",IF(R782=1,0,IF(K782-R782=0,\"\",K782-R782)),IF(Veriler!I782=\"\",K782,IF(K782*Veriler!I782=0,\"\",K782*Veriler!I782))),K782)),0)","v":""}]
[578,{"$nulls":4},"",{"$nulls":4},"",{"$f":"IF(K783=\"\", \"\", K783/Veriler!$T$1)","v":""},{"$f":"IF(E783<>\"\", \"İthal Girdi\", IF(Veriler!P783=\"\", \"\", IF(Veriler!O783=\"H\", \"%0,5 üzerindedir\", IF(Veriler!P783>0.1, \"%10 sınırı aşılmıştır.\", \"Uygun\"))))","v":"%0,5 üzerindedir"}," ",null,null,"",{"$f":"IFERROR(IF(L783<=0.005,IF(E783=\"\",K783,0),IF(E783<>\"\",0,IF(O783=\"\",0,IF(O783=\"H\",0,IF(P783<Veriler!$F$2,K783*Veriler!$F$2,K783*P783))))),\" \")","v":0},{"$f":"IF(Veriler!P783<=0.1, R783, IF(AND(Veriler!P783>0.1, E783=\"\", O783=\"E\"), IF(P783>Veriler!$F$2, P783*R783, IF(P783<Veriler!$F$2, Veriler!$F$2*R783, P783*R783)), 0))","v":0}," ",{"$f":"IFERROR(IF(N783=\"%10 sınırı aşılmıştır.\",K783-S783,IFERROR(IF(E783=\"\",IF(R783=1,0,IF(K783-R783=0,\"\",K783-R783)),IF(Veriler!I783=\"\",K783,IF(K783*Veriler!I783=0,\"\",K783*Veriler!I783))),K783)),0)","v":""}]
[579,{"$nulls":4},"",{"$nulls":4},"",{"$f":"IF(K784=\"\", \"\", K784/Veriler!$T$1)","v":""},{"$f":"IF(E784<>\"\", \"İthal Girdi\", IF(Veriler!P784=\"\", \"\", IF(Veriler!O784=\"H\", \"%0,5 üzerindedir\", IF(Veriler!P784>0.1, \"%10 sınırı aşılmıştır.\", \"Uygun\"))))","v":"%0,5 üzerindedir"}," ",null,null,"",{"$f":"IFERROR(IF(L784<=0.005,IF(E784=\"\",K784,0),IF(E784<>\"\",0,IF(O784=\"\",0,IF(O784=\"H\",0,IF(P784<Veriler!$F$2,K784*Veriler!$F$2,K784*P784))))),\" \")","v":0},{"$f":"IF(Veriler!P784<=0.1, R784, IF(AND(Veriler!P784>0.1, E784=\"\", O784=\"E\"), IF(P784>Veriler!$F$2, P784*R784, IF(P784<Veriler!$F$2, Veriler!$F$2*R784, P784*R784)), 0))","v":0}," ",{"$f":"IFERROR(IF(N784=\"%10 sınırı aşılmıştır.\",K784-S784,IFERROR(IF(E784=\"\",IF(R784=1,0,IF(K784-R784=0,\"\",K784-R784)),IF(Veriler!I784=\"\",K784,IF(K784*Veriler!I784=0,\"\",K784*Veriler!I784))),K784)),0)","v":""}]
[580,{"$nulls":4},"",{"$nulls":4},"",{"$f":"IF(K785=\"\", \"\", K785/Veriler!$T$1)","v":""},{"$f":"IF(E785<>\"\", \"İthal Girdi\", IF(Veriler!P785=\"\", \"\", IF(Veriler!O785=\"H\", \"%0,5 üzerindedir\", IF(Veriler!P785>0.1, \"%10 sınırı aşılmıştır.\", \"Uygun\"))))","v":"%0,5 üzerindedir"}," ",null,null,"",{"$f":"IFERROR(IF(L785<=0.005,IF(E785=\"\",K785,0),IF(E785<>\"\",0,IF(O785=\"\",0,IF(O785=\"H\",0,IF(P785<Veriler!$F$2,K785*Veriler!$F$2,K785*P785))))),\" \")","v":0},{"$f":"IF(Veriler!P785<=0.1, R785, IF(AND(Veriler!P785>0.1, E785=\"\", O785=\"E\"), IF(P785>Veriler!$F$2, P785*R785, IF(P785<Veriler!$F$2, Veriler!$F$2*R785, P785*R785)), 0))","v":0}," ",{"$f":"IFERROR(IF(N785=\"%10 sınırı aşılmıştır.\",K785-S785,IFERROR(IF(E785=\"\",IF(R785=1,0,IF(K785-R785=0,\"\",K785-R785)),IF(Veriler!I785=\"\",K785,IF(K785*Veriler!I785=0,\"\",K785*Veriler!I785))),K785)),0)","v":""}]
[581,{"$nulls":4},"",{"$nulls":4},"",{"$f":"IF(K786=\"\", \"\", K786/Veriler!$T$1)","v":""},{"$f":"IF(E786<>\"\", \"İthal Girdi\", IF(Veriler!P786=\"\", \"\", IF(Veriler!O786=\"H\", \"%0,5 üzerindedir\", IF(Veriler!P786>0.1, \"%10 sınırı aşılmıştır.\", \"Uygun\"))))","v":"%0,5 üzerindedir"}," ",null,null,"",{"$f":"IFERROR(IF(L786<=0.005,IF(E786=\"\",K786,0),IF(E786<>\"\",0,IF(O786=\"\",0,IF(O786=\"H\",0,IF(P786<Veriler!$F$2,K786*Veriler!$F$2,K786*P786))))),\" \")","v":0},{"$f":"IF(Veriler!P786<=0.1, R786, IF(AND(Veriler!P786>0.1, E786=\"\", O786=\"E\"), IF(P786>Veriler!$F$2, P786*R786, IF(P786<Veriler!$F$2, Veriler!$F$2*R786, P786*R786)), 0))","v":0}," ",{"$f":"IFERROR(IF(N786=\"%10 sınırı aşılmıştır.\",K786-S786,IFERROR(IF(E786=\"\",IF(R786=1,0,IF(K786-R786=0,\"\",K786-R786)),IF(Veriler!I786=\"\",K786,IF(K786*Veriler!I786=0,\"\",K786*Veriler!I786))),K786)),0)","v":""}]
[582,{"$nulls":4},"",{"$nulls":4},"",{"$f":"IF(K787=\"\", \"\", K787/Veriler!$T$1)","v":""},{"$f":"IF(E787<>\"\", \"İthal Girdi\", IF(Veriler!P787=\"\", \"\", IF(Veriler!O787=\"H\", \"%0,5 üzerindedir\", IF(Veriler!P787>0.1, \"%10 sınırı aşılmıştır.\", \"Uygun\"))))","v":"%0,5 üzerindedir"}," ",null,null,"",{"$f":"IFERROR(IF(L787<=0.005,IF(E787=\"\",K787,0),IF(E787<>\"\",0,IF(O787=\"\",0,IF(O787=\"H\",0,IF(P787<Veriler!$F$2,K787*Veriler!$F$2,K787*P787))))),\" \")","v":0},{"$f":"IF(Veriler!P787<=0.1, R787, IF(AND(Veriler!P787>0.1, E787=\"\", O787=\"E\"), IF(P787>Veriler!$F$2, P787*R787, IF(P787<Veriler!$F$2, Veriler!$F$2*R787, P787*R787)), 0))","v":0}," ",{"$f":"IFERROR(IF(N787=\"%10 sınırı aşılmıştır.\",K787-S787,IFERROR(IF(E787=\"\",IF(R787=1,0,IF(K787-R787=0,\"\",K787-R787)),IF(Veriler!I787=\"\",K787,IF(K787*Veriler!I787=0,\"\",K787*Veriler!I787))),K787)),0)","v":""}]
[583,{"$nulls":4},"",{"$nulls":4},"",{"$f":"IF(K788=\"\", \"\", K788/Veriler!$T$1)","v":""},{"$f":"IF(E788<>\"\", \"İthal Girdi\", IF(Veriler!P788=\"\", \"\", IF(Veriler!O788=\"H\", \"%0,5 üzerindedir\", IF(Veriler!P788>0.1, \"%10 sınırı aşılmıştır.\", \"Uygun\"))))","v":"%0,5 üzerindedir"}," ",null,null,"",{"$f":"IFERROR(IF(L788<=0.005,IF(E788=\"\",K788,0),IF(E788<>\"\",0,IF(O788=\"\",0,IF(O788=\"H\",0,IF(P788<Veriler!$F$2,K788*Veriler!$F$2,K788*P788))))),\" \")","v":0},{"$f":"IF(Veriler!P788<=0.1, R788, IF(AND(Veriler!P788>0.1, E788=\"\", O788=\"E\"), IF(P788>Veriler!$F$2, P788*R788, IF(P788<Veriler!$F$2, Veriler!$F$2*R788, P788*R788)), 0))","v":0}," ",{"$f":"IFERROR(IF(N788=\"%10 sınırı aşılmıştır.\",K788-S788,IFERROR(IF(E788=\"\",IF(R788=1,0,IF(K788-R788=0,\"\",K788-R788)),IF(Veriler!I788=\"\",K788,IF(K788*Veriler!I788=0,\"\",K788*Veriler!I788))),K788)),0)","v":""}]
[584,{"$nulls":4},"",{"$nulls":4},"",{"$f":"IF(K789=\"\", \"\", K789/Veriler!$T$1)","v":""},{"$f":"IF(E789<>\"\", \"İthal Girdi\", IF(Veriler!P789=\"\", \"\", IF(Veriler!O789=\"H\", \"%0,5 üzerindedir\", IF(Veriler!P789>0.1, \"%10 sınırı aşılmıştır.\", \"Uygun\"))))","v":"%0,5 üzerindedir"}," ",null,null,"",{"$f":"IFERROR(IF(L789<=0.005,IF(E789=\"\",K789,0),IF(E789<>\"\",0,IF(O789=\"\",0,IF(O789=\"H\",0,IF(P789<Veriler!$F$2,K789*Veriler!$F$2,K789*P789))))),\" \")","v":0},{"$f":"IF(Veriler!P789<=0.1, R789, IF(AND(Veriler!P789>0.1, E789=\"\", O789=\"E\"), IF(P789>Veriler!$F$2, P789*R789, IF(P789<Veriler!$F$2, Veriler!$F$2*R789, P789*R789)), 0))","v":0}," ",{"$f":"IFERROR(IF(N789=\"%10 sınırı aşılmıştır.\",K789-S789,IFERROR(IF(E789=\"\",IF(R789=1,0,IF(K789-R789=0,\"\",K789-R789)),IF(Veriler!I789=\"\",K789,IF(K789*Veriler!I789=0,\"\",K789*Veriler!I789))),K789)),0)","v":""}]
[585,{"$nulls":4},"",{"$nulls":4},"",{"$f":"IF(K790=\"\", \"\", K790/Veriler!$T$1)","v":""},{"$f":"IF(E790<>\"\", \"İthal Girdi\", IF(Veriler!P790=\"\", \"\", IF(Veriler!O790=\"H\", \"%0,5 üzerindedir\", IF(Veriler!P790>0.1, \"%10 sınırı aşılmıştır.\", \"Uygun\"))))","v":"%0,5 üzerindedir"}," ",null,null,"",{"$f":"IFERROR(IF(L790<=0.005,IF(E790=\"\",K790,0),IF(E790<>\"\",0,IF(O790=\"\",0,IF(O790=\"H\",0,IF(P790<Veriler!$F$2,K790*Veriler!$F$2,K790*P790))))),\" \")","v":0},{"$f":"IF(Veriler!P790<=0.1, R790, IF(AND(Veriler!P790>0.1, E790=\"\", O790=\"E\"), IF(P790>Veriler!$F$2, P790*R790, IF(P790<Veriler!$F$2, Veriler!$F$2*R790, P790*R790)), 0))","v":0}," ",{"$f":"IFERROR(IF(N790=\"%10 sınırı aşılmıştır.\",K790-S790,IFERROR(IF(E790=\"\",IF(R790=1,0,IF(K790-R790=0,\"\",K790-R790)),IF(Veriler!I790=\"\",K790,IF(K790*Veriler!I790=0,\"\",K790*Veriler!I790))),K790)),0)","v":""}]
[586,{"$nulls":4},"",{"$nulls":4},"",{"$f":"IF(K791=\"\", \"\", K791/Veriler!$T$1)","v":""},{"$f":"IF(E791<>\"\", \"İthal Girdi\", IF(Veriler!P791=\"\", \"\", IF(Veriler!O791=\"H\", \"%0,5 üzerindedir\", IF(Veriler!P791>0.1, \"%10 sınırı aşılmıştır.\", \"Uygun\"))))","v":"%0,5 üzerindedir"}," ",null,null,"",{"$f":"IFERROR(IF(L791<=0.005,IF(E791=\"\",K791,0),IF(E791<>\"\",0,IF(O791=\"\",0,IF(O791=\"H\",0,IF(P791<Veriler!$F$2,K791*Veriler!$F$2,K791*P791))))),\" \")","v":0},{"$f":"IF(Veriler!P791<=0.1, R791, IF(AND(Veriler!P791>0.1, E791=\"\", O791=\"E\"), IF(P791>Veriler!$F$2, P791*R791, IF(P791<Veriler!$F$2, Veriler!$F$2*R791, P791*R791)), 0))","v":0}," ",{"$f":"IFERROR(IF(N791=\"%10 sınırı aşılmıştır.\",K791-S791,IFERROR(IF(E791=\"\",IF(R791=1,0,IF(K791-R791=0,\"\",K791-R791)),IF(Veriler!I791=\"\",K791,IF(K791*Veriler!I791=0,\"\",K791*Veriler!I791))),K791)),0)","v":""}]
[587,{"$nulls":4},"",{"$nulls":4},"",{"$f":"IF(K792=\"\", \"\", K792/Veriler!$T$1)","v":""},{"$f":"IF(E792<>\"\", \"İthal Girdi\", IF(Veriler!P792=\"\", \"\", IF(Veriler!O792=\"H\", \"%0,5 üzerindedir\", IF(Veriler!P792>0.1, \"%10 sınırı aşılmıştır.\", \"Uygun\"))))","v":"%0,5 üzerindedir"}," ",null,null,"",{"$f":"IFERROR(IF(L792<=0.005,IF(E792=\"\",K792,0),IF(E792<>\"\",0,IF(O792=\"\",0,IF(O792=\"H\",0,IF(P792<Veriler!$F$2,K792*Veriler!$F$2,K792*P792))))),\" \")","v":0},{"$f":"IF(Veriler!P792<=0.1, R792, IF(AND(Veriler!P792>0.1, E792=\"\", O792=\"E\"), IF(P792>Veriler!$F$2, P792*R792, IF(P792<Veriler!$F$2, Veriler!$F$2*R792, P792*R792)), 0))","v":0}," ",{"$f":"IFERROR(IF(N792=\"%10 sınırı aşılmıştır.\",K792-S792,IFERROR(IF(E792=\"\",IF(R792=1,0,IF(K792-R792=0,\"\",K792-R792)),IF(Veriler!I792=\"\",K792,IF(K792*Veriler!I792=0,\"\",K792*Veriler!I792))),K792)),0)","v":""}]
[588,{"$nulls":4},"",{"$nulls":4},"",{"$f":"IF(K793=\"\", \"\", K793/Veriler!$T$1)","v":""},{"$f":"IF(E793<>\"\", \"İthal Girdi\", IF(Veriler!P793=\"\", \"\", IF(Veriler!O793=\"H\", \"%0,5 üzerindedir\", IF(Veriler!P793>0.1, \"%10 sınırı aşılmıştır.\", \"Uygun\"))))","v":"%0,5 üzerindedir"}," ",null,null,"",{"$f":"IFERROR(IF(L793<=0.005,IF(E793=\"\",K793,0),IF(E793<>\"\",0,IF(O793=\"\",0,IF(O793=\"H\",0,IF(P793<Veriler!$F$2,K793*Veriler!$F$2,K793*P793))))),\" \")","v":0},{"$f":"IF(Veriler!P793<=0.1, R793, IF(AND(Veriler!P793>0.1, E793=\"\", O793=\"E\"), IF(P793>Veriler!$F$2, P793*R793, IF(P793<Veriler!$F$2, Veriler!$F$2*R793, P793*R793)), 0))","v":0}," ",{"$f":"IFERROR(IF(N793=\"%10 sınırı aşılmıştır.\",K793-S793,IFERROR(IF(E793=\"\",IF(R793=1,0,IF(K793-R793=0,\"\",K793-R793)),IF(Veriler!I793=\"\",K793,IF(K793*Veriler!I793=0,\"\",K793*Veriler!I793))),K793)),0)","v":""}]
[{"$nulls":10},{"$f":"SUM(K765:K778,K780:K793)","v":0}]
[{"$nulls":17},"T1","T1","T1","T2"]
["Sayfa Toplamı (TL)  *(Genel Dip Toplam Ek.3-D sayfasında otomatik hesaplanacaktır.)",{"$nulls":16},{"$f":"IF(SUM(#REF!,R765:R778,R780:R793)=0,\"\",SUM(#REF!,R765:R778,R780:R793))","v":{"$error":"#REF!"}},{"$f":"IF(SUM(S765:S778,S780:S793)=0,\" \",SUM(S765:S778,S780:S793))","v":" "},{"$f":"IF(SUM(T765:T778,T780:T793)=0,\" \",SUM(T765:T778,T780:T793))","v":" "},{"$f":"IF(SUM(U765:U778,U780:U793)=0,\" \",SUM(U765:U778,U780:U793))","v":" "}]
[]
[{"$f":"A836","v":"R02"}]
["YERLİ KATKI ORANI HESAP CETVELİ                      ",{"$nulls":13},false]
["A) Nihai Ürün Doğrudan ve Dolaylı Malzeme Giderleri                                                                                                                                                                                                                                                                                                                                                                                                                                         ",{"$nulls":18},"S",{"$f":"U762+1","v":22}]
["Sıra No","Malzeme adı / Faturadaki Ürün Adı",null,"Üretici Unvanı","GTİP Kodu                             (İthal girdiler için)","Gtip Katsayısı","Miktar ","Birim","Fiyatı \n(TL/Döviz)\n","Döviz Kuru               (TL ise 1 alınız)","Fatura Tutarı (TL)","Girdi Maliyet Yüzdesi (%)","Girdi yüzdesi %0,5 altında olan girdiler için %10 sınır kontrolü","Girdi yüzdesi %0,5 altında olan girdiler için %10 sınır kontrolü","SSB/  Müstahsil                (E/H)","YKO (%) (Manuel girilmeli)","Geçerli Yerli Oranı (%)","Yerli Maliyet Tutarı                            (T1)","Yerli Maliyet Tutarı (T1)","Yerli Maliyet Tutarı (T1)","İthal Maliyet Tutarı               (T2)"]
[null,"Doğrudan Girdi                                                         (Dolaylı girdiniz varsa en son 25. sayfaya doldurunuz)"]
[{"$f":"A793+1","v":589},{"$nulls":4},{"$f":"IF(AND(E803<>\"\",U803<>\"\",K803<>0),U803/K803,\"\")","v":""},{"$nulls":4},{"$f":"IF(AND(G803<>0, I803<>0, J803<>0), G803*I803*J803, \"\")","v":""},{"$f":"IF(K803=\"\", \"\", K803/Veriler!$T$1)","v":""},{"$f":"IF(E803<>\"\", \"İthal Girdi\", IF(Veriler!P803=\"\", \"\", IF(Veriler!O803=\"H\", \"%0,5 üzerindedir\", IF(Veriler!P803>0.1, \"%10 sınırı aşılmıştır.\", \"Uygun\"))))","v":"%0,5 üzerindedir"},{"$f":"IF(L803=\"\",\" \",M803)","v":" "},null,null,{"$f":"IFERROR(IF(AND(S803<>\"\",K803<>\"\",K803<>0,S803<>0),S803/K803,\"\"),\" \")","v":""},{"$f":"IFERROR(IF(L803<=0.005,IF(E803=\"\",K803,0),IF(E803<>\"\",0,IF(O803=\"\",0,IF(O803=\"H\",0,IF(P803<Veriler!$F$2,K803*Veriler!$F$2,K803*P803))))),\" \")","v":0},{"$f":"IF(Veriler!P803<=0.1, R803, IF(AND(Veriler!P803>0.1, E803=\"\", O803=\"E\"), IF(P803>Veriler!$F$2, P803*R803, IF(P803<Veriler!$F$2, Veriler!$F$2*R803, P803*R803)), 0))","v":0},{"$f":"IF(S803=0,\" \",S803)","v":" "},{"$f":"IFERROR(IF(N803=\"%10 sınırı aşılmıştır.\",K803-S803,IFERROR(IF(E803=\"\",IF(R803=1,0,IF(K803-R803=0,\"\",K803-R803)),IF(Veriler!I803=\"\",K803,IF(K803*Veriler!I803=0,\"\",K803*Veriler!I803))),K803)),0)","v":""}]
[{"$f":"A803+1","v":590},{"$nulls":4},"",{"$nulls":4},"",{"$f":"IF(K804=\"\", \"\", K804/Veriler!$T$1)","v":""},{"$f":"IF(E804<>\"\", \"İthal Girdi\", IF(Veriler!P804=\"\", \"\", IF(Veriler!O804=\"H\", \"%0,5 üzerindedir\", IF(Veriler!P804>0.1, \"%10 sınırı aşılmıştır.\", \"Uygun\"))))","v":"%0,5 üzerindedir"}," ",null,null,"",{"$f":"IFERROR(IF(L804<=0.005,IF(E804=\"\",K804,0),IF(E804<>\"\",0,IF(O804=\"\",0,IF(O804=\"H\",0,IF(P804<Veriler!$F$2,K804*Veriler!$F$2,K804*P804))))),\" \")","v":0},{"$f":"IF(Veriler!P804<=0.1, R804, IF(AND(Veriler!P804>0.1, E804=\"\", O804=\"E\"), IF(P804>Veriler!$F$2, P804*R804, IF(P804<Veriler!$F$2, Veriler!$F$2*R804, P804*R804)), 0))","v":0}," ",{"$f":"IFERROR(IF(N804=\"%10 sınırı aşılmıştır.\",K804-S804,IFERROR(IF(E804=\"\",IF(R804=1,0,IF(K804-R804=0,\"\",K804-R804)),IF(Veriler!I804=\"\",K804,IF(K804*Veriler!I804=0,\"\",K804*Veriler!I804))),K804)),0)","v":""}]
[{"$f":"A804+1","v":591},{"$nulls":4},"",{"$nulls":4},"",{"$f":"IF(K805=\"\", \"\", K805/Veriler!$T$1)","v":""},{"$f":"IF(E805<>\"\", \"İthal Girdi\", IF(Veriler!P805=\"\", \"\", IF(Veriler!O805=\"H\", \"%0,5 üzerindedir\", IF(Veriler!P805>0.1, \"%10 sınırı aşılmıştır.\", \"Uygun\"))))","v":"%0,5 üzerindedir"}," ",null,null,"",{"$f":"IFERROR(IF(L805<=0.005,IF(E805=\"\",K805,0),IF(E805<>\"\",0,IF(O805=\"\",0,IF(O805=\"H\",0,IF(P805<Veriler!$F$2,K805*Veriler!$F$2,K805*P805))))),\" \")","v":0},{"$f":"IF(Veriler!P805<=0.1, R805, IF(AND(Veriler!P805>0.1, E805=\"\", O805=\"E\"), IF(P805>Veriler!$F$2, P805*R805, IF(P805<Veriler!$F$2, Veriler!$F$2*R805, P805*R805)), 0))","v":0}," ",{"$f":"IFERROR(IF(N805=\"%10 sınırı aşılmıştır.\",K805-S805,IFERROR(IF(E805=\"\",IF(R805=1,0,IF(K805-R805=0,\"\",K805-R805)),IF(Veriler!I805=\"\",K805,IF(K805*Veriler!I805=0,\"\",K805*Veriler!I805))),K805)),0)","v":""}]
[592,{"$nulls":4},"",{"$nulls":4},"",{"$f":"IF(K806=\"\", \"\", K806/Veriler!$T$1)","v":""},{"$f":"IF(E806<>\"\", \"İthal Girdi\", IF(Veriler!P806=\"\", \"\", IF(Veriler!O806=\"H\", \"%0,5 üzerindedir\", IF(Veriler!P806>0.1, \"%10 sınırı aşılmıştır.\", \"Uygun\"))))","v":"%0,5 üzerindedir"}," ",null,null,"",{"$f":"IFERROR(IF(L806<=0.005,IF(E806=\"\",K806,0),IF(E806<>\"\",0,IF(O806=\"\",0,IF(O806=\"H\",0,IF(P806<Veriler!$F$2,K806*Veriler!$F$2,K806*P806))))),\" \")","v":0},{"$f":"IF(Veriler!P806<=0.1, R806, IF(AND(Veriler!P806>0.1, E806=\"\", O806=\"E\"), IF(P806>Veriler!$F$2, P806*R806, IF(P806<Veriler!$F$2, Veriler!$F$2*R806, P806*R806)), 0))","v":0}," ",{"$f":"IFERROR(IF(N806=\"%10 sınırı aşılmıştır.\",K806-S806,IFERROR(IF(E806=\"\",IF(R806=1,0,IF(K806-R806=0,\"\",K806-R806)),IF(Veriler!I806=\"\",K806,IF(K806*Veriler!I806=0,\"\",K806*Veriler!I806))),K806)),0)","v":""}]
[593,{"$nulls":4},"",{"$nulls":4},"",{"$f":"IF(K807=\"\", \"\", K807/Veriler!$T$1)","v":""},{"$f":"IF(E807<>\"\", \"İthal Girdi\", IF(Veriler!P807=\"\", \"\", IF(Veriler!O807=\"H\", \"%0,5 üzerindedir\", IF(Veriler!P807>0.1, \"%10 sınırı aşılmıştır.\", \"Uygun\"))))","v":"%0,5 üzerindedir"}," ",null,null,"",{"$f":"IFERROR(IF(L807<=0.005,IF(E807=\"\",K807,0),IF(E807<>\"\",0,IF(O807=\"\",0,IF(O807=\"H\",0,IF(P807<Veriler!$F$2,K807*Veriler!$F$2,K807*P807))))),\" \")","v":0},{"$f":"IF(Veriler!P807<=0.1, R807, IF(AND(Veriler!P807>0.1, E807=\"\", O807=\"E\"), IF(P807>Veriler!$F$2, P807*R807, IF(P807<Veriler!$F$2, Veriler!$F$2*R807, P807*R807)), 0))","v":0}," ",{"$f":"IFERROR(IF(N807=\"%10 sınırı aşılmıştır.\",K807-S807,IFERROR(IF(E807=\"\",IF(R807=1,0,IF(K807-R807=0,\"\",K807-R807)),IF(Veriler!I807=\"\",K807,IF(K807*Veriler!I807=0,\"\",K807*Veriler!I807))),K807)),0)","v":""}]
[594,{"$nulls":4},"",{"$nulls":4},"",{"$f":"IF(K808=\"\", \"\", K808/Veriler!$T$1)","v":""},{"$f":"IF(E808<>\"\", \"İthal Girdi\", IF(Veriler!P808=\"\", \"\", IF(Veriler!O808=\"H\", \"%0,5 üzerindedir\", IF(Veriler!P808>0.1, \"%10 sınırı aşılmıştır.\", \"Uygun\"))))","v":"%0,5 üzerindedir"}," ",null,null,"",{"$f":"IFERROR(IF(L808<=0.005,IF(E808=\"\",K808,0),IF(E808<>\"\",0,IF(O808=\"\",0,IF(O808=\"H\",0,IF(P808<Veriler!$F$2,K808*Veriler!$F$2,K808*P808))))),\" \")","v":0},{"$f":"IF(Veriler!P808<=0.1, R808, IF(AND(Veriler!P808>0.1, E808=\"\", O808=\"E\"), IF(P808>Veriler!$F$2, P808*R808, IF(P808<Veriler!$F$2, Veriler!$F$2*R808, P808*R808)), 0))","v":0}," ",{"$f":"IFERROR(IF(N808=\"%10 sınırı aşılmıştır.\",K808-S808,IFERROR(IF(E808=\"\",IF(R808=1,0,IF(K808-R808=0,\"\",K808-R808)),IF(Veriler!I808=\"\",K808,IF(K808*Veriler!I808=0,\"\",K808*Veriler!I808))),K808)),0)","v":""}]
[595,{"$nulls":4},"",{"$nulls":4},"",{"$f":"IF(K809=\"\", \"\", K809/Veriler!$T$1)","v":""},{"$f":"IF(E809<>\"\", \"İthal Girdi\", IF(Veriler!P809=\"\", \"\", IF(Veriler!O809=\"H\", \"%0,5 üzerindedir\", IF(Veriler!P809>0.1, \"%10 sınırı aşılmıştır.\", \"Uygun\"))))","v":"%0,5 üzerindedir"}," ",null,null,"",{"$f":"IFERROR(IF(L809<=0.005,IF(E809=\"\",K809,0),IF(E809<>\"\",0,IF(O809=\"\",0,IF(O809=\"H\",0,IF(P809<Veriler!$F$2,K809*Veriler!$F$2,K809*P809))))),\" \")","v":0},{"$f":"IF(Veriler!P809<=0.1, R809, IF(AND(Veriler!P809>0.1, E809=\"\", O809=\"E\"), IF(P809>Veriler!$F$2, P809*R809, IF(P809<Veriler!$F$2, Veriler!$F$2*R809, P809*R809)), 0))","v":0}," ",{"$f":"IFERROR(IF(N809=\"%10 sınırı aşılmıştır.\",K809-S809,IFERROR(IF(E809=\"\",IF(R809=1,0,IF(K809-R809=0,\"\",K809-R809)),IF(Veriler!I809=\"\",K809,IF(K809*Veriler!I809=0,\"\",K809*Veriler!I809))),K809)),0)","v":""}]
[596,{"$nulls":4},"",{"$nulls":4},"",{"$f":"IF(K810=\"\", \"\", K810/Veriler!$T$1)","v":""},{"$f":"IF(E810<>\"\", \"İthal Girdi\", IF(Veriler!P810=\"\", \"\", IF(Veriler!O810=\"H\", \"%0,5 üzerindedir\", IF(Veriler!P810>0.1, \"%10 sınırı aşılmıştır.\", \"Uygun\"))))","v":"%0,5 üzerindedir"}," ",null,null,"",{"$f":"IFERROR(IF(L810<=0.005,IF(E810=\"\",K810,0),IF(E810<>\"\",0,IF(O810=\"\",0,IF(O810=\"H\",0,IF(P810<Veriler!$F$2,K810*Veriler!$F$2,K810*P810))))),\" \")","v":0},{"$f":"IF(Veriler!P810<=0.1, R810, IF(AND(Veriler!P810>0.1, E810=\"\", O810=\"E\"), IF(P810>Veriler!$F$2, P810*R810, IF(P810<Veriler!$F$2, Veriler!$F$2*R810, P810*R810)), 0))","v":0}," ",{"$f":"IFERROR(IF(N810=\"%10 sınırı aşılmıştır.\",K810-S810,IFERROR(IF(E810=\"\",IF(R810=1,0,IF(K810-R810=0,\"\",K810-R810)),IF(Veriler!I810=\"\",K810,IF(K810*Veriler!I810=0,\"\",K810*Veriler!I810))),K810)),0)","v":""}]
[597,{"$nulls":4},"",{"$nulls":4},"",{"$f":"IF(K811=\"\", \"\", K811/Veriler!$T$1)","v":""},{"$f":"IF(E811<>\"\", \"İthal Girdi\", IF(Veriler!P811=\"\", \"\", IF(Veriler!O811=\"H\", \"%0,5 üzerindedir\", IF(Veriler!P811>0.1, \"%10 sınırı aşılmıştır.\", \"Uygun\"))))","v":"%0,5 üzerindedir"}," ",null,null,"",{"$f":"IFERROR(IF(L811<=0.005,IF(E811=\"\",K811,0),IF(E811<>\"\",0,IF(O811=\"\",0,IF(O811=\"H\",0,IF(P811<Veriler!$F$2,K811*Veriler!$F$2,K811*P811))))),\" \")","v":0},{"$f":"IF(Veriler!P811<=0.1, R811, IF(AND(Veriler!P811>0.1, E811=\"\", O811=\"E\"), IF(P811>Veriler!$F$2, P811*R811, IF(P811<Veriler!$F$2, Veriler!$F$2*R811, P811*R811)), 0))","v":0}," ",{"$f":"IFERROR(IF(N811=\"%10 sınırı aşılmıştır.\",K811-S811,IFERROR(IF(E811=\"\",IF(R811=1,0,IF(K811-R811=0,\"\",K811-R811)),IF(Veriler!I811=\"\",K811,IF(K811*Veriler!I811=0,\"\",K811*Veriler!I811))),K811)),0)","v":""}]
[598,{"$nulls":4},"",{"$nulls":4},"",{"$f":"IF(K812=\"\", \"\", K812/Veriler!$T$1)","v":""},{"$f":"IF(E812<>\"\", \"İthal Girdi\", IF(Veriler!P812=\"\", \"\", IF(Veriler!O812=\"H\", \"%0,5 üzerindedir\", IF(Veriler!P812>0.1, \"%10 sınırı aşılmıştır.\", \"Uygun\"))))","v":"%0,5 üzerindedir"}," ",null,null,"",{"$f":"IFERROR(IF(L812<=0.005,IF(E812=\"\",K812,0),IF(E812<>\"\",0,IF(O812=\"\",0,IF(O812=\"H\",0,IF(P812<Veriler!$F$2,K812*Veriler!$F$2,K812*P812))))),\" \")","v":0},{"$f":"IF(Veriler!P812<=0.1, R812, IF(AND(Veriler!P812>0.1, E812=\"\", O812=\"E\"), IF(P812>Veriler!$F$2, P812*R812, IF(P812<Veriler!$F$2, Veriler!$F$2*R812, P812*R812)), 0))","v":0}," ",{"$f":"IFERROR(IF(N812=\"%10 sınırı aşılmıştır.\",K812-S812,IFERROR(IF(E812=\"\",IF(R812=1,0,IF(K812-R812=0,\"\",K812-R812)),IF(Veriler!I812=\"\",K812,IF(K812*Veriler!I812=0,\"\",K812*Veriler!I812))),K812)),0)","v":""}]
[599,{"$nulls":4},"",{"$nulls":4},"",{"$f":"IF(K813=\"\", \"\", K813/Veriler!$T$1)","v":""},{"$f":"IF(E813<>\"\", \"İthal Girdi\", IF(Veriler!P813=\"\", \"\", IF(Veriler!O813=\"H\", \"%0,5 üzerindedir\", IF(Veriler!P813>0.1, \"%10 sınırı aşılmıştır.\", \"Uygun\"))))","v":"%0,5 üzerindedir"}," ",null,null,"",{"$f":"IFERROR(IF(L813<=0.005,IF(E813=\"\",K813,0),IF(E813<>\"\",0,IF(O813=\"\",0,IF(O813=\"H\",0,IF(P813<Veriler!$F$2,K813*Veriler!$F$2,K813*P813))))),\" \")","v":0},{"$f":"IF(Veriler!P813<=0.1, R813, IF(AND(Veriler!P813>0.1, E813=\"\", O813=\"E\"), IF(P813>Veriler!$F$2, P813*R813, IF(P813<Veriler!$F$2, Veriler!$F$2*R813, P813*R813)), 0))","v":0}," ",{"$f":"IFERROR(IF(N813=\"%10 sınırı aşılmıştır.\",K813-S813,IFERROR(IF(E813=\"\",IF(R813=1,0,IF(K813-R813=0,\"\",K813-R813)),IF(Veriler!I813=\"\",K813,IF(K813*Veriler!I813=0,\"\",K813*Veriler!I813))),K813)),0)","v":""}]
[600,{"$nulls":4},"",{"$nulls":4},"",{"$f":"IF(K814=\"\", \"\", K814/Veriler!$T$1)","v":""},{"$f":"IF(E814<>\"\", \"İthal Girdi\", IF(Veriler!P814=\"\", \"\", IF(Veriler!O814=\"H\", \"%0,5 üzerindedir\", IF(Veriler!P814>0.1, \"%10 sınırı aşılmıştır.\", \"Uygun\"))))","v":"%0,5 üzerindedir"}," ",null,null,"",{"$f":"IFERROR(IF(L814<=0.005,IF(E814=\"\",K814,0),IF(E814<>\"\",0,IF(O814=\"\",0,IF(O814=\"H\",0,IF(P814<Veriler!$F$2,K814*Veriler!$F$2,K814*P814))))),\" \")","v":0},{"$f":"IF(Veriler!P814<=0.1, R814, IF(AND(Veriler!P814>0.1, E814=\"\", O814=\"E\"), IF(P814>Veriler!$F$2, P814*R814, IF(P814<Veriler!$F$2, Veriler!$F$2*R814, P814*R814)), 0))","v":0}," ",{"$f":"IFERROR(IF(N814=\"%10 sınırı aşılmıştır.\",K814-S814,IFERROR(IF(E814=\"\",IF(R814=1,0,IF(K814-R814=0,\"\",K814-R814)),IF(Veriler!I814=\"\",K814,IF(K814*Veriler!I814=0,\"\",K814*Veriler!I814))),K814)),0)","v":""}]
[601,{"$nulls":4},"",{"$nulls":4},"",{"$f":"IF(K815=\"\", \"\", K815/Veriler!$T$1)","v":""},{"$f":"IF(E815<>\"\", \"İthal Girdi\", IF(Veriler!P815=\"\", \"\", IF(Veriler!O815=\"H\", \"%0,5 üzerindedir\", IF(Veriler!P815>0.1, \"%10 sınırı aşılmıştır.\", \"Uygun\"))))","v":"%0,5 üzerindedir"}," ",null,null,"",{"$f":"IFERROR(IF(L815<=0.005,IF(E815=\"\",K815,0),IF(E815<>\"\",0,IF(O815=\"\",0,IF(O815=\"H\",0,IF(P815<Veriler!$F$2,K815*Veriler!$F$2,K815*P815))))),\" \")","v":0},{"$f":"IF(Veriler!P815<=0.1, R815, IF(AND(Veriler!P815>0.1, E815=\"\", O815=\"E\"), IF(P815>Veriler!$F$2, P815*R815, IF(P815<Veriler!$F$2, Veriler!$F$2*R815, P815*R815)), 0))","v":0}," ",{"$f":"IFERROR(IF(N815=\"%10 sınırı aşılmıştır.\",K815-S815,IFERROR(IF(E815=\"\",IF(R815=1,0,IF(K815-R815=0,\"\",K815-R815)),IF(Veriler!I815=\"\",K815,IF(K815*Veriler!I815=0,\"\",K815*Veriler!I815))),K815)),0)","v":""}]
[602,{"$nulls":4},"",{"$nulls":4},"",{"$f":"IF(K816=\"\", \"\", K816/Veriler!$T$1)","v":""},{"$f":"IF(E816<>\"\", \"İthal Girdi\", IF(Veriler!P816=\"\", \"\", IF(Veriler!O816=\"H\", \"%0,5 üzerindedir\", IF(Veriler!P816>0.1, \"%10 sınırı aşılmıştır.\", \"Uygun\"))))","v":"%0,5 üzerindedir"}," ",null,null,"",{"$f":"IFERROR(IF(L816<=0.005,IF(E816=\"\",K816,0),IF(E816<>\"\",0,IF(O816=\"\",0,IF(O816=\"H\",0,IF(P816<Veriler!$F$2,K816*Veriler!$F$2,K816*P816))))),\" \")","v":0},{"$f":"IF(Veriler!P816<=0.1, R816, IF(AND(Veriler!P816>0.1, E816=\"\", O816=\"E\"), IF(P816>Veriler!$F$2, P816*R816, IF(P816<Veriler!$F$2, Veriler!$F$2*R816, P816*R816)), 0))","v":0}," ",{"$f":"IFERROR(IF(N816=\"%10 sınırı aşılmıştır.\",K816-S816,IFERROR(IF(E816=\"\",IF(R816=1,0,IF(K816-R816=0,\"\",K816-R816)),IF(Veriler!I816=\"\",K816,IF(K816*Veriler!I816=0,\"\",K816*Veriler!I816))),K816)),0)","v":""}]
[null,"Dolaylı"]
[{"$f":"A816+1","v":603},{"$nulls":4},{"$f":"IF(AND(E818<>\"\",U818<>\"\",K818<>0),U818/K818,\"\")","v":""},{"$nulls":4},{"$f":"IF(AND(G818<>0, I818<>0, J818<>0), G818*I818*J818, \"\")","v":""},{"$f":"IF(K818=\"\", \"\", K818/Veriler!$T$1)","v":""},{"$f":"IF(E818<>\"\", \"İthal Girdi\", IF(Veriler!P818=\"\", \"\", IF(Veriler!O818=\"H\", \"%0,5 üzerindedir\", IF(Veriler!P818>0.1, \"%10 sınırı aşılmıştır.\", \"Uygun\"))))","v":"%0,5 üzerindedir"},{"$f":"IF(L818=\"\",\" \",M818)","v":" "},null,null,{"$f":"IFERROR(IF(AND(S818<>\"\",K818<>\"\",K818<>0,S818<>0),S818/K818,\"\"),\" \")","v":""},{"$f":"IFERROR(IF(L818<=0.005,IF(E818=\"\",K818,0),IF(E818<>\"\",0,IF(O818=\"\",0,IF(O818=\"H\",0,IF(P818<Veriler!$F$2,K818*Veriler!$F$2,K818*P818))))),\" \")","v":0},{"$f":"IF(Veriler!P818<=0.1, R818, IF(AND(Veriler!P818>0.1, E818=\"\", O818=\"E\"), IF(P818>Veriler!$F$2, P818*R818, IF(P818<Veriler!$F$2, Veriler!$F$2*R818, P818*R818)), 0))","v":0},{"$f":"IF(S818=0,\" \",S818)","v":" "},{"$f":"IFERROR(IF(N818=\"%10 sınırı aşılmıştır.\",K818-S818,IFERROR(IF(E818=\"\",IF(R818=1,0,IF(K818-R818=0,\"\",K818-R818)),IF(Veriler!I818=\"\",K818,IF(K818*Veriler!I818=0,\"\",K818*Veriler!I818))),K818)),0)","v":""}]
[{"$f":"A818+1","v":604},{"$nulls":4},"",{"$nulls":4},"",{"$f":"IF(K819=\"\", \"\", K819/Veriler!$T$1)","v":""},{"$f":"IF(E819<>\"\", \"İthal Girdi\", IF(Veriler!P819=\"\", \"\", IF(Veriler!O819=\"H\", \"%0,5 üzerindedir\", IF(Veriler!P819>0.1, \"%10 sınırı aşılmıştır.\", \"Uygun\"))))","v":"%0,5 üzerindedir"}," ",null,null,"",{"$f":"IFERROR(IF(L819<=0.005,IF(E819=\"\",K819,0),IF(E819<>\"\",0,IF(O819=\"\",0,IF(O819=\"H\",0,IF(P819<Veriler!$F$2,K819*Veriler!$F$2,K819*P819))))),\" \")","v":0},{"$f":"IF(Veriler!P819<=0.1, R819, IF(AND(Veriler!P819>0.1, E819=\"\", O819=\"E\"), IF(P819>Veriler!$F$2, P819*R819, IF(P819<Veriler!$F$2, Veriler!$F$2*R819, P819*R819)), 0))","v":0}," ",{"$f":"IFERROR(IF(N819=\"%10 sınırı aşılmıştır.\",K819-S819,IFERROR(IF(E819=\"\",IF(R819=1,0,IF(K819-R819=0,\"\",K819-R819)),IF(Veriler!I819=\"\",K819,IF(K819*Veriler!I819=0,\"\",K819*Veriler!I819))),K819)),0)","v":""}]
[{"$f":"A819+1","v":605},{"$nulls":4},"",{"$nulls":4},"",{"$f":"IF(K820=\"\", \"\", K820/Veriler!$T$1)","v":""},{"$f":"IF(E820<>\"\", \"İthal Girdi\", IF(Veriler!P820=\"\", \"\", IF(Veriler!O820=\"H\", \"%0,5 üzerindedir\", IF(Veriler!P820>0.1, \"%10 sınırı aşılmıştır.\", \"Uygun\"))))","v":"%0,5 üzerindedir"}," ",null,null,"",{"$f":"IFERROR(IF(L820<=0.005,IF(E820=\"\",K820,0),IF(E820<>\"\",0,IF(O820=\"\",0,IF(O820=\"H\",0,IF(P820<Veriler!$F$2,K820*Veriler!$F$2,K820*P820))))),\" \")","v":0},{"$f":"IF(Veriler!P820<=0.1, R820, IF(AND(Veriler!P820>0.1, E820=\"\", O820=\"E\"), IF(P820>Veriler!$F$2, P820*R820, IF(P820<Veriler!$F$2, Veriler!$F$2*R820, P820*R820)), 0))","v":0}," ",{"$f":"IFERROR(IF(N820=\"%10 sınırı aşılmıştır.\",K820-S820,IFERROR(IF(E820=\"\",IF(R820=1,0,IF(K820-R820=0,\"\",K820-R820)),IF(Veriler!I820=\"\",K820,IF(K820*Veriler!I820=0,\"\",K820*Veriler!I820))),K820)),0)","v":""}]
[606,{"$nulls":4},"",{"$nulls":4},"",{"$f":"IF(K821=\"\", \"\", K821/Veriler!$T$1)","v":""},{"$f":"IF(E821<>\"\", \"İthal Girdi\", IF(Veriler!P821=\"\", \"\", IF(Veriler!O821=\"H\", \"%0,5 üzerindedir\", IF(Veriler!P821>0.1, \"%10 sınırı aşılmıştır.\", \"Uygun\"))))","v":"%0,5 üzerindedir"}," ",null,null,"",{"$f":"IFERROR(IF(L821<=0.005,IF(E821=\"\",K821,0),IF(E821<>\"\",0,IF(O821=\"\",0,IF(O821=\"H\",0,IF(P821<Veriler!$F$2,K821*Veriler!$F$2,K821*P821))))),\" \")","v":0},{"$f":"IF(Veriler!P821<=0.1, R821, IF(AND(Veriler!P821>0.1, E821=\"\", O821=\"E\"), IF(P821>Veriler!$F$2, P821*R821, IF(P821<Veriler!$F$2, Veriler!$F$2*R821, P821*R821)), 0))","v":0}," ",{"$f":"IFERROR(IF(N821=\"%10 sınırı aşılmıştır.\",K821-S821,IFERROR(IF(E821=\"\",IF(R821=1,0,IF(K821-R821=0,\"\",K821-R821)),IF(Veriler!I821=\"\",K821,IF(K821*Veriler!I821=0,\"\",K821*Veriler!I821))),K821)),0)","v":""}]
[607,{"$nulls":4},"",{"$nulls":4},"",{"$f":"IF(K822=\"\", \"\", K822/Veriler!$T$1)","v":""},{"$f":"IF(E822<>\"\", \"İthal Girdi\", IF(Veriler!P822=\"\", \"\", IF(Veriler!O822=\"H\", \"%0,5 üzerindedir\", IF(Veriler!P822>0.1, \"%10 sınırı aşılmıştır.\", \"Uygun\"))))","v":"%0,5 üzerindedir"}," ",null,null,"",{"$f":"IFERROR(IF(L822<=0.005,IF(E822=\"\",K822,0),IF(E822<>\"\",0,IF(O822=\"\",0,IF(O822=\"H\",0,IF(P822<Veriler!$F$2,K822*Veriler!$F$2,K822*P822))))),\" \")","v":0},{"$f":"IF(Veriler!P822<=0.1, R822, IF(AND(Veriler!P822>0.1, E822=\"\", O822=\"E\"), IF(P822>Veriler!$F$2, P822*R822, IF(P822<Veriler!$F$2, Veriler!$F$2*R822, P822*R822)), 0))","v":0}," ",{"$f":"IFERROR(IF(N822=\"%10 sınırı aşılmıştır.\",K822-S822,IFERROR(IF(E822=\"\",IF(R822=1,0,IF(K822-R822=0,\"\",K822-R822)),IF(Veriler!I822=\"\",K822,IF(K822*Veriler!I822=0,\"\",K822*Veriler!I822))),K822)),0)","v":""}]
[608,{"$nulls":4},"",{"$nulls":4},"",{"$f":"IF(K823=\"\", \"\", K823/Veriler!$T$1)","v":""},{"$f":"IF(E823<>\"\", \"İthal Girdi\", IF(Veriler!P823=\"\", \"\", IF(Veriler!O823=\"H\", \"%0,5 üzerindedir\", IF(Veriler!P823>0.1, \"%10 sınırı aşılmıştır.\", \"Uygun\"))))","v":"%0,5 üzerindedir"}," ",null,null,"",{"$f":"IFERROR(IF(L823<=0.005,IF(E823=\"\",K823,0),IF(E823<>\"\",0,IF(O823=\"\",0,IF(O823=\"H\",0,IF(P823<Veriler!$F$2,K823*Veriler!$F$2,K823*P823))))),\" \")","v":0},{"$f":"IF(Veriler!P823<=0.1, R823, IF(AND(Veriler!P823>0.1, E823=\"\", O823=\"E\"), IF(P823>Veriler!$F$2, P823*R823, IF(P823<Veriler!$F$2, Veriler!$F$2*R823, P823*R823)), 0))","v":0}," ",{"$f":"IFERROR(IF(N823=\"%10 sınırı aşılmıştır.\",K823-S823,IFERROR(IF(E823=\"\",IF(R823=1,0,IF(K823-R823=0,\"\",K823-R823)),IF(Veriler!I823=\"\",K823,IF(K823*Veriler!I823=0,\"\",K823*Veriler!I823))),K823)),0)","v":""}]
[609,{"$nulls":4},"",{"$nulls":4},"",{"$f":"IF(K824=\"\", \"\", K824/Veriler!$T$1)","v":""},{"$f":"IF(E824<>\"\", \"İthal Girdi\", IF(Veriler!P824=\"\", \"\", IF(Veriler!O824=\"H\", \"%0,5 üzerindedir\", IF(Veriler!P824>0.1, \"%10 sınırı aşılmıştır.\", \"Uygun\"))))","v":"%0,5 üzerindedir"}," ",null,null,"",{"$f":"IFERROR(IF(L824<=0.005,IF(E824=\"\",K824,0),IF(E824<>\"\",0,IF(O824=\"\",0,IF(O824=\"H\",0,IF(P824<Veriler!$F$2,K824*Veriler!$F$2,K824*P824))))),\" \")","v":0},{"$f":"IF(Veriler!P824<=0.1, R824, IF(AND(Veriler!P824>0.1, E824=\"\", O824=\"E\"), IF(P824>Veriler!$F$2, P824*R824, IF(P824<Veriler!$F$2, Veriler!$F$2*R824, P824*R824)), 0))","v":0}," ",{"$f":"IFERROR(IF(N824=\"%10 sınırı aşılmıştır.\",K824-S824,IFERROR(IF(E824=\"\",IF(R824=1,0,IF(K824-R824=0,\"\",K824-R824)),IF(Veriler!I824=\"\",K824,IF(K824*Veriler!I824=0,\"\",K824*Veriler!I824))),K824)),0)","v":""}]
[610,{"$nulls":4},"",{"$nulls":4},"",{"$f":"IF(K825=\"\", \"\", K825/Veriler!$T$1)","v":""},{"$f":"IF(E825<>\"\", \"İthal Girdi\", IF(Veriler!P825=\"\", \"\", IF(Veriler!O825=\"H\", \"%0,5 üzerindedir\", IF(Veriler!P825>0.1, \"%10 sınırı aşılmıştır.\", \"Uygun\"))))","v":"%0,5 üzerindedir"}," ",null,null,"",{"$f":"IFERROR(IF(L825<=0.005,IF(E825=\"\",K825,0),IF(E825<>\"\",0,IF(O825=\"\",0,IF(O825=\"H\",0,IF(P825<Veriler!$F$2,K825*Veriler!$F$2,K825*P825))))),\" \")","v":0},{"$f":"IF(Veriler!P825<=0.1, R825, IF(AND(Veriler!P825>0.1, E825=\"\", O825=\"E\"), IF(P825>Veriler!$F$2, P825*R825, IF(P825<Veriler!$F$2, Veriler!$F$2*R825, P825*R825)), 0))","v":0}," ",{"$f":"IFERROR(IF(N825=\"%10 sınırı aşılmıştır.\",K825-S825,IFERROR(IF(E825=\"\",IF(R825=1,0,IF(K825-R825=0,\"\",K825-R825)),IF(Veriler!I825=\"\",K825,IF(K825*Veriler!I825=0,\"\",K825*Veriler!I825))),K825)),0)","v":""}]
[611,{"$nulls":4},"",{"$nulls":4},"",{"$f":"IF(K826=\"\", \"\", K826/Veriler!$T$1)","v":""},{"$f":"IF(E826<>\"\", \"İthal Girdi\", IF(Veriler!P826=\"\", \"\", IF(Veriler!O826=\"H\", \"%0,5 üzerindedir\", IF(Veriler!P826>0.1, \"%10 sınırı aşılmıştır.\", \"Uygun\"))))","v":"%0,5 üzerindedir"}," ",null,null,"",{"$f":"IFERROR(IF(L826<=0.005,IF(E826=\"\",K826,0),IF(E826<>\"\",0,IF(O826=\"\",0,IF(O826=\"H\",0,IF(P826<Veriler!$F$2,K826*Veriler!$F$2,K826*P826))))),\" \")","v":0},{"$f":"IF(Veriler!P826<=0.1, R826, IF(AND(Veriler!P826>0.1, E826=\"\", O826=\"E\"), IF(P826>Veriler!$F$2, P826*R826, IF(P826<Veriler!$F$2, Veriler!$F$2*R826, P826*R826)), 0))","v":0}," ",{"$f":"IFERROR(IF(N826=\"%10 sınırı aşılmıştır.\",K826-S826,IFERROR(IF(E826=\"\",IF(R826=1,0,IF(K826-R826=0,\"\",K826-R826)),IF(Veriler!I826=\"\",K826,IF(K826*Veriler!I826=0,\"\",K826*Veriler!I826))),K826)),0)","v":""}]
[612,{"$nulls":4},"",{"$nulls":4},"",{"$f":"IF(K827=\"\", \"\", K827/Veriler!$T$1)","v":""},{"$f":"IF(E827<>\"\", \"İthal Girdi\", IF(Veriler!P827=\"\", \"\", IF(Veriler!O827=\"H\", \"%0,5 üzerindedir\", IF(Veriler!P827>0.1, \"%10 sınırı aşılmıştır.\", \"Uygun\"))))","v":"%0,5 üzerindedir"}," ",null,null,"",{"$f":"IFERROR(IF(L827<=0.005,IF(E827=\"\",K827,0),IF(E827<>\"\",0,IF(O827=\"\",0,IF(O827=\"H\",0,IF(P827<Veriler!$F$2,K827*Veriler!$F$2,K827*P827))))),\" \")","v":0},{"$f":"IF(Veriler!P827<=0.1, R827, IF(AND(Veriler!P827>0.1, E827=\"\", O827=\"E\"), IF(P827>Veriler!$F$2, P827*R827, IF(P827<Veriler!$F$2, Veriler!$F$2*R827, P827*R827)), 0))","v":0}," ",{"$f":"IFERROR(IF(N827=\"%10 sınırı aşılmıştır.\",K827-S827,IFERROR(IF(E827=\"\",IF(R827=1,0,IF(K827-R827=0,\"\",K827-R827)),IF(Veriler!I827=\"\",K827,IF(K827*Veriler!I827=0,\"\",K827*Veriler!I827))),K827)),0)","v":""}]
[613,{"$nulls":4},"",{"$nulls":4},"",{"$f":"IF(K828=\"\", \"\", K828/Veriler!$T$1)","v":""},{"$f":"IF(E828<>\"\", \"İthal Girdi\", IF(Veriler!P828=\"\", \"\", IF(Veriler!O828=\"H\", \"%0,5 üzerindedir\", IF(Veriler!P828>0.1, \"%10 sınırı aşılmıştır.\", \"Uygun\"))))","v":"%0,5 üzerindedir"}," ",null,null,"",{"$f":"IFERROR(IF(L828<=0.005,IF(E828=\"\",K828,0),IF(E828<>\"\",0,IF(O828=\"\",0,IF(O828=\"H\",0,IF(P828<Veriler!$F$2,K828*Veriler!$F$2,K828*P828))))),\" \")","v":0},{"$f":"IF(Veriler!P828<=0.1, R828, IF(AND(Veriler!P828>0.1, E828=\"\", O828=\"E\"), IF(P828>Veriler!$F$2, P828*R828, IF(P828<Veriler!$F$2, Veriler!$F$2*R828, P828*R828)), 0))","v":0}," ",{"$f":"IFERROR(IF(N828=\"%10 sınırı aşılmıştır.\",K828-S828,IFERROR(IF(E828=\"\",IF(R828=1,0,IF(K828-R828=0,\"\",K828-R828)),IF(Veriler!I828=\"\",K828,IF(K828*Veriler!I828=0,\"\",K828*Veriler!I828))),K828)),0)","v":""}]
[614,{"$nulls":4},"",{"$nulls":4},"",{"$f":"IF(K829=\"\", \"\", K829/Veriler!$T$1)","v":""},{"$f":"IF(E829<>\"\", \"İthal Girdi\", IF(Veriler!P829=\"\", \"\", IF(Veriler!O829=\"H\", \"%0,5 üzerindedir\", IF(Veriler!P829>0.1, \"%10 sınırı aşılmıştır.\", \"Uygun\"))))","v":"%0,5 üzerindedir"}," ",null,null,"",{"$f":"IFERROR(IF(L829<=0.005,IF(E829=\"\",K829,0),IF(E829<>\"\",0,IF(O829=\"\",0,IF(O829=\"H\",0,IF(P829<Veriler!$F$2,K829*Veriler!$F$2,K829*P829))))),\" \")","v":0},{"$f":"IF(Veriler!P829<=0.1, R829, IF(AND(Veriler!P829>0.1, E829=\"\", O829=\"E\"), IF(P829>Veriler!$F$2, P829*R829, IF(P829<Veriler!$F$2, Veriler!$F$2*R829, P829*R829)), 0))","v":0}," ",{"$f":"IFERROR(IF(N829=\"%10 sınırı aşılmıştır.\",K829-S829,IFERROR(IF(E829=\"\",IF(R829=1,0,IF(K829-R829=0,\"\",K829-R829)),IF(Veriler!I829=\"\",K829,IF(K829*Veriler!I829=0,\"\",K829*Veriler!I829))),K829)),0)","v":""}]
[615,{"$nulls":4},"",{"$nulls":4},"",{"$f":"IF(K830=\"\", \"\", K830/Veriler!$T$1)","v":""},{"$f":"IF(E830<>\"\", \"İthal Girdi\", IF(Veriler!P830=\"\", \"\", IF(Veriler!O830=\"H\", \"%0,5 üzerindedir\", IF(Veriler!P830>0.1, \"%10 sınırı aşılmıştır.\", \"Uygun\"))))","v":"%0,5 üzerindedir"}," ",null,null,"",{"$f":"IFERROR(IF(L830<=0.005,IF(E830=\"\",K830,0),IF(E830<>\"\",0,IF(O830=\"\",0,IF(O830=\"H\",0,IF(P830<Veriler!$F$2,K830*Veriler!$F$2,K830*P830))))),\" \")","v":0},{"$f":"IF(Veriler!P830<=0.1, R830, IF(AND(Veriler!P830>0.1, E830=\"\", O830=\"E\"), IF(P830>Veriler!$F$2, P830*R830, IF(P830<Veriler!$F$2, Veriler!$F$2*R830, P830*R830)), 0))","v":0}," ",{"$f":"IFERROR(IF(N830=\"%10 sınırı aşılmıştır.\",K830-S830,IFERROR(IF(E830=\"\",IF(R830=1,0,IF(K830-R830=0,\"\",K830-R830)),IF(Veriler!I830=\"\",K830,IF(K830*Veriler!I830=0,\"\",K830*Veriler!I830))),K830)),0)","v":""}]
[616,{"$nulls":4},"",{"$nulls":4},"",{"$f":"IF(K831=\"\", \"\", K831/Veriler!$T$1)","v":""},{"$f":"IF(E831<>\"\", \"İthal Girdi\", IF(Veriler!P831=\"\", \"\", IF(Veriler!O831=\"H\", \"%0,5 üzerindedir\", IF(Veriler!P831>0.1, \"%10 sınırı aşılmıştır.\", \"Uygun\"))))","v":"%0,5 üzerindedir"}," ",null,null,"",{"$f":"IFERROR(IF(L831<=0.005,IF(E831=\"\",K831,0),IF(E831<>\"\",0,IF(O831=\"\",0,IF(O831=\"H\",0,IF(P831<Veriler!$F$2,K831*Veriler!$F$2,K831*P831))))),\" \")","v":0},{"$f":"IF(Veriler!P831<=0.1, R831, IF(AND(Veriler!P831>0.1, E831=\"\", O831=\"E\"), IF(P831>Veriler!$F$2, P831*R831, IF(P831<Veriler!$F$2, Veriler!$F$2*R831, P831*R831)), 0))","v":0}," ",{"$f":"IFERROR(IF(N831=\"%10 sınırı aşılmıştır.\",K831-S831,IFERROR(IF(E831=\"\",IF(R831=1,0,IF(K831-R831=0,\"\",K831-R831)),IF(Veriler!I831=\"\",K831,IF(K831*Veriler!I831=0,\"\",K831*Veriler!I831))),K831)),0)","v":""}]
[{"$nulls":10},{"$f":"SUM(K803:K816,K818:K831)","v":0}]
[{"$nulls":17},"T1","T1","T1","T2"]
["Sayfa Toplamı (TL)  *(Genel Dip Toplam Ek.3-D sayfasında otomatik hesaplanacaktır.)",{"$nulls":16},{"$f":"IF(SUM(#REF!,R803:R816,R818:R831)=0,\"\",SUM(#REF!,R803:R816,R818:R831))","v":{"$error":"#REF!"}},{"$f":"IF(SUM(S803:S816,S818:S831)=0,\" \",SUM(S803:S816,S818:S831))","v":" "},{"$f":"IF(SUM(T803:T816,T818:T831)=0,\" \",SUM(T803:T816,T818:T831))","v":" "},{"$f":"IF(SUM(U803:U816,U818:U831)=0,\" \",SUM(U803:U816,U818:U831))","v":" "}]
[]
[{"$f":"A874","v":"R02"}]
["YERLİ KATKI ORANI HESAP CETVELİ                      ",{"$nulls":13},false]
["A) Nihai Ürün Doğrudan ve Dolaylı Malzeme Giderleri                                                                                                                                                                                                                                                                                                                                                                                                                                         ",{"$nulls":18},"S",{"$f":"U800+1","v":23}]
["Sıra No","Malzeme adı / Faturadaki Ürün Adı",null,"Üretici Unvanı","GTİP Kodu                             (İthal girdiler için)","Gtip Katsayısı","Miktar ","Birim","Fiyatı \n(TL/Döviz)\n","Döviz Kuru               (TL ise 1 alınız)","Fatura Tutarı (TL)","Girdi Maliyet Yüzdesi (%)","Girdi yüzdesi %0,5 altında olan girdiler için %10 sınır kontrolü","Girdi yüzdesi %0,5 altında olan girdiler için %10 sınır kontrolü","SSB/  Müstahsil                (E/H)","YKO (%) (Manuel girilmeli)","Geçerli Yerli Oranı (%)","Yerli Maliyet Tutarı                            (T1)","Yerli Maliyet Tutarı (T1)","Yerli Maliyet Tutarı (T1)","İthal Maliyet Tutarı               (T2)"]
[null,"Doğrudan Girdi                                                         (Dolaylı girdiniz varsa en son 25. sayfaya doldurunuz)"]
[{"$f":"A831+1","v":617},{"$nulls":4},{"$f":"IF(AND(E841<>\"\",U841<>\"\",K841<>0),U841/K841,\"\")","v":""},{"$nulls":4},{"$f":"IF(AND(G841<>0, I841<>0, J841<>0), G841*I841*J841, \"\")","v":""},{"$f":"IF(K841=\"\", \"\", K841/Veriler!$T$1)","v":""},{"$f":"IF(E841<>\"\", \"İthal Girdi\", IF(Veriler!P841=\"\", \"\", IF(Veriler!O841=\"H\", \"%0,5 üzerindedir\", IF(Veriler!P841>0.1, \"%10 sınırı aşılmıştır.\", \"Uygun\"))))","v":"%0,5 üzerindedir"},{"$f":"IF(L841=\"\",\" \",M841)","v":" "},null,null,{"$f":"IFERROR(IF(AND(S841<>\"\",K841<>\"\",K841<>0,S841<>0),S841/K841,\"\"),\" \")","v":""},{"$f":"IFERROR(IF(L841<=0.005,IF(E841=\"\",K841,0),IF(E841<>\"\",0,IF(O841=\"\",0,IF(O841=\"H\",0,IF(P841<Veriler!$F$2,K841*Veriler!$F$2,K841*P841))))),\" \")","v":0},{"$f":"IF(Veriler!P841<=0.1, R841, IF(AND(Veriler!P841>0.1, E841=\"\", O841=\"E\"), IF(P841>Veriler!$F$2, P841*R841, IF(P841<Veriler!$F$2, Veriler!$F$2*R841, P841*R841)), 0))","v":0},{"$f":"IF(S841=0,\" \",S841)","v":" "},{"$f":"IFERROR(IF(N841=\"%10 sınırı aşılmıştır.\",K841-S841,IFERROR(IF(E841=\"\",IF(R841=1,0,IF(K841-R841=0,\"\",K841-R841)),IF(Veriler!I841=\"\",K841,IF(K841*Veriler!I841=0,\"\",K841*Veriler!I841))),K841)),0)","v":""}]
[{"$f":"A841+1","v":618},{"$nulls":4},"",{"$nulls":4},"",{"$f":"IF(K842=\"\", \"\", K842/Veriler!$T$1)","v":""},{"$f":"IF(E842<>\"\", \"İthal Girdi\", IF(Veriler!P842=\"\", \"\", IF(Veriler!O842=\"H\", \"%0,5 üzerindedir\", IF(Veriler!P842>0.1, \"%10 sınırı aşılmıştır.\", \"Uygun\"))))","v":"%0,5 üzerindedir"}," ",null,null,"",{"$f":"IFERROR(IF(L842<=0.005,IF(E842=\"\",K842,0),IF(E842<>\"\",0,IF(O842=\"\",0,IF(O842=\"H\",0,IF(P842<Veriler!$F$2,K842*Veriler!$F$2,K842*P842))))),\" \")","v":0},{"$f":"IF(Veriler!P842<=0.1, R842, IF(AND(Veriler!P842>0.1, E842=\"\", O842=\"E\"), IF(P842>Veriler!$F$2, P842*R842, IF(P842<Veriler!$F$2, Veriler!$F$2*R842, P842*R842)), 0))","v":0}," ",{"$f":"IFERROR(IF(N842=\"%10 sınırı aşılmıştır.\",K842-S842,IFERROR(IF(E842=\"\",IF(R842=1,0,IF(K842-R842=0,\"\",K842-R842)),IF(Veriler!I842=\"\",K842,IF(K842*Veriler!I842=0,\"\",K842*Veriler!I842))),K842)),0)","v":""}]
[{"$f":"A842+1","v":619},{"$nulls":4},"",{"$nulls":4},"",{"$f":"IF(K843=\"\", \"\", K843/Veriler!$T$1)","v":""},{"$f":"IF(E843<>\"\", \"İthal Girdi\", IF(Veriler!P843=\"\", \"\", IF(Veriler!O843=\"H\", \"%0,5 üzerindedir\", IF(Veriler!P843>0.1, \"%10 sınırı aşılmıştır.\", \"Uygun\"))))","v":"%0,5 üzerindedir"}," ",null,null,"",{"$f":"IFERROR(IF(L843<=0.005,IF(E843=\"\",K843,0),IF(E843<>\"\",0,IF(O843=\"\",0,IF(O843=\"H\",0,IF(P843<Veriler!$F$2,K843*Veriler!$F$2,K843*P843))))),\" \")","v":0},{"$f":"IF(Veriler!P843<=0.1, R843, IF(AND(Veriler!P843>0.1, E843=\"\", O843=\"E\"), IF(P843>Veriler!$F$2, P843*R843, IF(P843<Veriler!$F$2, Veriler!$F$2*R843, P843*R843)), 0))","v":0}," ",{"$f":"IFERROR(IF(N843=\"%10 sınırı aşılmıştır.\",K843-S843,IFERROR(IF(E843=\"\",IF(R843=1,0,IF(K843-R843=0,\"\",K843-R843)),IF(Veriler!I843=\"\",K843,IF(K843*Veriler!I843=0,\"\",K843*Veriler!I843))),K843)),0)","v":""}]
[620,{"$nulls":4},"",{"$nulls":4},"",{"$f":"IF(K844=\"\", \"\", K844/Veriler!$T$1)","v":""},{"$f":"IF(E844<>\"\", \"İthal Girdi\", IF(Veriler!P844=\"\", \"\", IF(Veriler!O844=\"H\", \"%0,5 üzerindedir\", IF(Veriler!P844>0.1, \"%10 sınırı aşılmıştır.\", \"Uygun\"))))","v":"%0,5 üzerindedir"}," ",null,null,"",{"$f":"IFERROR(IF(L844<=0.005,IF(E844=\"\",K844,0),IF(E844<>\"\",0,IF(O844=\"\",0,IF(O844=\"H\",0,IF(P844<Veriler!$F$2,K844*Veriler!$F$2,K844*P844))))),\" \")","v":0},{"$f":"IF(Veriler!P844<=0.1, R844, IF(AND(Veriler!P844>0.1, E844=\"\", O844=\"E\"), IF(P844>Veriler!$F$2, P844*R844, IF(P844<Veriler!$F$2, Veriler!$F$2*R844, P844*R844)), 0))","v":0}," ",{"$f":"IFERROR(IF(N844=\"%10 sınırı aşılmıştır.\",K844-S844,IFERROR(IF(E844=\"\",IF(R844=1,0,IF(K844-R844=0,\"\",K844-R844)),IF(Veriler!I844=\"\",K844,IF(K844*Veriler!I844=0,\"\",K844*Veriler!I844))),K844)),0)","v":""}]
[621,{"$nulls":4},"",{"$nulls":4},"",{"$f":"IF(K845=\"\", \"\", K845/Veriler!$T$1)","v":""},{"$f":"IF(E845<>\"\", \"İthal Girdi\", IF(Veriler!P845=\"\", \"\", IF(Veriler!O845=\"H\", \"%0,5 üzerindedir\", IF(Veriler!P845>0.1, \"%10 sınırı aşılmıştır.\", \"Uygun\"))))","v":"%0,5 üzerindedir"}," ",null,null,"",{"$f":"IFERROR(IF(L845<=0.005,IF(E845=\"\",K845,0),IF(E845<>\"\",0,IF(O845=\"\",0,IF(O845=\"H\",0,IF(P845<Veriler!$F$2,K845*Veriler!$F$2,K845*P845))))),\" \")","v":0},{"$f":"IF(Veriler!P845<=0.1, R845, IF(AND(Veriler!P845>0.1, E845=\"\", O845=\"E\"), IF(P845>Veriler!$F$2, P845*R845, IF(P845<Veriler!$F$2, Veriler!$F$2*R845, P845*R845)), 0))","v":0}," ",{"$f":"IFERROR(IF(N845=\"%10 sınırı aşılmıştır.\",K845-S845,IFERROR(IF(E845=\"\",IF(R845=1,0,IF(K845-R845=0,\"\",K845-R845)),IF(Veriler!I845=\"\",K845,IF(K845*Veriler!I845=0,\"\",K845*Veriler!I845))),K845)),0)","v":""}]
[622,{"$nulls":4},"",{"$nulls":4},"",{"$f":"IF(K846=\"\", \"\", K846/Veriler!$T$1)","v":""},{"$f":"IF(E846<>\"\", \"İthal Girdi\", IF(Veriler!P846=\"\", \"\", IF(Veriler!O846=\"H\", \"%0,5 üzerindedir\", IF(Veriler!P846>0.1, \"%10 sınırı aşılmıştır.\", \"Uygun\"))))","v":"%0,5 üzerindedir"}," ",null,null,"",{"$f":"IFERROR(IF(L846<=0.005,IF(E846=\"\",K846,0),IF(E846<>\"\",0,IF(O846=\"\",0,IF(O846=\"H\",0,IF(P846<Veriler!$F$2,K846*Veriler!$F$2,K846*P846))))),\" \")","v":0},{"$f":"IF(Veriler!P846<=0.1, R846, IF(AND(Veriler!P846>0.1, E846=\"\", O846=\"E\"), IF(P846>Veriler!$F$2, P846*R846, IF(P846<Veriler!$F$2, Veriler!$F$2*R846, P846*R846)), 0))","v":0}," ",{"$f":"IFERROR(IF(N846=\"%10 sınırı aşılmıştır.\",K846-S846,IFERROR(IF(E846=\"\",IF(R846=1,0,IF(K846-R846=0,\"\",K846-R846)),IF(Veriler!I846=\"\",K846,IF(K846*Veriler!I846=0,\"\",K846*Veriler!I846))),K846)),0)","v":""}]
[623,{"$nulls":4},"",{"$nulls":4},"",{"$f":"IF(K847=\"\", \"\", K847/Veriler!$T$1)","v":""},{"$f":"IF(E847<>\"\", \"İthal Girdi\", IF(Veriler!P847=\"\", \"\", IF(Veriler!O847=\"H\", \"%0,5 üzerindedir\", IF(Veriler!P847>0.1, \"%10 sınırı aşılmıştır.\", \"Uygun\"))))","v":"%0,5 üzerindedir"}," ",null,null,"",{"$f":"IFERROR(IF(L847<=0.005,IF(E847=\"\",K847,0),IF(E847<>\"\",0,IF(O847=\"\",0,IF(O847=\"H\",0,IF(P847<Veriler!$F$2,K847*Veriler!$F$2,K847*P847))))),\" \")","v":0},{"$f":"IF(Veriler!P847<=0.1, R847, IF(AND(Veriler!P847>0.1, E847=\"\", O847=\"E\"), IF(P847>Veriler!$F$2, P847*R847, IF(P847<Veriler!$F$2, Veriler!$F$2*R847, P847*R847)), 0))","v":0}," ",{"$f":"IFERROR(IF(N847=\"%10 sınırı aşılmıştır.\",K847-S847,IFERROR(IF(E847=\"\",IF(R847=1,0,IF(K847-R847=0,\"\",K847-R847)),IF(Veriler!I847=\"\",K847,IF(K847*Veriler!I847=0,\"\",K847*Veriler!I847))),K847)),0)","v":""}]
[624,{"$nulls":4},"",{"$nulls":4},"",{"$f":"IF(K848=\"\", \"\", K848/Veriler!$T$1)","v":""},{"$f":"IF(E848<>\"\", \"İthal Girdi\", IF(Veriler!P848=\"\", \"\", IF(Veriler!O848=\"H\", \"%0,5 üzerindedir\", IF(Veriler!P848>0.1, \"%10 sınırı aşılmıştır.\", \"Uygun\"))))","v":"%0,5 üzerindedir"}," ",null,null,"",{"$f":"IFERROR(IF(L848<=0.005,IF(E848=\"\",K848,0),IF(E848<>\"\",0,IF(O848=\"\",0,IF(O848=\"H\",0,IF(P848<Veriler!$F$2,K848*Veriler!$F$2,K848*P848))))),\" \")","v":0},{"$f":"IF(Veriler!P848<=0.1, R848, IF(AND(Veriler!P848>0.1, E848=\"\", O848=\"E\"), IF(P848>Veriler!$F$2, P848*R848, IF(P848<Veriler!$F$2, Veriler!$F$2*R848, P848*R848)), 0))","v":0}," ",{"$f":"IFERROR(IF(N848=\"%10 sınırı aşılmıştır.\",K848-S848,IFERROR(IF(E848=\"\",IF(R848=1,0,IF(K848-R848=0,\"\",K848-R848)),IF(Veriler!I848=\"\",K848,IF(K848*Veriler!I848=0,\"\",K848*Veriler!I848))),K848)),0)","v":""}]
[625,{"$nulls":4},"",{"$nulls":4},"",{"$f":"IF(K849=\"\", \"\", K849/Veriler!$T$1)","v":""},{"$f":"IF(E849<>\"\", \"İthal Girdi\", IF(Veriler!P849=\"\", \"\", IF(Veriler!O849=\"H\", \"%0,5 üzerindedir\", IF(Veriler!P849>0.1, \"%10 sınırı aşılmıştır.\", \"Uygun\"))))","v":"%0,5 üzerindedir"}," ",null,null,"",{"$f":"IFERROR(IF(L849<=0.005,IF(E849=\"\",K849,0),IF(E849<>\"\",0,IF(O849=\"\",0,IF(O849=\"H\",0,IF(P849<Veriler!$F$2,K849*Veriler!$F$2,K849*P849))))),\" \")","v":0},{"$f":"IF(Veriler!P849<=0.1, R849, IF(AND(Veriler!P849>0.1, E849=\"\", O849=\"E\"), IF(P849>Veriler!$F$2, P849*R849, IF(P849<Veriler!$F$2, Veriler!$F$2*R849, P849*R849)), 0))","v":0}," ",{"$f":"IFERROR(IF(N849=\"%10 sınırı aşılmıştır.\",K849-S849,IFERROR(IF(E849=\"\",IF(R849=1,0,IF(K849-R849=0,\"\",K849-R849)),IF(Veriler!I849=\"\",K849,IF(K849*Veriler!I849=0,\"\",K849*Veriler!I849))),K849)),0)","v":""}]
[626,{"$nulls":4},"",{"$nulls":4},"",{"$f":"IF(K850=\"\", \"\", K850/Veriler!$T$1)","v":""},{"$f":"IF(E850<>\"\", \"İthal Girdi\", IF(Veriler!P850=\"\", \"\", IF(Veriler!O850=\"H\", \"%0,5 üzerindedir\", IF(Veriler!P850>0.1, \"%10 sınırı aşılmıştır.\", \"Uygun\"))))","v":"%0,5 üzerindedir"}," ",null,null,"",{"$f":"IFERROR(IF(L850<=0.005,IF(E850=\"\",K850,0),IF(E850<>\"\",0,IF(O850=\"\",0,IF(O850=\"H\",0,IF(P850<Veriler!$F$2,K850*Veriler!$F$2,K850*P850))))),\" \")","v":0},{"$f":"IF(Veriler!P850<=0.1, R850, IF(AND(Veriler!P850>0.1, E850=\"\", O850=\"E\"), IF(P850>Veriler!$F$2, P850*R850, IF(P850<Veriler!$F$2, Veriler!$F$2*R850, P850*R850)), 0))","v":0}," ",{"$f":"IFERROR(IF(N850=\"%10 sınırı aşılmıştır.\",K850-S850,IFERROR(IF(E850=\"\",IF(R850=1,0,IF(K850-R850=0,\"\",K850-R850)),IF(Veriler!I850=\"\",K850,IF(K850*Veriler!I850=0,\"\",K850*Veriler!I850))),K850)),0)","v":""}]
[627,{"$nulls":4},"",{"$nulls":4},"",{"$f":"IF(K851=\"\", \"\", K851/Veriler!$T$1)","v":""},{"$f":"IF(E851<>\"\", \"İthal Girdi\", IF(Veriler!P851=\"\", \"\", IF(Veriler!O851=\"H\", \"%0,5 üzerindedir\", IF(Veriler!P851>0.1, \"%10 sınırı aşılmıştır.\", \"Uygun\"))))","v":"%0,5 üzerindedir"}," ",null,null,"",{"$f":"IFERROR(IF(L851<=0.005,IF(E851=\"\",K851,0),IF(E851<>\"\",0,IF(O851=\"\",0,IF(O851=\"H\",0,IF(P851<Veriler!$F$2,K851*Veriler!$F$2,K851*P851))))),\" \")","v":0},{"$f":"IF(Veriler!P851<=0.1, R851, IF(AND(Veriler!P851>0.1, E851=\"\", O851=\"E\"), IF(P851>Veriler!$F$2, P851*R851, IF(P851<Veriler!$F$2, Veriler!$F$2*R851, P851*R851)), 0))","v":0}," ",{"$f":"IFERROR(IF(N851=\"%10 sınırı aşılmıştır.\",K851-S851,IFERROR(IF(E851=\"\",IF(R851=1,0,IF(K851-R851=0,\"\",K851-R851)),IF(Veriler!I851=\"\",K851,IF(K851*Veriler!I851=0,\"\",K851*Veriler!I851))),K851)),0)","v":""}]
[628,{"$nulls":4},"",{"$nulls":4},"",{"$f":"IF(K852=\"\", \"\", K852/Veriler!$T$1)","v":""},{"$f":"IF(E852<>\"\", \"İthal Girdi\", IF(Veriler!P852=\"\", \"\", IF(Veriler!O852=\"H\", \"%0,5 üzerindedir\", IF(Veriler!P852>0.1, \"%10 sınırı aşılmıştır.\", \"Uygun\"))))","v":"%0,5 üzerindedir"}," ",null,null,"",{"$f":"IFERROR(IF(L852<=0.005,IF(E852=\"\",K852,0),IF(E852<>\"\",0,IF(O852=\"\",0,IF(O852=\"H\",0,IF(P852<Veriler!$F$2,K852*Veriler!$F$2,K852*P852))))),\" \")","v":0},{"$f":"IF(Veriler!P852<=0.1, R852, IF(AND(Veriler!P852>0.1, E852=\"\", O852=\"E\"), IF(P852>Veriler!$F$2, P852*R852, IF(P852<Veriler!$F$2, Veriler!$F$2*R852, P852*R852)), 0))","v":0}," ",{"$f":"IFERROR(IF(N852=\"%10 sınırı aşılmıştır.\",K852-S852,IFERROR(IF(E852=\"\",IF(R852=1,0,IF(K852-R852=0,\"\",K852-R852)),IF(Veriler!I852=\"\",K852,IF(K852*Veriler!I852=0,\"\",K852*Veriler!I852))),K852)),0)","v":""}]
[629,{"$nulls":4},"",{"$nulls":4},"",{"$f":"IF(K853=\"\", \"\", K853/Veriler!$T$1)","v":""},{"$f":"IF(E853<>\"\", \"İthal Girdi\", IF(Veriler!P853=\"\", \"\", IF(Veriler!O853=\"H\", \"%0,5 üzerindedir\", IF(Veriler!P853>0.1, \"%10 sınırı aşılmıştır.\", \"Uygun\"))))","v":"%0,5 üzerindedir"}," ",null,null,"",{"$f":"IFERROR(IF(L853<=0.005,IF(E853=\"\",K853,0),IF(E853<>\"\",0,IF(O853=\"\",0,IF(O853=\"H\",0,IF(P853<Veriler!$F$2,K853*Veriler!$F$2,K853*P853))))),\" \")","v":0},{"$f":"IF(Veriler!P853<=0.1, R853, IF(AND(Veriler!P853>0.1, E853=\"\", O853=\"E\"), IF(P853>Veriler!$F$2, P853*R853, IF(P853<Veriler!$F$2, Veriler!$F$2*R853, P853*R853)), 0))","v":0}," ",{"$f":"IFERROR(IF(N853=\"%10 sınırı aşılmıştır.\",K853-S853,IFERROR(IF(E853=\"\",IF(R853=1,0,IF(K853-R853=0,\"\",K853-R853)),IF(Veriler!I853=\"\",K853,IF(K853*Veriler!I853=0,\"\",K853*Veriler!I853))),K853)),0)","v":""}]
[630,{"$nulls":4},"",{"$nulls":4},"",{"$f":"IF(K854=\"\", \"\", K854/Veriler!$T$1)","v":""},{"$f":"IF(E854<>\"\", \"İthal Girdi\", IF(Veriler!P854=\"\", \"\", IF(Veriler!O854=\"H\", \"%0,5 üzerindedir\", IF(Veriler!P854>0.1, \"%10 sınırı aşılmıştır.\", \"Uygun\"))))","v":"%0,5 üzerindedir"}," ",null,null,"",{"$f":"IFERROR(IF(L854<=0.005,IF(E854=\"\",K854,0),IF(E854<>\"\",0,IF(O854=\"\",0,IF(O854=\"H\",0,IF(P854<Veriler!$F$2,K854*Veriler!$F$2,K854*P854))))),\" \")","v":0},{"$f":"IF(Veriler!P854<=0.1, R854, IF(AND(Veriler!P854>0.1, E854=\"\", O854=\"E\"), IF(P854>Veriler!$F$2, P854*R854, IF(P854<Veriler!$F$2, Veriler!$F$2*R854, P854*R854)), 0))","v":0}," ",{"$f":"IFERROR(IF(N854=\"%10 sınırı aşılmıştır.\",K854-S854,IFERROR(IF(E854=\"\",IF(R854=1,0,IF(K854-R854=0,\"\",K854-R854)),IF(Veriler!I854=\"\",K854,IF(K854*Veriler!I854=0,\"\",K854*Veriler!I854))),K854)),0)","v":""}]
[null,"Dolaylı"]
[{"$f":"A854+1","v":631},{"$nulls":4},{"$f":"IF(AND(E856<>\"\",U856<>\"\",K856<>0),U856/K856,\"\")","v":""},{"$nulls":4},{"$f":"IF(AND(G856<>0, I856<>0, J856<>0), G856*I856*J856, \"\")","v":""},{"$f":"IF(K856=\"\", \"\", K856/Veriler!$T$1)","v":""},{"$f":"IF(E856<>\"\", \"İthal Girdi\", IF(Veriler!P856=\"\", \"\", IF(Veriler!O856=\"H\", \"%0,5 üzerindedir\", IF(Veriler!P856>0.1, \"%10 sınırı aşılmıştır.\", \"Uygun\"))))","v":"%0,5 üzerindedir"},{"$f":"IF(L856=\"\",\" \",M856)","v":" "},null,null,{"$f":"IFERROR(IF(AND(S856<>\"\",K856<>\"\",K856<>0,S856<>0),S856/K856,\"\"),\" \")","v":""},{"$f":"IFERROR(IF(L856<=0.005,IF(E856=\"\",K856,0),IF(E856<>\"\",0,IF(O856=\"\",0,IF(O856=\"H\",0,IF(P856<Veriler!$F$2,K856*Veriler!$F$2,K856*P856))))),\" \")","v":0},{"$f":"IF(Veriler!P856<=0.1, R856, IF(AND(Veriler!P856>0.1, E856=\"\", O856=\"E\"), IF(P856>Veriler!$F$2, P856*R856, IF(P856<Veriler!$F$2, Veriler!$F$2*R856, P856*R856)), 0))","v":0},{"$f":"IF(S856=0,\" \",S856)","v":" "},{"$f":"IFERROR(IF(N856=\"%10 sınırı aşılmıştır.\",K856-S856,IFERROR(IF(E856=\"\",IF(R856=1,0,IF(K856-R856=0,\"\",K856-R856)),IF(Veriler!I856=\"\",K856,IF(K856*Veriler!I856=0,\"\",K856*Veriler!I856))),K856)),0)","v":""}]
[{"$f":"A856+1","v":632},{"$nulls":4},"",{"$nulls":4},"",{"$f":"IF(K857=\"\", \"\", K857/Veriler!$T$1)","v":""},{"$f":"IF(E857<>\"\", \"İthal Girdi\", IF(Veriler!P857=\"\", \"\", IF(Veriler!O857=\"H\", \"%0,5 üzerindedir\", IF(Veriler!P857>0.1, \"%10 sınırı aşılmıştır.\", \"Uygun\"))))","v":"%0,5 üzerindedir"}," ",null,null,"",{"$f":"IFERROR(IF(L857<=0.005,IF(E857=\"\",K857,0),IF(E857<>\"\",0,IF(O857=\"\",0,IF(O857=\"H\",0,IF(P857<Veriler!$F$2,K857*Veriler!$F$2,K857*P857))))),\" \")","v":0},{"$f":"IF(Veriler!P857<=0.1, R857, IF(AND(Veriler!P857>0.1, E857=\"\", O857=\"E\"), IF(P857>Veriler!$F$2, P857*R857, IF(P857<Veriler!$F$2, Veriler!$F$2*R857, P857*R857)), 0))","v":0}," ",{"$f":"IFERROR(IF(N857=\"%10 sınırı aşılmıştır.\",K857-S857,IFERROR(IF(E857=\"\",IF(R857=1,0,IF(K857-R857=0,\"\",K857-R857)),IF(Veriler!I857=\"\",K857,IF(K857*Veriler!I857=0,\"\",K857*Veriler!I857))),K857)),0)","v":""}]
[{"$f":"A857+1","v":633},{"$nulls":4},"",{"$nulls":4},"",{"$f":"IF(K858=\"\", \"\", K858/Veriler!$T$1)","v":""},{"$f":"IF(E858<>\"\", \"İthal Girdi\", IF(Veriler!P858=\"\", \"\", IF(Veriler!O858=\"H\", \"%0,5 üzerindedir\", IF(Veriler!P858>0.1, \"%10 sınırı aşılmıştır.\", \"Uygun\"))))","v":"%0,5 üzerindedir"}," ",null,null,"",{"$f":"IFERROR(IF(L858<=0.005,IF(E858=\"\",K858,0),IF(E858<>\"\",0,IF(O858=\"\",0,IF(O858=\"H\",0,IF(P858<Veriler!$F$2,K858*Veriler!$F$2,K858*P858))))),\" \")","v":0},{"$f":"IF(Veriler!P858<=0.1, R858, IF(AND(Veriler!P858>0.1, E858=\"\", O858=\"E\"), IF(P858>Veriler!$F$2, P858*R858, IF(P858<Veriler!$F$2, Veriler!$F$2*R858, P858*R858)), 0))","v":0}," ",{"$f":"IFERROR(IF(N858=\"%10 sınırı aşılmıştır.\",K858-S858,IFERROR(IF(E858=\"\",IF(R858=1,0,IF(K858-R858=0,\"\",K858-R858)),IF(Veriler!I858=\"\",K858,IF(K858*Veriler!I858=0,\"\",K858*Veriler!I858))),K858)),0)","v":""}]
[634,{"$nulls":4},"",{"$nulls":4},"",{"$f":"IF(K859=\"\", \"\", K859/Veriler!$T$1)","v":""},{"$f":"IF(E859<>\"\", \"İthal Girdi\", IF(Veriler!P859=\"\", \"\", IF(Veriler!O859=\"H\", \"%0,5 üzerindedir\", IF(Veriler!P859>0.1, \"%10 sınırı aşılmıştır.\", \"Uygun\"))))","v":"%0,5 üzerindedir"}," ",null,null,"",{"$f":"IFERROR(IF(L859<=0.005,IF(E859=\"\",K859,0),IF(E859<>\"\",0,IF(O859=\"\",0,IF(O859=\"H\",0,IF(P859<Veriler!$F$2,K859*Veriler!$F$2,K859*P859))))),\" \")","v":0},{"$f":"IF(Veriler!P859<=0.1, R859, IF(AND(Veriler!P859>0.1, E859=\"\", O859=\"E\"), IF(P859>Veriler!$F$2, P859*R859, IF(P859<Veriler!$F$2, Veriler!$F$2*R859, P859*R859)), 0))","v":0}," ",{"$f":"IFERROR(IF(N859=\"%10 sınırı aşılmıştır.\",K859-S859,IFERROR(IF(E859=\"\",IF(R859=1,0,IF(K859-R859=0,\"\",K859-R859)),IF(Veriler!I859=\"\",K859,IF(K859*Veriler!I859=0,\"\",K859*Veriler!I859))),K859)),0)","v":""}]
[635,{"$nulls":4},"",{"$nulls":4},"",{"$f":"IF(K860=\"\", \"\", K860/Veriler!$T$1)","v":""},{"$f":"IF(E860<>\"\", \"İthal Girdi\", IF(Veriler!P860=\"\", \"\", IF(Veriler!O860=\"H\", \"%0,5 üzerindedir\", IF(Veriler!P860>0.1, \"%10 sınırı aşılmıştır.\", \"Uygun\"))))","v":"%0,5 üzerindedir"}," ",null,null,"",{"$f":"IFERROR(IF(L860<=0.005,IF(E860=\"\",K860,0),IF(E860<>\"\",0,IF(O860=\"\",0,IF(O860=\"H\",0,IF(P860<Veriler!$F$2,K860*Veriler!$F$2,K860*P860))))),\" \")","v":0},{"$f":"IF(Veriler!P860<=0.1, R860, IF(AND(Veriler!P860>0.1, E860=\"\", O860=\"E\"), IF(P860>Veriler!$F$2, P860*R860, IF(P860<Veriler!$F$2, Veriler!$F$2*R860, P860*R860)), 0))","v":0}," ",{"$f":"IFERROR(IF(N860=\"%10 sınırı aşılmıştır.\",K860-S860,IFERROR(IF(E860=\"\",IF(R860=1,0,IF(K860-R860=0,\"\",K860-R860)),IF(Veriler!I860=\"\",K860,IF(K860*Veriler!I860=0,\"\",K860*Veriler!I860))),K860)),0)","v":""}]
[636,{"$nulls":4},"",{"$nulls":4},"",{"$f":"IF(K861=\"\", \"\", K861/Veriler!$T$1)","v":""},{"$f":"IF(E861<>\"\", \"İthal Girdi\", IF(Veriler!P861=\"\", \"\", IF(Veriler!O861=\"H\", \"%0,5 üzerindedir\", IF(Veriler!P861>0.1, \"%10 sınırı aşılmıştır.\", \"Uygun\"))))","v":"%0,5 üzerindedir"}," ",null,null,"",{"$f":"IFERROR(IF(L861<=0.005,IF(E861=\"\",K861,0),IF(E861<>\"\",0,IF(O861=\"\",0,IF(O861=\"H\",0,IF(P861<Veriler!$F$2,K861*Veriler!$F$2,K861*P861))))),\" \")","v":0},{"$f":"IF(Veriler!P861<=0.1, R861, IF(AND(Veriler!P861>0.1, E861=\"\", O861=\"E\"), IF(P861>Veriler!$F$2, P861*R861, IF(P861<Veriler!$F$2, Veriler!$F$2*R861, P861*R861)), 0))","v":0}," ",{"$f":"IFERROR(IF(N861=\"%10 sınırı aşılmıştır.\",K861-S861,IFERROR(IF(E861=\"\",IF(R861=1,0,IF(K861-R861=0,\"\",K861-R861)),IF(Veriler!I861=\"\",K861,IF(K861*Veriler!I861=0,\"\",K861*Veriler!I861))),K861)),0)","v":""}]
[637,{"$nulls":4},"",{"$nulls":4},"",{"$f":"IF(K862=\"\", \"\", K862/Veriler!$T$1)","v":""},{"$f":"IF(E862<>\"\", \"İthal Girdi\", IF(Veriler!P862=\"\", \"\", IF(Veriler!O862=\"H\", \"%0,5 üzerindedir\", IF(Veriler!P862>0.1, \"%10 sınırı aşılmıştır.\", \"Uygun\"))))","v":"%0,5 üzerindedir"}," ",null,null,"",{"$f":"IFERROR(IF(L862<=0.005,IF(E862=\"\",K862,0),IF(E862<>\"\",0,IF(O862=\"\",0,IF(O862=\"H\",0,IF(P862<Veriler!$F$2,K862*Veriler!$F$2,K862*P862))))),\" \")","v":0},{"$f":"IF(Veriler!P862<=0.1, R862, IF(AND(Veriler!P862>0.1, E862=\"\", O862=\"E\"), IF(P862>Veriler!$F$2, P862*R862, IF(P862<Veriler!$F$2, Veriler!$F$2*R862, P862*R862)), 0))","v":0}," ",{"$f":"IFERROR(IF(N862=\"%10 sınırı aşılmıştır.\",K862-S862,IFERROR(IF(E862=\"\",IF(R862=1,0,IF(K862-R862=0,\"\",K862-R862)),IF(Veriler!I862=\"\",K862,IF(K862*Veriler!I862=0,\"\",K862*Veriler!I862))),K862)),0)","v":""}]
[638,{"$nulls":4},"",{"$nulls":4},"",{"$f":"IF(K863=\"\", \"\", K863/Veriler!$T$1)","v":""},{"$f":"IF(E863<>\"\", \"İthal Girdi\", IF(Veriler!P863=\"\", \"\", IF(Veriler!O863=\"H\", \"%0,5 üzerindedir\", IF(Veriler!P863>0.1, \"%10 sınırı aşılmıştır.\", \"Uygun\"))))","v":"%0,5 üzerindedir"}," ",null,null,"",{"$f":"IFERROR(IF(L863<=0.005,IF(E863=\"\",K863,0),IF(E863<>\"\",0,IF(O863=\"\",0,IF(O863=\"H\",0,IF(P863<Veriler!$F$2,K863*Veriler!$F$2,K863*P863))))),\" \")","v":0},{"$f":"IF(Veriler!P863<=0.1, R863, IF(AND(Veriler!P863>0.1, E863=\"\", O863=\"E\"), IF(P863>Veriler!$F$2, P863*R863, IF(P863<Veriler!$F$2, Veriler!$F$2*R863, P863*R863)), 0))","v":0}," ",{"$f":"IFERROR(IF(N863=\"%10 sınırı aşılmıştır.\",K863-S863,IFERROR(IF(E863=\"\",IF(R863=1,0,IF(K863-R863=0,\"\",K863-R863)),IF(Veriler!I863=\"\",K863,IF(K863*Veriler!I863=0,\"\",K863*Veriler!I863))),K863)),0)","v":""}]
[639,{"$nulls":4},"",{"$nulls":4},"",{"$f":"IF(K864=\"\", \"\", K864/Veriler!$T$1)","v":""},{"$f":"IF(E864<>\"\", \"İthal Girdi\", IF(Veriler!P864=\"\", \"\", IF(Veriler!O864=\"H\", \"%0,5 üzerindedir\", IF(Veriler!P864>0.1, \"%10 sınırı aşılmıştır.\", \"Uygun\"))))","v":"%0,5 üzerindedir"}," ",null,null,"",{"$f":"IFERROR(IF(L864<=0.005,IF(E864=\"\",K864,0),IF(E864<>\"\",0,IF(O864=\"\",0,IF(O864=\"H\",0,IF(P864<Veriler!$F$2,K864*Veriler!$F$2,K864*P864))))),\" \")","v":0},{"$f":"IF(Veriler!P864<=0.1, R864, IF(AND(Veriler!P864>0.1, E864=\"\", O864=\"E\"), IF(P864>Veriler!$F$2, P864*R864, IF(P864<Veriler!$F$2, Veriler!$F$2*R864, P864*R864)), 0))","v":0}," ",{"$f":"IFERROR(IF(N864=\"%10 sınırı aşılmıştır.\",K864-S864,IFERROR(IF(E864=\"\",IF(R864=1,0,IF(K864-R864=0,\"\",K864-R864)),IF(Veriler!I864=\"\",K864,IF(K864*Veriler!I864=0,\"\",K864*Veriler!I864))),K864)),0)","v":""}]
[640,{"$nulls":4},"",{"$nulls":4},"",{"$f":"IF(K865=\"\", \"\", K865/Veriler!$T$1)","v":""},{"$f":"IF(E865<>\"\", \"İthal Girdi\", IF(Veriler!P865=\"\", \"\", IF(Veriler!O865=\"H\", \"%0,5 üzerindedir\", IF(Veriler!P865>0.1, \"%10 sınırı aşılmıştır.\", \"Uygun\"))))","v":"%0,5 üzerindedir"}," ",null,null,"",{"$f":"IFERROR(IF(L865<=0.005,IF(E865=\"\",K865,0),IF(E865<>\"\",0,IF(O865=\"\",0,IF(O865=\"H\",0,IF(P865<Veriler!$F$2,K865*Veriler!$F$2,K865*P865))))),\" \")","v":0},{"$f":"IF(Veriler!P865<=0.1, R865, IF(AND(Veriler!P865>0.1, E865=\"\", O865=\"E\"), IF(P865>Veriler!$F$2, P865*R865, IF(P865<Veriler!$F$2, Veriler!$F$2*R865, P865*R865)), 0))","v":0}," ",{"$f":"IFERROR(IF(N865=\"%10 sınırı aşılmıştır.\",K865-S865,IFERROR(IF(E865=\"\",IF(R865=1,0,IF(K865-R865=0,\"\",K865-R865)),IF(Veriler!I865=\"\",K865,IF(K865*Veriler!I865=0,\"\",K865*Veriler!I865))),K865)),0)","v":""}]
[641,{"$nulls":4},"",{"$nulls":4},"",{"$f":"IF(K866=\"\", \"\", K866/Veriler!$T$1)","v":""},{"$f":"IF(E866<>\"\", \"İthal Girdi\", IF(Veriler!P866=\"\", \"\", IF(Veriler!O866=\"H\", \"%0,5 üzerindedir\", IF(Veriler!P866>0.1, \"%10 sınırı aşılmıştır.\", \"Uygun\"))))","v":"%0,5 üzerindedir"}," ",null,null,"",{"$f":"IFERROR(IF(L866<=0.005,IF(E866=\"\",K866,0),IF(E866<>\"\",0,IF(O866=\"\",0,IF(O866=\"H\",0,IF(P866<Veriler!$F$2,K866*Veriler!$F$2,K866*P866))))),\" \")","v":0},{"$f":"IF(Veriler!P866<=0.1, R866, IF(AND(Veriler!P866>0.1, E866=\"\", O866=\"E\"), IF(P866>Veriler!$F$2, P866*R866, IF(P866<Veriler!$F$2, Veriler!$F$2*R866, P866*R866)), 0))","v":0}," ",{"$f":"IFERROR(IF(N866=\"%10 sınırı aşılmıştır.\",K866-S866,IFERROR(IF(E866=\"\",IF(R866=1,0,IF(K866-R866=0,\"\",K866-R866)),IF(Veriler!I866=\"\",K866,IF(K866*Veriler!I866=0,\"\",K866*Veriler!I866))),K866)),0)","v":""}]
[642,{"$nulls":4},"",{"$nulls":4},"",{"$f":"IF(K867=\"\", \"\", K867/Veriler!$T$1)","v":""},{"$f":"IF(E867<>\"\", \"İthal Girdi\", IF(Veriler!P867=\"\", \"\", IF(Veriler!O867=\"H\", \"%0,5 üzerindedir\", IF(Veriler!P867>0.1, \"%10 sınırı aşılmıştır.\", \"Uygun\"))))","v":"%0,5 üzerindedir"}," ",null,null,"",{"$f":"IFERROR(IF(L867<=0.005,IF(E867=\"\",K867,0),IF(E867<>\"\",0,IF(O867=\"\",0,IF(O867=\"H\",0,IF(P867<Veriler!$F$2,K867*Veriler!$F$2,K867*P867))))),\" \")","v":0},{"$f":"IF(Veriler!P867<=0.1, R867, IF(AND(Veriler!P867>0.1, E867=\"\", O867=\"E\"), IF(P867>Veriler!$F$2, P867*R867, IF(P867<Veriler!$F$2, Veriler!$F$2*R867, P867*R867)), 0))","v":0}," ",{"$f":"IFERROR(IF(N867=\"%10 sınırı aşılmıştır.\",K867-S867,IFERROR(IF(E867=\"\",IF(R867=1,0,IF(K867-R867=0,\"\",K867-R867)),IF(Veriler!I867=\"\",K867,IF(K867*Veriler!I867=0,\"\",K867*Veriler!I867))),K867)),0)","v":""}]
[643,{"$nulls":4},"",{"$nulls":4},"",{"$f":"IF(K868=\"\", \"\", K868/Veriler!$T$1)","v":""},{"$f":"IF(E868<>\"\", \"İthal Girdi\", IF(Veriler!P868=\"\", \"\", IF(Veriler!O868=\"H\", \"%0,5 üzerindedir\", IF(Veriler!P868>0.1, \"%10 sınırı aşılmıştır.\", \"Uygun\"))))","v":"%0,5 üzerindedir"}," ",null,null,"",{"$f":"IFERROR(IF(L868<=0.005,IF(E868=\"\",K868,0),IF(E868<>\"\",0,IF(O868=\"\",0,IF(O868=\"H\",0,IF(P868<Veriler!$F$2,K868*Veriler!$F$2,K868*P868))))),\" \")","v":0},{"$f":"IF(Veriler!P868<=0.1, R868, IF(AND(Veriler!P868>0.1, E868=\"\", O868=\"E\"), IF(P868>Veriler!$F$2, P868*R868, IF(P868<Veriler!$F$2, Veriler!$F$2*R868, P868*R868)), 0))","v":0}," ",{"$f":"IFERROR(IF(N868=\"%10 sınırı aşılmıştır.\",K868-S868,IFERROR(IF(E868=\"\",IF(R868=1,0,IF(K868-R868=0,\"\",K868-R868)),IF(Veriler!I868=\"\",K868,IF(K868*Veriler!I868=0,\"\",K868*Veriler!I868))),K868)),0)","v":""}]
[644,{"$nulls":4},"",{"$nulls":4},"",{"$f":"IF(K869=\"\", \"\", K869/Veriler!$T$1)","v":""},{"$f":"IF(E869<>\"\", \"İthal Girdi\", IF(Veriler!P869=\"\", \"\", IF(Veriler!O869=\"H\", \"%0,5 üzerindedir\", IF(Veriler!P869>0.1, \"%10 sınırı aşılmıştır.\", \"Uygun\"))))","v":"%0,5 üzerindedir"}," ",null,null,"",{"$f":"IFERROR(IF(L869<=0.005,IF(E869=\"\",K869,0),IF(E869<>\"\",0,IF(O869=\"\",0,IF(O869=\"H\",0,IF(P869<Veriler!$F$2,K869*Veriler!$F$2,K869*P869))))),\" \")","v":0},{"$f":"IF(Veriler!P869<=0.1, R869, IF(AND(Veriler!P869>0.1, E869=\"\", O869=\"E\"), IF(P869>Veriler!$F$2, P869*R869, IF(P869<Veriler!$F$2, Veriler!$F$2*R869, P869*R869)), 0))","v":0}," ",{"$f":"IFERROR(IF(N869=\"%10 sınırı aşılmıştır.\",K869-S869,IFERROR(IF(E869=\"\",IF(R869=1,0,IF(K869-R869=0,\"\",K869-R869)),IF(Veriler!I869=\"\",K869,IF(K869*Veriler!I869=0,\"\",K869*Veriler!I869))),K869)),0)","v":""}]
[{"$nulls":10},{"$f":"SUM(K841:K854,K856:K869)","v":0}]
[{"$nulls":17},"T1","T1","T1","T2"]
["Sayfa Toplamı (TL)  *(Genel Dip Toplam Ek.3-D sayfasında otomatik hesaplanacaktır.)",{"$nulls":16},{"$f":"IF(SUM(#REF!,R841:R854,R856:R869)=0,\"\",SUM(#REF!,R841:R854,R856:R869))","v":{"$error":"#REF!"}},{"$f":"IF(SUM(S841:S854,S856:S869)=0,\" \",SUM(S841:S854,S856:S869))","v":" "},{"$f":"IF(SUM(T841:T854,T856:T869)=0,\" \",SUM(T841:T854,T856:T869))","v":" "},{"$f":"IF(SUM(U841:U854,U856:U869)=0,\" \",SUM(U841:U854,U856:U869))","v":" "}]
[]
[{"$f":"A912","v":"R02"}]
["YERLİ KATKI ORANI HESAP CETVELİ                      ",{"$nulls":13},false]
["A) Nihai Ürün Doğrudan ve Dolaylı Malzeme Giderleri                                                                                                                                                                                                                                                                                                                                                                                                                                         ",{"$nulls":18},"S",{"$f":"U838+1","v":24}]
["Sıra No","Malzeme adı / Faturadaki Ürün Adı",null,"Üretici Unvanı","GTİP Kodu                             (İthal girdiler için)","Gtip Katsayısı","Miktar ","Birim","Fiyatı \n(TL/Döviz)\n","Döviz Kuru               (TL ise 1 alınız)","Fatura Tutarı (TL)","Girdi Maliyet Yüzdesi (%)","Girdi yüzdesi %0,5 altında olan girdiler için %10 sınır kontrolü","Girdi yüzdesi %0,5 altında olan girdiler için %10 sınır kontrolü","SSB/  Müstahsil                (E/H)","YKO (%) (Manuel girilmeli)","Geçerli Yerli Oranı (%)","Yerli Maliyet Tutarı                            (T1)","Yerli Maliyet Tutarı (T1)","Yerli Maliyet Tutarı (T1)","İthal Maliyet Tutarı               (T2)"]
[null,"Doğrudan Girdi                                                         (Dolaylı girdiniz varsa en son 25. sayfaya doldurunuz)"]
[{"$f":"A869+1","v":645},{"$nulls":4},{"$f":"IF(AND(E879<>\"\",U879<>\"\",K879<>0),U879/K879,\"\")","v":""},{"$nulls":4},{"$f":"IF(AND(G879<>0, I879<>0, J879<>0), G879*I879*J879, \"\")","v":""},{"$f":"IF(K879=\"\", \"\", K879/Veriler!$T$1)","v":""},{"$f":"IF(E879<>\"\", \"İthal Girdi\", IF(Veriler!P879=\"\", \"\", IF(Veriler!O879=\"H\", \"%0,5 üzerindedir\", IF(Veriler!P879>0.1, \"%10 sınırı aşılmıştır.\", \"Uygun\"))))","v":"%0,5 üzerindedir"},{"$f":"IF(L879=\"\",\" \",M879)","v":" "},null,null,{"$f":"IFERROR(IF(AND(S879<>\"\",K879<>\"\",K879<>0,S879<>0),S879/K879,\"\"),\" \")","v":""},{"$f":"IFERROR(IF(L879<=0.005,IF(E879=\"\",K879,0),IF(E879<>\"\",0,IF(O879=\"\",0,IF(O879=\"H\",0,IF(P879<Veriler!$F$2,K879*Veriler!$F$2,K879*P879))))),\" \")","v":0},{"$f":"IF(Veriler!P879<=0.1, R879, IF(AND(Veriler!P879>0.1, E879=\"\", O879=\"E\"), IF(P879>Veriler!$F$2, P879*R879, IF(P879<Veriler!$F$2, Veriler!$F$2*R879, P879*R879)), 0))","v":0},{"$f":"IF(S879=0,\" \",S879)","v":" "},{"$f":"IFERROR(IF(N879=\"%10 sınırı aşılmıştır.\",K879-S879,IFERROR(IF(E879=\"\",IF(R879=1,0,IF(K879-R879=0,\"\",K879-R879)),IF(Veriler!I879=\"\",K879,IF(K879*Veriler!I879=0,\"\",K879*Veriler!I879))),K879)),0)","v":""}]
[{"$f":"A879+1","v":646},{"$nulls":4},"",{"$nulls":4},"",{"$f":"IF(K880=\"\", \"\", K880/Veriler!$T$1)","v":""},{"$f":"IF(E880<>\"\", \"İthal Girdi\", IF(Veriler!P880=\"\", \"\", IF(Veriler!O880=\"H\", \"%0,5 üzerindedir\", IF(Veriler!P880>0.1, \"%10 sınırı aşılmıştır.\", \"Uygun\"))))","v":"%0,5 üzerindedir"}," ",null,null,"",{"$f":"IFERROR(IF(L880<=0.005,IF(E880=\"\",K880,0),IF(E880<>\"\",0,IF(O880=\"\",0,IF(O880=\"H\",0,IF(P880<Veriler!$F$2,K880*Veriler!$F$2,K880*P880))))),\" \")","v":0},{"$f":"IF(Veriler!P880<=0.1, R880, IF(AND(Veriler!P880>0.1, E880=\"\", O880=\"E\"), IF(P880>Veriler!$F$2, P880*R880, IF(P880<Veriler!$F$2, Veriler!$F$2*R880, P880*R880)), 0))","v":0}," ",{"$f":"IFERROR(IF(N880=\"%10 sınırı aşılmıştır.\",K880-S880,IFERROR(IF(E880=\"\",IF(R880=1,0,IF(K880-R880=0,\"\",K880-R880)),IF(Veriler!I880=\"\",K880,IF(K880*Veriler!I880=0,\"\",K880*Veriler!I880))),K880)),0)","v":""}]
[{"$f":"A880+1","v":647},{"$nulls":4},"",{"$nulls":4},"",{"$f":"IF(K881=\"\", \"\", K881/Veriler!$T$1)","v":""},{"$f":"IF(E881<>\"\", \"İthal Girdi\", IF(Veriler!P881=\"\", \"\", IF(Veriler!O881=\"H\", \"%0,5 üzerindedir\", IF(Veriler!P881>0.1, \"%10 sınırı aşılmıştır.\", \"Uygun\"))))","v":"%0,5 üzerindedir"}," ",null,null,"",{"$f":"IFERROR(IF(L881<=0.005,IF(E881=\"\",K881,0),IF(E881<>\"\",0,IF(O881=\"\",0,IF(O881=\"H\",0,IF(P881<Veriler!$F$2,K881*Veriler!$F$2,K881*P881))))),\" \")","v":0},{"$f":"IF(Veriler!P881<=0.1, R881, IF(AND(Veriler!P881>0.1, E881=\"\", O881=\"E\"), IF(P881>Veriler!$F$2, P881*R881, IF(P881<Veriler!$F$2, Veriler!$F$2*R881, P881*R881)), 0))","v":0}," ",{"$f":"IFERROR(IF(N881=\"%10 sınırı aşılmıştır.\",K881-S881,IFERROR(IF(E881=\"\",IF(R881=1,0,IF(K881-R881=0,\"\",K881-R881)),IF(Veriler!I881=\"\",K881,IF(K881*Veriler!I881=0,\"\",K881*Veriler!I881))),K881)),0)","v":""}]
[648,{"$nulls":4},"",{"$nulls":4},"",{"$f":"IF(K882=\"\", \"\", K882/Veriler!$T$1)","v":""},{"$f":"IF(E882<>\"\", \"İthal Girdi\", IF(Veriler!P882=\"\", \"\", IF(Veriler!O882=\"H\", \"%0,5 üzerindedir\", IF(Veriler!P882>0.1, \"%10 sınırı aşılmıştır.\", \"Uygun\"))))","v":"%0,5 üzerindedir"}," ",null,null,"",{"$f":"IFERROR(IF(L882<=0.005,IF(E882=\"\",K882,0),IF(E882<>\"\",0,IF(O882=\"\",0,IF(O882=\"H\",0,IF(P882<Veriler!$F$2,K882*Veriler!$F$2,K882*P882))))),\" \")","v":0},{"$f":"IF(Veriler!P882<=0.1, R882, IF(AND(Veriler!P882>0.1, E882=\"\", O882=\"E\"), IF(P882>Veriler!$F$2, P882*R882, IF(P882<Veriler!$F$2, Veriler!$F$2*R882, P882*R882)), 0))","v":0}," ",{"$f":"IFERROR(IF(N882=\"%10 sınırı aşılmıştır.\",K882-S882,IFERROR(IF(E882=\"\",IF(R882=1,0,IF(K882-R882=0,\"\",K882-R882)),IF(Veriler!I882=\"\",K882,IF(K882*Veriler!I882=0,\"\",K882*Veriler!I882))),K882)),0)","v":""}]
[649,{"$nulls":4},"",{"$nulls":4},"",{"$f":"IF(K883=\"\", \"\", K883/Veriler!$T$1)","v":""},{"$f":"IF(E883<>\"\", \"İthal Girdi\", IF(Veriler!P883=\"\", \"\", IF(Veriler!O883=\"H\", \"%0,5 üzerindedir\", IF(Veriler!P883>0.1, \"%10 sınırı aşılmıştır.\", \"Uygun\"))))","v":"%0,5 üzerindedir"}," ",null,null,"",{"$f":"IFERROR(IF(L883<=0.005,IF(E883=\"\",K883,0),IF(E883<>\"\",0,IF(O883=\"\",0,IF(O883=\"H\",0,IF(P883<Veriler!$F$2,K883*Veriler!$F$2,K883*P883))))),\" \")","v":0},{"$f":"IF(Veriler!P883<=0.1, R883, IF(AND(Veriler!P883>0.1, E883=\"\", O883=\"E\"), IF(P883>Veriler!$F$2, P883*R883, IF(P883<Veriler!$F$2, Veriler!$F$2*R883, P883*R883)), 0))","v":0}," ",{"$f":"IFERROR(IF(N883=\"%10 sınırı aşılmıştır.\",K883-S883,IFERROR(IF(E883=\"\",IF(R883=1,0,IF(K883-R883=0,\"\",K883-R883)),IF(Veriler!I883=\"\",K883,IF(K883*Veriler!I883=0,\"\",K883*Veriler!I883))),K883)),0)","v":""}]
[650,{"$nulls":4},"",{"$nulls":4},"",{"$f":"IF(K884=\"\", \"\", K884/Veriler!$T$1)","v":""},{"$f":"IF(E884<>\"\", \"İthal Girdi\", IF(Veriler!P884=\"\", \"\", IF(Veriler!O884=\"H\", \"%0,5 üzerindedir\", IF(Veriler!P884>0.1, \"%10 sınırı aşılmıştır.\", \"Uygun\"))))","v":"%0,5 üzerindedir"}," ",null,null,"",{"$f":"IFERROR(IF(L884<=0.005,IF(E884=\"\",K884,0),IF(E884<>\"\",0,IF(O884=\"\",0,IF(O884=\"H\",0,IF(P884<Veriler!$F$2,K884*Veriler!$F$2,K884*P884))))),\" \")","v":0},{"$f":"IF(Veriler!P884<=0.1, R884, IF(AND(Veriler!P884>0.1, E884=\"\", O884=\"E\"), IF(P884>Veriler!$F$2, P884*R884, IF(P884<Veriler!$F$2, Veriler!$F$2*R884, P884*R884)), 0))","v":0}," ",{"$f":"IFERROR(IF(N884=\"%10 sınırı aşılmıştır.\",K884-S884,IFERROR(IF(E884=\"\",IF(R884=1,0,IF(K884-R884=0,\"\",K884-R884)),IF(Veriler!I884=\"\",K884,IF(K884*Veriler!I884=0,\"\",K884*Veriler!I884))),K884)),0)","v":""}]
[651,{"$nulls":4},"",{"$nulls":4},"",{"$f":"IF(K885=\"\", \"\", K885/Veriler!$T$1)","v":""},{"$f":"IF(E885<>\"\", \"İthal Girdi\", IF(Veriler!P885=\"\", \"\", IF(Veriler!O885=\"H\", \"%0,5 üzerindedir\", IF(Veriler!P885>0.1, \"%10 sınırı aşılmıştır.\", \"Uygun\"))))","v":"%0,5 üzerindedir"}," ",null,null,"",{"$f":"IFERROR(IF(L885<=0.005,IF(E885=\"\",K885,0),IF(E885<>\"\",0,IF(O885=\"\",0,IF(O885=\"H\",0,IF(P885<Veriler!$F$2,K885*Veriler!$F$2,K885*P885))))),\" \")","v":0},{"$f":"IF(Veriler!P885<=0.1, R885, IF(AND(Veriler!P885>0.1, E885=\"\", O885=\"E\"), IF(P885>Veriler!$F$2, P885*R885, IF(P885<Veriler!$F$2, Veriler!$F$2*R885, P885*R885)), 0))","v":0}," ",{"$f":"IFERROR(IF(N885=\"%10 sınırı aşılmıştır.\",K885-S885,IFERROR(IF(E885=\"\",IF(R885=1,0,IF(K885-R885=0,\"\",K885-R885)),IF(Veriler!I885=\"\",K885,IF(K885*Veriler!I885=0,\"\",K885*Veriler!I885))),K885)),0)","v":""}]
[652,{"$nulls":4},"",{"$nulls":4},"",{"$f":"IF(K886=\"\", \"\", K886/Veriler!$T$1)","v":""},{"$f":"IF(E886<>\"\", \"İthal Girdi\", IF(Veriler!P886=\"\", \"\", IF(Veriler!O886=\"H\", \"%0,5 üzerindedir\", IF(Veriler!P886>0.1, \"%10 sınırı aşılmıştır.\", \"Uygun\"))))","v":"%0,5 üzerindedir"}," ",null,null,"",{"$f":"IFERROR(IF(L886<=0.005,IF(E886=\"\",K886,0),IF(E886<>\"\",0,IF(O886=\"\",0,IF(O886=\"H\",0,IF(P886<Veriler!$F$2,K886*Veriler!$F$2,K886*P886))))),\" \")","v":0},{"$f":"IF(Veriler!P886<=0.1, R886, IF(AND(Veriler!P886>0.1, E886=\"\", O886=\"E\"), IF(P886>Veriler!$F$2, P886*R886, IF(P886<Veriler!$F$2, Veriler!$F$2*R886, P886*R886)), 0))","v":0}," ",{"$f":"IFERROR(IF(N886=\"%10 sınırı aşılmıştır.\",K886-S886,IFERROR(IF(E886=\"\",IF(R886=1,0,IF(K886-R886=0,\"\",K886-R886)),IF(Veriler!I886=\"\",K886,IF(K886*Veriler!I886=0,\"\",K886*Veriler!I886))),K886)),0)","v":""}]
[653,{"$nulls":4},"",{"$nulls":4},"",{"$f":"IF(K887=\"\", \"\", K887/Veriler!$T$1)","v":""},{"$f":"IF(E887<>\"\", \"İthal Girdi\", IF(Veriler!P887=\"\", \"\", IF(Veriler!O887=\"H\", \"%0,5 üzerindedir\", IF(Veriler!P887>0.1, \"%10 sınırı aşılmıştır.\", \"Uygun\"))))","v":"%0,5 üzerindedir"}," ",null,null,"",{"$f":"IFERROR(IF(L887<=0.005,IF(E887=\"\",K887,0),IF(E887<>\"\",0,IF(O887=\"\",0,IF(O887=\"H\",0,IF(P887<Veriler!$F$2,K887*Veriler!$F$2,K887*P887))))),\" \")","v":0},{"$f":"IF(Veriler!P887<=0.1, R887, IF(AND(Veriler!P887>0.1, E887=\"\", O887=\"E\"), IF(P887>Veriler!$F$2, P887*R887, IF(P887<Veriler!$F$2, Veriler!$F$2*R887, P887*R887)), 0))","v":0}," ",{"$f":"IFERROR(IF(N887=\"%10 sınırı aşılmıştır.\",K887-S887,IFERROR(IF(E887=\"\",IF(R887=1,0,IF(K887-R887=0,\"\",K887-R887)),IF(Veriler!I887=\"\",K887,IF(K887*Veriler!I887=0,\"\",K887*Veriler!I887))),K887)),0)","v":""}]
[654,{"$nulls":4},"",{"$nulls":4},"",{"$f":"IF(K888=\"\", \"\", K888/Veriler!$T$1)","v":""},{"$f":"IF(E888<>\"\", \"İthal Girdi\", IF(Veriler!P888=\"\", \"\", IF(Veriler!O888=\"H\", \"%0,5 üzerindedir\", IF(Veriler!P888>0.1, \"%10 sınırı aşılmıştır.\", \"Uygun\"))))","v":"%0,5 üzerindedir"}," ",null,null,"",{"$f":"IFERROR(IF(L888<=0.005,IF(E888=\"\",K888,0),IF(E888<>\"\",0,IF(O888=\"\",0,IF(O888=\"H\",0,IF(P888<Veriler!$F$2,K888*Veriler!$F$2,K888*P888))))),\" \")","v":0},{"$f":"IF(Veriler!P888<=0.1, R888, IF(AND(Veriler!P888>0.1, E888=\"\", O888=\"E\"), IF(P888>Veriler!$F$2, P888*R888, IF(P888<Veriler!$F$2, Veriler!$F$2*R888, P888*R888)), 0))","v":0}," ",{"$f":"IFERROR(IF(N888=\"%10 sınırı aşılmıştır.\",K888-S888,IFERROR(IF(E888=\"\",IF(R888=1,0,IF(K888-R888=0,\"\",K888-R888)),IF(Veriler!I888=\"\",K888,IF(K888*Veriler!I888=0,\"\",K888*Veriler!I888))),K888)),0)","v":""}]
[655,{"$nulls":4},"",{"$nulls":4},"",{"$f":"IF(K889=\"\", \"\", K889/Veriler!$T$1)","v":""},{"$f":"IF(E889<>\"\", \"İthal Girdi\", IF(Veriler!P889=\"\", \"\", IF(Veriler!O889=\"H\", \"%0,5 üzerindedir\", IF(Veriler!P889>0.1, \"%10 sınırı aşılmıştır.\", \"Uygun\"))))","v":"%0,5 üzerindedir"}," ",null,null,"",{"$f":"IFERROR(IF(L889<=0.005,IF(E889=\"\",K889,0),IF(E889<>\"\",0,IF(O889=\"\",0,IF(O889=\"H\",0,IF(P889<Veriler!$F$2,K889*Veriler!$F$2,K889*P889))))),\" \")","v":0},{"$f":"IF(Veriler!P889<=0.1, R889, IF(AND(Veriler!P889>0.1, E889=\"\", O889=\"E\"), IF(P889>Veriler!$F$2, P889*R889, IF(P889<Veriler!$F$2, Veriler!$F$2*R889, P889*R889)), 0))","v":0}," ",{"$f":"IFERROR(IF(N889=\"%10 sınırı aşılmıştır.\",K889-S889,IFERROR(IF(E889=\"\",IF(R889=1,0,IF(K889-R889=0,\"\",K889-R889)),IF(Veriler!I889=\"\",K889,IF(K889*Veriler!I889=0,\"\",K889*Veriler!I889))),K889)),0)","v":""}]
[656,{"$nulls":4},"",{"$nulls":4},"",{"$f":"IF(K890=\"\", \"\", K890/Veriler!$T$1)","v":""},{"$f":"IF(E890<>\"\", \"İthal Girdi\", IF(Veriler!P890=\"\", \"\", IF(Veriler!O890=\"H\", \"%0,5 üzerindedir\", IF(Veriler!P890>0.1, \"%10 sınırı aşılmıştır.\", \"Uygun\"))))","v":"%0,5 üzerindedir"}," ",null,null,"",{"$f":"IFERROR(IF(L890<=0.005,IF(E890=\"\",K890,0),IF(E890<>\"\",0,IF(O890=\"\",0,IF(O890=\"H\",0,IF(P890<Veriler!$F$2,K890*Veriler!$F$2,K890*P890))))),\" \")","v":0},{"$f":"IF(Veriler!P890<=0.1, R890, IF(AND(Veriler!P890>0.1, E890=\"\", O890=\"E\"), IF(P890>Veriler!$F$2, P890*R890, IF(P890<Veriler!$F$2, Veriler!$F$2*R890, P890*R890)), 0))","v":0}," ",{"$f":"IFERROR(IF(N890=\"%10 sınırı aşılmıştır.\",K890-S890,IFERROR(IF(E890=\"\",IF(R890=1,0,IF(K890-R890=0,\"\",K890-R890)),IF(Veriler!I890=\"\",K890,IF(K890*Veriler!I890=0,\"\",K890*Veriler!I890))),K890)),0)","v":""}]
[657,{"$nulls":4},"",{"$nulls":4},"",{"$f":"IF(K891=\"\", \"\", K891/Veriler!$T$1)","v":""},{"$f":"IF(E891<>\"\", \"İthal Girdi\", IF(Veriler!P891=\"\", \"\", IF(Veriler!O891=\"H\", \"%0,5 üzerindedir\", IF(Veriler!P891>0.1, \"%10 sınırı aşılmıştır.\", \"Uygun\"))))","v":"%0,5 üzerindedir"}," ",null,null,"",{"$f":"IFERROR(IF(L891<=0.005,IF(E891=\"\",K891,0),IF(E891<>\"\",0,IF(O891=\"\",0,IF(O891=\"H\",0,IF(P891<Veriler!$F$2,K891*Veriler!$F$2,K891*P891))))),\" \")","v":0},{"$f":"IF(Veriler!P891<=0.1, R891, IF(AND(Veriler!P891>0.1, E891=\"\", O891=\"E\"), IF(P891>Veriler!$F$2, P891*R891, IF(P891<Veriler!$F$2, Veriler!$F$2*R891, P891*R891)), 0))","v":0}," ",{"$f":"IFERROR(IF(N891=\"%10 sınırı aşılmıştır.\",K891-S891,IFERROR(IF(E891=\"\",IF(R891=1,0,IF(K891-R891=0,\"\",K891-R891)),IF(Veriler!I891=\"\",K891,IF(K891*Veriler!I891=0,\"\",K891*Veriler!I891))),K891)),0)","v":""}]
[658,{"$nulls":4},"",{"$nulls":4},"",{"$f":"IF(K892=\"\", \"\", K892/Veriler!$T$1)","v":""},{"$f":"IF(E892<>\"\", \"İthal Girdi\", IF(Veriler!P892=\"\", \"\", IF(Veriler!O892=\"H\", \"%0,5 üzerindedir\", IF(Veriler!P892>0.1, \"%10 sınırı aşılmıştır.\", \"Uygun\"))))","v":"%0,5 üzerindedir"}," ",null,null,"",{"$f":"IFERROR(IF(L892<=0.005,IF(E892=\"\",K892,0),IF(E892<>\"\",0,IF(O892=\"\",0,IF(O892=\"H\",0,IF(P892<Veriler!$F$2,K892*Veriler!$F$2,K892*P892))))),\" \")","v":0},{"$f":"IF(Veriler!P892<=0.1, R892, IF(AND(Veriler!P892>0.1, E892=\"\", O892=\"E\"), IF(P892>Veriler!$F$2, P892*R892, IF(P892<Veriler!$F$2, Veriler!$F$2*R892, P892*R892)), 0))","v":0}," ",{"$f":"IFERROR(IF(N892=\"%10 sınırı aşılmıştır.\",K892-S892,IFERROR(IF(E892=\"\",IF(R892=1,0,IF(K892-R892=0,\"\",K892-R892)),IF(Veriler!I892=\"\",K892,IF(K892*Veriler!I892=0,\"\",K892*Veriler!I892))),K892)),0)","v":""}]
[null,"Dolaylı"]
[{"$f":"A892+1","v":659},{"$nulls":4},{"$f":"IF(AND(E894<>\"\",U894<>\"\",K894<>0),U894/K894,\"\")","v":""},{"$nulls":4},{"$f":"IF(AND(G894<>0, I894<>0, J894<>0), G894*I894*J894, \"\")","v":""},{"$f":"IF(K894=\"\", \"\", K894/Veriler!$T$1)","v":""},{"$f":"IF(E894<>\"\", \"İthal Girdi\", IF(Veriler!P894=\"\", \"\", IF(Veriler!O894=\"H\", \"%0,5 üzerindedir\", IF(Veriler!P894>0.1, \"%10 sınırı aşılmıştır.\", \"Uygun\"))))","v":"%0,5 üzerindedir"},{"$f":"IF(L894=\"\",\" \",M894)","v":" "},null,null,{"$f":"IFERROR(IF(AND(S894<>\"\",K894<>\"\",K894<>0,S894<>0),S894/K894,\"\"),\" \")","v":""},{"$f":"IFERROR(IF(L894<=0.005,IF(E894=\"\",K894,0),IF(E894<>\"\",0,IF(O894=\"\",0,IF(O894=\"H\",0,IF(P894<Veriler!$F$2,K894*Veriler!$F$2,K894*P894))))),\" \")","v":0},{"$f":"IF(Veriler!P894<=0.1, R894, IF(AND(Veriler!P894>0.1, E894=\"\", O894=\"E\"), IF(P894>Veriler!$F$2, P894*R894, IF(P894<Veriler!$F$2, Veriler!$F$2*R894, P894*R894)), 0))","v":0},{"$f":"IF(S894=0,\" \",S894)","v":" "},{"$f":"IFERROR(IF(N894=\"%10 sınırı aşılmıştır.\",K894-S894,IFERROR(IF(E894=\"\",IF(R894=1,0,IF(K894-R894=0,\"\",K894-R894)),IF(Veriler!I894=\"\",K894,IF(K894*Veriler!I894=0,\"\",K894*Veriler!I894))),K894)),0)","v":""}]
[{"$f":"A894+1","v":660},{"$nulls":4},"",{"$nulls":4},"",{"$f":"IF(K895=\"\", \"\", K895/Veriler!$T$1)","v":""},{"$f":"IF(E895<>\"\", \"İthal Girdi\", IF(Veriler!P895=\"\", \"\", IF(Veriler!O895=\"H\", \"%0,5 üzerindedir\", IF(Veriler!P895>0.1, \"%10 sınırı aşılmıştır.\", \"Uygun\"))))","v":"%0,5 üzerindedir"}," ",null,null,"",{"$f":"IFERROR(IF(L895<=0.005,IF(E895=\"\",K895,0),IF(E895<>\"\",0,IF(O895=\"\",0,IF(O895=\"H\",0,IF(P895<Veriler!$F$2,K895*Veriler!$F$2,K895*P895))))),\" \")","v":0},{"$f":"IF(Veriler!P895<=0.1, R895, IF(AND(Veriler!P895>0.1, E895=\"\", O895=\"E\"), IF(P895>Veriler!$F$2, P895*R895, IF(P895<Veriler!$F$2, Veriler!$F$2*R895, P895*R895)), 0))","v":0}," ",{"$f":"IFERROR(IF(N895=\"%10 sınırı aşılmıştır.\",K895-S895,IFERROR(IF(E895=\"\",IF(R895=1,0,IF(K895-R895=0,\"\",K895-R895)),IF(Veriler!I895=\"\",K895,IF(K895*Veriler!I895=0,\"\",K895*Veriler!I895))),K895)),0)","v":""}]
[{"$f":"A895+1","v":661},{"$nulls":4},"",{"$nulls":4},"",{"$f":"IF(K896=\"\", \"\", K896/Veriler!$T$1)","v":""},{"$f":"IF(E896<>\"\", \"İthal Girdi\", IF(Veriler!P896=\"\", \"\", IF(Veriler!O896=\"H\", \"%0,5 üzerindedir\", IF(Veriler!P896>0.1, \"%10 sınırı aşılmıştır.\", \"Uygun\"))))","v":"%0,5 üzerindedir"}," ",null,null,"",{"$f":"IFERROR(IF(L896<=0.005,IF(E896=\"\",K896,0),IF(E896<>\"\",0,IF(O896=\"\",0,IF(O896=\"H\",0,IF(P896<Veriler!$F$2,K896*Veriler!$F$2,K896*P896))))),\" \")","v":0},{"$f":"IF(Veriler!P896<=0.1, R896, IF(AND(Veriler!P896>0.1, E896=\"\", O896=\"E\"), IF(P896>Veriler!$F$2, P896*R896, IF(P896<Veriler!$F$2, Veriler!$F$2*R896, P896*R896)), 0))","v":0}," ",{"$f":"IFERROR(IF(N896=\"%10 sınırı aşılmıştır.\",K896-S896,IFERROR(IF(E896=\"\",IF(R896=1,0,IF(K896-R896=0,\"\",K896-R896)),IF(Veriler!I896=\"\",K896,IF(K896*Veriler!I896=0,\"\",K896*Veriler!I896))),K896)),0)","v":""}]
[662,{"$nulls":4},"",{"$nulls":4},"",{"$f":"IF(K897=\"\", \"\", K897/Veriler!$T$1)","v":""},{"$f":"IF(E897<>\"\", \"İthal Girdi\", IF(Veriler!P897=\"\", \"\", IF(Veriler!O897=\"H\", \"%0,5 üzerindedir\", IF(Veriler!P897>0.1, \"%10 sınırı aşılmıştır.\", \"Uygun\"))))","v":"%0,5 üzerindedir"}," ",null,null,"",{"$f":"IFERROR(IF(L897<=0.005,IF(E897=\"\",K897,0),IF(E897<>\"\",0,IF(O897=\"\",0,IF(O897=\"H\",0,IF(P897<Veriler!$F$2,K897*Veriler!$F$2,K897*P897))))),\" \")","v":0},{"$f":"IF(Veriler!P897<=0.1, R897, IF(AND(Veriler!P897>0.1, E897=\"\", O897=\"E\"), IF(P897>Veriler!$F$2, P897*R897, IF(P897<Veriler!$F$2, Veriler!$F$2*R897, P897*R897)), 0))","v":0}," ",{"$f":"IFERROR(IF(N897=\"%10 sınırı aşılmıştır.\",K897-S897,IFERROR(IF(E897=\"\",IF(R897=1,0,IF(K897-R897=0,\"\",K897-R897)),IF(Veriler!I897=\"\",K897,IF(K897*Veriler!I897=0,\"\",K897*Veriler!I897))),K897)),0)","v":""}]
[663,{"$nulls":4},"",{"$nulls":4},"",{"$f":"IF(K898=\"\", \"\", K898/Veriler!$T$1)","v":""},{"$f":"IF(E898<>\"\", \"İthal Girdi\", IF(Veriler!P898=\"\", \"\", IF(Veriler!O898=\"H\", \"%0,5 üzerindedir\", IF(Veriler!P898>0.1, \"%10 sınırı aşılmıştır.\", \"Uygun\"))))","v":"%0,5 üzerindedir"}," ",null,null,"",{"$f":"IFERROR(IF(L898<=0.005,IF(E898=\"\",K898,0),IF(E898<>\"\",0,IF(O898=\"\",0,IF(O898=\"H\",0,IF(P898<Veriler!$F$2,K898*Veriler!$F$2,K898*P898))))),\" \")","v":0},{"$f":"IF(Veriler!P898<=0.1, R898, IF(AND(Veriler!P898>0.1, E898=\"\", O898=\"E\"), IF(P898>Veriler!$F$2, P898*R898, IF(P898<Veriler!$F$2, Veriler!$F$2*R898, P898*R898)), 0))","v":0}," ",{"$f":"IFERROR(IF(N898=\"%10 sınırı aşılmıştır.\",K898-S898,IFERROR(IF(E898=\"\",IF(R898=1,0,IF(K898-R898=0,\"\",K898-R898)),IF(Veriler!I898=\"\",K898,IF(K898*Veriler!I898=0,\"\",K898*Veriler!I898))),K898)),0)","v":""}]
[664,{"$nulls":4},"",{"$nulls":4},"",{"$f":"IF(K899=\"\", \"\", K899/Veriler!$T$1)","v":""},{"$f":"IF(E899<>\"\", \"İthal Girdi\", IF(Veriler!P899=\"\", \"\", IF(Veriler!O899=\"H\", \"%0,5 üzerindedir\", IF(Veriler!P899>0.1, \"%10 sınırı aşılmıştır.\", \"Uygun\"))))","v":"%0,5 üzerindedir"}," ",null,null,"",{"$f":"IFERROR(IF(L899<=0.005,IF(E899=\"\",K899,0),IF(E899<>\"\",0,IF(O899=\"\",0,IF(O899=\"H\",0,IF(P899<Veriler!$F$2,K899*Veriler!$F$2,K899*P899))))),\" \")","v":0},{"$f":"IF(Veriler!P899<=0.1, R899, IF(AND(Veriler!P899>0.1, E899=\"\", O899=\"E\"), IF(P899>Veriler!$F$2, P899*R899, IF(P899<Veriler!$F$2, Veriler!$F$2*R899, P899*R899)), 0))","v":0}," ",{"$f":"IFERROR(IF(N899=\"%10 sınırı aşılmıştır.\",K899-S899,IFERROR(IF(E899=\"\",IF(R899=1,0,IF(K899-R899=0,\"\",K899-R899)),IF(Veriler!I899=\"\",K899,IF(K899*Veriler!I899=0,\"\",K899*Veriler!I899))),K899)),0)","v":""}]
[665,{"$nulls":4},"",{"$nulls":4},"",{"$f":"IF(K900=\"\", \"\", K900/Veriler!$T$1)","v":""},{"$f":"IF(E900<>\"\", \"İthal Girdi\", IF(Veriler!P900=\"\", \"\", IF(Veriler!O900=\"H\", \"%0,5 üzerindedir\", IF(Veriler!P900>0.1, \"%10 sınırı aşılmıştır.\", \"Uygun\"))))","v":"%0,5 üzerindedir"}," ",null,null,"",{"$f":"IFERROR(IF(L900<=0.005,IF(E900=\"\",K900,0),IF(E900<>\"\",0,IF(O900=\"\",0,IF(O900=\"H\",0,IF(P900<Veriler!$F$2,K900*Veriler!$F$2,K900*P900))))),\" \")","v":0},{"$f":"IF(Veriler!P900<=0.1, R900, IF(AND(Veriler!P900>0.1, E900=\"\", O900=\"E\"), IF(P900>Veriler!$F$2, P900*R900, IF(P900<Veriler!$F$2, Veriler!$F$2*R900, P900*R900)), 0))","v":0}," ",{"$f":"IFERROR(IF(N900=\"%10 sınırı aşılmıştır.\",K900-S900,IFERROR(IF(E900=\"\",IF(R900=1,0,IF(K900-R900=0,\"\",K900-R900)),IF(Veriler!I900=\"\",K900,IF(K900*Veriler!I900=0,\"\",K900*Veriler!I900))),K900)),0)","v":""}]
[666,{"$nulls":4},"",{"$nulls":4},"",{"$f":"IF(K901=\"\", \"\", K901/Veriler!$T$1)","v":""},{"$f":"IF(E901<>\"\", \"İthal Girdi\", IF(Veriler!P901=\"\", \"\", IF(Veriler!O901=\"H\", \"%0,5 üzerindedir\", IF(Veriler!P901>0.1, \"%10 sınırı aşılmıştır.\", \"Uygun\"))))","v":"%0,5 üzerindedir"}," ",null,null,"",{"$f":"IFERROR(IF(L901<=0.005,IF(E901=\"\",K901,0),IF(E901<>\"\",0,IF(O901=\"\",0,IF(O901=\"H\",0,IF(P901<Veriler!$F$2,K901*Veriler!$F$2,K901*P901))))),\" \")","v":0},{"$f":"IF(Veriler!P901<=0.1, R901, IF(AND(Veriler!P901>0.1, E901=\"\", O901=\"E\"), IF(P901>Veriler!$F$2, P901*R901, IF(P901<Veriler!$F$2, Veriler!$F$2*R901, P901*R901)), 0))","v":0}," ",{"$f":"IFERROR(IF(N901=\"%10 sınırı aşılmıştır.\",K901-S901,IFERROR(IF(E901=\"\",IF(R901=1,0,IF(K901-R901=0,\"\",K901-R901)),IF(Veriler!I901=\"\",K901,IF(K901*Veriler!I901=0,\"\",K901*Veriler!I901))),K901)),0)","v":""}]
[667,{"$nulls":4},"",{"$nulls":4},"",{"$f":"IF(K902=\"\", \"\", K902/Veriler!$T$1)","v":""},{"$f":"IF(E902<>\"\", \"İthal Girdi\", IF(Veriler!P902=\"\", \"\", IF(Veriler!O902=\"H\", \"%0,5 üzerindedir\", IF(Veriler!P902>0.1, \"%10 sınırı aşılmıştır.\", \"Uygun\"))))","v":"%0,5 üzerindedir"}," ",null,null,"",{"$f":"IFERROR(IF(L902<=0.005,IF(E902=\"\",K902,0),IF(E902<>\"\",0,IF(O902=\"\",0,IF(O902=\"H\",0,IF(P902<Veriler!$F$2,K902*Veriler!$F$2,K902*P902))))),\" \")","v":0},{"$f":"IF(Veriler!P902<=0.1, R902, IF(AND(Veriler!P902>0.1, E902=\"\", O902=\"E\"), IF(P902>Veriler!$F$2, P902*R902, IF(P902<Veriler!$F$2, Veriler!$F$2*R902, P902*R902)), 0))","v":0}," ",{"$f":"IFERROR(IF(N902=\"%10 sınırı aşılmıştır.\",K902-S902,IFERROR(IF(E902=\"\",IF(R902=1,0,IF(K902-R902=0,\"\",K902-R902)),IF(Veriler!I902=\"\",K902,IF(K902*Veriler!I902=0,\"\",K902*Veriler!I902))),K902)),0)","v":""}]
[668,{"$nulls":4},"",{"$nulls":4},"",{"$f":"IF(K903=\"\", \"\", K903/Veriler!$T$1)","v":""},{"$f":"IF(E903<>\"\", \"İthal Girdi\", IF(Veriler!P903=\"\", \"\", IF(Veriler!O903=\"H\", \"%0,5 üzerindedir\", IF(Veriler!P903>0.1, \"%10 sınırı aşılmıştır.\", \"Uygun\"))))","v":"%0,5 üzerindedir"}," ",null,null,"",{"$f":"IFERROR(IF(L903<=0.005,IF(E903=\"\",K903,0),IF(E903<>\"\",0,IF(O903=\"\",0,IF(O903=\"H\",0,IF(P903<Veriler!$F$2,K903*Veriler!$F$2,K903*P903))))),\" \")","v":0},{"$f":"IF(Veriler!P903<=0.1, R903, IF(AND(Veriler!P903>0.1, E903=\"\", O903=\"E\"), IF(P903>Veriler!$F$2, P903*R903, IF(P903<Veriler!$F$2, Veriler!$F$2*R903, P903*R903)), 0))","v":0}," ",{"$f":"IFERROR(IF(N903=\"%10 sınırı aşılmıştır.\",K903-S903,IFERROR(IF(E903=\"\",IF(R903=1,0,IF(K903-R903=0,\"\",K903-R903)),IF(Veriler!I903=\"\",K903,IF(K903*Veriler!I903=0,\"\",K903*Veriler!I903))),K903)),0)","v":""}]
[669,{"$nulls":4},"",{"$nulls":4},"",{"$f":"IF(K904=\"\", \"\", K904/Veriler!$T$1)","v":""},{"$f":"IF(E904<>\"\", \"İthal Girdi\", IF(Veriler!P904=\"\", \"\", IF(Veriler!O904=\"H\", \"%0,5 üzerindedir\", IF(Veriler!P904>0.1, \"%10 sınırı aşılmıştır.\", \"Uygun\"))))","v":"%0,5 üzerindedir"}," ",null,null,"",{"$f":"IFERROR(IF(L904<=0.005,IF(E904=\"\",K904,0),IF(E904<>\"\",0,IF(O904=\"\",0,IF(O904=\"H\",0,IF(P904<Veriler!$F$2,K904*Veriler!$F$2,K904*P904))))),\" \")","v":0},{"$f":"IF(Veriler!P904<=0.1, R904, IF(AND(Veriler!P904>0.1, E904=\"\", O904=\"E\"), IF(P904>Veriler!$F$2, P904*R904, IF(P904<Veriler!$F$2, Veriler!$F$2*R904, P904*R904)), 0))","v":0}," ",{"$f":"IFERROR(IF(N904=\"%10 sınırı aşılmıştır.\",K904-S904,IFERROR(IF(E904=\"\",IF(R904=1,0,IF(K904-R904=0,\"\",K904-R904)),IF(Veriler!I904=\"\",K904,IF(K904*Veriler!I904=0,\"\",K904*Veriler!I904))),K904)),0)","v":""}]
[670,{"$nulls":4},"",{"$nulls":4},"",{"$f":"IF(K905=\"\", \"\", K905/Veriler!$T$1)","v":""},{"$f":"IF(E905<>\"\", \"İthal Girdi\", IF(Veriler!P905=\"\", \"\", IF(Veriler!O905=\"H\", \"%0,5 üzerindedir\", IF(Veriler!P905>0.1, \"%10 sınırı aşılmıştır.\", \"Uygun\"))))","v":"%0,5 üzerindedir"}," ",null,null,"",{"$f":"IFERROR(IF(L905<=0.005,IF(E905=\"\",K905,0),IF(E905<>\"\",0,IF(O905=\"\",0,IF(O905=\"H\",0,IF(P905<Veriler!$F$2,K905*Veriler!$F$2,K905*P905))))),\" \")","v":0},{"$f":"IF(Veriler!P905<=0.1, R905, IF(AND(Veriler!P905>0.1, E905=\"\", O905=\"E\"), IF(P905>Veriler!$F$2, P905*R905, IF(P905<Veriler!$F$2, Veriler!$F$2*R905, P905*R905)), 0))","v":0}," ",{"$f":"IFERROR(IF(N905=\"%10 sınırı aşılmıştır.\",K905-S905,IFERROR(IF(E905=\"\",IF(R905=1,0,IF(K905-R905=0,\"\",K905-R905)),IF(Veriler!I905=\"\",K905,IF(K905*Veriler!I905=0,\"\",K905*Veriler!I905))),K905)),0)","v":""}]
[671,{"$nulls":4},"",{"$nulls":4},"",{"$f":"IF(K906=\"\", \"\", K906/Veriler!$T$1)","v":""},{"$f":"IF(E906<>\"\", \"İthal Girdi\", IF(Veriler!P906=\"\", \"\", IF(Veriler!O906=\"H\", \"%0,5 üzerindedir\", IF(Veriler!P906>0.1, \"%10 sınırı aşılmıştır.\", \"Uygun\"))))","v":"%0,5 üzerindedir"}," ",null,null,"",{"$f":"IFERROR(IF(L906<=0.005,IF(E906=\"\",K906,0),IF(E906<>\"\",0,IF(O906=\"\",0,IF(O906=\"H\",0,IF(P906<Veriler!$F$2,K906*Veriler!$F$2,K906*P906))))),\" \")","v":0},{"$f":"IF(Veriler!P906<=0.1, R906, IF(AND(Veriler!P906>0.1, E906=\"\", O906=\"E\"), IF(P906>Veriler!$F$2, P906*R906, IF(P906<Veriler!$F$2, Veriler!$F$2*R906, P906*R906)), 0))","v":0}," ",{"$f":"IFERROR(IF(N906=\"%10 sınırı aşılmıştır.\",K906-S906,IFERROR(IF(E906=\"\",IF(R906=1,0,IF(K906-R906=0,\"\",K906-R906)),IF(Veriler!I906=\"\",K906,IF(K906*Veriler!I906=0,\"\",K906*Veriler!I906))),K906)),0)","v":""}]
[672,{"$nulls":4},"",{"$nulls":4},"",{"$f":"IF(K907=\"\", \"\", K907/Veriler!$T$1)","v":""},{"$f":"IF(E907<>\"\", \"İthal Girdi\", IF(Veriler!P907=\"\", \"\", IF(Veriler!O907=\"H\", \"%0,5 üzerindedir\", IF(Veriler!P907>0.1, \"%10 sınırı aşılmıştır.\", \"Uygun\"))))","v":"%0,5 üzerindedir"}," ",null,null,"",{"$f":"IFERROR(IF(L907<=0.005,IF(E907=\"\",K907,0),IF(E907<>\"\",0,IF(O907=\"\",0,IF(O907=\"H\",0,IF(P907<Veriler!$F$2,K907*Veriler!$F$2,K907*P907))))),\" \")","v":0},{"$f":"IF(Veriler!P907<=0.1, R907, IF(AND(Veriler!P907>0.1, E907=\"\", O907=\"E\"), IF(P907>Veriler!$F$2, P907*R907, IF(P907<Veriler!$F$2, Veriler!$F$2*R907, P907*R907)), 0))","v":0}," ",{"$f":"IFERROR(IF(N907=\"%10 sınırı aşılmıştır.\",K907-S907,IFERROR(IF(E907=\"\",IF(R907=1,0,IF(K907-R907=0,\"\",K907-R907)),IF(Veriler!I907=\"\",K907,IF(K907*Veriler!I907=0,\"\",K907*Veriler!I907))),K907)),0)","v":""}]
[{"$nulls":10},{"$f":"SUM(K879:K892,K894:K907)","v":0}]
[{"$nulls":17},"T1","T1","T1","T2"]
["Sayfa Toplamı (TL)  *(Genel Dip Toplam Ek.3-D sayfasında otomatik hesaplanacaktır.)",{"$nulls":16},{"$f":"IF(SUM(#REF!,R879:R892,R894:R907)=0,\"\",SUM(#REF!,R879:R892,R894:R907))","v":{"$error":"#REF!"}},{"$f":"IF(SUM(S879:S892,S894:S907)=0,\" \",SUM(S879:S892,S894:S907))","v":" "},{"$f":"IF(SUM(T879:T892,T894:T907)=0,\" \",SUM(T879:T892,T894:T907))","v":" "},{"$f":"IF(SUM(U879:U892,U894:U907)=0,\" \",SUM(U879:U892,U894:U907))","v":" "}]
[]
[{"$f":"A950","v":"R02"}]
["YERLİ KATKI ORANI HESAP CETVELİ                      ",{"$nulls":13},false]
["A) Nihai Ürün Doğrudan ve Dolaylı Malzeme Giderleri                                                                                                                                                                                                                                                                                                                                                                                                                                         ",{"$nulls":18},"S",{"$f":"U876+1","v":25}]
["Sıra No","Malzeme adı / Faturadaki Ürün Adı",null,"Üretici Unvanı","GTİP Kodu                             (İthal girdiler için)","Gtip Katsayısı","Miktar ","Birim","Fiyatı \n(TL/Döviz)\n","Döviz Kuru               (TL ise 1 alınız)","Fatura Tutarı (TL)","Girdi Maliyet Yüzdesi (%)","Girdi yüzdesi %0,5 altında olan girdiler için %10 sınır kontrolü","Girdi yüzdesi %0,5 altında olan girdiler için %10 sınır kontrolü","SSB/  Müstahsil                (E/H)","YKO (%) (Manuel girilmeli)","Geçerli Yerli Oranı (%)","Yerli Maliyet Tutarı                            (T1)","Yerli Maliyet Tutarı (T1)","Yerli Maliyet Tutarı (T1)","İthal Maliyet Tutarı               (T2)"]
[null,"Dolaylı"]
[1,{"$nulls":4},{"$f":"IF(AND(E917<>\"\",U917<>\"\",K917<>0),U917/K917,\"\")","v":""},{"$nulls":4},{"$f":"IF(AND(G917<>0, I917<>0, J917<>0), G917*I917*J917, \"\")","v":""},{"$f":"IF(K917=\"\", \"\", K917/Veriler!$T$1)","v":""},{"$f":"IF(E917<>\"\", \"İthal Girdi\", IF(Veriler!P917=\"\", \"\", IF(Veriler!O917=\"H\", \"%0,5 üzerindedir\", IF(Veriler!P917>0.1, \"%10 sınırı aşılmıştır.\", \"Uygun\"))))","v":"%0,5 üzerindedir"},{"$f":"IF(L917=\"\",\" \",M917)","v":" "},null,null,{"$f":"IFERROR(IF(AND(S917<>\"\",K917<>\"\",K917<>0,S917<>0),S917/K917,\"\"),\" \")","v":""},{"$f":"IFERROR(IF(L917<=0.005,IF(E917=\"\",K917,0),IF(E917<>\"\",0,IF(O917=\"\",0,IF(O917=\"H\",0,IF(P917<Veriler!$F$2,K917*Veriler!$F$2,K917*P917))))),\" \")","v":0},{"$f":"IF(Veriler!P917<=0.1, R917, IF(AND(Veriler!P917>0.1, E917=\"\", O917=\"E\"), IF(P917>Veriler!$F$2, P917*R917, IF(P917<Veriler!$F$2, Veriler!$F$2*R917, P917*R917)), 0))","v":0},{"$f":"IF(S917=0,\" \",S917)","v":" "},{"$f":"IFERROR(IF(N917=\"%10 sınırı aşılmıştır.\",K917-S917,IFERROR(IF(E917=\"\",IF(R917=1,0,IF(K917-R917=0,\"\",K917-R917)),IF(Veriler!I917=\"\",K917,IF(K917*Veriler!I917=0,\"\",K917*Veriler!I917))),K917)),0)","v":""}]
[{"$f":"A917+1","v":2},{"$nulls":4},"",{"$nulls":4},"",{"$f":"IF(K918=\"\", \"\", K918/Veriler!$T$1)","v":""},{"$f":"IF(E918<>\"\", \"İthal Girdi\", IF(Veriler!P918=\"\", \"\", IF(Veriler!O918=\"H\", \"%0,5 üzerindedir\", IF(Veriler!P918>0.1, \"%10 sınırı aşılmıştır.\", \"Uygun\"))))","v":"%0,5 üzerindedir"}," ",null,null,"",{"$f":"IFERROR(IF(L918<=0.005,IF(E918=\"\",K918,0),IF(E918<>\"\",0,IF(O918=\"\",0,IF(O918=\"H\",0,IF(P918<Veriler!$F$2,K918*Veriler!$F$2,K918*P918))))),\" \")","v":0},{"$f":"IF(Veriler!P918<=0.1, R918, IF(AND(Veriler!P918>0.1, E918=\"\", O918=\"E\"), IF(P918>Veriler!$F$2, P918*R918, IF(P918<Veriler!$F$2, Veriler!$F$2*R918, P918*R918)), 0))","v":0}," ",{"$f":"IFERROR(IF(N918=\"%10 sınırı aşılmıştır.\",K918-S918,IFERROR(IF(E918=\"\",IF(R918=1,0,IF(K918-R918=0,\"\",K918-R918)),IF(Veriler!I918=\"\",K918,IF(K918*Veriler!I918=0,\"\",K918*Veriler!I918))),K918)),0)","v":""}]
[{"$f":"A918+1","v":3},{"$nulls":4},"",{"$nulls":4},"",{"$f":"IF(K919=\"\", \"\", K919/Veriler!$T$1)","v":""},{"$f":"IF(E919<>\"\", \"İthal Girdi\", IF(Veriler!P919=\"\", \"\", IF(Veriler!O919=\"H\", \"%0,5 üzerindedir\", IF(Veriler!P919>0.1, \"%10 sınırı aşılmıştır.\", \"Uygun\"))))","v":"%0,5 üzerindedir"}," ",null,null,"",{"$f":"IFERROR(IF(L919<=0.005,IF(E919=\"\",K919,0),IF(E919<>\"\",0,IF(O919=\"\",0,IF(O919=\"H\",0,IF(P919<Veriler!$F$2,K919*Veriler!$F$2,K919*P919))))),\" \")","v":0},{"$f":"IF(Veriler!P919<=0.1, R919, IF(AND(Veriler!P919>0.1, E919=\"\", O919=\"E\"), IF(P919>Veriler!$F$2, P919*R919, IF(P919<Veriler!$F$2, Veriler!$F$2*R919, P919*R919)), 0))","v":0}," ",{"$f":"IFERROR(IF(N919=\"%10 sınırı aşılmıştır.\",K919-S919,IFERROR(IF(E919=\"\",IF(R919=1,0,IF(K919-R919=0,\"\",K919-R919)),IF(Veriler!I919=\"\",K919,IF(K919*Veriler!I919=0,\"\",K919*Veriler!I919))),K919)),0)","v":""}]
[4,{"$nulls":4},"",{"$nulls":4},"",{"$f":"IF(K920=\"\", \"\", K920/Veriler!$T$1)","v":""},{"$f":"IF(E920<>\"\", \"İthal Girdi\", IF(Veriler!P920=\"\", \"\", IF(Veriler!O920=\"H\", \"%0,5 üzerindedir\", IF(Veriler!P920>0.1, \"%10 sınırı aşılmıştır.\", \"Uygun\"))))","v":"%0,5 üzerindedir"}," ",null,null,"",{"$f":"IFERROR(IF(L920<=0.005,IF(E920=\"\",K920,0),IF(E920<>\"\",0,IF(O920=\"\",0,IF(O920=\"H\",0,IF(P920<Veriler!$F$2,K920*Veriler!$F$2,K920*P920))))),\" \")","v":0},{"$f":"IF(Veriler!P920<=0.1, R920, IF(AND(Veriler!P920>0.1, E920=\"\", O920=\"E\"), IF(P920>Veriler!$F$2, P920*R920, IF(P920<Veriler!$F$2, Veriler!$F$2*R920, P920*R920)), 0))","v":0}," ",{"$f":"IFERROR(IF(N920=\"%10 sınırı aşılmıştır.\",K920-S920,IFERROR(IF(E920=\"\",IF(R920=1,0,IF(K920-R920=0,\"\",K920-R920)),IF(Veriler!I920=\"\",K920,IF(K920*Veriler!I920=0,\"\",K920*Veriler!I920))),K920)),0)","v":""}]
[5,{"$nulls":4},"",{"$nulls":4},"",{"$f":"IF(K921=\"\", \"\", K921/Veriler!$T$1)","v":""},{"$f":"IF(E921<>\"\", \"İthal Girdi\", IF(Veriler!P921=\"\", \"\", IF(Veriler!O921=\"H\", \"%0,5 üzerindedir\", IF(Veriler!P921>0.1, \"%10 sınırı aşılmıştır.\", \"Uygun\"))))","v":"%0,5 üzerindedir"}," ",null,null,"",{"$f":"IFERROR(IF(L921<=0.005,IF(E921=\"\",K921,0),IF(E921<>\"\",0,IF(O921=\"\",0,IF(O921=\"H\",0,IF(P921<Veriler!$F$2,K921*Veriler!$F$2,K921*P921))))),\" \")","v":0},{"$f":"IF(Veriler!P921<=0.1, R921, IF(AND(Veriler!P921>0.1, E921=\"\", O921=\"E\"), IF(P921>Veriler!$F$2, P921*R921, IF(P921<Veriler!$F$2, Veriler!$F$2*R921, P921*R921)), 0))","v":0}," ",{"$f":"IFERROR(IF(N921=\"%10 sınırı aşılmıştır.\",K921-S921,IFERROR(IF(E921=\"\",IF(R921=1,0,IF(K921-R921=0,\"\",K921-R921)),IF(Veriler!I921=\"\",K921,IF(K921*Veriler!I921=0,\"\",K921*Veriler!I921))),K921)),0)","v":""}]
[6,{"$nulls":4},"",{"$nulls":4},"",{"$f":"IF(K922=\"\", \"\", K922/Veriler!$T$1)","v":""},{"$f":"IF(E922<>\"\", \"İthal Girdi\", IF(Veriler!P922=\"\", \"\", IF(Veriler!O922=\"H\", \"%0,5 üzerindedir\", IF(Veriler!P922>0.1, \"%10 sınırı aşılmıştır.\", \"Uygun\"))))","v":"%0,5 üzerindedir"}," ",null,null,"",{"$f":"IFERROR(IF(L922<=0.005,IF(E922=\"\",K922,0),IF(E922<>\"\",0,IF(O922=\"\",0,IF(O922=\"H\",0,IF(P922<Veriler!$F$2,K922*Veriler!$F$2,K922*P922))))),\" \")","v":0},{"$f":"IF(Veriler!P922<=0.1, R922, IF(AND(Veriler!P922>0.1, E922=\"\", O922=\"E\"), IF(P922>Veriler!$F$2, P922*R922, IF(P922<Veriler!$F$2, Veriler!$F$2*R922, P922*R922)), 0))","v":0}," ",{"$f":"IFERROR(IF(N922=\"%10 sınırı aşılmıştır.\",K922-S922,IFERROR(IF(E922=\"\",IF(R922=1,0,IF(K922-R922=0,\"\",K922-R922)),IF(Veriler!I922=\"\",K922,IF(K922*Veriler!I922=0,\"\",K922*Veriler!I922))),K922)),0)","v":""}]
[7,{"$nulls":4},"",{"$nulls":4},"",{"$f":"IF(K923=\"\", \"\", K923/Veriler!$T$1)","v":""},{"$f":"IF(E923<>\"\", \"İthal Girdi\", IF(Veriler!P923=\"\", \"\", IF(Veriler!O923=\"H\", \"%0,5 üzerindedir\", IF(Veriler!P923>0.1, \"%10 sınırı aşılmıştır.\", \"Uygun\"))))","v":"%0,5 üzerindedir"}," ",null,null,"",{"$f":"IFERROR(IF(L923<=0.005,IF(E923=\"\",K923,0),IF(E923<>\"\",0,IF(O923=\"\",0,IF(O923=\"H\",0,IF(P923<Veriler!$F$2,K923*Veriler!$F$2,K923*P923))))),\" \")","v":0},{"$f":"IF(Veriler!P923<=0.1, R923, IF(AND(Veriler!P923>0.1, E923=\"\", O923=\"E\"), IF(P923>Veriler!$F$2, P923*R923, IF(P923<Veriler!$F$2, Veriler!$F$2*R923, P923*R923)), 0))","v":0}," ",{"$f":"IFERROR(IF(N923=\"%10 sınırı aşılmıştır.\",K923-S923,IFERROR(IF(E923=\"\",IF(R923=1,0,IF(K923-R923=0,\"\",K923-R923)),IF(Veriler!I923=\"\",K923,IF(K923*Veriler!I923=0,\"\",K923*Veriler!I923))),K923)),0)","v":""}]
[8,{"$nulls":4},"",{"$nulls":4},"",{"$f":"IF(K924=\"\", \"\", K924/Veriler!$T$1)","v":""},{"$f":"IF(E924<>\"\", \"İthal Girdi\", IF(Veriler!P924=\"\", \"\", IF(Veriler!O924=\"H\", \"%0,5 üzerindedir\", IF(Veriler!P924>0.1, \"%10 sınırı aşılmıştır.\", \"Uygun\"))))","v":"%0,5 üzerindedir"}," ",null,null,"",{"$f":"IFERROR(IF(L924<=0.005,IF(E924=\"\",K924,0),IF(E924<>\"\",0,IF(O924=\"\",0,IF(O924=\"H\",0,IF(P924<Veriler!$F$2,K924*Veriler!$F$2,K924*P924))))),\" \")","v":0},{"$f":"IF(Veriler!P924<=0.1, R924, IF(AND(Veriler!P924>0.1, E924=\"\", O924=\"E\"), IF(P924>Veriler!$F$2, P924*R924, IF(P924<Veriler!$F$2, Veriler!$F$2*R924, P924*R924)), 0))","v":0}," ",{"$f":"IFERROR(IF(N924=\"%10 sınırı aşılmıştır.\",K924-S924,IFERROR(IF(E924=\"\",IF(R924=1,0,IF(K924-R924=0,\"\",K924-R924)),IF(Veriler!I924=\"\",K924,IF(K924*Veriler!I924=0,\"\",K924*Veriler!I924))),K924)),0)","v":""}]
[9,{"$nulls":4},"",{"$nulls":4},"",{"$f":"IF(K925=\"\", \"\", K925/Veriler!$T$1)","v":""},{"$f":"IF(E925<>\"\", \"İthal Girdi\", IF(Veriler!P925=\"\", \"\", IF(Veriler!O925=\"H\", \"%0,5 üzerindedir\", IF(Veriler!P925>0.1, \"%10 sınırı aşılmıştır.\", \"Uygun\"))))","v":"%0,5 üzerindedir"}," ",null,null,"",{"$f":"IFERROR(IF(L925<=0.005,IF(E925=\"\",K925,0),IF(E925<>\"\",0,IF(O925=\"\",0,IF(O925=\"H\",0,IF(P925<Veriler!$F$2,K925*Veriler!$F$2,K925*P925))))),\" \")","v":0},{"$f":"IF(Veriler!P925<=0.1, R925, IF(AND(Veriler!P925>0.1, E925=\"\", O925=\"E\"), IF(P925>Veriler!$F$2, P925*R925, IF(P925<Veriler!$F$2, Veriler!$F$2*R925, P925*R925)), 0))","v":0}," ",{"$f":"IFERROR(IF(N925=\"%10 sınırı aşılmıştır.\",K925-S925,IFERROR(IF(E925=\"\",IF(R925=1,0,IF(K925-R925=0,\"\",K925-R925)),IF(Veriler!I925=\"\",K925,IF(K925*Veriler!I925=0,\"\",K925*Veriler!I925))),K925)),0)","v":""}]
[10,{"$nulls":4},"",{"$nulls":4},"",{"$f":"IF(K926=\"\", \"\", K926/Veriler!$T$1)","v":""},{"$f":"IF(E926<>\"\", \"İthal Girdi\", IF(Veriler!P926=\"\", \"\", IF(Veriler!O926=\"H\", \"%0,5 üzerindedir\", IF(Veriler!P926>0.1, \"%10 sınırı aşılmıştır.\", \"Uygun\"))))","v":"%0,5 üzerindedir"}," ",null,null,"",{"$f":"IFERROR(IF(L926<=0.005,IF(E926=\"\",K926,0),IF(E926<>\"\",0,IF(O926=\"\",0,IF(O926=\"H\",0,IF(P926<Veriler!$F$2,K926*Veriler!$F$2,K926*P926))))),\" \")","v":0},{"$f":"IF(Veriler!P926<=0.1, R926, IF(AND(Veriler!P926>0.1, E926=\"\", O926=\"E\"), IF(P926>Veriler!$F$2, P926*R926, IF(P926<Veriler!$F$2, Veriler!$F$2*R926, P926*R926)), 0))","v":0}," ",{"$f":"IFERROR(IF(N926=\"%10 sınırı aşılmıştır.\",K926-S926,IFERROR(IF(E926=\"\",IF(R926=1,0,IF(K926-R926=0,\"\",K926-R926)),IF(Veriler!I926=\"\",K926,IF(K926*Veriler!I926=0,\"\",K926*Veriler!I926))),K926)),0)","v":""}]
[11,{"$nulls":4},"",{"$nulls":4},"",{"$f":"IF(K927=\"\", \"\", K927/Veriler!$T$1)","v":""},{"$f":"IF(E927<>\"\", \"İthal Girdi\", IF(Veriler!P927=\"\", \"\", IF(Veriler!O927=\"H\", \"%0,5 üzerindedir\", IF(Veriler!P927>0.1, \"%10 sınırı aşılmıştır.\", \"Uygun\"))))","v":"%0,5 üzerindedir"}," ",null,null,"",{"$f":"IFERROR(IF(L927<=0.005,IF(E927=\"\",K927,0),IF(E927<>\"\",0,IF(O927=\"\",0,IF(O927=\"H\",0,IF(P927<Veriler!$F$2,K927*Veriler!$F$2,K927*P927))))),\" \")","v":0},{"$f":"IF(Veriler!P927<=0.1, R927, IF(AND(Veriler!P927>0.1, E927=\"\", O927=\"E\"), IF(P927>Veriler!$F$2, P927*R927, IF(P927<Veriler!$F$2, Veriler!$F$2*R927, P927*R927)), 0))","v":0}," ",{"$f":"IFERROR(IF(N927=\"%10 sınırı aşılmıştır.\",K927-S927,IFERROR(IF(E927=\"\",IF(R927=1,0,IF(K927-R927=0,\"\",K927-R927)),IF(Veriler!I927=\"\",K927,IF(K927*Veriler!I927=0,\"\",K927*Veriler!I927))),K927)),0)","v":""}]
[12,{"$nulls":4},"",{"$nulls":4},"",{"$f":"IF(K928=\"\", \"\", K928/Veriler!$T$1)","v":""},{"$f":"IF(E928<>\"\", \"İthal Girdi\", IF(Veriler!P928=\"\", \"\", IF(Veriler!O928=\"H\", \"%0,5 üzerindedir\", IF(Veriler!P928>0.1, \"%10 sınırı aşılmıştır.\", \"Uygun\"))))","v":"%0,5 üzerindedir"}," ",null,null,"",{"$f":"IFERROR(IF(L928<=0.005,IF(E928=\"\",K928,0),IF(E928<>\"\",0,IF(O928=\"\",0,IF(O928=\"H\",0,IF(P928<Veriler!$F$2,K928*Veriler!$F$2,K928*P928))))),\" \")","v":0},{"$f":"IF(Veriler!P928<=0.1, R928, IF(AND(Veriler!P928>0.1, E928=\"\", O928=\"E\"), IF(P928>Veriler!$F$2, P928*R928, IF(P928<Veriler!$F$2, Veriler!$F$2*R928, P928*R928)), 0))","v":0}," ",{"$f":"IFERROR(IF(N928=\"%10 sınırı aşılmıştır.\",K928-S928,IFERROR(IF(E928=\"\",IF(R928=1,0,IF(K928-R928=0,\"\",K928-R928)),IF(Veriler!I928=\"\",K928,IF(K928*Veriler!I928=0,\"\",K928*Veriler!I928))),K928)),0)","v":""}]
[13,{"$nulls":4},"",{"$nulls":4},"",{"$f":"IF(K929=\"\", \"\", K929/Veriler!$T$1)","v":""},{"$f":"IF(E929<>\"\", \"İthal Girdi\", IF(Veriler!P929=\"\", \"\", IF(Veriler!O929=\"H\", \"%0,5 üzerindedir\", IF(Veriler!P929>0.1, \"%10 sınırı aşılmıştır.\", \"Uygun\"))))","v":"%0,5 üzerindedir"}," ",null,null,"",{"$f":"IFERROR(IF(L929<=0.005,IF(E929=\"\",K929,0),IF(E929<>\"\",0,IF(O929=\"\",0,IF(O929=\"H\",0,IF(P929<Veriler!$F$2,K929*Veriler!$F$2,K929*P929))))),\" \")","v":0},{"$f":"IF(Veriler!P929<=0.1, R929, IF(AND(Veriler!P929>0.1, E929=\"\", O929=\"E\"), IF(P929>Veriler!$F$2, P929*R929, IF(P929<Veriler!$F$2, Veriler!$F$2*R929, P929*R929)), 0))","v":0}," ",{"$f":"IFERROR(IF(N929=\"%10 sınırı aşılmıştır.\",K929-S929,IFERROR(IF(E929=\"\",IF(R929=1,0,IF(K929-R929=0,\"\",K929-R929)),IF(Veriler!I929=\"\",K929,IF(K929*Veriler!I929=0,\"\",K929*Veriler!I929))),K929)),0)","v":""}]
[14,{"$nulls":4},"",{"$nulls":4},"",{"$f":"IF(K930=\"\", \"\", K930/Veriler!$T$1)","v":""},{"$f":"IF(E930<>\"\", \"İthal Girdi\", IF(Veriler!P930=\"\", \"\", IF(Veriler!O930=\"H\", \"%0,5 üzerindedir\", IF(Veriler!P930>0.1, \"%10 sınırı aşılmıştır.\", \"Uygun\"))))","v":"%0,5 üzerindedir"}," ",null,null,"",{"$f":"IFERROR(IF(L930<=0.005,IF(E930=\"\",K930,0),IF(E930<>\"\",0,IF(O930=\"\",0,IF(O930=\"H\",0,IF(P930<Veriler!$F$2,K930*Veriler!$F$2,K930*P930))))),\" \")","v":0},{"$f":"IF(Veriler!P930<=0.1, R930, IF(AND(Veriler!P930>0.1, E930=\"\", O930=\"E\"), IF(P930>Veriler!$F$2, P930*R930, IF(P930<Veriler!$F$2, Veriler!$F$2*R930, P930*R930)), 0))","v":0}," ",{"$f":"IFERROR(IF(N930=\"%10 sınırı aşılmıştır.\",K930-S930,IFERROR(IF(E930=\"\",IF(R930=1,0,IF(K930-R930=0,\"\",K930-R930)),IF(Veriler!I930=\"\",K930,IF(K930*Veriler!I930=0,\"\",K930*Veriler!I930))),K930)),0)","v":""}]
[null,"Dolaylı"]
[{"$f":"A930+1","v":15},{"$nulls":4},{"$f":"IF(AND(E932<>\"\",U932<>\"\",K932<>0),U932/K932,\"\")","v":""},{"$nulls":4},{"$f":"IF(AND(G932<>0, I932<>0, J932<>0), G932*I932*J932, \"\")","v":""},{"$f":"IF(K932=\"\", \"\", K932/Veriler!$T$1)","v":""},{"$f":"IF(E932<>\"\", \"İthal Girdi\", IF(Veriler!P932=\"\", \"\", IF(Veriler!O932=\"H\", \"%0,5 üzerindedir\", IF(Veriler!P932>0.1, \"%10 sınırı aşılmıştır.\", \"Uygun\"))))","v":"%0,5 üzerindedir"},{"$f":"IF(L932=\"\",\" \",M932)","v":" "},null,null,{"$f":"IFERROR(IF(AND(S932<>\"\",K932<>\"\",K932<>0,S932<>0),S932/K932,\"\"),\" \")","v":""},{"$f":"IFERROR(IF(L932<=0.005,IF(E932=\"\",K932,0),IF(E932<>\"\",0,IF(O932=\"\",0,IF(O932=\"H\",0,IF(P932<Veriler!$F$2,K932*Veriler!$F$2,K932*P932))))),\" \")","v":0},{"$f":"IF(Veriler!P932<=0.1, R932, IF(AND(Veriler!P932>0.1, E932=\"\", O932=\"E\"), IF(P932>Veriler!$F$2, P932*R932, IF(P932<Veriler!$F$2, Veriler!$F$2*R932, P932*R932)), 0))","v":0},{"$f":"IF(S932=0,\" \",S932)","v":" "},{"$f":"IFERROR(IF(N932=\"%10 sınırı aşılmıştır.\",K932-S932,IFERROR(IF(E932=\"\",IF(R932=1,0,IF(K932-R932=0,\"\",K932-R932)),IF(Veriler!I932=\"\",K932,IF(K932*Veriler!I932=0,\"\",K932*Veriler!I932))),K932)),0)","v":""}]
[{"$f":"A932+1","v":16},{"$nulls":4},"",{"$nulls":4},"",{"$f":"IF(K933=\"\", \"\", K933/Veriler!$T$1)","v":""},{"$f":"IF(E933<>\"\", \"İthal Girdi\", IF(Veriler!P933=\"\", \"\", IF(Veriler!O933=\"H\", \"%0,5 üzerindedir\", IF(Veriler!P933>0.1, \"%10 sınırı aşılmıştır.\", \"Uygun\"))))","v":"%0,5 üzerindedir"}," ",null,null,"",{"$f":"IFERROR(IF(L933<=0.005,IF(E933=\"\",K933,0),IF(E933<>\"\",0,IF(O933=\"\",0,IF(O933=\"H\",0,IF(P933<Veriler!$F$2,K933*Veriler!$F$2,K933*P933))))),\" \")","v":0},{"$f":"IF(Veriler!P933<=0.1, R933, IF(AND(Veriler!P933>0.1, E933=\"\", O933=\"E\"), IF(P933>Veriler!$F$2, P933*R933, IF(P933<Veriler!$F$2, Veriler!$F$2*R933, P933*R933)), 0))","v":0}," ",{"$f":"IFERROR(IF(N933=\"%10 sınırı aşılmıştır.\",K933-S933,IFERROR(IF(E933=\"\",IF(R933=1,0,IF(K933-R933=0,\"\",K933-R933)),IF(Veriler!I933=\"\",K933,IF(K933*Veriler!I933=0,\"\",K933*Veriler!I933))),K933)),0)","v":""}]
[{"$f":"A933+1","v":17},{"$nulls":4},"",{"$nulls":4},"",{"$f":"IF(K934=\"\", \"\", K934/Veriler!$T$1)","v":""},{"$f":"IF(E934<>\"\", \"İthal Girdi\", IF(Veriler!P934=\"\", \"\", IF(Veriler!O934=\"H\", \"%0,5 üzerindedir\", IF(Veriler!P934>0.1, \"%10 sınırı aşılmıştır.\", \"Uygun\"))))","v":"%0,5 üzerindedir"}," ",null,null,"",{"$f":"IFERROR(IF(L934<=0.005,IF(E934=\"\",K934,0),IF(E934<>\"\",0,IF(O934=\"\",0,IF(O934=\"H\",0,IF(P934<Veriler!$F$2,K934*Veriler!$F$2,K934*P934))))),\" \")","v":0},{"$f":"IF(Veriler!P934<=0.1, R934, IF(AND(Veriler!P934>0.1, E934=\"\", O934=\"E\"), IF(P934>Veriler!$F$2, P934*R934, IF(P934<Veriler!$F$2, Veriler!$F$2*R934, P934*R934)), 0))","v":0}," ",{"$f":"IFERROR(IF(N934=\"%10 sınırı aşılmıştır.\",K934-S934,IFERROR(IF(E934=\"\",IF(R934=1,0,IF(K934-R934=0,\"\",K934-R934)),IF(Veriler!I934=\"\",K934,IF(K934*Veriler!I934=0,\"\",K934*Veriler!I934))),K934)),0)","v":""}]
[18,{"$nulls":4},"",{"$nulls":4},"",{"$f":"IF(K935=\"\", \"\", K935/Veriler!$T$1)","v":""},{"$f":"IF(E935<>\"\", \"İthal Girdi\", IF(Veriler!P935=\"\", \"\", IF(Veriler!O935=\"H\", \"%0,5 üzerindedir\", IF(Veriler!P935>0.1, \"%10 sınırı aşılmıştır.\", \"Uygun\"))))","v":"%0,5 üzerindedir"}," ",null,null,"",{"$f":"IFERROR(IF(L935<=0.005,IF(E935=\"\",K935,0),IF(E935<>\"\",0,IF(O935=\"\",0,IF(O935=\"H\",0,IF(P935<Veriler!$F$2,K935*Veriler!$F$2,K935*P935))))),\" \")","v":0},{"$f":"IF(Veriler!P935<=0.1, R935, IF(AND(Veriler!P935>0.1, E935=\"\", O935=\"E\"), IF(P935>Veriler!$F$2, P935*R935, IF(P935<Veriler!$F$2, Veriler!$F$2*R935, P935*R935)), 0))","v":0}," ",{"$f":"IFERROR(IF(N935=\"%10 sınırı aşılmıştır.\",K935-S935,IFERROR(IF(E935=\"\",IF(R935=1,0,IF(K935-R935=0,\"\",K935-R935)),IF(Veriler!I935=\"\",K935,IF(K935*Veriler!I935=0,\"\",K935*Veriler!I935))),K935)),0)","v":""}]
[19,{"$nulls":4},"",{"$nulls":4},"",{"$f":"IF(K936=\"\", \"\", K936/Veriler!$T$1)","v":""},{"$f":"IF(E936<>\"\", \"İthal Girdi\", IF(Veriler!P936=\"\", \"\", IF(Veriler!O936=\"H\", \"%0,5 üzerindedir\", IF(Veriler!P936>0.1, \"%10 sınırı aşılmıştır.\", \"Uygun\"))))","v":"%0,5 üzerindedir"}," ",null,null,"",{"$f":"IFERROR(IF(L936<=0.005,IF(E936=\"\",K936,0),IF(E936<>\"\",0,IF(O936=\"\",0,IF(O936=\"H\",0,IF(P936<Veriler!$F$2,K936*Veriler!$F$2,K936*P936))))),\" \")","v":0},{"$f":"IF(Veriler!P936<=0.1, R936, IF(AND(Veriler!P936>0.1, E936=\"\", O936=\"E\"), IF(P936>Veriler!$F$2, P936*R936, IF(P936<Veriler!$F$2, Veriler!$F$2*R936, P936*R936)), 0))","v":0}," ",{"$f":"IFERROR(IF(N936=\"%10 sınırı aşılmıştır.\",K936-S936,IFERROR(IF(E936=\"\",IF(R936=1,0,IF(K936-R936=0,\"\",K936-R936)),IF(Veriler!I936=\"\",K936,IF(K936*Veriler!I936=0,\"\",K936*Veriler!I936))),K936)),0)","v":""}]
[20,{"$nulls":4},"",{"$nulls":4},"",{"$f":"IF(K937=\"\", \"\", K937/Veriler!$T$1)","v":""},{"$f":"IF(E937<>\"\", \"İthal Girdi\", IF(Veriler!P937=\"\", \"\", IF(Veriler!O937=\"H\", \"%0,5 üzerindedir\", IF(Veriler!P937>0.1, \"%10 sınırı aşılmıştır.\", \"Uygun\"))))","v":"%0,5 üzerindedir"}," ",null,null,"",{"$f":"IFERROR(IF(L937<=0.005,IF(E937=\"\",K937,0),IF(E937<>\"\",0,IF(O937=\"\",0,IF(O937=\"H\",0,IF(P937<Veriler!$F$2,K937*Veriler!$F$2,K937*P937))))),\" \")","v":0},{"$f":"IF(Veriler!P937<=0.1, R937, IF(AND(Veriler!P937>0.1, E937=\"\", O937=\"E\"), IF(P937>Veriler!$F$2, P937*R937, IF(P937<Veriler!$F$2, Veriler!$F$2*R937, P937*R937)), 0))","v":0}," ",{"$f":"IFERROR(IF(N937=\"%10 sınırı aşılmıştır.\",K937-S937,IFERROR(IF(E937=\"\",IF(R937=1,0,IF(K937-R937=0,\"\",K937-R937)),IF(Veriler!I937=\"\",K937,IF(K937*Veriler!I937=0,\"\",K937*Veriler!I937))),K937)),0)","v":""}]
[21,{"$nulls":4},"",{"$nulls":4},"",{"$f":"IF(K938=\"\", \"\", K938/Veriler!$T$1)","v":""},{"$f":"IF(E938<>\"\", \"İthal Girdi\", IF(Veriler!P938=\"\", \"\", IF(Veriler!O938=\"H\", \"%0,5 üzerindedir\", IF(Veriler!P938>0.1, \"%10 sınırı aşılmıştır.\", \"Uygun\"))))","v":"%0,5 üzerindedir"}," ",null,null,"",{"$f":"IFERROR(IF(L938<=0.005,IF(E938=\"\",K938,0),IF(E938<>\"\",0,IF(O938=\"\",0,IF(O938=\"H\",0,IF(P938<Veriler!$F$2,K938*Veriler!$F$2,K938*P938))))),\" \")","v":0},{"$f":"IF(Veriler!P938<=0.1, R938, IF(AND(Veriler!P938>0.1, E938=\"\", O938=\"E\"), IF(P938>Veriler!$F$2, P938*R938, IF(P938<Veriler!$F$2, Veriler!$F$2*R938, P938*R938)), 0))","v":0}," ",{"$f":"IFERROR(IF(N938=\"%10 sınırı aşılmıştır.\",K938-S938,IFERROR(IF(E938=\"\",IF(R938=1,0,IF(K938-R938=0,\"\",K938-R938)),IF(Veriler!I938=\"\",K938,IF(K938*Veriler!I938=0,\"\",K938*Veriler!I938))),K938)),0)","v":""}]
[22,{"$nulls":4},"",{"$nulls":4},"",{"$f":"IF(K939=\"\", \"\", K939/Veriler!$T$1)","v":""},{"$f":"IF(E939<>\"\", \"İthal Girdi\", IF(Veriler!P939=\"\", \"\", IF(Veriler!O939=\"H\", \"%0,5 üzerindedir\", IF(Veriler!P939>0.1, \"%10 sınırı aşılmıştır.\", \"Uygun\"))))","v":"%0,5 üzerindedir"}," ",null,null,"",{"$f":"IFERROR(IF(L939<=0.005,IF(E939=\"\",K939,0),IF(E939<>\"\",0,IF(O939=\"\",0,IF(O939=\"H\",0,IF(P939<Veriler!$F$2,K939*Veriler!$F$2,K939*P939))))),\" \")","v":0},{"$f":"IF(Veriler!P939<=0.1, R939, IF(AND(Veriler!P939>0.1, E939=\"\", O939=\"E\"), IF(P939>Veriler!$F$2, P939*R939, IF(P939<Veriler!$F$2, Veriler!$F$2*R939, P939*R939)), 0))","v":0}," ",{"$f":"IFERROR(IF(N939=\"%10 sınırı aşılmıştır.\",K939-S939,IFERROR(IF(E939=\"\",IF(R939=1,0,IF(K939-R939=0,\"\",K939-R939)),IF(Veriler!I939=\"\",K939,IF(K939*Veriler!I939=0,\"\",K939*Veriler!I939))),K939)),0)","v":""}]
[23,{"$nulls":4},"",{"$nulls":4},"",{"$f":"IF(K940=\"\", \"\", K940/Veriler!$T$1)","v":""},{"$f":"IF(E940<>\"\", \"İthal Girdi\", IF(Veriler!P940=\"\", \"\", IF(Veriler!O940=\"H\", \"%0,5 üzerindedir\", IF(Veriler!P940>0.1, \"%10 sınırı aşılmıştır.\", \"Uygun\"))))","v":"%0,5 üzerindedir"}," ",null,null,"",{"$f":"IFERROR(IF(L940<=0.005,IF(E940=\"\",K940,0),IF(E940<>\"\",0,IF(O940=\"\",0,IF(O940=\"H\",0,IF(P940<Veriler!$F$2,K940*Veriler!$F$2,K940*P940))))),\" \")","v":0},{"$f":"IF(Veriler!P940<=0.1, R940, IF(AND(Veriler!P940>0.1, E940=\"\", O940=\"E\"), IF(P940>Veriler!$F$2, P940*R940, IF(P940<Veriler!$F$2, Veriler!$F$2*R940, P940*R940)), 0))","v":0}," ",{"$f":"IFERROR(IF(N940=\"%10 sınırı aşılmıştır.\",K940-S940,IFERROR(IF(E940=\"\",IF(R940=1,0,IF(K940-R940=0,\"\",K940-R940)),IF(Veriler!I940=\"\",K940,IF(K940*Veriler!I940=0,\"\",K940*Veriler!I940))),K940)),0)","v":""}]
[24,{"$nulls":4},"",{"$nulls":4},"",{"$f":"IF(K941=\"\", \"\", K941/Veriler!$T$1)","v":""},{"$f":"IF(E941<>\"\", \"İthal Girdi\", IF(Veriler!P941=\"\", \"\", IF(Veriler!O941=\"H\", \"%0,5 üzerindedir\", IF(Veriler!P941>0.1, \"%10 sınırı aşılmıştır.\", \"Uygun\"))))","v":"%0,5 üzerindedir"}," ",null,null,"",{"$f":"IFERROR(IF(L941<=0.005,IF(E941=\"\",K941,0),IF(E941<>\"\",0,IF(O941=\"\",0,IF(O941=\"H\",0,IF(P941<Veriler!$F$2,K941*Veriler!$F$2,K941*P941))))),\" \")","v":0},{"$f":"IF(Veriler!P941<=0.1, R941, IF(AND(Veriler!P941>0.1, E941=\"\", O941=\"E\"), IF(P941>Veriler!$F$2, P941*R941, IF(P941<Veriler!$F$2, Veriler!$F$2*R941, P941*R941)), 0))","v":0}," ",{"$f":"IFERROR(IF(N941=\"%10 sınırı aşılmıştır.\",K941-S941,IFERROR(IF(E941=\"\",IF(R941=1,0,IF(K941-R941=0,\"\",K941-R941)),IF(Veriler!I941=\"\",K941,IF(K941*Veriler!I941=0,\"\",K941*Veriler!I941))),K941)),0)","v":""}]
[25,{"$nulls":4},"",{"$nulls":4},"",{"$f":"IF(K942=\"\", \"\", K942/Veriler!$T$1)","v":""},{"$f":"IF(E942<>\"\", \"İthal Girdi\", IF(Veriler!P942=\"\", \"\", IF(Veriler!O942=\"H\", \"%0,5 üzerindedir\", IF(Veriler!P942>0.1, \"%10 sınırı aşılmıştır.\", \"Uygun\"))))","v":"%0,5 üzerindedir"}," ",null,null,"",{"$f":"IFERROR(IF(L942<=0.005,IF(E942=\"\",K942,0),IF(E942<>\"\",0,IF(O942=\"\",0,IF(O942=\"H\",0,IF(P942<Veriler!$F$2,K942*Veriler!$F$2,K942*P942))))),\" \")","v":0},{"$f":"IF(Veriler!P942<=0.1, R942, IF(AND(Veriler!P942>0.1, E942=\"\", O942=\"E\"), IF(P942>Veriler!$F$2, P942*R942, IF(P942<Veriler!$F$2, Veriler!$F$2*R942, P942*R942)), 0))","v":0}," ",{"$f":"IFERROR(IF(N942=\"%10 sınırı aşılmıştır.\",K942-S942,IFERROR(IF(E942=\"\",IF(R942=1,0,IF(K942-R942=0,\"\",K942-R942)),IF(Veriler!I942=\"\",K942,IF(K942*Veriler!I942=0,\"\",K942*Veriler!I942))),K942)),0)","v":""}]
[26,{"$nulls":4},"",{"$nulls":4},"",{"$f":"IF(K943=\"\", \"\", K943/Veriler!$T$1)","v":""},{"$f":"IF(E943<>\"\", \"İthal Girdi\", IF(Veriler!P943=\"\", \"\", IF(Veriler!O943=\"H\", \"%0,5 üzerindedir\", IF(Veriler!P943>0.1, \"%10 sınırı aşılmıştır.\", \"Uygun\"))))","v":"%0,5 üzerindedir"}," ",null,null,"",{"$f":"IFERROR(IF(L943<=0.005,IF(E943=\"\",K943,0),IF(E943<>\"\",0,IF(O943=\"\",0,IF(O943=\"H\",0,IF(P943<Veriler!$F$2,K943*Veriler!$F$2,K943*P943))))),\" \")","v":0},{"$f":"IF(Veriler!P943<=0.1, R943, IF(AND(Veriler!P943>0.1, E943=\"\", O943=\"E\"), IF(P943>Veriler!$F$2, P943*R943, IF(P943<Veriler!$F$2, Veriler!$F$2*R943, P943*R943)), 0))","v":0}," ",{"$f":"IFERROR(IF(N943=\"%10 sınırı aşılmıştır.\",K943-S943,IFERROR(IF(E943=\"\",IF(R943=1,0,IF(K943-R943=0,\"\",K943-R943)),IF(Veriler!I943=\"\",K943,IF(K943*Veriler!I943=0,\"\",K943*Veriler!I943))),K943)),0)","v":""}]
[27,{"$nulls":4},"",{"$nulls":4},"",{"$f":"IF(K944=\"\", \"\", K944/Veriler!$T$1)","v":""},{"$f":"IF(E944<>\"\", \"İthal Girdi\", IF(Veriler!P944=\"\", \"\", IF(Veriler!O944=\"H\", \"%0,5 üzerindedir\", IF(Veriler!P944>0.1, \"%10 sınırı aşılmıştır.\", \"Uygun\"))))","v":"%0,5 üzerindedir"}," ",null,null,"",{"$f":"IFERROR(IF(L944<=0.005,IF(E944=\"\",K944,0),IF(E944<>\"\",0,IF(O944=\"\",0,IF(O944=\"H\",0,IF(P944<Veriler!$F$2,K944*Veriler!$F$2,K944*P944))))),\" \")","v":0},{"$f":"IF(Veriler!P944<=0.1, R944, IF(AND(Veriler!P944>0.1, E944=\"\", O944=\"E\"), IF(P944>Veriler!$F$2, P944*R944, IF(P944<Veriler!$F$2, Veriler!$F$2*R944, P944*R944)), 0))","v":0}," ",{"$f":"IFERROR(IF(N944=\"%10 sınırı aşılmıştır.\",K944-S944,IFERROR(IF(E944=\"\",IF(R944=1,0,IF(K944-R944=0,\"\",K944-R944)),IF(Veriler!I944=\"\",K944,IF(K944*Veriler!I944=0,\"\",K944*Veriler!I944))),K944)),0)","v":""}]
[28,{"$nulls":4},"",{"$nulls":4},"",{"$f":"IF(K945=\"\", \"\", K945/Veriler!$T$1)","v":""},{"$f":"IF(E945<>\"\", \"İthal Girdi\", IF(Veriler!P945=\"\", \"\", IF(Veriler!O945=\"H\", \"%0,5 üzerindedir\", IF(Veriler!P945>0.1, \"%10 sınırı aşılmıştır.\", \"Uygun\"))))","v":"%0,5 üzerindedir"}," ",null,null,"",{"$f":"IFERROR(IF(L945<=0.005,IF(E945=\"\",K945,0),IF(E945<>\"\",0,IF(O945=\"\",0,IF(O945=\"H\",0,IF(P945<Veriler!$F$2,K945*Veriler!$F$2,K945*P945))))),\" \")","v":0},{"$f":"IF(Veriler!P945<=0.1, R945, IF(AND(Veriler!P945>0.1, E945=\"\", O945=\"E\"), IF(P945>Veriler!$F$2, P945*R945, IF(P945<Veriler!$F$2, Veriler!$F$2*R945, P945*R945)), 0))","v":0}," ",{"$f":"IFERROR(IF(N945=\"%10 sınırı aşılmıştır.\",K945-S945,IFERROR(IF(E945=\"\",IF(R945=1,0,IF(K945-R945=0,\"\",K945-R945)),IF(Veriler!I945=\"\",K945,IF(K945*Veriler!I945=0,\"\",K945*Veriler!I945))),K945)),0)","v":""}]
[{"$nulls":10},{"$f":"SUM(K917:K930,K932:K945)","v":0}]
[{"$nulls":17},"T1","T1","T1","T2"]
["Sayfa Toplamı (TL)  *(Genel Dip Toplam Ek.3-D sayfasında otomatik hesaplanacaktır.)",{"$nulls":16},{"$f":"IF(SUM(#REF!,R917:R930,R932:R945)=0,\"\",SUM(#REF!,R917:R930,R932:R945))","v":{"$error":"#REF!"}},{"$f":"IF(SUM(S917:S930,S932:S945)=0,\" \",SUM(S917:S930,S932:S945))","v":" "},{"$f":"IF(SUM(T917:T930,T932:T945)=0,\" \",SUM(T917:T930,T932:T945))","v":" "},{"$f":"IF(SUM(U917:U930,U932:U945)=0,\" \",SUM(U917:U930,U932:U945))","v":" "}]
[]
["R02"]

{"sheet":"Ek.3-D","index":3,"n_rows":23,"n_cols":10,"rows_kept":23,"merged":[[0,0,0,8],[1,0,1,9],[2,0,2,3],[2,5,2,8],[3,0,6,0],[3,1,3,3],[3,5,6,5],[3,6,3,8],[4,1,4,3],[4,6,4,8],[5,1,5,3],[5,6,5,8],[6,1,6,3],[6,6,6,8],[7,0,7,9],[8,0,8,4],[8,5,8,9],[9,0,9,3],[9,5,9,8],[10,0,10,9],[11,0,11,1],[11,2,11,4],[11,5,11,6],[11,7,11,9],[12,0,12,1],[12,2,12,4],[12,5,13,6],[12,7,13,9],[13,0,13,1],[13,2,13,4],[14,0,14,1],[14,2,14,4],[14,5,15,6],[14,7,15,9],[15,0,15,4],[16,0,16,4],[16,5,17,6],[16,7,17,9],[17,0,17,4],[18,0,20,4],[18,5,20,6],[18,7,20,9],[21,0,21,4],[21,5,23,6],[21,7,23,9],[22,0,23,4],[26,0,26,4],[26,5,26,9]]}
[{"$nulls":9},"Ek.3-D"]
["YERLİ KATKI ORANI HESAP CETVELİ                                                   "]
["Yerli Girdi Maliyet Tutarı ",{"$nulls":3},"TL","İthal Girdi Maliyet Tutarı",{"$nulls":3},"TL"]
["Yerli Girdi","Nihai Ürün Doğrudan ve Dolaylı Malzeme Giderleri Toplamı (T1)",null,null,{"$f":"Veriler!U30","v":0},"İthal Girdi","Nihai Ürün Doğrudan ve Dolaylı Malzeme Giderleri Toplamı (T2)",null,null,{"$f":"Veriler!V30","v":0}]
[null,"Nihai Ürün Doğrudan ve Dolaylı İşcilik Giderleri Toplamı (T3)",null,null,{"$f":"Veriler!W9","v":0},null,"Nihai Ürün Doğrudan ve Dolaylı İşcilik Giderleri Toplamı (T4)",null,null,{"$f":"Veriler!X9","v":0}]
[null,"Nihai Ürün İle İlgili Genel Giderler Toplamı (T5)",null,null,{"$f":"Veriler!Y9","v":0},null,"Nihai Ürün İle İlgili Genel Giderler Toplamı (T6)",null,null,{"$f":"Veriler!Z9","v":0}]
[null,"Yerli Girdi Maliyet Tutarı (= T1+ T3+T5)",null,null,{"$f":"SUM(E4:E6)","v":0},null,"İthal Girdi Maliyet Tutarı ( =T2+ T4+T6)",null,null,{"$f":"SUM(J4:J6)","v":0}]
["YERLİ KATKI ORANI HESAPLAMASI"]
["Teknolojik Ürün Belgesi Puanı 1"]
["Nihai Ürün Maliyet Tutarı (TL) \n(Yerli Girdi Maliyet Tutarı +İthal Girdi Maliyet Tutarı=T1+T2+T3+T4+T5+T6)",{"$nulls":3},{"$f":"IFERROR(E7+J7, \" \")","v":0},"Nihai Ürün İçindeki İthal Girdi Maliyet Tutarı (TL) \n(İthal Girdi Maliyet Tutarı =T2+ T4+T6)",{"$nulls":3},{"$f":"J7","v":0}]
[]
["Yerli Katkı Oranı (%) 2 (%100ü geçemez)",null,{"$f":"IFERROR(IF(Veriler!V35>100,100,Veriler!V35),0)","v":{"v":0,"d":"0.00"}},null,null,"Yerli Malı Belgesi Sınıfı 3",null,{"$f":"IFERROR(VLOOKUP(C12,Veriler!A1:B9900,2),\" \")","v":" "}]
["Üretici Unvanı",{"$nulls":4},"Adı ve Soyadı",null,"Unvanı"]
["Ürün Adı"]
["Ürün Kodu (PRODTR/GTİP)"]
["Yerli Katkı Oranı Hesap Cetvelini Düzenleyen (Üretici Yetkilisi)"]
["Mali ve Teknik İnceleme",{"$nulls":4},"Adı ve Soyadı",null,"Unvanı"]
["Yerli Katkı Oranı Hesabını Mali Yönden İnceleyen ve Doğruluğunu Teyit Eden Mali Uzman"]
["İncelemeye ibraz olunan defter ve belgelerin ilgili mevzuat hükümlerine uygun olduğu ve gerçeği yansıttığı tespit edilmiştir. Ürünün üretimi kapsamında Türkiye' den ve Türkiye dışından sağlanan hammade, malzeme, ürün, hizmet vb.ye ilişkin tüm faturalar, bedelleri, gümrük beyannameleri, sanayi sicil belgeleri ile üretici bünyesinde gerçekleştirilen faaliyetlere ilişkin kayıtlar incelenmiş ve yerli ve ithal girdiler yukarıda belirtildiği şekilde tespit edilmiştir."]
[]
[]
["Yerli Katkı Oranı Hesabını Teknik Yönden İnceleyen ve Uygunluğını Teyit Eden Teknik Uzman"]
["Ürünün üretiminde kullanılan girdiler, üretim teknolojisi ve süreci göz önünde bulundurarak kontrol edilmiş ve ürünün üretimi için gerekli olan tüm girdilerin Yerki Katkı Oranı hesabına doğru oranda dahil edildiği tespit edilmiştir."]

{"sheet":"Veriler","index":4,"n_rows":9900,"n_cols":28,"rows_kept":9900,"hidden":true}
[1.01,"YERLİ KATKI ORANI RAPORU",null,"GTİP kodu","GTİP yüzdesi","BAKANLIK YÜZDESİ",{"$nulls":6},{"$f":"SUM('Ek.3-A'!K34,'Ek.3-A'!K72,'Ek.3-A'!K110,'Ek.3-A'!K148,'Ek.3-A'!K186,'Ek.3-A'!K224,'Ek.3-A'!K262,'Ek.3-A'!K300,'Ek.3-A'!K338,'Ek.3-A'!K376,'Ek.3-A'!K414,'Ek.3-A'!K452,'Ek.3-A'!K490,'Ek.3-A'!K528,'Ek.3-A'!K566,'Ek.3-A'!K604,'Ek.3-A'!K642,'Ek.3-A'!K680,'Ek.3-A'!K718,'Ek.3-A'!K756,'Ek.3-A'!K794,'Ek.3-A'!K832,'Ek.3-A'!K870,'Ek.3-A'!K908,'Ek.3-A'!K946)","v":0},{"$f":"M1","v":0},{"$f":"'Ek.3-D'!E5","v":0},{"$f":"'Ek.3-D'!J5","v":0},{"$f":"'Ek.3-D'!E6","v":0},null,{"$f":"'Ek.3-D'!J6","v":0},{"$f":"SUM(N1:S1)","v":0},null,{"$f":"T1/10","v":0}]
[1.02,"YERLİ KATKI ORANI RAPORU",null,290941000000,0.1,{"v":0.4,"d":"40%"}]
[1.03,"YERLİ KATKI ORANI RAPORU",null,844831000000,0.1,null,null,"Gtip","GTİP Listesi","SSB","Yerli Maliyet tutarı","Fatura tutarı","Girdi Maliyet Yüzdesi",null,"0,5 durumu","0,5 kümülatif toplam",{"$nulls":10},"Yerli <0,5 Toplam Maliyet","Yerli >0,5 Toplam Maliyet"]
[1.04,"YERLİ KATKI ORANI RAPORU",null,844851900011,0.1,{"$nulls":15},"YERLİ (T1)","İTHAL (T2)","T3","T4","T5","T6"]
[1.05,"YERLİ KATKI ORANI RAPORU",null,847330200000,0.1,null,1,{"$f":"IF(TRIM('Ek.3-A'!E5)<>\"\",\"var\",\"yok\")","v":"yok"},{"$f":"IFERROR(IF('Ek.3-A'!E5=\"\", \"\", IF(VLOOKUP('Ek.3-A'!E5, Veriler!D:E, 2, 0)=0, \"\", VLOOKUP('Ek.3-A'!E5, Veriler!D:E, 2, 0))),\" \")","v":""},{"$f":"IF('Ek.3-A'!O5=\"\", \"\", 'Ek.3-A'!O5)","v":""},{"$f":"'Ek.3-A'!R5","v":0},{"$f":"'Ek.3-A'!K5","v":""},{"$f":"'Ek.3-A'!L5","v":""},{"$f":"IF(H5=\"var\",0,IF(M5<=0.005,M5,0))","v":{"v":0,"d":"%0.00"}},{"$f":"IF(M5<=0.005,\"E\",\"H\")","v":"H"},{"$f":"IF(O5=\"E\",SUM($N$5:N5),0)","v":{"v":0,"d":"%0.00"}},{"$f":"IF(P5<=0.1, K5, IF(N5>$F$2, N5*K5, $F$2*K5))","v":0},null,null,"S1",{"$f":"SUM('Ek.3-A'!T5:T18,'Ek.3-A'!T20:T33)","v":0},{"$f":"SUM('Ek.3-A'!U5:U18,'Ek.3-A'!U20:U33)","v":0},{"$f":"'Ek.3-B'!F32","v":" "},{"$f":"'Ek.3-B'!N32","v":" "},{"$f":"'Ek.3-C'!F31","v":" "},{"$f":"'Ek.3-C'!N31","v":" "},{"$f":"SUM(W5:W375)","v":0}]
[1.06,"YERLİ KATKI ORANI RAPORU",null,847330800000,0.1,null,2,{"$f":"IF(TRIM('Ek.3-A'!E6)<>\"\",\"var\",\"yok\")","v":"yok"},{"$f":"IFERROR(IF('Ek.3-A'!E6=\"\", \"\", IF(VLOOKUP('Ek.3-A'!E6, Veriler!D:E, 2, 0)=0, \"\", VLOOKUP('Ek.3-A'!E6, Veriler!D:E, 2, 0))),\" \")","v":""},{"$f":"IF('Ek.3-A'!O6=\"\", \"\", 'Ek.3-A'!O6)","v":""},{"$f":"'Ek.3-A'!R6","v":0},{"$f":"'Ek.3-A'!K6","v":""},{"$f":"'Ek.3-A'!L6","v":""},{"$f":"IF(H6=\"var\",0,IF(M6<=0.005,M6,0))","v":{"v":0,"d":"%0.00"}},{"$f":"IF(M6<=0.005,\"E\",\"H\")","v":"H"},{"$f":"IF(O6=\"E\",SUM($N$5:N6),0)","v":{"v":0,"d":"%0.00"}},{"$f":"IF(P6<=0.1, K6, IF(N6>$F$2, N6*K6, $F$2*K6))","v":0},null,null,"S2",{"$f":"SUM('Ek.3-A'!T43:T56,'Ek.3-A'!T58:T71)","v":0},{"$f":"SUM('Ek.3-A'!U43:U56,'Ek.3-A'!U58:U71)","v":0},{"$f":"'Ek.3-B'!F66","v":" "},{"$f":"'Ek.3-B'!N66","v":" "},{"$f":"'Ek.3-C'!F64","v":" "},{"$f":"'Ek.3-C'!N64","v":" "}]
[1.07,"YERLİ KATKI ORANI RAPORU",null,852990920000,0.1,null,3,{"$f":"IF(TRIM('Ek.3-A'!E7)<>\"\",\"var\",\"yok\")","v":"yok"},{"$f":"IFERROR(IF('Ek.3-A'!E7=\"\", \"\", IF(VLOOKUP('Ek.3-A'!E7, Veriler!D:E, 2, 0)=0, \"\", VLOOKUP('Ek.3-A'!E7, Veriler!D:E, 2, 0))),\" \")","v":""},{"$f":"IF('Ek.3-A'!O7=\"\", \"\", 'Ek.3-A'!O7)","v":""},{"$f":"'Ek.3-A'!R7","v":0},{"$f":"'Ek.3-A'!K7","v":""},{"$f":"'Ek.3-A'!L7","v":""},{"v":0,"d":"%0.00"},"H",{"$f":"IF(O7=\"E\",SUM($N$5:N7),0)","v":{"v":0,"d":"%0.00"}},0,null,null,"S3",{"$f":"SUM('Ek.3-A'!T81:T94,'Ek.3-A'!T96:T109)","v":0},{"$f":"SUM('Ek.3-A'!U81:U94,'Ek.3-A'!U96:U109)","v":0},{"$f":"'Ek.3-B'!F100","v":" "},{"$f":"'Ek.3-B'!N100","v":" "},{"$f":"'Ek.3-C'!F97","v":" "},{"$f":"'Ek.3-C'!N97","v":" "}]
[1.08,"YERLİ KATKI ORANI RAPORU",null,870840500000,0.1,null,4,{"$f":"IF(TRIM('Ek.3-A'!E8)<>\"\",\"var\",\"yok\")","v":"yok"},{"$f":"IFERROR(IF('Ek.3-A'!E8=\"\", \"\", IF(VLOOKUP('Ek.3-A'!E8, Veriler!D:E, 2, 0)=0, \"\", VLOOKUP('Ek.3-A'!E8, Veriler!D:E, 2, 0))),\" \")","v":""},{"$f":"IF('Ek.3-A'!O8=\"\", \"\", 'Ek.3-A'!O8)","v":""},{"$f":"'Ek.3-A'!R8","v":0},{"$f":"'Ek.3-A'!K8","v":""},{"$f":"'Ek.3-A'!L8","v":""},{"v":0,"d":"%0.00"},"H",{"$f":"IF(O8=\"E\",SUM($N$5:N8),0)","v":{"v":0,"d":"%0.00"}},0,null,null,"S4",{"$f":"SUM('Ek.3-A'!T119:T132,'Ek.3-A'!T134:T147)","v":0},{"$f":"SUM('Ek.3-A'!U119:U132,'Ek.3-A'!U134:U147)","v":0},{"$f":"'Ek.3-B'!F134","v":" "},{"$f":"'Ek.3-B'!N134","v":" "},{"$f":"'Ek.3-C'!F130","v":" "},{"$f":"'Ek.3-C'!N130","v":" "}]
[1.09,"YERLİ KATKI ORANI RAPORU",null,870895990000,0.1,null,5,{"$f":"IF(TRIM('Ek.3-A'!E9)<>\"\",\"var\",\"yok\")","v":"yok"},{"$f":"IFERROR(IF('Ek.3-A'!E9=\"\", \"\", IF(VLOOKUP('Ek.3-A'!E9, Veriler!D:E, 2, 0)=0, \"\", VLOOKUP('Ek.3-A'!E9, Veriler!D:E, 2, 0))),\" \")","v":""},{"$f":"IF('Ek.3-A'!O9=\"\", \"\", 'Ek.3-A'!O9)","v":""},{"$f":"'Ek.3-A'!R9","v":0},{"$f":"'Ek.3-A'!K9","v":""},{"$f":"'Ek.3-A'!L9","v":""},{"v":0,"d":"%0.00"},"H",{"$f":"IF(O9=\"E\",SUM($N$5:N9),0)","v":{"v":0,"d":"%0.00"}},0,null,null,"S5",{"$f":"SUM('Ek.3-A'!T157:T170,'Ek.3-A'!T172:T185)","v":0},{"$f":"SUM('Ek.3-A'!U157:U170,'Ek.3-A'!U172:U185)","v":0},{"$f":"SUM(W5:W8)","v":0},{"$f":"SUM(X5:X8)","v":0},{"$f":"SUM(Y5:Y8)","v":0},{"$f":"SUM(Z5:Z8)","v":0}]
[{"v":1.1,"d":"1.10"},"YERLİ KATKI ORANI RAPORU",null,880720000000,0.1,null,6,{"$f":"IF(TRIM('Ek.3-A'!E10)<>\"\",\"var\",\"yok\")","v":"yok"},{"$f":"IFERROR(IF('Ek.3-A'!E10=\"\", \"\", IF(VLOOKUP('Ek.3-A'!E10, Veriler!D:E, 2, 0)=0, \"\", VLOOKUP('Ek.3-A'!E10, Veriler!D:E, 2, 0))),\" \")","v":""},{"$f":"IF('Ek.3-A'!O10=\"\", \"\", 'Ek.3-A'!O10)","v":""},{"$f":"'Ek.3-A'!R10","v":0},{"$f":"'Ek.3-A'!K10","v":""},{"$f":"'Ek.3-A'!L10","v":""},{"v":0,"d":"%0.00"},"H",{"$f":"IF(O10=\"E\",SUM($N$5:N10),0)","v":{"v":0,"d":"%0.00"}},0,null,null,"S6",{"$f":"SUM('Ek.3-A'!T195:T208,'Ek.3-A'!T210:T223)","v":0},{"$f":"SUM('Ek.3-A'!U195:U208,'Ek.3-A'!U210:U223)","v":0}]
[1.11,"YERLİ KATKI ORANI RAPORU",null,880710000000,0.1,null,7,{"$f":"IF(TRIM('Ek.3-A'!E11)<>\"\",\"var\",\"yok\")","v":"yok"},{"$f":"IFERROR(IF('Ek.3-A'!E11=\"\", \"\", IF(VLOOKUP('Ek.3-A'!E11, Veriler!D:E, 2, 0)=0, \"\", VLOOKUP('Ek.3-A'!E11, Veriler!D:E, 2, 0))),\" \")","v":""},{"$f":"IF('Ek.3-A'!O11=\"\", \"\", 'Ek.3-A'!O11)","v":""},{"$f":"'Ek.3-A'!R11","v":0},{"$f":"'Ek.3-A'!K11","v":""},{"$f":"'Ek.3-A'!L11","v":""},{"v":0,"d":"%0.00"},"H",{"$f":"IF(O11=\"E\",SUM($N$5:N11),0)","v":{"v":0,"d":"%0.00"}},0,null,null,"S7",{"$f":"SUM('Ek.3-A'!T233:T246,'Ek.3-A'!T248:T261)","v":0},{"$f":"SUM('Ek.3-A'!U233:U246,'Ek.3-A'!U248:U261)","v":0}]
[1.12,"YERLİ KATKI ORANI RAPORU",null,291712000011,0.1,null,8,{"$f":"IF(TRIM('Ek.3-A'!E12)<>\"\",\"var\",\"yok\")","v":"yok"},{"$f":"IFERROR(IF('Ek.3-A'!E12=\"\", \"\", IF(VLOOKUP('Ek.3-A'!E12, Veriler!D:E, 2, 0)=0, \"\", VLOOKUP('Ek.3-A'!E12, Veriler!D:E, 2, 0))),\" \")","v":""},{"$f":"IF('Ek.3-A'!O12=\"\", \"\", 'Ek.3-A'!O12)","v":""},{"$f":"'Ek.3-A'!R12","v":0},{"$f":"'Ek.3-A'!K12","v":""},{"$f":"'Ek.3-A'!L12","v":""},{"v":0,"d":"%0.00"},"H",{"$f":"IF(O12=\"E\",SUM($N$5:N12),0)","v":{"v":0,"d":"%0.00"}},0,null,null,"S8",{"$f":"SUM('Ek.3-A'!T271:T284,'Ek.3-A'!T286:T299)","v":0},{"$f":"SUM('Ek.3-A'!U271:U284,'Ek.3-A'!U286:U299)","v":0}]
[1.13,"YERLİ KATKI ORANI RAPORU",null,442199990019,0.1,null,9,{"$f":"IF(TRIM('Ek.3-A'!E13)<>\"\",\"var\",\"yok\")","v":"yok"},{"$f":"IFERROR(IF('Ek.3-A'!E13=\"\", \"\", IF(VLOOKUP('Ek.3-A'!E13, Veriler!D:E, 2, 0)=0, \"\", VLOOKUP('Ek.3-A'!E13, Veriler!D:E, 2, 0))),\" \")","v":""},{"$f":"IF('Ek.3-A'!O13=\"\", \"\", 'Ek.3-A'!O13)","v":""},{"$f":"'Ek.3-A'!R13","v":0},{"$f":"'Ek.3-A'!K13","v":""},{"$f":"'Ek.3-A'!L13","v":""},{"v":0,"d":"%0.00"},"H",{"$f":"IF(O13=\"E\",SUM($N$5:N13),0)","v":{"v":0,"d":"%0.00"}},0,null,null,"S9",{"$f":"SUM('Ek.3-A'!T309:T322,'Ek.3-A'!T324:T337)","v":0},{"$f":"SUM('Ek.3-A'!U309:U322,'Ek.3-A'!U324:U337)","v":0}]
[1.14,"YERLİ KATKI ORANI RAPORU",null,291611001000,0.1,null,10,{"$f":"IF(TRIM('Ek.3-A'!E14)<>\"\",\"var\",\"yok\")","v":"yok"},{"$f":"IFERROR(IF('Ek.3-A'!E14=\"\", \"\", IF(VLOOKUP('Ek.3-A'!E14, Veriler!D:E, 2, 0)=0, \"\", VLOOKUP('Ek.3-A'!E14, Veriler!D:E, 2, 0))),\" \")","v":""},{"$f":"IF('Ek.3-A'!O14=\"\", \"\", 'Ek.3-A'!O14)","v":""},{"$f":"'Ek.3-A'!R14","v":0},{"$f":"'Ek.3-A'!K14","v":""},{"$f":"'Ek.3-A'!L14","v":""},{"v":0,"d":"%0.00"},"H",{"$f":"IF(O14=\"E\",SUM($N$5:N14),0)","v":{"v":0,"d":"%0.00"}},0,null,null,"S10",{"$f":"SUM('Ek.3-A'!T347:T360,'Ek.3-A'!T362:T375)","v":0},{"$f":"SUM('Ek.3-A'!U347:U360,'Ek.3-A'!U362:U375)","v":0}]
[1.15,"YERLİ KATKI ORANI RAPORU",null,390330000000,0.1,null,11,{"$f":"IF(TRIM('Ek.3-A'!E15)<>\"\",\"var\",\"yok\")","v":"yok"},{"$f":"IFERROR(IF('Ek.3-A'!E15=\"\", \"\", IF(VLOOKUP('Ek.3-A'!E15, Veriler!D:E, 2, 0)=0, \"\", VLOOKUP('Ek.3-A'!E15, Veriler!D:E, 2, 0))),\" \")","v":""},{"$f":"IF('Ek.3-A'!O15=\"\", \"\", 'Ek.3-A'!O15)","v":""},{"$f":"'Ek.3-A'!R15","v":0},{"$f":"'Ek.3-A'!K15","v":""},{"$f":"'Ek.3-A'!L15","v":""},{"v":0,"d":"%0.00"},"H",{"$f":"IF(O15=\"E\",SUM($N$5:N15),0)","v":{"v":0,"d":"%0.00"}},0,null,null,"S11",{"$f":"SUM('Ek.3-A'!T385:T398,'Ek.3-A'!T400:T413)","v":0},{"$f":"SUM('Ek.3-A'!U385:U398,'Ek.3-A'!U400:U413)","v":0}]
[1.16,"YERLİ KATKI ORANI RAPORU",null,720450001000,0.1,null,12,{"$f":"IF(TRIM('Ek.3-A'!E16)<>\"\",\"var\",\"yok\")","v":"yok"},{"$f":"IFERROR(IF('Ek.3-A'!E16=\"\", \"\", IF(VLOOKUP('Ek.3-A'!E16, Veriler!D:E, 2, 0)=0, \"\", VLOOKUP('Ek.3-A'!E16, Veriler!D:E, 2, 0))),\" \")","v":""},{"$f":"IF('Ek.3-A'!O16=\"\", \"\", 'Ek.3-A'!O16)","v":""},{"$f":"'Ek.3-A'!R16","v":0},{"$f":"'Ek.3-A'!K16","v":""},{"$f":"'Ek.3-A'!L16","v":""},{"v":0,"d":"%0.00"},"H",{"$f":"IF(O16=\"E\",SUM($N$5:N16),0)","v":{"v":0,"d":"%0.00"}},0,null,null,"S12",{"$f":"SUM('Ek.3-A'!T423:T436,'Ek.3-A'!T438:T451)","v":0},{"$f":"SUM('Ek.3-A'!U423:U436,'Ek.3-A'!U438:U451)","v":0}]
[1.17,"YERLİ KATKI ORANI RAPORU",null,720429000019,0.1,null,13,{"$f":"IF(TRIM('Ek.3-A'!E17)<>\"\",\"var\",\"yok\")","v":"yok"},{"$f":"IFERROR(IF('Ek.3-A'!E17=\"\", \"\", IF(VLOOKUP('Ek.3-A'!E17, Veriler!D:E, 2, 0)=0, \"\", VLOOKUP('Ek.3-A'!E17, Veriler!D:E, 2, 0))),\" \")","v":""},{"$f":"IF('Ek.3-A'!O17=\"\", \"\", 'Ek.3-A'!O17)","v":""},{"$f":"'Ek.3-A'!R17","v":0},{"$f":"'Ek.3-A'!K17","v":""},{"$f":"'Ek.3-A'!L17","v":""},{"v":0,"d":"%0.00"},"H",{"$f":"IF(O17=\"E\",SUM($N$5:N17),0)","v":{"v":0,"d":"%0.00"}},0,null,null,"S13",{"$f":"SUM('Ek.3-A'!T461:T474,'Ek.3-A'!T476:T489)","v":0},{"$f":"SUM('Ek.3-A'!U461:U474,'Ek.3-A'!U476:U489)","v":0}]
[1.18,"YERLİ KATKI ORANI RAPORU",null,720429000011,0.1,null,14,{"$f":"IF(TRIM('Ek.3-A'!E18)<>\"\",\"var\",\"yok\")","v":"yok"},{"$f":"IFERROR(IF('Ek.3-A'!E18=\"\", \"\", IF(VLOOKUP('Ek.3-A'!E18, Veriler!D:E, 2, 0)=0, \"\", VLOOKUP('Ek.3-A'!E18, Veriler!D:E, 2, 0))),\" \")","v":""},{"$f":"IF('Ek.3-A'!O18=\"\", \"\", 'Ek.3-A'!O18)","v":""},{"$f":"'Ek.3-A'!R18","v":0},{"$f":"'Ek.3-A'!K18","v":""},{"$f":"'Ek.3-A'!L18","v":""},{"v":0,"d":"%0.00"},"H",{"$f":"IF(O18=\"E\",SUM($N$5:N18),0)","v":{"v":0,"d":"%0.00"}},0,null,null,"S14",{"$f":"SUM('Ek.3-A'!T499:T512,'Ek.3-A'!T514:T527)","v":0},{"$f":"SUM('Ek.3-A'!U499:U512,'Ek.3-A'!U514:U527)","v":0}]
[1.19,"YERLİ KATKI ORANI RAPORU",null,720421900019,0.1,{"$nulls":3},"",{"$nulls":10},"S15",{"$f":"SUM('Ek.3-A'!T537:T550,'Ek.3-A'!T552:T565)","v":0},{"$f":"SUM('Ek.3-A'!U537:U550,'Ek.3-A'!U552:U565)","v":0}]
[{"v":1.2,"d":"1.20"},"YERLİ KATKI ORANI RAPORU",null,720421900011,0.1,null,1,{"$f":"IF(TRIM('Ek.3-A'!E20)<>\"\",\"var\",\"yok\")","v":"yok"},{"$f":"IFERROR(IF('Ek.3-A'!E20=\"\", \"\", IF(VLOOKUP('Ek.3-A'!E20, Veriler!D:E, 2, 0)=0, \"\", VLOOKUP('Ek.3-A'!E20, Veriler!D:E, 2, 0))),\" \")","v":""},{"$f":"IF('Ek.3-A'!O20=\"\", \"\", 'Ek.3-A'!O20)","v":""},{"$f":"'Ek.3-A'!R20","v":0},{"$f":"'Ek.3-A'!K20","v":""},{"$f":"'Ek.3-A'!L20","v":""},{"$f":"IF(H20=\"var\",0,IF(M20<=0.005,M20,0))","v":{"v":0,"d":"%0.00"}},{"$f":"IF(M20<=0.005,\"E\",\"H\")","v":"H"},{"$f":"IF(O20=\"E\",SUM($N$5:N20),0)","v":{"v":0,"d":"%0.00"}},{"$f":"IF(P20<=0.1, K20, IF(N20>$F$2, N20*K20, $F$2*K20))","v":0},null,null,"S16",{"$f":"SUM('Ek.3-A'!T575:T588,'Ek.3-A'!T590:T603)","v":0},{"$f":"SUM('Ek.3-A'!U575:U588,'Ek.3-A'!U590:U603)","v":0}]
[1.21,"YERLİ KATKI ORANI RAPORU",null,720421100019,0.1,null,2,{"$f":"IF(TRIM('Ek.3-A'!E21)<>\"\",\"var\",\"yok\")","v":"yok"},{"$f":"IFERROR(IF('Ek.3-A'!E21=\"\", \"\", IF(VLOOKUP('Ek.3-A'!E21, Veriler!D:E, 2, 0)=0, \"\", VLOOKUP('Ek.3-A'!E21, Veriler!D:E, 2, 0))),\" \")","v":""},{"$f":"IF('Ek.3-A'!O21=\"\", \"\", 'Ek.3-A'!O21)","v":""},{"$f":"'Ek.3-A'!R21","v":0},{"$f":"'Ek.3-A'!K21","v":""},{"$f":"'Ek.3-A'!L21","v":""},{"$f":"IF(H21=\"var\",0,IF(M21<=0.005,M21,0))","v":{"v":0,"d":"%0.00"}},{"$f":"IF(M21<=0.005,\"E\",\"H\")","v":"H"},{"$f":"IF(O21=\"E\",SUM($N$5:N21),0)","v":{"v":0,"d":"%0.00"}},{"$f":"IF(P21<=0.1, K21, IF(N21>$F$2, N21*K21, $F$2*K21))","v":0},null,null,"S17",{"$f":"SUM('Ek.3-A'!T613:T626,'Ek.3-A'!T628:T641)","v":0},{"$f":"SUM('Ek.3-A'!U613:U626,'Ek.3-A'!U628:U641)","v":0}]
[1.22,"YERLİ KATKI ORANI RAPORU",null,720421100011,0.1,null,3,{"$f":"IF(TRIM('Ek.3-A'!E22)<>\"\",\"var\",\"yok\")","v":"yok"},{"$f":"IFERROR(IF('Ek.3-A'!E22=\"\", \"\", IF(VLOOKUP('Ek.3-A'!E22, Veriler!D:E, 2, 0)=0, \"\", VLOOKUP('Ek.3-A'!E22, Veriler!D:E, 2, 0))),\" \")","v":""},{"$f":"IF('Ek.3-A'!O22=\"\", \"\", 'Ek.3-A'!O22)","v":""},{"$f":"'Ek.3-A'!R22","v":0},{"$f":"'Ek.3-A'!K22","v":""},{"$f":"'Ek.3-A'!L22","v":""},{"v":0,"d":"%0.00"},"H",{"$f":"IF(O22=\"E\",SUM($N$5:N22),0)","v":{"v":0,"d":"%0.00"}},0,null,null,"S18",{"$f":"SUM('Ek.3-A'!T651:T664,'Ek.3-A'!T666:T679)","v":0},{"$f":"SUM('Ek.3-A'!U651:U664,'Ek.3-A'!U666:U679)","v":0}]
[1.23,"YERLİ KATKI ORANI RAPORU",null,760511000000,0.1,null,4,{"$f":"IF(TRIM('Ek.3-A'!E23)<>\"\",\"var\",\"yok\")","v":"yok"},{"$f":"IFERROR(IF('Ek.3-A'!E23=\"\", \"\", IF(VLOOKUP('Ek.3-A'!E23, Veriler!D:E, 2, 0)=0, \"\", VLOOKUP('Ek.3-A'!E23, Veriler!D:E, 2, 0))),\" \")","v":""},{"$f":"IF('Ek.3-A'!O23=\"\", \"\", 'Ek.3-A'!O23)","v":""},{"$f":"'Ek.3-A'!R23","v":0},{"$f":"'Ek.3-A'!K23","v":""},{"$f":"'Ek.3-A'!L23","v":""},{"v":0,"d":"%0.00"},"H",{"$f":"IF(O23=\"E\",SUM($N$5:N23),0)","v":{"v":0,"d":"%0.00"}},0,null,null,"S19",{"$f":"SUM('Ek.3-A'!T689:T702,'Ek.3-A'!T704:T717)","v":0},{"$f":"SUM('Ek.3-A'!U689:U702,'Ek.3-A'!U704:U717)","v":0}]
[1.24,"YERLİ KATKI ORANI RAPORU",null,720110300000,0.1,null,5,{"$f":"IF(TRIM('Ek.3-A'!E24)<>\"\",\"var\",\"yok\")","v":"yok"},{"$f":"IFERROR(IF('Ek.3-A'!E24=\"\", \"\", IF(VLOOKUP('Ek.3-A'!E24, Veriler!D:E, 2, 0)=0, \"\", VLOOKUP('Ek.3-A'!E24, Veriler!D:E, 2, 0))),\" \")","v":""},{"$f":"IF('Ek.3-A'!O24=\"\", \"\", 'Ek.3-A'!O24)","v":""},{"$f":"'Ek.3-A'!R24","v":0},{"$f":"'Ek.3-A'!K24","v":""},{"$f":"'Ek.3-A'!L24","v":""},{"v":0,"d":"%0.00"},"H",{"$f":"IF(O24=\"E\",SUM($N$5:N24),0)","v":{"v":0,"d":"%0.00"}},0,null,null,"S20",{"$f":"SUM('Ek.3-A'!T727:T740,'Ek.3-A'!T742:T755)","v":0},{"$f":"SUM('Ek.3-A'!U727:U740,'Ek.3-A'!U742:U755)","v":0}]
[1.25,"YERLİ KATKI ORANI RAPORU",null,720110900000,0.1,null,6,{"$f":"IF(TRIM('Ek.3-A'!E25)<>\"\",\"var\",\"yok\")","v":"yok"},{"$f":"IFERROR(IF('Ek.3-A'!E25=\"\", \"\", IF(VLOOKUP('Ek.3-A'!E25, Veriler!D:E, 2, 0)=0, \"\", VLOOKUP('Ek.3-A'!E25, Veriler!D:E, 2, 0))),\" \")","v":""},{"$f":"IF('Ek.3-A'!O25=\"\", \"\", 'Ek.3-A'!O25)","v":""},{"$f":"'Ek.3-A'!R25","v":0},{"$f":"'Ek.3-A'!K25","v":""},{"$f":"'Ek.3-A'!L25","v":""},{"v":0,"d":"%0.00"},"H",{"$f":"IF(O25=\"E\",SUM($N$5:N25),0)","v":{"v":0,"d":"%0.00"}},0,null,null,"S21",{"$f":"SUM('Ek.3-A'!T765:T778,'Ek.3-A'!T780:T793)","v":0},{"$f":"SUM('Ek.3-A'!U765:U778,'Ek.3-A'!U780:U793)","v":0}]
[1.26,"YERLİ KATKI ORANI RAPORU",null,750300100000,0.1,null,7,{"$f":"IF(TRIM('Ek.3-A'!E26)<>\"\",\"var\",\"yok\")","v":"yok"},{"$f":"IFERROR(IF('Ek.3-A'!E26=\"\", \"\", IF(VLOOKUP('Ek.3-A'!E26, Veriler!D:E, 2, 0)=0, \"\", VLOOKUP('Ek.3-A'!E26, Veriler!D:E, 2, 0))),\" \")","v":""},{"$f":"IF('Ek.3-A'!O26=\"\", \"\", 'Ek.3-A'!O26)","v":""},{"$f":"'Ek.3-A'!R26","v":0},{"$f":"'Ek.3-A'!K26","v":""},{"$f":"'Ek.3-A'!L26","v":""},{"v":0,"d":"%0.00"},"H",{"$f":"IF(O26=\"E\",SUM($N$5:N26),0)","v":{"v":0,"d":"%0.00"}},0,null,null,"S22",{"$f":"SUM('Ek.3-A'!T803:T816,'Ek.3-A'!T818:T831)","v":0},{"$f":"SUM('Ek.3-A'!U803:U816,'Ek.3-A'!U818:U831)","v":0}]
[1.27,"YERLİ KATKI ORANI RAPORU",null,390110900011,0.1,null,8,{"$f":"IF(TRIM('Ek.3-A'!E27)<>\"\",\"var\",\"yok\")","v":"yok"},{"$f":"IFERROR(IF('Ek.3-A'!E27=\"\", \"\", IF(VLOOKUP('Ek.3-A'!E27, Veriler!D:E, 2, 0)=0, \"\", VLOOKUP('Ek.3-A'!E27, Veriler!D:E, 2, 0))),\" \")","v":""},{"$f":"IF('Ek.3-A'!O27=\"\", \"\", 'Ek.3-A'!O27)","v":""},{"$f":"'Ek.3-A'!R27","v":0},{"$f":"'Ek.3-A'!K27","v":""},{"$f":"'Ek.3-A'!L27","v":""},{"v":0,"d":"%0.00"},"H",{"$f":"IF(O27=\"E\",SUM($N$5:N27),0)","v":{"v":0,"d":"%0.00"}},0,null,null,"S23",{"$f":"SUM('Ek.3-A'!T841:T854,'Ek.3-A'!T856:T869)","v":0},{"$f":"SUM('Ek.3-A'!U841:U854,'Ek.3-A'!U856:U869)","v":0}]
[1.28,"YERLİ KATKI ORANI RAPORU",null,291830000029,0.1,null,9,{"$f":"IF(TRIM('Ek.3-A'!E28)<>\"\",\"var\",\"yok\")","v":"yok"},{"$f":"IFERROR(IF('Ek.3-A'!E28=\"\", \"\", IF(VLOOKUP('Ek.3-A'!E28, Veriler!D:E, 2, 0)=0, \"\", VLOOKUP('Ek.3-A'!E28, Veriler!D:E, 2, 0))),\" \")","v":""},{"$f":"IF('Ek.3-A'!O28=\"\", \"\", 'Ek.3-A'!O28)","v":""},{"$f":"'Ek.3-A'!R28","v":0},{"$f":"'Ek.3-A'!K28","v":""},{"$f":"'Ek.3-A'!L28","v":""},{"v":0,"d":"%0.00"},"H",{"$f":"IF(O28=\"E\",SUM($N$5:N28),0)","v":{"v":0,"d":"%0.00"}},0,null,null,"S24",{"$f":"SUM('Ek.3-A'!T879:T892,'Ek.3-A'!T894:T907)","v":0},{"$f":"SUM('Ek.3-A'!U879:U892,'Ek.3-A'!U894:U907)","v":0}]
[1.29,"YERLİ KATKI ORANI RAPORU",null,820900800000,0.1,null,10,{"$f":"IF(TRIM('Ek.3-A'!E29)<>\"\",\"var\",\"yok\")","v":"yok"},{"$f":"IFERROR(IF('Ek.3-A'!E29=\"\", \"\", IF(VLOOKUP('Ek.3-A'!E29, Veriler!D:E, 2, 0)=0, \"\", VLOOKUP('Ek.3-A'!E29, Veriler!D:E, 2, 0))),\" \")","v":""},{"$f":"IF('Ek.3-A'!O29=\"\", \"\", 'Ek.3-A'!O29)","v":""},{"$f":"'Ek.3-A'!R29","v":0},{"$f":"'Ek.3-A'!K29","v":""},{"$f":"'Ek.3-A'!L29","v":""},{"v":0,"d":"%0.00"},"H",{"$f":"IF(O29=\"E\",SUM($N$5:N29),0)","v":{"v":0,"d":"%0.00"}},0,null,null,"S25",{"$f":"SUM('Ek.3-A'!T917:T930,'Ek.3-A'!T932:T945)","v":0},{"$f":"SUM('Ek.3-A'!U917:U930,'Ek.3-A'!U932:U945)","v":0}]
[{"v":1.3,"d":"1.30"},"YERLİ KATKI ORANI RAPORU",null,820900200000,0.1,null,11,{"$f":"IF(TRIM('Ek.3-A'!E30)<>\"\",\"var\",\"yok\")","v":"yok"},{"$f":"IFERROR(IF('Ek.3-A'!E30=\"\", \"\", IF(VLOOKUP('Ek.3-A'!E30, Veriler!D:E, 2, 0)=0, \"\", VLOOKUP('Ek.3-A'!E30, Veriler!D:E, 2, 0))),\" \")","v":""},{"$f":"IF('Ek.3-A'!O30=\"\", \"\", 'Ek.3-A'!O30)","v":""},{"$f":"'Ek.3-A'!R30","v":0},{"$f":"'Ek.3-A'!K30","v":""},{"$f":"'Ek.3-A'!L30","v":""},{"v":0,"d":"%0.00"},"H",{"$f":"IF(O30=\"E\",SUM($N$5:N30),0)","v":{"v":0,"d":"%0.00"}},0,null,null,"Toplam",{"$f":"SUM(U5:U29)","v":0},{"$f":"SUM(V5:V29)","v":0}]
[1.31,"YERLİ KATKI ORANI RAPORU",null,850110930000,0.1,null,12,{"$f":"IF(TRIM('Ek.3-A'!E31)<>\"\",\"var\",\"yok\")","v":"yok"},{"$f":"IFERROR(IF('Ek.3-A'!E31=\"\", \"\", IF(VLOOKUP('Ek.3-A'!E31, Veriler!D:E, 2, 0)=0, \"\", VLOOKUP('Ek.3-A'!E31, Veriler!D:E, 2, 0))),\" \")","v":""},{"$f":"IF('Ek.3-A'!O31=\"\", \"\", 'Ek.3-A'!O31)","v":""},{"$f":"'Ek.3-A'!R31","v":0},{"$f":"'Ek.3-A'!K31","v":""},{"$f":"'Ek.3-A'!L31","v":""},{"v":0,"d":"%0.00"},"H",{"$f":"IF(O31=\"E\",SUM($N$5:N31),0)","v":{"v":0,"d":"%0.00"}},0]
[1.32,"YERLİ KATKI ORANI RAPORU",null,260600000000,0.1,null,13,{"$f":"IF(TRIM('Ek.3-A'!E32)<>\"\",\"var\",\"yok\")","v":"yok"},{"$f":"IFERROR(IF('Ek.3-A'!E32=\"\", \"\", IF(VLOOKUP('Ek.3-A'!E32, Veriler!D:E, 2, 0)=0, \"\", VLOOKUP('Ek.3-A'!E32, Veriler!D:E, 2, 0))),\" \")","v":""},{"$f":"IF('Ek.3-A'!O32=\"\", \"\", 'Ek.3-A'!O32)","v":""},{"$f":"'Ek.3-A'!R32","v":0},{"$f":"'Ek.3-A'!K32","v":""},{"$f":"'Ek.3-A'!L32","v":""},{"v":0,"d":"%0.00"},"H",{"$f":"IF(O32=\"E\",SUM($N$5:N32),0)","v":{"v":0,"d":"%0.00"}},0,{"$nulls":3},"EK3D E7/E10",{"$f":"'Ek.3-D'!E7/'Ek.3-D'!E10","v":{"$error":"#DIV/0!"}}]
[1.33,"YERLİ KATKI ORANI RAPORU",null,281830000000,0.1,null,14,{"$f":"IF(TRIM('Ek.3-A'!E33)<>\"\",\"var\",\"yok\")","v":"yok"},{"$f":"IFERROR(IF('Ek.3-A'!E33=\"\", \"\", IF(VLOOKUP('Ek.3-A'!E33, Veriler!D:E, 2, 0)=0, \"\", VLOOKUP('Ek.3-A'!E33, Veriler!D:E, 2, 0))),\" \")","v":""},{"$f":"IF('Ek.3-A'!O33=\"\", \"\", 'Ek.3-A'!O33)","v":""},{"$f":"'Ek.3-A'!R33","v":0},{"$f":"'Ek.3-A'!K33","v":""},{"$f":"'Ek.3-A'!L33","v":""},{"v":0,"d":"%0.00"},"H",{"$f":"IF(O33=\"E\",SUM($N$5:N33),0)","v":{"v":0,"d":"%0.00"}},0,{"$nulls":3},"(EK3D E7/E10)*100",{"$f":"V32*100","v":{"$error":"#DIV/0!"}}]
[1.34,"YERLİ KATKI ORANI RAPORU",null,281820000000,0.1,{"$nulls":15},"Teknolojik Ürün Puanı",{"$f":"'Ek.3-D'!F9","v":{"v":0,"d":"0.00"}}]
[1.35,"YERLİ KATKI ORANI RAPORU",null,760200900000,0.1,{"$nulls":15},"Yerli Katkı Oranı",{"$f":"V33+V34","v":{"$error":"#DIV/0!"}}]
[1.36,"YERLİ KATKI ORANI RAPORU",null,760200110000,0.1]
[1.37,"YERLİ KATKI ORANI RAPORU",null,294110000011,0.1]
[1.38,"YERLİ KATKI ORANI RAPORU",null,310540000011,0.1]
[1.39,"YERLİ KATKI ORANI RAPORU",null,310221000000,0.1]
[{"v":1.4,"d":"1.40"},"YERLİ KATKI ORANI RAPORU",null,811090000000,0.1]
[1.41,"YERLİ KATKI ORANI RAPORU",null,540211000000,0.1]
[1.42,"YERLİ KATKI ORANI RAPORU",null,550311000000,0.1]
[1.43,"YERLİ KATKI ORANI RAPORU",null,291411000000,0.1,null,{"$f":"G18+1","v":15},{"$f":"IF(TRIM('Ek.3-A'!E43)<>\"\",\"var\",\"yok\")","v":"yok"},{"$f":"IF('Ek.3-A'!E43=\"\", \"\", IF(VLOOKUP('Ek.3-A'!E43, Veriler!D:E, 2, 0)=0, \"\", VLOOKUP('Ek.3-A'!E43, Veriler!D:E, 2, 0)))","v":""},{"$f":"IF('Ek.3-A'!O43=\"\", \"\", 'Ek.3-A'!O43)","v":""},{"$f":"'Ek.3-A'!R43","v":0},{"$f":"'Ek.3-A'!K43","v":""},{"$f":"'Ek.3-A'!L43","v":""},{"$f":"IF(H43=\"var\",0,IF(M43<=0.005,M43,0))","v":{"v":0,"d":"%0.00"}},{"$f":"IF(M43<=0.005,\"E\",\"H\")","v":"H"},{"$f":"IF(O43=\"E\",SUM($N$5:N43),0)","v":{"v":0,"d":"%0.00"}},{"$f":"IF(P43<=0.1, K43, IF(N43>$F$2, N43*K43, $F$2*K43))","v":0}]
[1.44,"YERLİ KATKI ORANI RAPORU",null,851110009000,0.1,null,{"$f":"G43+1","v":16},{"$f":"IF(TRIM('Ek.3-A'!E44)<>\"\",\"var\",\"yok\")","v":"yok"},{"$f":"IF('Ek.3-A'!E44=\"\", \"\", IF(VLOOKUP('Ek.3-A'!E44, Veriler!D:E, 2, 0)=0, \"\", VLOOKUP('Ek.3-A'!E44, Veriler!D:E, 2, 0)))","v":""},{"$f":"IF('Ek.3-A'!O44=\"\", \"\", 'Ek.3-A'!O44)","v":""},{"$f":"'Ek.3-A'!R44","v":0},{"$f":"'Ek.3-A'!K44","v":""},{"$f":"'Ek.3-A'!L44","v":""},{"$f":"IF(H44=\"var\",0,IF(M44<=0.005,M44,0))","v":{"v":0,"d":"%0.00"}},{"$f":"IF(M44<=0.005,\"E\",\"H\")","v":"H"},{"$f":"IF(O44=\"E\",SUM($N$5:N44),0)","v":{"v":0,"d":"%0.00"}},{"$f":"IF(P44<=0.1, K44, IF(N44>$F$2, N44*K44, $F$2*K44))","v":0}]
[1.45,"YERLİ KATKI ORANI RAPORU",null,740400910000,0.1,null,{"$f":"G44+1","v":17},{"$f":"IF(TRIM('Ek.3-A'!E45)<>\"\",\"var\",\"yok\")","v":"yok"},{"$f":"IF('Ek.3-A'!E45=\"\", \"\", IF(VLOOKUP('Ek.3-A'!E45, Veriler!D:E, 2, 0)=0, \"\", VLOOKUP('Ek.3-A'!E45, Veriler!D:E, 2, 0)))","v":""},{"$f":"IF('Ek.3-A'!O45=\"\", \"\", 'Ek.3-A'!O45)","v":""},{"$f":"'Ek.3-A'!R45","v":0},{"$f":"'Ek.3-A'!K45","v":""},{"$f":"'Ek.3-A'!L45","v":""},{"v":0,"d":"%0.00"},"H",{"$f":"IF(O45=\"E\",SUM($N$5:N45),0)","v":{"v":0,"d":"%0.00"}},0]
[1.46,"YERLİ KATKI ORANI RAPORU",null,853669300000,0.1,null,{"$f":"G45+1","v":18},{"$f":"IF(TRIM('Ek.3-A'!E46)<>\"\",\"var\",\"yok\")","v":"yok"},{"$f":"IF('Ek.3-A'!E46=\"\", \"\", IF(VLOOKUP('Ek.3-A'!E46, Veriler!D:E, 2, 0)=0, \"\", VLOOKUP('Ek.3-A'!E46, Veriler!D:E, 2, 0)))","v":""},{"$f":"IF('Ek.3-A'!O46=\"\", \"\", 'Ek.3-A'!O46)","v":""},{"$f":"'Ek.3-A'!R46","v":0},{"$f":"'Ek.3-A'!K46","v":""},{"$f":"'Ek.3-A'!L46","v":""},{"v":0,"d":"%0.00"},"H",{"$f":"IF(O46=\"E\",SUM($N$5:N46),0)","v":{"v":0,"d":"%0.00"}},0]
[1.47,"YERLİ KATKI ORANI RAPORU",null,480255251000,0.1,null,19,{"$f":"IF(TRIM('Ek.3-A'!E47)<>\"\",\"var\",\"yok\")","v":"yok"},{"$f":"IF('Ek.3-A'!E47=\"\", \"\", IF(VLOOKUP('Ek.3-A'!E47, Veriler!D:E, 2, 0)=0, \"\", VLOOKUP('Ek.3-A'!E47, Veriler!D:E, 2, 0)))","v":""},{"$f":"IF('Ek.3-A'!O47=\"\", \"\", 'Ek.3-A'!O47)","v":""},{"$f":"'Ek.3-A'!R47","v":0},{"$f":"'Ek.3-A'!K47","v":""},{"$f":"'Ek.3-A'!L47","v":""},{"v":0,"d":"%0.00"},"H",{"$f":"IF(O47=\"E\",SUM($N$5:N47),0)","v":{"v":0,"d":"%0.00"}},0]
[1.48,"YERLİ KATKI ORANI RAPORU",null,480255901000,0.1,null,20,{"$f":"IF(TRIM('Ek.3-A'!E48)<>\"\",\"var\",\"yok\")","v":"yok"},{"$f":"IF('Ek.3-A'!E48=\"\", \"\", IF(VLOOKUP('Ek.3-A'!E48, Veriler!D:E, 2, 0)=0, \"\", VLOOKUP('Ek.3-A'!E48, Veriler!D:E, 2, 0)))","v":""},{"$f":"IF('Ek.3-A'!O48=\"\", \"\", 'Ek.3-A'!O48)","v":""},{"$f":"'Ek.3-A'!R48","v":0},{"$f":"'Ek.3-A'!K48","v":""},{"$f":"'Ek.3-A'!L48","v":""},{"v":0,"d":"%0.00"},"H",{"$f":"IF(O48=\"E\",SUM($N$5:N48),0)","v":{"v":0,"d":"%0.00"}},0]
[1.49,"YERLİ KATKI ORANI RAPORU",null,480257001000,0.1,null,21,{"$f":"IF(TRIM('Ek.3-A'!E49)<>\"\",\"var\",\"yok\")","v":"yok"},{"$f":"IF('Ek.3-A'!E49=\"\", \"\", IF(VLOOKUP('Ek.3-A'!E49, Veriler!D:E, 2, 0)=0, \"\", VLOOKUP('Ek.3-A'!E49, Veriler!D:E, 2, 0)))","v":""},{"$f":"IF('Ek.3-A'!O49=\"\", \"\", 'Ek.3-A'!O49)","v":""},{"$f":"'Ek.3-A'!R49","v":0},{"$f":"'Ek.3-A'!K49","v":""},{"$f":"'Ek.3-A'!L49","v":""},{"v":0,"d":"%0.00"},"H",{"$f":"IF(O49=\"E\",SUM($N$5:N49),0)","v":{"v":0,"d":"%0.00"}},0]
[{"v":1.5,"d":"1.50"},"YERLİ KATKI ORANI RAPORU",null,470710000000,0.1,null,22,{"$f":"IF(TRIM('Ek.3-A'!E50)<>\"\",\"var\",\"yok\")","v":"yok"},{"$f":"IF('Ek.3-A'!E50=\"\", \"\", IF(VLOOKUP('Ek.3-A'!E50, Veriler!D:E, 2, 0)=0, \"\", VLOOKUP('Ek.3-A'!E50, Veriler!D:E, 2, 0)))","v":""},{"$f":"IF('Ek.3-A'!O50=\"\", \"\", 'Ek.3-A'!O50)","v":""},{"$f":"'Ek.3-A'!R50","v":0},{"$f":"'Ek.3-A'!K50","v":""},{"$f":"'Ek.3-A'!L50","v":""},{"v":0,"d":"%0.00"},"H",{"$f":"IF(O50=\"E\",SUM($N$5:N50),0)","v":{"v":0,"d":"%0.00"}},0]
[1.51,"YERLİ KATKI ORANI RAPORU",null,470720000000,0.1,null,23,{"$f":"IF(TRIM('Ek.3-A'!E51)<>\"\",\"var\",\"yok\")","v":"yok"},{"$f":"IF('Ek.3-A'!E51=\"\", \"\", IF(VLOOKUP('Ek.3-A'!E51, Veriler!D:E, 2, 0)=0, \"\", VLOOKUP('Ek.3-A'!E51, Veriler!D:E, 2, 0)))","v":""},{"$f":"IF('Ek.3-A'!O51=\"\", \"\", 'Ek.3-A'!O51)","v":""},{"$f":"'Ek.3-A'!R51","v":0},{"$f":"'Ek.3-A'!K51","v":""},{"$f":"'Ek.3-A'!L51","v":""},{"v":0,"d":"%0.00"},"H",{"$f":"IF(O51=\"E\",SUM($N$5:N51),0)","v":{"v":0,"d":"%0.00"}},0]
[1.52,"YERLİ KATKI ORANI RAPORU",null,848280000000,0.1,null,24,{"$f":"IF(TRIM('Ek.3-A'!E52)<>\"\",\"var\",\"yok\")","v":"yok"},{"$f":"IF('Ek.3-A'!E52=\"\", \"\", IF(VLOOKUP('Ek.3-A'!E52, Veriler!D:E, 2, 0)=0, \"\", VLOOKUP('Ek.3-A'!E52, Veriler!D:E, 2, 0)))","v":""},{"$f":"IF('Ek.3-A'!O52=\"\", \"\", 'Ek.3-A'!O52)","v":""},{"$f":"'Ek.3-A'!R52","v":0},{"$f":"'Ek.3-A'!K52","v":""},{"$f":"'Ek.3-A'!L52","v":""},{"v":0,"d":"%0.00"},"H",{"$f":"IF(O52=\"E\",SUM($N$5:N52),0)","v":{"v":0,"d":"%0.00"}},0]
[1.53,"YERLİ KATKI ORANI RAPORU",null,481039000000,0.1,null,25,{"$f":"IF(TRIM('Ek.3-A'!E53)<>\"\",\"var\",\"yok\")","v":"yok"},{"$f":"IF('Ek.3-A'!E53=\"\", \"\", IF(VLOOKUP('Ek.3-A'!E53, Veriler!D:E, 2, 0)=0, \"\", VLOOKUP('Ek.3-A'!E53, Veriler!D:E, 2, 0)))","v":""},{"$f":"IF('Ek.3-A'!O53=\"\", \"\", 'Ek.3-A'!O53)","v":""},{"$f":"'Ek.3-A'!R53","v":0},{"$f":"'Ek.3-A'!K53","v":""},{"$f":"'Ek.3-A'!L53","v":""},{"v":0,"d":"%0.00"},"H",{"$f":"IF(O53=\"E\",SUM($N$5:N53),0)","v":{"v":0,"d":"%0.00"}},0]
[1.54,"YERLİ KATKI ORANI RAPORU",null,480411110000,0.1,null,26,{"$f":"IF(TRIM('Ek.3-A'!E54)<>\"\",\"var\",\"yok\")","v":"yok"},{"$f":"IF('Ek.3-A'!E54=\"\", \"\", IF(VLOOKUP('Ek.3-A'!E54, Veriler!D:E, 2, 0)=0, \"\", VLOOKUP('Ek.3-A'!E54, Veriler!D:E, 2, 0)))","v":""},{"$f":"IF('Ek.3-A'!O54=\"\", \"\", 'Ek.3-A'!O54)","v":""},{"$f":"'Ek.3-A'!R54","v":0},{"$f":"'Ek.3-A'!K54","v":""},{"$f":"'Ek.3-A'!L54","v":""},{"v":0,"d":"%0.00"},"H",{"$f":"IF(O54=\"E\",SUM($N$5:N54),0)","v":{"v":0,"d":"%0.00"}},0]
[1.55,"YERLİ KATKI ORANI RAPORU",null,480411190000,0.1,null,27,{"$f":"IF(TRIM('Ek.3-A'!E55)<>\"\",\"var\",\"yok\")","v":"yok"},{"$f":"IF('Ek.3-A'!E55=\"\", \"\", IF(VLOOKUP('Ek.3-A'!E55, Veriler!D:E, 2, 0)=0, \"\", VLOOKUP('Ek.3-A'!E55, Veriler!D:E, 2, 0)))","v":""},{"$f":"IF('Ek.3-A'!O55=\"\", \"\", 'Ek.3-A'!O55)","v":""},{"$f":"'Ek.3-A'!R55","v":0},{"$f":"'Ek.3-A'!K55","v":""},{"$f":"'Ek.3-A'!L55","v":""},{"v":0,"d":"%0.00"},"H",{"$f":"IF(O55=\"E\",SUM($N$5:N55),0)","v":{"v":0,"d":"%0.00"}},0]
[1.56,"YERLİ KATKI ORANI RAPORU",null,854919100000,0.1,null,28,{"$f":"IF(TRIM('Ek.3-A'!E56)<>\"\",\"var\",\"yok\")","v":"yok"},{"$f":"IF('Ek.3-A'!E56=\"\", \"\", IF(VLOOKUP('Ek.3-A'!E56, Veriler!D:E, 2, 0)=0, \"\", VLOOKUP('Ek.3-A'!E56, Veriler!D:E, 2, 0)))","v":""},{"$f":"IF('Ek.3-A'!O56=\"\", \"\", 'Ek.3-A'!O56)","v":""},{"$f":"'Ek.3-A'!R56","v":0},{"$f":"'Ek.3-A'!K56","v":""},{"$f":"'Ek.3-A'!L56","v":""},{"v":0,"d":"%0.00"},"H",{"$f":"IF(O56=\"E\",SUM($N$5:N56),0)","v":{"v":0,"d":"%0.00"}},0]
[1.57,"YERLİ KATKI ORANI RAPORU",null,270112900000,0.1,{"$nulls":3},""]
[1.58,"YERLİ KATKI ORANI RAPORU",null,270112100000,0.1,null,{"$f":"G33+1","v":15},{"$f":"IF(TRIM('Ek.3-A'!E58)<>\"\",\"var\",\"yok\")","v":"yok"},{"$f":"IF('Ek.3-A'!E58=\"\", \"\", IF(VLOOKUP('Ek.3-A'!E58, Veriler!D:E, 2, 0)=0, \"\", VLOOKUP('Ek.3-A'!E58, Veriler!D:E, 2, 0)))","v":""},{"$f":"IF('Ek.3-A'!O58=\"\", \"\", 'Ek.3-A'!O58)","v":""},{"$f":"'Ek.3-A'!R58","v":0},{"$f":"'Ek.3-A'!K58","v":""},{"$f":"'Ek.3-A'!L58","v":""},{"$f":"IF(H58=\"var\",0,IF(M58<=0.005,M58,0))","v":{"v":0,"d":"%0.00"}},{"$f":"IF(M58<=0.005,\"E\",\"H\")","v":"H"},{"$f":"IF(O58=\"E\",SUM($N$5:N58),0)","v":{"v":0,"d":"%0.00"}},{"$f":"IF(P58<=0.1, K58, IF(N58>$F$2, N58*K58, $F$2*K58))","v":0}]
[1.59,"YERLİ KATKI ORANI RAPORU",null,848110990000,0.1,null,{"$f":"G58+1","v":16},{"$f":"IF(TRIM('Ek.3-A'!E59)<>\"\",\"var\",\"yok\")","v":"yok"},{"$f":"IF('Ek.3-A'!E59=\"\", \"\", IF(VLOOKUP('Ek.3-A'!E59, Veriler!D:E, 2, 0)=0, \"\", VLOOKUP('Ek.3-A'!E59, Veriler!D:E, 2, 0)))","v":""},{"$f":"IF('Ek.3-A'!O59=\"\", \"\", 'Ek.3-A'!O59)","v":""},{"$f":"'Ek.3-A'!R59","v":0},{"$f":"'Ek.3-A'!K59","v":""},{"$f":"'Ek.3-A'!L59","v":""},{"$f":"IF(H59=\"var\",0,IF(M59<=0.005,M59,0))","v":{"v":0,"d":"%0.00"}},{"$f":"IF(M59<=0.005,\"E\",\"H\")","v":"H"},{"$f":"IF(O59=\"E\",SUM($N$5:N59),0)","v":{"v":0,"d":"%0.00"}},{"$f":"IF(P59<=0.1, K59, IF(N59>$F$2, N59*K59, $F$2*K59))","v":0}]
[{"v":1.6,"d":"1.60"},"YERLİ KATKI ORANI RAPORU",null,848180730000,0.1,null,{"$f":"G59+1","v":17},{"$f":"IF(TRIM('Ek.3-A'!E60)<>\"\",\"var\",\"yok\")","v":"yok"},{"$f":"IF('Ek.3-A'!E60=\"\", \"\", IF(VLOOKUP('Ek.3-A'!E60, Veriler!D:E, 2, 0)=0, \"\", VLOOKUP('Ek.3-A'!E60, Veriler!D:E, 2, 0)))","v":""},{"$f":"IF('Ek.3-A'!O60=\"\", \"\", 'Ek.3-A'!O60)","v":""},{"$f":"'Ek.3-A'!R60","v":0},{"$f":"'Ek.3-A'!K60","v":""},{"$f":"'Ek.3-A'!L60","v":""},{"v":0,"d":"%0.00"},"H",{"$f":"IF(O60=\"E\",SUM($N$5:N60),0)","v":{"v":0,"d":"%0.00"}},0]
[1.61,"YERLİ KATKI ORANI RAPORU",null,848140900000,0.1,null,18,{"$f":"IF(TRIM('Ek.3-A'!E61)<>\"\",\"var\",\"yok\")","v":"yok"},{"$f":"IF('Ek.3-A'!E61=\"\", \"\", IF(VLOOKUP('Ek.3-A'!E61, Veriler!D:E, 2, 0)=0, \"\", VLOOKUP('Ek.3-A'!E61, Veriler!D:E, 2, 0)))","v":""},{"$f":"IF('Ek.3-A'!O61=\"\", \"\", 'Ek.3-A'!O61)","v":""},{"$f":"'Ek.3-A'!R61","v":0},{"$f":"'Ek.3-A'!K61","v":""},{"$f":"'Ek.3-A'!L61","v":""},{"v":0,"d":"%0.00"},"H",{"$f":"IF(O61=\"E\",SUM($N$5:N61),0)","v":{"v":0,"d":"%0.00"}},0]
[1.62,"YERLİ KATKI ORANI RAPORU",null,848180790000,0.1,null,19,{"$f":"IF(TRIM('Ek.3-A'!E62)<>\"\",\"var\",\"yok\")","v":"yok"},{"$f":"IF('Ek.3-A'!E62=\"\", \"\", IF(VLOOKUP('Ek.3-A'!E62, Veriler!D:E, 2, 0)=0, \"\", VLOOKUP('Ek.3-A'!E62, Veriler!D:E, 2, 0)))","v":""},{"$f":"IF('Ek.3-A'!O62=\"\", \"\", 'Ek.3-A'!O62)","v":""},{"$f":"'Ek.3-A'!R62","v":0},{"$f":"'Ek.3-A'!K62","v":""},{"$f":"'Ek.3-A'!L62","v":""},{"v":0,"d":"%0.00"},"H",{"$f":"IF(O62=\"E\",SUM($N$5:N62),0)","v":{"v":0,"d":"%0.00"}},0]
[1.63,"YERLİ KATKI ORANI RAPORU",null,848120900000,0.1,null,20,{"$f":"IF(TRIM('Ek.3-A'!E63)<>\"\",\"var\",\"yok\")","v":"yok"},{"$f":"IF('Ek.3-A'!E63=\"\", \"\", IF(VLOOKUP('Ek.3-A'!E63, Veriler!D:E, 2, 0)=0, \"\", VLOOKUP('Ek.3-A'!E63, Veriler!D:E, 2, 0)))","v":""},{"$f":"IF('Ek.3-A'!O63=\"\", \"\", 'Ek.3-A'!O63)","v":""},{"$f":"'Ek.3-A'!R63","v":0},{"$f":"'Ek.3-A'!K63","v":""},{"$f":"'Ek.3-A'!L63","v":""},{"v":0,"d":"%0.00"},"H",{"$f":"IF(O63=\"E\",SUM($N$5:N63),0)","v":{"v":0,"d":"%0.00"}},0]
[1.64,"YERLİ KATKI ORANI RAPORU",null,848180590000,0.1,null,21,{"$f":"IF(TRIM('Ek.3-A'!E64)<>\"\",\"var\",\"yok\")","v":"yok"},{"$f":"IF('Ek.3-A'!E64=\"\", \"\", IF(VLOOKUP('Ek.3-A'!E64, Veriler!D:E, 2, 0)=0, \"\", VLOOKUP('Ek.3-A'!E64, Veriler!D:E, 2, 0)))","v":""},{"$f":"IF('Ek.3-A'!O64=\"\", \"\", 'Ek.3-A'!O64)","v":""},{"$f":"'Ek.3-A'!R64","v":0},{"$f":"'Ek.3-A'!K64","v":""},{"$f":"'Ek.3-A'!L64","v":""},{"v":0,"d":"%0.00"},"H",{"$f":"IF(O64=\"E\",SUM($N$5:N64),0)","v":{"v":0,"d":"%0.00"}},0]
[1.65,"YERLİ KATKI ORANI RAPORU",null,400220000000,0.1,null,22,{"$f":"IF(TRIM('Ek.3-A'!E65)<>\"\",\"var\",\"yok\")","v":"yok"},{"$f":"IF('Ek.3-A'!E65=\"\", \"\", IF(VLOOKUP('Ek.3-A'!E65, Veriler!D:E, 2, 0)=0, \"\", VLOOKUP('Ek.3-A'!E65, Veriler!D:E, 2, 0)))","v":""},{"$f":"IF('Ek.3-A'!O65=\"\", \"\", 'Ek.3-A'!O65)","v":""},{"$f":"'Ek.3-A'!R65","v":0},{"$f":"'Ek.3-A'!K65","v":""},{"$f":"'Ek.3-A'!L65","v":""},{"v":0,"d":"%0.00"},"H",{"$f":"IF(O65=\"E\",SUM($N$5:N65),0)","v":{"v":0,"d":"%0.00"}},0]
[1.66,"YERLİ KATKI ORANI RAPORU",null,291612000013,0.1,null,23,{"$f":"IF(TRIM('Ek.3-A'!E66)<>\"\",\"var\",\"yok\")","v":"yok"},{"$f":"IF('Ek.3-A'!E66=\"\", \"\", IF(VLOOKUP('Ek.3-A'!E66, Veriler!D:E, 2, 0)=0, \"\", VLOOKUP('Ek.3-A'!E66, Veriler!D:E, 2, 0)))","v":""},{"$f":"IF('Ek.3-A'!O66=\"\", \"\", 'Ek.3-A'!O66)","v":""},{"$f":"'Ek.3-A'!R66","v":0},{"$f":"'Ek.3-A'!K66","v":""},{"$f":"'Ek.3-A'!L66","v":""},{"v":0,"d":"%0.00"},"H",{"$f":"IF(O66=\"E\",SUM($N$5:N66),0)","v":{"v":0,"d":"%0.00"}},0]
[1.67,"YERLİ KATKI ORANI RAPORU",null,701912000000,0.1,null,24,{"$f":"IF(TRIM('Ek.3-A'!E67)<>\"\",\"var\",\"yok\")","v":"yok"},{"$f":"IF('Ek.3-A'!E67=\"\", \"\", IF(VLOOKUP('Ek.3-A'!E67, Veriler!D:E, 2, 0)=0, \"\", VLOOKUP('Ek.3-A'!E67, Veriler!D:E, 2, 0)))","v":""},{"$f":"IF('Ek.3-A'!O67=\"\", \"\", 'Ek.3-A'!O67)","v":""},{"$f":"'Ek.3-A'!R67","v":0},{"$f":"'Ek.3-A'!K67","v":""},{"$f":"'Ek.3-A'!L67","v":""},{"v":0,"d":"%0.00"},"H",{"$f":"IF(O67=\"E\",SUM($N$5:N67),0)","v":{"v":0,"d":"%0.00"}},0]
[1.68,"YERLİ KATKI ORANI RAPORU",null,790200000000,0.1,null,25,{"$f":"IF(TRIM('Ek.3-A'!E68)<>\"\",\"var\",\"yok\")","v":"yok"},{"$f":"IF('Ek.3-A'!E68=\"\", \"\", IF(VLOOKUP('Ek.3-A'!E68, Veriler!D:E, 2, 0)=0, \"\", VLOOKUP('Ek.3-A'!E68, Veriler!D:E, 2, 0)))","v":""},{"$f":"IF('Ek.3-A'!O68=\"\", \"\", 'Ek.3-A'!O68)","v":""},{"$f":"'Ek.3-A'!R68","v":0},{"$f":"'Ek.3-A'!K68","v":""},{"$f":"'Ek.3-A'!L68","v":""},{"v":0,"d":"%0.00"},"H",{"$f":"IF(O68=\"E\",SUM($N$5:N68),0)","v":{"v":0,"d":"%0.00"}},0]
[1.69,"YERLİ KATKI ORANI RAPORU",null,850152901000,0.1,null,26,{"$f":"IF(TRIM('Ek.3-A'!E69)<>\"\",\"var\",\"yok\")","v":"yok"},{"$f":"IF('Ek.3-A'!E69=\"\", \"\", IF(VLOOKUP('Ek.3-A'!E69, Veriler!D:E, 2, 0)=0, \"\", VLOOKUP('Ek.3-A'!E69, Veriler!D:E, 2, 0)))","v":""},{"$f":"IF('Ek.3-A'!O69=\"\", \"\", 'Ek.3-A'!O69)","v":""},{"$f":"'Ek.3-A'!R69","v":0},{"$f":"'Ek.3-A'!K69","v":""},{"$f":"'Ek.3-A'!L69","v":""},{"v":0,"d":"%0.00"},"H",{"$f":"IF(O69=\"E\",SUM($N$5:N69),0)","v":{"v":0,"d":"%0.00"}},0]
[{"v":1.7,"d":"1.70"},"YERLİ KATKI ORANI RAPORU",null,850151001000,0.1,null,27,{"$f":"IF(TRIM('Ek.3-A'!E70)<>\"\",\"var\",\"yok\")","v":"yok"},{"$f":"IF('Ek.3-A'!E70=\"\", \"\", IF(VLOOKUP('Ek.3-A'!E70, Veriler!D:E, 2, 0)=0, \"\", VLOOKUP('Ek.3-A'!E70, Veriler!D:E, 2, 0)))","v":""},{"$f":"IF('Ek.3-A'!O70=\"\", \"\", 'Ek.3-A'!O70)","v":""},{"$f":"'Ek.3-A'!R70","v":0},{"$f":"'Ek.3-A'!K70","v":""},{"$f":"'Ek.3-A'!L70","v":""},{"v":0,"d":"%0.00"},"H",{"$f":"IF(O70=\"E\",SUM($N$5:N70),0)","v":{"v":0,"d":"%0.00"}},0]
[1.71,"YERLİ KATKI ORANI RAPORU",null,850153811000,0.1,null,28,{"$f":"IF(TRIM('Ek.3-A'!E71)<>\"\",\"var\",\"yok\")","v":"yok"},{"$f":"IF('Ek.3-A'!E71=\"\", \"\", IF(VLOOKUP('Ek.3-A'!E71, Veriler!D:E, 2, 0)=0, \"\", VLOOKUP('Ek.3-A'!E71, Veriler!D:E, 2, 0)))","v":""},{"$f":"IF('Ek.3-A'!O71=\"\", \"\", 'Ek.3-A'!O71)","v":""},{"$f":"'Ek.3-A'!R71","v":0},{"$f":"'Ek.3-A'!K71","v":""},{"$f":"'Ek.3-A'!L71","v":""},{"v":0,"d":"%0.00"},"H",{"$f":"IF(O71=\"E\",SUM($N$5:N71),0)","v":{"v":0,"d":"%0.00"}},0]
[1.72,"YERLİ KATKI ORANI RAPORU",null,481092900000,0.1]
[1.73,"YERLİ KATKI ORANI RAPORU",null,481092100000,0.1]
[1.74,"YERLİ KATKI ORANI RAPORU",null,481092300000,0.1]
[1.75,"YERLİ KATKI ORANI RAPORU",null,854239110000,0.1]
[1.76,"YERLİ KATKI ORANI RAPORU",null,320411000000,0.1]
[1.77,"YERLİ KATKI ORANI RAPORU",null,271019470018,0.1]
[1.78,"YERLİ KATKI ORANI RAPORU",null,271019480011,0.1]
[1.79,"YERLİ KATKI ORANI RAPORU",null,480255909912,0.1]
[{"v":1.8,"d":"1.80"},"YERLİ KATKI ORANI RAPORU",null,730419300012,0.1]
[1.81,"YERLİ KATKI ORANI RAPORU",null,730429901000,0.1,null,{"$f":"G56+1","v":29},{"$f":"IF(TRIM('Ek.3-A'!E81)<>\"\",\"var\",\"yok\")","v":"yok"},{"$f":"IF('Ek.3-A'!E81=\"\", \"\", IF(VLOOKUP('Ek.3-A'!E81, Veriler!D:E, 2, 0)=0, \"\", VLOOKUP('Ek.3-A'!E81, Veriler!D:E, 2, 0)))","v":""},{"$f":"IF('Ek.3-A'!O81=\"\", \"\", 'Ek.3-A'!O81)","v":""},{"$f":"'Ek.3-A'!R81","v":0},{"$f":"'Ek.3-A'!K81","v":""},{"$f":"'Ek.3-A'!L81","v":""},{"$f":"IF(H81=\"var\",0,IF(M81<=0.005,M81,0))","v":{"v":0,"d":"%0.00"}},{"$f":"IF(M81<=0.005,\"E\",\"H\")","v":"H"},{"$f":"IF(O81=\"E\",SUM($N$5:N81),0)","v":{"v":0,"d":"%0.00"}},{"$f":"IF(P81<=0.1, K81, IF(N81>$F$2, N81*K81, $F$2*K81))","v":0}]
[1.82,"YERLİ KATKI ORANI RAPORU",null,730429301011,0.1,null,{"$f":"G81+1","v":30},{"$f":"IF(TRIM('Ek.3-A'!E82)<>\"\",\"var\",\"yok\")","v":"yok"},{"$f":"IF('Ek.3-A'!E82=\"\", \"\", IF(VLOOKUP('Ek.3-A'!E82, Veriler!D:E, 2, 0)=0, \"\", VLOOKUP('Ek.3-A'!E82, Veriler!D:E, 2, 0)))","v":""},{"$f":"IF('Ek.3-A'!O82=\"\", \"\", 'Ek.3-A'!O82)","v":""},{"$f":"'Ek.3-A'!R82","v":0},{"$f":"'Ek.3-A'!K82","v":""},{"$f":"'Ek.3-A'!L82","v":""},{"$f":"IF(H82=\"var\",0,IF(M82<=0.005,M82,0))","v":{"v":0,"d":"%0.00"}},{"$f":"IF(M82<=0.005,\"E\",\"H\")","v":"H"},{"$f":"IF(O82=\"E\",SUM($N$5:N82),0)","v":{"v":0,"d":"%0.00"}},{"$f":"IF(P82<=0.1, K82, IF(N82>$F$2, N82*K82, $F$2*K82))","v":0}]
[1.83,"YERLİ KATKI ORANI RAPORU",null,730429301012,0.1,null,{"$f":"G82+1","v":31},{"$f":"IF(TRIM('Ek.3-A'!E83)<>\"\",\"var\",\"yok\")","v":"yok"},{"$f":"IF('Ek.3-A'!E83=\"\", \"\", IF(VLOOKUP('Ek.3-A'!E83, Veriler!D:E, 2, 0)=0, \"\", VLOOKUP('Ek.3-A'!E83, Veriler!D:E, 2, 0)))","v":""},{"$f":"IF('Ek.3-A'!O83=\"\", \"\", 'Ek.3-A'!O83)","v":""},{"$f":"'Ek.3-A'!R83","v":0},{"$f":"'Ek.3-A'!K83","v":""},{"$f":"'Ek.3-A'!L83","v":""},{"v":0,"d":"%0.00"},"H",{"$f":"IF(O83=\"E\",SUM($N$5:N83),0)","v":{"v":0,"d":"%0.00"}},0]
[1.84,"YERLİ KATKI ORANI RAPORU",null,730429101000,0.1,null,{"$f":"G83+1","v":32},{"$f":"IF(TRIM('Ek.3-A'!E84)<>\"\",\"var\",\"yok\")","v":"yok"},{"$f":"IF('Ek.3-A'!E84=\"\", \"\", IF(VLOOKUP('Ek.3-A'!E84, Veriler!D:E, 2, 0)=0, \"\", VLOOKUP('Ek.3-A'!E84, Veriler!D:E, 2, 0)))","v":""},{"$f":"IF('Ek.3-A'!O84=\"\", \"\", 'Ek.3-A'!O84)","v":""},{"$f":"'Ek.3-A'!R84","v":0},{"$f":"'Ek.3-A'!K84","v":""},{"$f":"'Ek.3-A'!L84","v":""},{"v":0,"d":"%0.00"},"H",{"$f":"IF(O84=\"E\",SUM($N$5:N84),0)","v":{"v":0,"d":"%0.00"}},0]
[1.85,"YERLİ KATKI ORANI RAPORU",null,720310000000,0.1,null,33,{"$f":"IF(TRIM('Ek.3-A'!E85)<>\"\",\"var\",\"yok\")","v":"yok"},{"$f":"IF('Ek.3-A'!E85=\"\", \"\", IF(VLOOKUP('Ek.3-A'!E85, Veriler!D:E, 2, 0)=0, \"\", VLOOKUP('Ek.3-A'!E85, Veriler!D:E, 2, 0)))","v":""},{"$f":"IF('Ek.3-A'!O85=\"\", \"\", 'Ek.3-A'!O85)","v":""},{"$f":"'Ek.3-A'!R85","v":0},{"$f":"'Ek.3-A'!K85","v":""},{"$f":"'Ek.3-A'!L85","v":""},{"v":0,"d":"%0.00"},"H",{"$f":"IF(O85=\"E\",SUM($N$5:N85),0)","v":{"v":0,"d":"%0.00"}},0]
[1.86,"YERLİ KATKI ORANI RAPORU",null,260111000000,0.1,null,34,{"$f":"IF(TRIM('Ek.3-A'!E86)<>\"\",\"var\",\"yok\")","v":"yok"},{"$f":"IF('Ek.3-A'!E86=\"\", \"\", IF(VLOOKUP('Ek.3-A'!E86, Veriler!D:E, 2, 0)=0, \"\", VLOOKUP('Ek.3-A'!E86, Veriler!D:E, 2, 0)))","v":""},{"$f":"IF('Ek.3-A'!O86=\"\", \"\", 'Ek.3-A'!O86)","v":""},{"$f":"'Ek.3-A'!R86","v":0},{"$f":"'Ek.3-A'!K86","v":""},{"$f":"'Ek.3-A'!L86","v":""},{"v":0,"d":"%0.00"},"H",{"$f":"IF(O86=\"E\",SUM($N$5:N86),0)","v":{"v":0,"d":"%0.00"}},0]
[1.87,"YERLİ KATKI ORANI RAPORU",null,720449900011,0.1,null,35,{"$f":"IF(TRIM('Ek.3-A'!E87)<>\"\",\"var\",\"yok\")","v":"yok"},{"$f":"IF('Ek.3-A'!E87=\"\", \"\", IF(VLOOKUP('Ek.3-A'!E87, Veriler!D:E, 2, 0)=0, \"\", VLOOKUP('Ek.3-A'!E87, Veriler!D:E, 2, 0)))","v":""},{"$f":"IF('Ek.3-A'!O87=\"\", \"\", 'Ek.3-A'!O87)","v":""},{"$f":"'Ek.3-A'!R87","v":0},{"$f":"'Ek.3-A'!K87","v":""},{"$f":"'Ek.3-A'!L87","v":""},{"v":0,"d":"%0.00"},"H",{"$f":"IF(O87=\"E\",SUM($N$5:N87),0)","v":{"v":0,"d":"%0.00"}},0]
[1.88,"YERLİ KATKI ORANI RAPORU",null,720449900019,0.1,null,36,{"$f":"IF(TRIM('Ek.3-A'!E88)<>\"\",\"var\",\"yok\")","v":"yok"},{"$f":"IF('Ek.3-A'!E88=\"\", \"\", IF(VLOOKUP('Ek.3-A'!E88, Veriler!D:E, 2, 0)=0, \"\", VLOOKUP('Ek.3-A'!E88, Veriler!D:E, 2, 0)))","v":""},{"$f":"IF('Ek.3-A'!O88=\"\", \"\", 'Ek.3-A'!O88)","v":""},{"$f":"'Ek.3-A'!R88","v":0},{"$f":"'Ek.3-A'!K88","v":""},{"$f":"'Ek.3-A'!L88","v":""},{"v":0,"d":"%0.00"},"H",{"$f":"IF(O88=\"E\",SUM($N$5:N88),0)","v":{"v":0,"d":"%0.00"}},0]
[1.89,"YERLİ KATKI ORANI RAPORU",null,720449300000,0.1,null,37,{"$f":"IF(TRIM('Ek.3-A'!E89)<>\"\",\"var\",\"yok\")","v":"yok"},{"$f":"IF('Ek.3-A'!E89=\"\", \"\", IF(VLOOKUP('Ek.3-A'!E89, Veriler!D:E, 2, 0)=0, \"\", VLOOKUP('Ek.3-A'!E89, Veriler!D:E, 2, 0)))","v":""},{"$f":"IF('Ek.3-A'!O89=\"\", \"\", 'Ek.3-A'!O89)","v":""},{"$f":"'Ek.3-A'!R89","v":0},{"$f":"'Ek.3-A'!K89","v":""},{"$f":"'Ek.3-A'!L89","v":""},{"v":0,"d":"%0.00"},"H",{"$f":"IF(O89=\"E\",SUM($N$5:N89),0)","v":{"v":0,"d":"%0.00"}},0]
[{"v":1.9,"d":"1.90"},"YERLİ KATKI ORANI RAPORU",null,720449100000,0.1,null,38,{"$f":"IF(TRIM('Ek.3-A'!E90)<>\"\",\"var\",\"yok\")","v":"yok"},{"$f":"IF('Ek.3-A'!E90=\"\", \"\", IF(VLOOKUP('Ek.3-A'!E90, Veriler!D:E, 2, 0)=0, \"\", VLOOKUP('Ek.3-A'!E90, Veriler!D:E, 2, 0)))","v":""},{"$f":"IF('Ek.3-A'!O90=\"\", \"\", 'Ek.3-A'!O90)","v":""},{"$f":"'Ek.3-A'!R90","v":0},{"$f":"'Ek.3-A'!K90","v":""},{"$f":"'Ek.3-A'!L90","v":""},{"v":0,"d":"%0.00"},"H",{"$f":"IF(O90=\"E\",SUM($N$5:N90),0)","v":{"v":0,"d":"%0.00"}},0]
[1.91,"YERLİ KATKI ORANI RAPORU",null,720441990000,0.1,null,39,{"$f":"IF(TRIM('Ek.3-A'!E91)<>\"\",\"var\",\"yok\")","v":"yok"},{"$f":"IF('Ek.3-A'!E91=\"\", \"\", IF(VLOOKUP('Ek.3-A'!E91, Veriler!D:E, 2, 0)=0, \"\", VLOOKUP('Ek.3-A'!E91, Veriler!D:E, 2, 0)))","v":""},{"$f":"IF('Ek.3-A'!O91=\"\", \"\", 'Ek.3-A'!O91)","v":""},{"$f":"'Ek.3-A'!R91","v":0},{"$f":"'Ek.3-A'!K91","v":""},{"$f":"'Ek.3-A'!L91","v":""},{"v":0,"d":"%0.00"},"H",{"$f":"IF(O91=\"E\",SUM($N$5:N91),0)","v":{"v":0,"d":"%0.00"}},0]
[1.92,"YERLİ KATKI ORANI RAPORU",null,720450009000,0.1,null,40,{"$f":"IF(TRIM('Ek.3-A'!E92)<>\"\",\"var\",\"yok\")","v":"yok"},{"$f":"IF('Ek.3-A'!E92=\"\", \"\", IF(VLOOKUP('Ek.3-A'!E92, Veriler!D:E, 2, 0)=0, \"\", VLOOKUP('Ek.3-A'!E92, Veriler!D:E, 2, 0)))","v":""},{"$f":"IF('Ek.3-A'!O92=\"\", \"\", 'Ek.3-A'!O92)","v":""},{"$f":"'Ek.3-A'!R92","v":0},{"$f":"'Ek.3-A'!K92","v":""},{"$f":"'Ek.3-A'!L92","v":""},{"v":0,"d":"%0.00"},"H",{"$f":"IF(O92=\"E\",SUM($N$5:N92),0)","v":{"v":0,"d":"%0.00"}},0]
[1.93,"YERLİ KATKI ORANI RAPORU",null,720851209019,0.1,null,41,{"$f":"IF(TRIM('Ek.3-A'!E93)<>\"\",\"var\",\"yok\")","v":"yok"},{"$f":"IF('Ek.3-A'!E93=\"\", \"\", IF(VLOOKUP('Ek.3-A'!E93, Veriler!D:E, 2, 0)=0, \"\", VLOOKUP('Ek.3-A'!E93, Veriler!D:E, 2, 0)))","v":""},{"$f":"IF('Ek.3-A'!O93=\"\", \"\", 'Ek.3-A'!O93)","v":""},{"$f":"'Ek.3-A'!R93","v":0},{"$f":"'Ek.3-A'!K93","v":""},{"$f":"'Ek.3-A'!L93","v":""},{"v":0,"d":"%0.00"},"H",{"$f":"IF(O93=\"E\",SUM($N$5:N93),0)","v":{"v":0,"d":"%0.00"}},0]
[1.94,"YERLİ KATKI ORANI RAPORU",null,721633909000,0.1,null,42,{"$f":"IF(TRIM('Ek.3-A'!E94)<>\"\",\"var\",\"yok\")","v":"yok"},{"$f":"IF('Ek.3-A'!E94=\"\", \"\", IF(VLOOKUP('Ek.3-A'!E94, Veriler!D:E, 2, 0)=0, \"\", VLOOKUP('Ek.3-A'!E94, Veriler!D:E, 2, 0)))","v":""},{"$f":"IF('Ek.3-A'!O94=\"\", \"\", 'Ek.3-A'!O94)","v":""},{"$f":"'Ek.3-A'!R94","v":0},{"$f":"'Ek.3-A'!K94","v":""},{"$f":"'Ek.3-A'!L94","v":""},{"v":0,"d":"%0.00"},"H",{"$f":"IF(O94=\"E\",SUM($N$5:N94),0)","v":{"v":0,"d":"%0.00"}},0]
[1.95,"YERLİ KATKI ORANI RAPORU",null,720720809019,0.1,{"$nulls":3},""]
[1.96,"YERLİ KATKI ORANI RAPORU",null,720836009000,0.1,null,{"$f":"G71+1","v":29},{"$f":"IF(TRIM('Ek.3-A'!E96)<>\"\",\"var\",\"yok\")","v":"yok"},{"$f":"IF('Ek.3-A'!E96=\"\", \"\", IF(VLOOKUP('Ek.3-A'!E96, Veriler!D:E, 2, 0)=0, \"\", VLOOKUP('Ek.3-A'!E96, Veriler!D:E, 2, 0)))","v":""},{"$f":"IF('Ek.3-A'!O96=\"\", \"\", 'Ek.3-A'!O96)","v":""},{"$f":"'Ek.3-A'!R96","v":0},{"$f":"'Ek.3-A'!K96","v":""},{"$f":"'Ek.3-A'!L96","v":""},{"$f":"IF(H96=\"var\",0,IF(M96<=0.005,M96,0))","v":{"v":0,"d":"%0.00"}},{"$f":"IF(M96<=0.005,\"E\",\"H\")","v":"H"},{"$f":"IF(O96=\"E\",SUM($N$5:N96),0)","v":{"v":0,"d":"%0.00"}},{"$f":"IF(P96<=0.1, K96, IF(N96>$F$2, N96*K96, $F$2*K96))","v":0}]
[1.97,"YERLİ KATKI ORANI RAPORU",null,720851919000,0.1,null,{"$f":"G96+1","v":30},{"$f":"IF(TRIM('Ek.3-A'!E97)<>\"\",\"var\",\"yok\")","v":"yok"},{"$f":"IF('Ek.3-A'!E97=\"\", \"\", IF(VLOOKUP('Ek.3-A'!E97, Veriler!D:E, 2, 0)=0, \"\", VLOOKUP('Ek.3-A'!E97, Veriler!D:E, 2, 0)))","v":""},{"$f":"IF('Ek.3-A'!O97=\"\", \"\", 'Ek.3-A'!O97)","v":""},{"$f":"'Ek.3-A'!R97","v":0},{"$f":"'Ek.3-A'!K97","v":""},{"$f":"'Ek.3-A'!L97","v":""},{"$f":"IF(H97=\"var\",0,IF(M97<=0.005,M97,0))","v":{"v":0,"d":"%0.00"}},{"$f":"IF(M97<=0.005,\"E\",\"H\")","v":"H"},{"$f":"IF(O97=\"E\",SUM($N$5:N97),0)","v":{"v":0,"d":"%0.00"}},{"$f":"IF(P97<=0.1, K97, IF(N97>$F$2, N97*K97, $F$2*K97))","v":0}]
[1.98,"YERLİ KATKI ORANI RAPORU",null,720852919000,0.1,null,{"$f":"G97+1","v":31},{"$f":"IF(TRIM('Ek.3-A'!E98)<>\"\",\"var\",\"yok\")","v":"yok"},{"$f":"IF('Ek.3-A'!E98=\"\", \"\", IF(VLOOKUP('Ek.3-A'!E98, Veriler!D:E, 2, 0)=0, \"\", VLOOKUP('Ek.3-A'!E98, Veriler!D:E, 2, 0)))","v":""},{"$f":"IF('Ek.3-A'!O98=\"\", \"\", 'Ek.3-A'!O98)","v":""},{"$f":"'Ek.3-A'!R98","v":0},{"$f":"'Ek.3-A'!K98","v":""},{"$f":"'Ek.3-A'!L98","v":""},{"v":0,"d":"%0.00"},"H",{"$f":"IF(O98=\"E\",SUM($N$5:N98),0)","v":{"v":0,"d":"%0.00"}},0]
[1.99,"YERLİ KATKI ORANI RAPORU",null,721070809011,0.1,null,32,{"$f":"IF(TRIM('Ek.3-A'!E99)<>\"\",\"var\",\"yok\")","v":"yok"},{"$f":"IF('Ek.3-A'!E99=\"\", \"\", IF(VLOOKUP('Ek.3-A'!E99, Veriler!D:E, 2, 0)=0, \"\", VLOOKUP('Ek.3-A'!E99, Veriler!D:E, 2, 0)))","v":""},{"$f":"IF('Ek.3-A'!O99=\"\", \"\", 'Ek.3-A'!O99)","v":""},{"$f":"'Ek.3-A'!R99","v":0},{"$f":"'Ek.3-A'!K99","v":""},{"$f":"'Ek.3-A'!L99","v":""},{"v":0,"d":"%0.00"},"H",{"$f":"IF(O99=\"E\",SUM($N$5:N99),0)","v":{"v":0,"d":"%0.00"}},0]
[{"v":2,"d":"2.00"},"YERLİ KATKI ORANI RAPORU",null,720837009019,0.1,null,33,{"$f":"IF(TRIM('Ek.3-A'!E100)<>\"\",\"var\",\"yok\")","v":"yok"},{"$f":"IF('Ek.3-A'!E100=\"\", \"\", IF(VLOOKUP('Ek.3-A'!E100, Veriler!D:E, 2, 0)=0, \"\", VLOOKUP('Ek.3-A'!E100, Veriler!D:E, 2, 0)))","v":""},{"$f":"IF('Ek.3-A'!O100=\"\", \"\", 'Ek.3-A'!O100)","v":""},{"$f":"'Ek.3-A'!R100","v":0},{"$f":"'Ek.3-A'!K100","v":""},{"$f":"'Ek.3-A'!L100","v":""},{"v":0,"d":"%0.00"},"H",{"$f":"IF(O100=\"E\",SUM($N$5:N100),0)","v":{"v":0,"d":"%0.00"}},0]
[2.01,"YERLİ KATKI ORANI RAPORU",null,720839009019,0.1,null,34,{"$f":"IF(TRIM('Ek.3-A'!E101)<>\"\",\"var\",\"yok\")","v":"yok"},{"$f":"IF('Ek.3-A'!E101=\"\", \"\", IF(VLOOKUP('Ek.3-A'!E101, Veriler!D:E, 2, 0)=0, \"\", VLOOKUP('Ek.3-A'!E101, Veriler!D:E, 2, 0)))","v":""},{"$f":"IF('Ek.3-A'!O101=\"\", \"\", 'Ek.3-A'!O101)","v":""},{"$f":"'Ek.3-A'!R101","v":0},{"$f":"'Ek.3-A'!K101","v":""},{"$f":"'Ek.3-A'!L101","v":""},{"v":0,"d":"%0.00"},"H",{"$f":"IF(O101=\"E\",SUM($N$5:N101),0)","v":{"v":0,"d":"%0.00"}},0]
[2.02,"YERLİ KATKI ORANI RAPORU",null,720838009019,0.1,null,35,{"$f":"IF(TRIM('Ek.3-A'!E102)<>\"\",\"var\",\"yok\")","v":"yok"},{"$f":"IF('Ek.3-A'!E102=\"\", \"\", IF(VLOOKUP('Ek.3-A'!E102, Veriler!D:E, 2, 0)=0, \"\", VLOOKUP('Ek.3-A'!E102, Veriler!D:E, 2, 0)))","v":""},{"$f":"IF('Ek.3-A'!O102=\"\", \"\", 'Ek.3-A'!O102)","v":""},{"$f":"'Ek.3-A'!R102","v":0},{"$f":"'Ek.3-A'!K102","v":""},{"$f":"'Ek.3-A'!L102","v":""},{"v":0,"d":"%0.00"},"H",{"$f":"IF(O102=\"E\",SUM($N$5:N102),0)","v":{"v":0,"d":"%0.00"}},0]
[2.03,"YERLİ KATKI ORANI RAPORU",null,721012200011,0.1,null,36,{"$f":"IF(TRIM('Ek.3-A'!E103)<>\"\",\"var\",\"yok\")","v":"yok"},{"$f":"IF('Ek.3-A'!E103=\"\", \"\", IF(VLOOKUP('Ek.3-A'!E103, Veriler!D:E, 2, 0)=0, \"\", VLOOKUP('Ek.3-A'!E103, Veriler!D:E, 2, 0)))","v":""},{"$f":"IF('Ek.3-A'!O103=\"\", \"\", 'Ek.3-A'!O103)","v":""},{"$f":"'Ek.3-A'!R103","v":0},{"$f":"'Ek.3-A'!K103","v":""},{"$f":"'Ek.3-A'!L103","v":""},{"v":0,"d":"%0.00"},"H",{"$f":"IF(O103=\"E\",SUM($N$5:N103),0)","v":{"v":0,"d":"%0.00"}},0]
[2.04,"YERLİ KATKI ORANI RAPORU",null,721391200000,0.1,null,37,{"$f":"IF(TRIM('Ek.3-A'!E104)<>\"\",\"var\",\"yok\")","v":"yok"},{"$f":"IF('Ek.3-A'!E104=\"\", \"\", IF(VLOOKUP('Ek.3-A'!E104, Veriler!D:E, 2, 0)=0, \"\", VLOOKUP('Ek.3-A'!E104, Veriler!D:E, 2, 0)))","v":""},{"$f":"IF('Ek.3-A'!O104=\"\", \"\", 'Ek.3-A'!O104)","v":""},{"$f":"'Ek.3-A'!R104","v":0},{"$f":"'Ek.3-A'!K104","v":""},{"$f":"'Ek.3-A'!L104","v":""},{"v":0,"d":"%0.00"},"H",{"$f":"IF(O104=\"E\",SUM($N$5:N104),0)","v":{"v":0,"d":"%0.00"}},0]
[2.05,"YERLİ KATKI ORANI RAPORU",null,721391490013,0.1,null,38,{"$f":"IF(TRIM('Ek.3-A'!E105)<>\"\",\"var\",\"yok\")","v":"yok"},{"$f":"IF('Ek.3-A'!E105=\"\", \"\", IF(VLOOKUP('Ek.3-A'!E105, Veriler!D:E, 2, 0)=0, \"\", VLOOKUP('Ek.3-A'!E105, Veriler!D:E, 2, 0)))","v":""},{"$f":"IF('Ek.3-A'!O105=\"\", \"\", 'Ek.3-A'!O105)","v":""},{"$f":"'Ek.3-A'!R105","v":0},{"$f":"'Ek.3-A'!K105","v":""},{"$f":"'Ek.3-A'!L105","v":""},{"v":0,"d":"%0.00"},"H",{"$f":"IF(O105=\"E\",SUM($N$5:N105),0)","v":{"v":0,"d":"%0.00"}},0]
[2.06,"YERLİ KATKI ORANI RAPORU",null,721391410013,0.1,null,39,{"$f":"IF(TRIM('Ek.3-A'!E106)<>\"\",\"var\",\"yok\")","v":"yok"},{"$f":"IF('Ek.3-A'!E106=\"\", \"\", IF(VLOOKUP('Ek.3-A'!E106, Veriler!D:E, 2, 0)=0, \"\", VLOOKUP('Ek.3-A'!E106, Veriler!D:E, 2, 0)))","v":""},{"$f":"IF('Ek.3-A'!O106=\"\", \"\", 'Ek.3-A'!O106)","v":""},{"$f":"'Ek.3-A'!R106","v":0},{"$f":"'Ek.3-A'!K106","v":""},{"$f":"'Ek.3-A'!L106","v":""},{"v":0,"d":"%0.00"},"H",{"$f":"IF(O106=\"E\",SUM($N$5:N106),0)","v":{"v":0,"d":"%0.00"}},0]
[2.07,"YERLİ KATKI ORANI RAPORU",null,720852999000,0.1,null,40,{"$f":"IF(TRIM('Ek.3-A'!E107)<>\"\",\"var\",\"yok\")","v":"yok"},{"$f":"IF('Ek.3-A'!E107=\"\", \"\", IF(VLOOKUP('Ek.3-A'!E107, Veriler!D:E, 2, 0)=0, \"\", VLOOKUP('Ek.3-A'!E107, Veriler!D:E, 2, 0)))","v":""},{"$f":"IF('Ek.3-A'!O107=\"\", \"\", 'Ek.3-A'!O107)","v":""},{"$f":"'Ek.3-A'!R107","v":0},{"$f":"'Ek.3-A'!K107","v":""},{"$f":"'Ek.3-A'!L107","v":""},{"v":0,"d":"%0.00"},"H",{"$f":"IF(O107=\"E\",SUM($N$5:N107),0)","v":{"v":0,"d":"%0.00"}},0]
[2.08,"YERLİ KATKI ORANI RAPORU",null,720826009000,0.1,null,41,{"$f":"IF(TRIM('Ek.3-A'!E108)<>\"\",\"var\",\"yok\")","v":"yok"},{"$f":"IF('Ek.3-A'!E108=\"\", \"\", IF(VLOOKUP('Ek.3-A'!E108, Veriler!D:E, 2, 0)=0, \"\", VLOOKUP('Ek.3-A'!E108, Veriler!D:E, 2, 0)))","v":""},{"$f":"IF('Ek.3-A'!O108=\"\", \"\", 'Ek.3-A'!O108)","v":""},{"$f":"'Ek.3-A'!R108","v":0},{"$f":"'Ek.3-A'!K108","v":""},{"$f":"'Ek.3-A'!L108","v":""},{"v":0,"d":"%0.00"},"H",{"$f":"IF(O108=\"E\",SUM($N$5:N108),0)","v":{"v":0,"d":"%0.00"}},0]
[2.09,"YERLİ KATKI ORANI RAPORU",null,720827009000,0.1,null,42,{"$f":"IF(TRIM('Ek.3-A'!E109)<>\"\",\"var\",\"yok\")","v":"yok"},{"$f":"IF('Ek.3-A'!E109=\"\", \"\", IF(VLOOKUP('Ek.3-A'!E109, Veriler!D:E, 2, 0)=0, \"\", VLOOKUP('Ek.3-A'!E109, Veriler!D:E, 2, 0)))","v":""},{"$f":"IF('Ek.3-A'!O109=\"\", \"\", 'Ek.3-A'!O109)","v":""},{"$f":"'Ek.3-A'!R109","v":0},{"$f":"'Ek.3-A'!K109","v":""},{"$f":"'Ek.3-A'!L109","v":""},{"v":0,"d":"%0.00"},"H",{"$f":"IF(O109=\"E\",SUM($N$5:N109),0)","v":{"v":0,"d":"%0.00"}},0]
[{"v":2.1,"d":"2.10"},"YERLİ KATKI ORANI RAPORU",null,731210410000,0.1]
[2.11,"YERLİ KATKI ORANI RAPORU",null,730439839000,0.1]
[2.12,"YERLİ KATKI ORANI RAPORU",null,730439829000,0.1]
[2.13,"YERLİ KATKI ORANI RAPORU",null,730431209000,0.1]
[2.14,"YERLİ KATKI ORANI RAPORU",null,840810810000,0.1]
[2.15,"YERLİ KATKI ORANI RAPORU",null,840721100000,0.1]
[2.16,"YERLİ KATKI ORANI RAPORU",null,840721910000,0.1]
[2.17,"YERLİ KATKI ORANI RAPORU",null,840721990000,0.1]
[2.18,"YERLİ KATKI ORANI RAPORU",null,840810890000,0.1]
[2.19,"YERLİ KATKI ORANI RAPORU",null,310530000000,0.1,null,{"$f":"G94+1","v":43},{"$f":"IF(TRIM('Ek.3-A'!E119)<>\"\",\"var\",\"yok\")","v":"yok"},{"$f":"IF('Ek.3-A'!E119=\"\", \"\", IF(VLOOKUP('Ek.3-A'!E119, Veriler!D:E, 2, 0)=0, \"\", VLOOKUP('Ek.3-A'!E119, Veriler!D:E, 2, 0)))","v":""},{"$f":"IF('Ek.3-A'!O119=\"\", \"\", 'Ek.3-A'!O119)","v":""},{"$f":"'Ek.3-A'!R119","v":0},{"$f":"'Ek.3-A'!K119","v":""},{"$f":"'Ek.3-A'!L119","v":""},{"$f":"IF(H119=\"var\",0,IF(M119<=0.005,M119,0))","v":{"v":0,"d":"%0.00"}},{"$f":"IF(M119<=0.005,\"E\",\"H\")","v":"H"},{"$f":"IF(O119=\"E\",SUM($N$5:N119),0)","v":{"v":0,"d":"%0.00"}},{"$f":"IF(P119<=0.1, K119, IF(N119>$F$2, N119*K119, $F$2*K119))","v":0}]
[{"v":2.2,"d":"2.20"},"YERLİ KATKI ORANI RAPORU",null,271019480018,0.1,null,{"$f":"G119+1","v":44},{"$f":"IF(TRIM('Ek.3-A'!E120)<>\"\",\"var\",\"yok\")","v":"yok"},{"$f":"IF('Ek.3-A'!E120=\"\", \"\", IF(VLOOKUP('Ek.3-A'!E120, Veriler!D:E, 2, 0)=0, \"\", VLOOKUP('Ek.3-A'!E120, Veriler!D:E, 2, 0)))","v":""},{"$f":"IF('Ek.3-A'!O120=\"\", \"\", 'Ek.3-A'!O120)","v":""},{"$f":"'Ek.3-A'!R120","v":0},{"$f":"'Ek.3-A'!K120","v":""},{"$f":"'Ek.3-A'!L120","v":""},{"$f":"IF(H120=\"var\",0,IF(M120<=0.005,M120,0))","v":{"v":0,"d":"%0.00"}},{"$f":"IF(M120<=0.005,\"E\",\"H\")","v":"H"},{"$f":"IF(O120=\"E\",SUM($N$5:N120),0)","v":{"v":0,"d":"%0.00"}},{"$f":"IF(P120<=0.1, K120, IF(N120>$F$2, N120*K120, $F$2*K120))","v":0}]
[2.21,"YERLİ KATKI ORANI RAPORU",null,390690900000,0.1,null,{"$f":"G120+1","v":45},{"$f":"IF(TRIM('Ek.3-A'!E121)<>\"\",\"var\",\"yok\")","v":"yok"},{"$f":"IF('Ek.3-A'!E121=\"\", \"\", IF(VLOOKUP('Ek.3-A'!E121, Veriler!D:E, 2, 0)=0, \"\", VLOOKUP('Ek.3-A'!E121, Veriler!D:E, 2, 0)))","v":""},{"$f":"IF('Ek.3-A'!O121=\"\", \"\", 'Ek.3-A'!O121)","v":""},{"$f":"'Ek.3-A'!R121","v":0},{"$f":"'Ek.3-A'!K121","v":""},{"$f":"'Ek.3-A'!L121","v":""},{"v":0,"d":"%0.00"},"H",{"$f":"IF(O121=\"E\",SUM($N$5:N121),0)","v":{"v":0,"d":"%0.00"}},0]
[2.22,"YERLİ KATKI ORANI RAPORU",null,722592000010,0.1,null,{"$f":"G121+1","v":46},{"$f":"IF(TRIM('Ek.3-A'!E122)<>\"\",\"var\",\"yok\")","v":"yok"},{"$f":"IF('Ek.3-A'!E122=\"\", \"\", IF(VLOOKUP('Ek.3-A'!E122, Veriler!D:E, 2, 0)=0, \"\", VLOOKUP('Ek.3-A'!E122, Veriler!D:E, 2, 0)))","v":""},{"$f":"IF('Ek.3-A'!O122=\"\", \"\", 'Ek.3-A'!O122)","v":""},{"$f":"'Ek.3-A'!R122","v":0},{"$f":"'Ek.3-A'!K122","v":""},{"$f":"'Ek.3-A'!L122","v":""},{"v":0,"d":"%0.00"},"H",{"$f":"IF(O122=\"E\",SUM($N$5:N122),0)","v":{"v":0,"d":"%0.00"}},0]
[2.23,"YERLİ KATKI ORANI RAPORU",null,722540600000,0.1,null,47,{"$f":"IF(TRIM('Ek.3-A'!E123)<>\"\",\"var\",\"yok\")","v":"yok"},{"$f":"IF('Ek.3-A'!E123=\"\", \"\", IF(VLOOKUP('Ek.3-A'!E123, Veriler!D:E, 2, 0)=0, \"\", VLOOKUP('Ek.3-A'!E123, Veriler!D:E, 2, 0)))","v":""},{"$f":"IF('Ek.3-A'!O123=\"\", \"\", 'Ek.3-A'!O123)","v":""},{"$f":"'Ek.3-A'!R123","v":0},{"$f":"'Ek.3-A'!K123","v":""},{"$f":"'Ek.3-A'!L123","v":""},{"v":0,"d":"%0.00"},"H",{"$f":"IF(O123=\"E\",SUM($N$5:N123),0)","v":{"v":0,"d":"%0.00"}},0]
[2.24,"YERLİ KATKI ORANI RAPORU",null,722540400000,0.1,null,48,{"$f":"IF(TRIM('Ek.3-A'!E124)<>\"\",\"var\",\"yok\")","v":"yok"},{"$f":"IF('Ek.3-A'!E124=\"\", \"\", IF(VLOOKUP('Ek.3-A'!E124, Veriler!D:E, 2, 0)=0, \"\", VLOOKUP('Ek.3-A'!E124, Veriler!D:E, 2, 0)))","v":""},{"$f":"IF('Ek.3-A'!O124=\"\", \"\", 'Ek.3-A'!O124)","v":""},{"$f":"'Ek.3-A'!R124","v":0},{"$f":"'Ek.3-A'!K124","v":""},{"$f":"'Ek.3-A'!L124","v":""},{"v":0,"d":"%0.00"},"H",{"$f":"IF(O124=\"E\",SUM($N$5:N124),0)","v":{"v":0,"d":"%0.00"}},0]
[2.25,"YERLİ KATKI ORANI RAPORU",null,722550800012,0.1,null,49,{"$f":"IF(TRIM('Ek.3-A'!E125)<>\"\",\"var\",\"yok\")","v":"yok"},{"$f":"IF('Ek.3-A'!E125=\"\", \"\", IF(VLOOKUP('Ek.3-A'!E125, Veriler!D:E, 2, 0)=0, \"\", VLOOKUP('Ek.3-A'!E125, Veriler!D:E, 2, 0)))","v":""},{"$f":"IF('Ek.3-A'!O125=\"\", \"\", 'Ek.3-A'!O125)","v":""},{"$f":"'Ek.3-A'!R125","v":0},{"$f":"'Ek.3-A'!K125","v":""},{"$f":"'Ek.3-A'!L125","v":""},{"v":0,"d":"%0.00"},"H",{"$f":"IF(O125=\"E\",SUM($N$5:N125),0)","v":{"v":0,"d":"%0.00"}},0]
[2.26,"YERLİ KATKI ORANI RAPORU",null,722599000010,0.1,null,50,{"$f":"IF(TRIM('Ek.3-A'!E126)<>\"\",\"var\",\"yok\")","v":"yok"},{"$f":"IF('Ek.3-A'!E126=\"\", \"\", IF(VLOOKUP('Ek.3-A'!E126, Veriler!D:E, 2, 0)=0, \"\", VLOOKUP('Ek.3-A'!E126, Veriler!D:E, 2, 0)))","v":""},{"$f":"IF('Ek.3-A'!O126=\"\", \"\", 'Ek.3-A'!O126)","v":""},{"$f":"'Ek.3-A'!R126","v":0},{"$f":"'Ek.3-A'!K126","v":""},{"$f":"'Ek.3-A'!L126","v":""},{"v":0,"d":"%0.00"},"H",{"$f":"IF(O126=\"E\",SUM($N$5:N126),0)","v":{"v":0,"d":"%0.00"}},0]
[2.27,"YERLİ KATKI ORANI RAPORU",null,722599000029,0.1,null,51,{"$f":"IF(TRIM('Ek.3-A'!E127)<>\"\",\"var\",\"yok\")","v":"yok"},{"$f":"IF('Ek.3-A'!E127=\"\", \"\", IF(VLOOKUP('Ek.3-A'!E127, Veriler!D:E, 2, 0)=0, \"\", VLOOKUP('Ek.3-A'!E127, Veriler!D:E, 2, 0)))","v":""},{"$f":"IF('Ek.3-A'!O127=\"\", \"\", 'Ek.3-A'!O127)","v":""},{"$f":"'Ek.3-A'!R127","v":0},{"$f":"'Ek.3-A'!K127","v":""},{"$f":"'Ek.3-A'!L127","v":""},{"v":0,"d":"%0.00"},"H",{"$f":"IF(O127=\"E\",SUM($N$5:N127),0)","v":{"v":0,"d":"%0.00"}},0]
[2.28,"YERLİ KATKI ORANI RAPORU",null,722790100000,0.1,null,52,{"$f":"IF(TRIM('Ek.3-A'!E128)<>\"\",\"var\",\"yok\")","v":"yok"},{"$f":"IF('Ek.3-A'!E128=\"\", \"\", IF(VLOOKUP('Ek.3-A'!E128, Veriler!D:E, 2, 0)=0, \"\", VLOOKUP('Ek.3-A'!E128, Veriler!D:E, 2, 0)))","v":""},{"$f":"IF('Ek.3-A'!O128=\"\", \"\", 'Ek.3-A'!O128)","v":""},{"$f":"'Ek.3-A'!R128","v":0},{"$f":"'Ek.3-A'!K128","v":""},{"$f":"'Ek.3-A'!L128","v":""},{"v":0,"d":"%0.00"},"H",{"$f":"IF(O128=\"E\",SUM($N$5:N128),0)","v":{"v":0,"d":"%0.00"}},0]
[2.29,"YERLİ KATKI ORANI RAPORU",null,292249859039,0.1,null,53,{"$f":"IF(TRIM('Ek.3-A'!E129)<>\"\",\"var\",\"yok\")","v":"yok"},{"$f":"IF('Ek.3-A'!E129=\"\", \"\", IF(VLOOKUP('Ek.3-A'!E129, Veriler!D:E, 2, 0)=0, \"\", VLOOKUP('Ek.3-A'!E129, Veriler!D:E, 2, 0)))","v":""},{"$f":"IF('Ek.3-A'!O129=\"\", \"\", 'Ek.3-A'!O129)","v":""},{"$f":"'Ek.3-A'!R129","v":0},{"$f":"'Ek.3-A'!K129","v":""},{"$f":"'Ek.3-A'!L129","v":""},{"v":0,"d":"%0.00"},"H",{"$f":"IF(O129=\"E\",SUM($N$5:N129),0)","v":{"v":0,"d":"%0.00"}},0]
[{"v":2.3,"d":"2.30"},"YERLİ KATKI ORANI RAPORU",null,292250009019,0.1,null,54,{"$f":"IF(TRIM('Ek.3-A'!E130)<>\"\",\"var\",\"yok\")","v":"yok"},{"$f":"IF('Ek.3-A'!E130=\"\", \"\", IF(VLOOKUP('Ek.3-A'!E130, Veriler!D:E, 2, 0)=0, \"\", VLOOKUP('Ek.3-A'!E130, Veriler!D:E, 2, 0)))","v":""},{"$f":"IF('Ek.3-A'!O130=\"\", \"\", 'Ek.3-A'!O130)","v":""},{"$f":"'Ek.3-A'!R130","v":0},{"$f":"'Ek.3-A'!K130","v":""},{"$f":"'Ek.3-A'!L130","v":""},{"v":0,"d":"%0.00"},"H",{"$f":"IF(O130=\"E\",SUM($N$5:N130),0)","v":{"v":0,"d":"%0.00"}},0]
[2.31,"YERLİ KATKI ORANI RAPORU",null,294190000059,0.1,null,55,{"$f":"IF(TRIM('Ek.3-A'!E131)<>\"\",\"var\",\"yok\")","v":"yok"},{"$f":"IF('Ek.3-A'!E131=\"\", \"\", IF(VLOOKUP('Ek.3-A'!E131, Veriler!D:E, 2, 0)=0, \"\", VLOOKUP('Ek.3-A'!E131, Veriler!D:E, 2, 0)))","v":""},{"$f":"IF('Ek.3-A'!O131=\"\", \"\", 'Ek.3-A'!O131)","v":""},{"$f":"'Ek.3-A'!R131","v":0},{"$f":"'Ek.3-A'!K131","v":""},{"$f":"'Ek.3-A'!L131","v":""},{"v":0,"d":"%0.00"},"H",{"$f":"IF(O131=\"E\",SUM($N$5:N131),0)","v":{"v":0,"d":"%0.00"}},0]
[2.32,"YERLİ KATKI ORANI RAPORU",null,740400990000,0.1,null,56,{"$f":"IF(TRIM('Ek.3-A'!E132)<>\"\",\"var\",\"yok\")","v":"yok"},{"$f":"IF('Ek.3-A'!E132=\"\", \"\", IF(VLOOKUP('Ek.3-A'!E132, Veriler!D:E, 2, 0)=0, \"\", VLOOKUP('Ek.3-A'!E132, Veriler!D:E, 2, 0)))","v":""},{"$f":"IF('Ek.3-A'!O132=\"\", \"\", 'Ek.3-A'!O132)","v":""},{"$f":"'Ek.3-A'!R132","v":0},{"$f":"'Ek.3-A'!K132","v":""},{"$f":"'Ek.3-A'!L132","v":""},{"v":0,"d":"%0.00"},"H",{"$f":"IF(O132=\"E\",SUM($N$5:N132),0)","v":{"v":0,"d":"%0.00"}},0]
[2.33,"YERLİ KATKI ORANI RAPORU",null,844399100000,0.1,{"$nulls":3},""]
[2.34,"YERLİ KATKI ORANI RAPORU",null,320649700000,0.1,null,{"$f":"G109+1","v":43},{"$f":"IF(TRIM('Ek.3-A'!E134)<>\"\",\"var\",\"yok\")","v":"yok"},{"$f":"IF('Ek.3-A'!E134=\"\", \"\", IF(VLOOKUP('Ek.3-A'!E134, Veriler!D:E, 2, 0)=0, \"\", VLOOKUP('Ek.3-A'!E134, Veriler!D:E, 2, 0)))","v":""},{"$f":"IF('Ek.3-A'!O134=\"\", \"\", 'Ek.3-A'!O134)","v":""},{"$f":"'Ek.3-A'!R134","v":0},{"$f":"'Ek.3-A'!K134","v":""},{"$f":"'Ek.3-A'!L134","v":""},{"$f":"IF(H134=\"var\",0,IF(M134<=0.005,M134,0))","v":{"v":0,"d":"%0.00"}},{"$f":"IF(M134<=0.005,\"E\",\"H\")","v":"H"},{"$f":"IF(O134=\"E\",SUM($N$5:N134),0)","v":{"v":0,"d":"%0.00"}},{"$f":"IF(P134<=0.1, K134, IF(N134>$F$2, N134*K134, $F$2*K134))","v":0}]
[2.35,"YERLİ KATKI ORANI RAPORU",null,290539959019,0.1,null,{"$f":"G134+1","v":44},{"$f":"IF(TRIM('Ek.3-A'!E135)<>\"\",\"var\",\"yok\")","v":"yok"},{"$f":"IF('Ek.3-A'!E135=\"\", \"\", IF(VLOOKUP('Ek.3-A'!E135, Veriler!D:E, 2, 0)=0, \"\", VLOOKUP('Ek.3-A'!E135, Veriler!D:E, 2, 0)))","v":""},{"$f":"IF('Ek.3-A'!O135=\"\", \"\", 'Ek.3-A'!O135)","v":""},{"$f":"'Ek.3-A'!R135","v":0},{"$f":"'Ek.3-A'!K135","v":""},{"$f":"'Ek.3-A'!L135","v":""},{"$f":"IF(H135=\"var\",0,IF(M135<=0.005,M135,0))","v":{"v":0,"d":"%0.00"}},{"$f":"IF(M135<=0.005,\"E\",\"H\")","v":"H"},{"$f":"IF(O135=\"E\",SUM($N$5:N135),0)","v":{"v":0,"d":"%0.00"}},{"$f":"IF(P135<=0.1, K135, IF(N135>$F$2, N135*K135, $F$2*K135))","v":0}]
[2.36,"YERLİ KATKI ORANI RAPORU",null,854239900000,0.1,null,{"$f":"G135+1","v":45},{"$f":"IF(TRIM('Ek.3-A'!E136)<>\"\",\"var\",\"yok\")","v":"yok"},{"$f":"IF('Ek.3-A'!E136=\"\", \"\", IF(VLOOKUP('Ek.3-A'!E136, Veriler!D:E, 2, 0)=0, \"\", VLOOKUP('Ek.3-A'!E136, Veriler!D:E, 2, 0)))","v":""},{"$f":"IF('Ek.3-A'!O136=\"\", \"\", 'Ek.3-A'!O136)","v":""},{"$f":"'Ek.3-A'!R136","v":0},{"$f":"'Ek.3-A'!K136","v":""},{"$f":"'Ek.3-A'!L136","v":""},{"v":0,"d":"%0.00"},"H",{"$f":"IF(O136=\"E\",SUM($N$5:N136),0)","v":{"v":0,"d":"%0.00"}},0]
[2.37,"YERLİ KATKI ORANI RAPORU",null,350790900019,0.1,null,46,{"$f":"IF(TRIM('Ek.3-A'!E137)<>\"\",\"var\",\"yok\")","v":"yok"},{"$f":"IF('Ek.3-A'!E137=\"\", \"\", IF(VLOOKUP('Ek.3-A'!E137, Veriler!D:E, 2, 0)=0, \"\", VLOOKUP('Ek.3-A'!E137, Veriler!D:E, 2, 0)))","v":""},{"$f":"IF('Ek.3-A'!O137=\"\", \"\", 'Ek.3-A'!O137)","v":""},{"$f":"'Ek.3-A'!R137","v":0},{"$f":"'Ek.3-A'!K137","v":""},{"$f":"'Ek.3-A'!L137","v":""},{"v":0,"d":"%0.00"},"H",{"$f":"IF(O137=\"E\",SUM($N$5:N137),0)","v":{"v":0,"d":"%0.00"}},0]
[2.38,"YERLİ KATKI ORANI RAPORU",null,290949809019,0.1,null,47,{"$f":"IF(TRIM('Ek.3-A'!E138)<>\"\",\"var\",\"yok\")","v":"yok"},{"$f":"IF('Ek.3-A'!E138=\"\", \"\", IF(VLOOKUP('Ek.3-A'!E138, Veriler!D:E, 2, 0)=0, \"\", VLOOKUP('Ek.3-A'!E138, Veriler!D:E, 2, 0)))","v":""},{"$f":"IF('Ek.3-A'!O138=\"\", \"\", 'Ek.3-A'!O138)","v":""},{"$f":"'Ek.3-A'!R138","v":0},{"$f":"'Ek.3-A'!K138","v":""},{"$f":"'Ek.3-A'!L138","v":""},{"v":0,"d":"%0.00"},"H",{"$f":"IF(O138=\"E\",SUM($N$5:N138),0)","v":{"v":0,"d":"%0.00"}},0]
[2.39,"YERLİ KATKI ORANI RAPORU",null,720219000019,0.1,null,48,{"$f":"IF(TRIM('Ek.3-A'!E139)<>\"\",\"var\",\"yok\")","v":"yok"},{"$f":"IF('Ek.3-A'!E139=\"\", \"\", IF(VLOOKUP('Ek.3-A'!E139, Veriler!D:E, 2, 0)=0, \"\", VLOOKUP('Ek.3-A'!E139, Veriler!D:E, 2, 0)))","v":""},{"$f":"IF('Ek.3-A'!O139=\"\", \"\", 'Ek.3-A'!O139)","v":""},{"$f":"'Ek.3-A'!R139","v":0},{"$f":"'Ek.3-A'!K139","v":""},{"$f":"'Ek.3-A'!L139","v":""},{"v":0,"d":"%0.00"},"H",{"$f":"IF(O139=\"E\",SUM($N$5:N139),0)","v":{"v":0,"d":"%0.00"}},0]
[{"v":2.4,"d":"2.40"},"YERLİ KATKI ORANI RAPORU",null,720211800000,0.1,null,49,{"$f":"IF(TRIM('Ek.3-A'!E140)<>\"\",\"var\",\"yok\")","v":"yok"},{"$f":"IF('Ek.3-A'!E140=\"\", \"\", IF(VLOOKUP('Ek.3-A'!E140, Veriler!D:E, 2, 0)=0, \"\", VLOOKUP('Ek.3-A'!E140, Veriler!D:E, 2, 0)))","v":""},{"$f":"IF('Ek.3-A'!O140=\"\", \"\", 'Ek.3-A'!O140)","v":""},{"$f":"'Ek.3-A'!R140","v":0},{"$f":"'Ek.3-A'!K140","v":""},{"$f":"'Ek.3-A'!L140","v":""},{"v":0,"d":"%0.00"},"H",{"$f":"IF(O140=\"E\",SUM($N$5:N140),0)","v":{"v":0,"d":"%0.00"}},0]
[2.41,"YERLİ KATKI ORANI RAPORU",null,271019670039,0.1,null,50,{"$f":"IF(TRIM('Ek.3-A'!E141)<>\"\",\"var\",\"yok\")","v":"yok"},{"$f":"IF('Ek.3-A'!E141=\"\", \"\", IF(VLOOKUP('Ek.3-A'!E141, Veriler!D:E, 2, 0)=0, \"\", VLOOKUP('Ek.3-A'!E141, Veriler!D:E, 2, 0)))","v":""},{"$f":"IF('Ek.3-A'!O141=\"\", \"\", 'Ek.3-A'!O141)","v":""},{"$f":"'Ek.3-A'!R141","v":0},{"$f":"'Ek.3-A'!K141","v":""},{"$f":"'Ek.3-A'!L141","v":""},{"v":0,"d":"%0.00"},"H",{"$f":"IF(O141=\"E\",SUM($N$5:N141),0)","v":{"v":0,"d":"%0.00"}},0]
[2.42,"YERLİ KATKI ORANI RAPORU",null,271019660039,0.1,null,51,{"$f":"IF(TRIM('Ek.3-A'!E142)<>\"\",\"var\",\"yok\")","v":"yok"},{"$f":"IF('Ek.3-A'!E142=\"\", \"\", IF(VLOOKUP('Ek.3-A'!E142, Veriler!D:E, 2, 0)=0, \"\", VLOOKUP('Ek.3-A'!E142, Veriler!D:E, 2, 0)))","v":""},{"$f":"IF('Ek.3-A'!O142=\"\", \"\", 'Ek.3-A'!O142)","v":""},{"$f":"'Ek.3-A'!R142","v":0},{"$f":"'Ek.3-A'!K142","v":""},{"$f":"'Ek.3-A'!L142","v":""},{"v":0,"d":"%0.00"},"H",{"$f":"IF(O142=\"E\",SUM($N$5:N142),0)","v":{"v":0,"d":"%0.00"}},0]
[2.43,"YERLİ KATKI ORANI RAPORU",null,271019670049,0.1,null,52,{"$f":"IF(TRIM('Ek.3-A'!E143)<>\"\",\"var\",\"yok\")","v":"yok"},{"$f":"IF('Ek.3-A'!E143=\"\", \"\", IF(VLOOKUP('Ek.3-A'!E143, Veriler!D:E, 2, 0)=0, \"\", VLOOKUP('Ek.3-A'!E143, Veriler!D:E, 2, 0)))","v":""},{"$f":"IF('Ek.3-A'!O143=\"\", \"\", 'Ek.3-A'!O143)","v":""},{"$f":"'Ek.3-A'!R143","v":0},{"$f":"'Ek.3-A'!K143","v":""},{"$f":"'Ek.3-A'!L143","v":""},{"v":0,"d":"%0.00"},"H",{"$f":"IF(O143=\"E\",SUM($N$5:N143),0)","v":{"v":0,"d":"%0.00"}},0]
[2.44,"YERLİ KATKI ORANI RAPORU",null,841199009000,0.1,null,53,{"$f":"IF(TRIM('Ek.3-A'!E144)<>\"\",\"var\",\"yok\")","v":"yok"},{"$f":"IF('Ek.3-A'!E144=\"\", \"\", IF(VLOOKUP('Ek.3-A'!E144, Veriler!D:E, 2, 0)=0, \"\", VLOOKUP('Ek.3-A'!E144, Veriler!D:E, 2, 0)))","v":""},{"$f":"IF('Ek.3-A'!O144=\"\", \"\", 'Ek.3-A'!O144)","v":""},{"$f":"'Ek.3-A'!R144","v":0},{"$f":"'Ek.3-A'!K144","v":""},{"$f":"'Ek.3-A'!L144","v":""},{"v":0,"d":"%0.00"},"H",{"$f":"IF(O144=\"E\",SUM($N$5:N144),0)","v":{"v":0,"d":"%0.00"}},0]
[2.45,"YERLİ KATKI ORANI RAPORU",null,841181009000,0.1,null,54,{"$f":"IF(TRIM('Ek.3-A'!E145)<>\"\",\"var\",\"yok\")","v":"yok"},{"$f":"IF('Ek.3-A'!E145=\"\", \"\", IF(VLOOKUP('Ek.3-A'!E145, Veriler!D:E, 2, 0)=0, \"\", VLOOKUP('Ek.3-A'!E145, Veriler!D:E, 2, 0)))","v":""},{"$f":"IF('Ek.3-A'!O145=\"\", \"\", 'Ek.3-A'!O145)","v":""},{"$f":"'Ek.3-A'!R145","v":0},{"$f":"'Ek.3-A'!K145","v":""},{"$f":"'Ek.3-A'!L145","v":""},{"v":0,"d":"%0.00"},"H",{"$f":"IF(O145=\"E\",SUM($N$5:N145),0)","v":{"v":0,"d":"%0.00"}},0]
[2.46,"YERLİ KATKI ORANI RAPORU",null,841181001000,0.1,null,55,{"$f":"IF(TRIM('Ek.3-A'!E146)<>\"\",\"var\",\"yok\")","v":"yok"},{"$f":"IF('Ek.3-A'!E146=\"\", \"\", IF(VLOOKUP('Ek.3-A'!E146, Veriler!D:E, 2, 0)=0, \"\", VLOOKUP('Ek.3-A'!E146, Veriler!D:E, 2, 0)))","v":""},{"$f":"IF('Ek.3-A'!O146=\"\", \"\", 'Ek.3-A'!O146)","v":""},{"$f":"'Ek.3-A'!R146","v":0},{"$f":"'Ek.3-A'!K146","v":""},{"$f":"'Ek.3-A'!L146","v":""},{"v":0,"d":"%0.00"},"H",{"$f":"IF(O146=\"E\",SUM($N$5:N146),0)","v":{"v":0,"d":"%0.00"}},0]
[2.47,"YERLİ KATKI ORANI RAPORU",null,841182809000,0.1,null,56,{"$f":"IF(TRIM('Ek.3-A'!E147)<>\"\",\"var\",\"yok\")","v":"yok"},{"$f":"IF('Ek.3-A'!E147=\"\", \"\", IF(VLOOKUP('Ek.3-A'!E147, Veriler!D:E, 2, 0)=0, \"\", VLOOKUP('Ek.3-A'!E147, Veriler!D:E, 2, 0)))","v":""},{"$f":"IF('Ek.3-A'!O147=\"\", \"\", 'Ek.3-A'!O147)","v":""},{"$f":"'Ek.3-A'!R147","v":0},{"$f":"'Ek.3-A'!K147","v":""},{"$f":"'Ek.3-A'!L147","v":""},{"v":0,"d":"%0.00"},"H",{"$f":"IF(O147=\"E\",SUM($N$5:N147),0)","v":{"v":0,"d":"%0.00"}},0]
[2.48,"YERLİ KATKI ORANI RAPORU",null,292910000029,0.1]
[2.49,"YERLİ KATKI ORANI RAPORU",null,480255909919,0.1]
[{"v":2.5,"d":"2.50"},"YERLİ KATKI ORANI RAPORU",null,840820570000,0.1]
[2.51,"YERLİ KATKI ORANI RAPORU",null,840820550000,0.1]
[2.52,"YERLİ KATKI ORANI RAPORU",null,840820990000,0.1]
[2.53,"YERLİ KATKI ORANI RAPORU",null,280300009019,0.1]
[2.54,"YERLİ KATKI ORANI RAPORU",null,293379000019,0.1]
[2.55,"YERLİ KATKI ORANI RAPORU",null,370130000029,0.1]
[2.56,"YERLİ KATKI ORANI RAPORU",null,900190009900,0.1]
[2.57,"YERLİ KATKI ORANI RAPORU",null,271019990025,0.1,null,{"$f":"G132+1","v":57},{"$f":"IF(TRIM('Ek.3-A'!E157)<>\"\",\"var\",\"yok\")","v":"yok"},{"$f":"IF('Ek.3-A'!E157=\"\", \"\", IF(VLOOKUP('Ek.3-A'!E157, Veriler!D:E, 2, 0)=0, \"\", VLOOKUP('Ek.3-A'!E157, Veriler!D:E, 2, 0)))","v":""},{"$f":"IF('Ek.3-A'!O157=\"\", \"\", 'Ek.3-A'!O157)","v":""},{"$f":"'Ek.3-A'!R157","v":0},{"$f":"'Ek.3-A'!K157","v":""},{"$f":"'Ek.3-A'!L157","v":""},{"$f":"IF(H157=\"var\",0,IF(M157<=0.005,M157,0))","v":{"v":0,"d":"%0.00"}},{"$f":"IF(M157<=0.005,\"E\",\"H\")","v":"H"},{"$f":"IF(O157=\"E\",SUM($N$5:N157),0)","v":{"v":0,"d":"%0.00"}},{"$f":"IF(P157<=0.1, K157, IF(N157>$F$2, N157*K157, $F$2*K157))","v":0}]
[2.58,"YERLİ KATKI ORANI RAPORU",null,848390899019,0.1,null,{"$f":"G157+1","v":58},{"$f":"IF(TRIM('Ek.3-A'!E158)<>\"\",\"var\",\"yok\")","v":"yok"},{"$f":"IF('Ek.3-A'!E158=\"\", \"\", IF(VLOOKUP('Ek.3-A'!E158, Veriler!D:E, 2, 0)=0, \"\", VLOOKUP('Ek.3-A'!E158, Veriler!D:E, 2, 0)))","v":""},{"$f":"IF('Ek.3-A'!O158=\"\", \"\", 'Ek.3-A'!O158)","v":""},{"$f":"'Ek.3-A'!R158","v":0},{"$f":"'Ek.3-A'!K158","v":""},{"$f":"'Ek.3-A'!L158","v":""},{"$f":"IF(H158=\"var\",0,IF(M158<=0.005,M158,0))","v":{"v":0,"d":"%0.00"}},{"$f":"IF(M158<=0.005,\"E\",\"H\")","v":"H"},{"$f":"IF(O158=\"E\",SUM($N$5:N158),0)","v":{"v":0,"d":"%0.00"}},{"$f":"IF(P158<=0.1, K158, IF(N158>$F$2, N158*K158, $F$2*K158))","v":0}]
[2.59,"YERLİ KATKI ORANI RAPORU",null,293040900000,0.1,null,{"$f":"G158+1","v":59},{"$f":"IF(TRIM('Ek.3-A'!E159)<>\"\",\"var\",\"yok\")","v":"yok"},{"$f":"IF('Ek.3-A'!E159=\"\", \"\", IF(VLOOKUP('Ek.3-A'!E159, Veriler!D:E, 2, 0)=0, \"\", VLOOKUP('Ek.3-A'!E159, Veriler!D:E, 2, 0)))","v":""},{"$f":"IF('Ek.3-A'!O159=\"\", \"\", 'Ek.3-A'!O159)","v":""},{"$f":"'Ek.3-A'!R159","v":0},{"$f":"'Ek.3-A'!K159","v":""},{"$f":"'Ek.3-A'!L159","v":""},{"v":0,"d":"%0.00"},"H",{"$f":"IF(O159=\"E\",SUM($N$5:N159),0)","v":{"v":0,"d":"%0.00"}},0]
[{"v":2.6,"d":"2.60"},"YERLİ KATKI ORANI RAPORU",null,340490009000,0.1,null,{"$f":"G159+1","v":60},{"$f":"IF(TRIM('Ek.3-A'!E160)<>\"\",\"var\",\"yok\")","v":"yok"},{"$f":"IF('Ek.3-A'!E160=\"\", \"\", IF(VLOOKUP('Ek.3-A'!E160, Veriler!D:E, 2, 0)=0, \"\", VLOOKUP('Ek.3-A'!E160, Veriler!D:E, 2, 0)))","v":""},{"$f":"IF('Ek.3-A'!O160=\"\", \"\", 'Ek.3-A'!O160)","v":""},{"$f":"'Ek.3-A'!R160","v":0},{"$f":"'Ek.3-A'!K160","v":""},{"$f":"'Ek.3-A'!L160","v":""},{"v":0,"d":"%0.00"},"H",{"$f":"IF(O160=\"E\",SUM($N$5:N160),0)","v":{"v":0,"d":"%0.00"}},0]
[2.61,"YERLİ KATKI ORANI RAPORU",null,293499909027,0.1,null,61,{"$f":"IF(TRIM('Ek.3-A'!E161)<>\"\",\"var\",\"yok\")","v":"yok"},{"$f":"IF('Ek.3-A'!E161=\"\", \"\", IF(VLOOKUP('Ek.3-A'!E161, Veriler!D:E, 2, 0)=0, \"\", VLOOKUP('Ek.3-A'!E161, Veriler!D:E, 2, 0)))","v":""},{"$f":"IF('Ek.3-A'!O161=\"\", \"\", 'Ek.3-A'!O161)","v":""},{"$f":"'Ek.3-A'!R161","v":0},{"$f":"'Ek.3-A'!K161","v":""},{"$f":"'Ek.3-A'!L161","v":""},{"v":0,"d":"%0.00"},"H",{"$f":"IF(O161=\"E\",SUM($N$5:N161),0)","v":{"v":0,"d":"%0.00"}},0]
[2.62,"YERLİ KATKI ORANI RAPORU",null,390290900000,0.1,null,62,{"$f":"IF(TRIM('Ek.3-A'!E162)<>\"\",\"var\",\"yok\")","v":"yok"},{"$f":"IF('Ek.3-A'!E162=\"\", \"\", IF(VLOOKUP('Ek.3-A'!E162, Veriler!D:E, 2, 0)=0, \"\", VLOOKUP('Ek.3-A'!E162, Veriler!D:E, 2, 0)))","v":""},{"$f":"IF('Ek.3-A'!O162=\"\", \"\", 'Ek.3-A'!O162)","v":""},{"$f":"'Ek.3-A'!R162","v":0},{"$f":"'Ek.3-A'!K162","v":""},{"$f":"'Ek.3-A'!L162","v":""},{"v":0,"d":"%0.00"},"H",{"$f":"IF(O162=\"E\",SUM($N$5:N162),0)","v":{"v":0,"d":"%0.00"}},0]
[2.63,"YERLİ KATKI ORANI RAPORU",null,293190009068,0.1,null,63,{"$f":"IF(TRIM('Ek.3-A'!E163)<>\"\",\"var\",\"yok\")","v":"yok"},{"$f":"IF('Ek.3-A'!E163=\"\", \"\", IF(VLOOKUP('Ek.3-A'!E163, Veriler!D:E, 2, 0)=0, \"\", VLOOKUP('Ek.3-A'!E163, Veriler!D:E, 2, 0)))","v":""},{"$f":"IF('Ek.3-A'!O163=\"\", \"\", 'Ek.3-A'!O163)","v":""},{"$f":"'Ek.3-A'!R163","v":0},{"$f":"'Ek.3-A'!K163","v":""},{"$f":"'Ek.3-A'!L163","v":""},{"v":0,"d":"%0.00"},"H",{"$f":"IF(O163=\"E\",SUM($N$5:N163),0)","v":{"v":0,"d":"%0.00"}},0]
[2.64,"YERLİ KATKI ORANI RAPORU",null,391729009000,0.1,null,64,{"$f":"IF(TRIM('Ek.3-A'!E164)<>\"\",\"var\",\"yok\")","v":"yok"},{"$f":"IF('Ek.3-A'!E164=\"\", \"\", IF(VLOOKUP('Ek.3-A'!E164, Veriler!D:E, 2, 0)=0, \"\", VLOOKUP('Ek.3-A'!E164, Veriler!D:E, 2, 0)))","v":""},{"$f":"IF('Ek.3-A'!O164=\"\", \"\", 'Ek.3-A'!O164)","v":""},{"$f":"'Ek.3-A'!R164","v":0},{"$f":"'Ek.3-A'!K164","v":""},{"$f":"'Ek.3-A'!L164","v":""},{"v":0,"d":"%0.00"},"H",{"$f":"IF(O164=\"E\",SUM($N$5:N164),0)","v":{"v":0,"d":"%0.00"}},0]
[2.65,"YERLİ KATKI ORANI RAPORU",null,390729990000,0.1,null,65,{"$f":"IF(TRIM('Ek.3-A'!E165)<>\"\",\"var\",\"yok\")","v":"yok"},{"$f":"IF('Ek.3-A'!E165=\"\", \"\", IF(VLOOKUP('Ek.3-A'!E165, Veriler!D:E, 2, 0)=0, \"\", VLOOKUP('Ek.3-A'!E165, Veriler!D:E, 2, 0)))","v":""},{"$f":"IF('Ek.3-A'!O165=\"\", \"\", 'Ek.3-A'!O165)","v":""},{"$f":"'Ek.3-A'!R165","v":0},{"$f":"'Ek.3-A'!K165","v":""},{"$f":"'Ek.3-A'!L165","v":""},{"v":0,"d":"%0.00"},"H",{"$f":"IF(O165=\"E\",SUM($N$5:N165),0)","v":{"v":0,"d":"%0.00"}},0]
[2.66,"YERLİ KATKI ORANI RAPORU",null,390120900019,0.1,null,66,{"$f":"IF(TRIM('Ek.3-A'!E166)<>\"\",\"var\",\"yok\")","v":"yok"},{"$f":"IF('Ek.3-A'!E166=\"\", \"\", IF(VLOOKUP('Ek.3-A'!E166, Veriler!D:E, 2, 0)=0, \"\", VLOOKUP('Ek.3-A'!E166, Veriler!D:E, 2, 0)))","v":""},{"$f":"IF('Ek.3-A'!O166=\"\", \"\", 'Ek.3-A'!O166)","v":""},{"$f":"'Ek.3-A'!R166","v":0},{"$f":"'Ek.3-A'!K166","v":""},{"$f":"'Ek.3-A'!L166","v":""},{"v":0,"d":"%0.00"},"H",{"$f":"IF(O166=\"E\",SUM($N$5:N166),0)","v":{"v":0,"d":"%0.00"}},0]
[2.67,"YERLİ KATKI ORANI RAPORU",null,390210000019,0.1,null,67,{"$f":"IF(TRIM('Ek.3-A'!E167)<>\"\",\"var\",\"yok\")","v":"yok"},{"$f":"IF('Ek.3-A'!E167=\"\", \"\", IF(VLOOKUP('Ek.3-A'!E167, Veriler!D:E, 2, 0)=0, \"\", VLOOKUP('Ek.3-A'!E167, Veriler!D:E, 2, 0)))","v":""},{"$f":"IF('Ek.3-A'!O167=\"\", \"\", 'Ek.3-A'!O167)","v":""},{"$f":"'Ek.3-A'!R167","v":0},{"$f":"'Ek.3-A'!K167","v":""},{"$f":"'Ek.3-A'!L167","v":""},{"v":0,"d":"%0.00"},"H",{"$f":"IF(O167=\"E\",SUM($N$5:N167),0)","v":{"v":0,"d":"%0.00"}},0]
[2.68,"YERLİ KATKI ORANI RAPORU",null,853321000000,0.1,null,68,{"$f":"IF(TRIM('Ek.3-A'!E168)<>\"\",\"var\",\"yok\")","v":"yok"},{"$f":"IF('Ek.3-A'!E168=\"\", \"\", IF(VLOOKUP('Ek.3-A'!E168, Veriler!D:E, 2, 0)=0, \"\", VLOOKUP('Ek.3-A'!E168, Veriler!D:E, 2, 0)))","v":""},{"$f":"IF('Ek.3-A'!O168=\"\", \"\", 'Ek.3-A'!O168)","v":""},{"$f":"'Ek.3-A'!R168","v":0},{"$f":"'Ek.3-A'!K168","v":""},{"$f":"'Ek.3-A'!L168","v":""},{"v":0,"d":"%0.00"},"H",{"$f":"IF(O168=\"E\",SUM($N$5:N168),0)","v":{"v":0,"d":"%0.00"}},0]
[2.69,"YERLİ KATKI ORANI RAPORU",null,294190000048,0.1,null,69,{"$f":"IF(TRIM('Ek.3-A'!E169)<>\"\",\"var\",\"yok\")","v":"yok"},{"$f":"IF('Ek.3-A'!E169=\"\", \"\", IF(VLOOKUP('Ek.3-A'!E169, Veriler!D:E, 2, 0)=0, \"\", VLOOKUP('Ek.3-A'!E169, Veriler!D:E, 2, 0)))","v":""},{"$f":"IF('Ek.3-A'!O169=\"\", \"\", 'Ek.3-A'!O169)","v":""},{"$f":"'Ek.3-A'!R169","v":0},{"$f":"'Ek.3-A'!K169","v":""},{"$f":"'Ek.3-A'!L169","v":""},{"v":0,"d":"%0.00"},"H",{"$f":"IF(O169=\"E\",SUM($N$5:N169),0)","v":{"v":0,"d":"%0.00"}},0]
[{"v":2.7,"d":"2.70"},"YERLİ KATKI ORANI RAPORU",null,391239850000,0.1,null,70,{"$f":"IF(TRIM('Ek.3-A'!E170)<>\"\",\"var\",\"yok\")","v":"yok"},{"$f":"IF('Ek.3-A'!E170=\"\", \"\", IF(VLOOKUP('Ek.3-A'!E170, Veriler!D:E, 2, 0)=0, \"\", VLOOKUP('Ek.3-A'!E170, Veriler!D:E, 2, 0)))","v":""},{"$f":"IF('Ek.3-A'!O170=\"\", \"\", 'Ek.3-A'!O170)","v":""},{"$f":"'Ek.3-A'!R170","v":0},{"$f":"'Ek.3-A'!K170","v":""},{"$f":"'Ek.3-A'!L170","v":""},{"v":0,"d":"%0.00"},"H",{"$f":"IF(O170=\"E\",SUM($N$5:N170),0)","v":{"v":0,"d":"%0.00"}},0]
[2.71,"YERLİ KATKI ORANI RAPORU",null,540419000000,0.1,{"$nulls":3},""]
[2.72,"YERLİ KATKI ORANI RAPORU",null,292429700048,0.1,null,{"$f":"G147+1","v":57},{"$f":"IF(TRIM('Ek.3-A'!E172)<>\"\",\"var\",\"yok\")","v":"yok"},{"$f":"IF('Ek.3-A'!E172=\"\", \"\", IF(VLOOKUP('Ek.3-A'!E172, Veriler!D:E, 2, 0)=0, \"\", VLOOKUP('Ek.3-A'!E172, Veriler!D:E, 2, 0)))","v":""},{"$f":"IF('Ek.3-A'!O172=\"\", \"\", 'Ek.3-A'!O172)","v":""},{"$f":"'Ek.3-A'!R172","v":0},{"$f":"'Ek.3-A'!K172","v":""},{"$f":"'Ek.3-A'!L172","v":""},{"$f":"IF(H172=\"var\",0,IF(M172<=0.005,M172,0))","v":{"v":0,"d":"%0.00"}},{"$f":"IF(M172<=0.005,\"E\",\"H\")","v":"H"},{"$f":"IF(O172=\"E\",SUM($N$5:N172),0)","v":{"v":0,"d":"%0.00"}},{"$f":"IF(P172<=0.1, K172, IF(N172>$F$2, N172*K172, $F$2*K172))","v":0}]
[2.73,"YERLİ KATKI ORANI RAPORU",null,848250000000,0.1,null,{"$f":"G172+1","v":58},{"$f":"IF(TRIM('Ek.3-A'!E173)<>\"\",\"var\",\"yok\")","v":"yok"},{"$f":"IF('Ek.3-A'!E173=\"\", \"\", IF(VLOOKUP('Ek.3-A'!E173, Veriler!D:E, 2, 0)=0, \"\", VLOOKUP('Ek.3-A'!E173, Veriler!D:E, 2, 0)))","v":""},{"$f":"IF('Ek.3-A'!O173=\"\", \"\", 'Ek.3-A'!O173)","v":""},{"$f":"'Ek.3-A'!R173","v":0},{"$f":"'Ek.3-A'!K173","v":""},{"$f":"'Ek.3-A'!L173","v":""},{"$f":"IF(H173=\"var\",0,IF(M173<=0.005,M173,0))","v":{"v":0,"d":"%0.00"}},{"$f":"IF(M173<=0.005,\"E\",\"H\")","v":"H"},{"$f":"IF(O173=\"E\",SUM($N$5:N173),0)","v":{"v":0,"d":"%0.00"}},{"$f":"IF(P173<=0.1, K173, IF(N173>$F$2, N173*K173, $F$2*K173))","v":0}]
[2.74,"YERLİ KATKI ORANI RAPORU",null,280700000019,0.1,null,{"$f":"G173+1","v":59},{"$f":"IF(TRIM('Ek.3-A'!E174)<>\"\",\"var\",\"yok\")","v":"yok"},{"$f":"IF('Ek.3-A'!E174=\"\", \"\", IF(VLOOKUP('Ek.3-A'!E174, Veriler!D:E, 2, 0)=0, \"\", VLOOKUP('Ek.3-A'!E174, Veriler!D:E, 2, 0)))","v":""},{"$f":"IF('Ek.3-A'!O174=\"\", \"\", 'Ek.3-A'!O174)","v":""},{"$f":"'Ek.3-A'!R174","v":0},{"$f":"'Ek.3-A'!K174","v":""},{"$f":"'Ek.3-A'!L174","v":""},{"v":0,"d":"%0.00"},"H",{"$f":"IF(O174=\"E\",SUM($N$5:N174),0)","v":{"v":0,"d":"%0.00"}},0]
[2.75,"YERLİ KATKI ORANI RAPORU",null,293590900029,0.1,null,60,{"$f":"IF(TRIM('Ek.3-A'!E175)<>\"\",\"var\",\"yok\")","v":"yok"},{"$f":"IF('Ek.3-A'!E175=\"\", \"\", IF(VLOOKUP('Ek.3-A'!E175, Veriler!D:E, 2, 0)=0, \"\", VLOOKUP('Ek.3-A'!E175, Veriler!D:E, 2, 0)))","v":""},{"$f":"IF('Ek.3-A'!O175=\"\", \"\", 'Ek.3-A'!O175)","v":""},{"$f":"'Ek.3-A'!R175","v":0},{"$f":"'Ek.3-A'!K175","v":""},{"$f":"'Ek.3-A'!L175","v":""},{"v":0,"d":"%0.00"},"H",{"$f":"IF(O175=\"E\",SUM($N$5:N175),0)","v":{"v":0,"d":"%0.00"}},0]
[2.76,"YERLİ KATKI ORANI RAPORU",null,391390009000,0.1,null,61,{"$f":"IF(TRIM('Ek.3-A'!E176)<>\"\",\"var\",\"yok\")","v":"yok"},{"$f":"IF('Ek.3-A'!E176=\"\", \"\", IF(VLOOKUP('Ek.3-A'!E176, Veriler!D:E, 2, 0)=0, \"\", VLOOKUP('Ek.3-A'!E176, Veriler!D:E, 2, 0)))","v":""},{"$f":"IF('Ek.3-A'!O176=\"\", \"\", 'Ek.3-A'!O176)","v":""},{"$f":"'Ek.3-A'!R176","v":0},{"$f":"'Ek.3-A'!K176","v":""},{"$f":"'Ek.3-A'!L176","v":""},{"v":0,"d":"%0.00"},"H",{"$f":"IF(O176=\"E\",SUM($N$5:N176),0)","v":{"v":0,"d":"%0.00"}},0]
[2.77,"YERLİ KATKI ORANI RAPORU",null,271019990098,0.1,null,62,{"$f":"IF(TRIM('Ek.3-A'!E177)<>\"\",\"var\",\"yok\")","v":"yok"},{"$f":"IF('Ek.3-A'!E177=\"\", \"\", IF(VLOOKUP('Ek.3-A'!E177, Veriler!D:E, 2, 0)=0, \"\", VLOOKUP('Ek.3-A'!E177, Veriler!D:E, 2, 0)))","v":""},{"$f":"IF('Ek.3-A'!O177=\"\", \"\", 'Ek.3-A'!O177)","v":""},{"$f":"'Ek.3-A'!R177","v":0},{"$f":"'Ek.3-A'!K177","v":""},{"$f":"'Ek.3-A'!L177","v":""},{"v":0,"d":"%0.00"},"H",{"$f":"IF(O177=\"E\",SUM($N$5:N177),0)","v":{"v":0,"d":"%0.00"}},0]
[2.78,"YERLİ KATKI ORANI RAPORU",null,854159000000,0.1,null,63,{"$f":"IF(TRIM('Ek.3-A'!E178)<>\"\",\"var\",\"yok\")","v":"yok"},{"$f":"IF('Ek.3-A'!E178=\"\", \"\", IF(VLOOKUP('Ek.3-A'!E178, Veriler!D:E, 2, 0)=0, \"\", VLOOKUP('Ek.3-A'!E178, Veriler!D:E, 2, 0)))","v":""},{"$f":"IF('Ek.3-A'!O178=\"\", \"\", 'Ek.3-A'!O178)","v":""},{"$f":"'Ek.3-A'!R178","v":0},{"$f":"'Ek.3-A'!K178","v":""},{"$f":"'Ek.3-A'!L178","v":""},{"v":0,"d":"%0.00"},"H",{"$f":"IF(O178=\"E\",SUM($N$5:N178),0)","v":{"v":0,"d":"%0.00"}},0]
[2.79,"YERLİ KATKI ORANI RAPORU",null,271019870000,0.1,null,64,{"$f":"IF(TRIM('Ek.3-A'!E179)<>\"\",\"var\",\"yok\")","v":"yok"},{"$f":"IF('Ek.3-A'!E179=\"\", \"\", IF(VLOOKUP('Ek.3-A'!E179, Veriler!D:E, 2, 0)=0, \"\", VLOOKUP('Ek.3-A'!E179, Veriler!D:E, 2, 0)))","v":""},{"$f":"IF('Ek.3-A'!O179=\"\", \"\", 'Ek.3-A'!O179)","v":""},{"$f":"'Ek.3-A'!R179","v":0},{"$f":"'Ek.3-A'!K179","v":""},{"$f":"'Ek.3-A'!L179","v":""},{"v":0,"d":"%0.00"},"H",{"$f":"IF(O179=\"E\",SUM($N$5:N179),0)","v":{"v":0,"d":"%0.00"}},0]
[{"v":2.8,"d":"2.80"},"YERLİ KATKI ORANI RAPORU",null,854190000019,0.1,null,65,{"$f":"IF(TRIM('Ek.3-A'!E180)<>\"\",\"var\",\"yok\")","v":"yok"},{"$f":"IF('Ek.3-A'!E180=\"\", \"\", IF(VLOOKUP('Ek.3-A'!E180, Veriler!D:E, 2, 0)=0, \"\", VLOOKUP('Ek.3-A'!E180, Veriler!D:E, 2, 0)))","v":""},{"$f":"IF('Ek.3-A'!O180=\"\", \"\", 'Ek.3-A'!O180)","v":""},{"$f":"'Ek.3-A'!R180","v":0},{"$f":"'Ek.3-A'!K180","v":""},{"$f":"'Ek.3-A'!L180","v":""},{"v":0,"d":"%0.00"},"H",{"$f":"IF(O180=\"E\",SUM($N$5:N180),0)","v":{"v":0,"d":"%0.00"}},0]
[2.81,"YERLİ KATKI ORANI RAPORU",null,854110000000,0.1,null,66,{"$f":"IF(TRIM('Ek.3-A'!E181)<>\"\",\"var\",\"yok\")","v":"yok"},{"$f":"IF('Ek.3-A'!E181=\"\", \"\", IF(VLOOKUP('Ek.3-A'!E181, Veriler!D:E, 2, 0)=0, \"\", VLOOKUP('Ek.3-A'!E181, Veriler!D:E, 2, 0)))","v":""},{"$f":"IF('Ek.3-A'!O181=\"\", \"\", 'Ek.3-A'!O181)","v":""},{"$f":"'Ek.3-A'!R181","v":0},{"$f":"'Ek.3-A'!K181","v":""},{"$f":"'Ek.3-A'!L181","v":""},{"v":0,"d":"%0.00"},"H",{"$f":"IF(O181=\"E\",SUM($N$5:N181),0)","v":{"v":0,"d":"%0.00"}},0]
[2.82,"YERLİ KATKI ORANI RAPORU",null,850110990000,0.1,null,67,{"$f":"IF(TRIM('Ek.3-A'!E182)<>\"\",\"var\",\"yok\")","v":"yok"},{"$f":"IF('Ek.3-A'!E182=\"\", \"\", IF(VLOOKUP('Ek.3-A'!E182, Veriler!D:E, 2, 0)=0, \"\", VLOOKUP('Ek.3-A'!E182, Veriler!D:E, 2, 0)))","v":""},{"$f":"IF('Ek.3-A'!O182=\"\", \"\", 'Ek.3-A'!O182)","v":""},{"$f":"'Ek.3-A'!R182","v":0},{"$f":"'Ek.3-A'!K182","v":""},{"$f":"'Ek.3-A'!L182","v":""},{"v":0,"d":"%0.00"},"H",{"$f":"IF(O182=\"E\",SUM($N$5:N182),0)","v":{"v":0,"d":"%0.00"}},0]
[2.83,"YERLİ KATKI ORANI RAPORU",null,560122100011,0.1,null,68,{"$f":"IF(TRIM('Ek.3-A'!E183)<>\"\",\"var\",\"yok\")","v":"yok"},{"$f":"IF('Ek.3-A'!E183=\"\", \"\", IF(VLOOKUP('Ek.3-A'!E183, Veriler!D:E, 2, 0)=0, \"\", VLOOKUP('Ek.3-A'!E183, Veriler!D:E, 2, 0)))","v":""},{"$f":"IF('Ek.3-A'!O183=\"\", \"\", 'Ek.3-A'!O183)","v":""},{"$f":"'Ek.3-A'!R183","v":0},{"$f":"'Ek.3-A'!K183","v":""},{"$f":"'Ek.3-A'!L183","v":""},{"v":0,"d":"%0.00"},"H",{"$f":"IF(O183=\"E\",SUM($N$5:N183),0)","v":{"v":0,"d":"%0.00"}},0]
[2.84,"YERLİ KATKI ORANI RAPORU",null,381800100000,0.1,null,69,{"$f":"IF(TRIM('Ek.3-A'!E184)<>\"\",\"var\",\"yok\")","v":"yok"},{"$f":"IF('Ek.3-A'!E184=\"\", \"\", IF(VLOOKUP('Ek.3-A'!E184, Veriler!D:E, 2, 0)=0, \"\", VLOOKUP('Ek.3-A'!E184, Veriler!D:E, 2, 0)))","v":""},{"$f":"IF('Ek.3-A'!O184=\"\", \"\", 'Ek.3-A'!O184)","v":""},{"$f":"'Ek.3-A'!R184","v":0},{"$f":"'Ek.3-A'!K184","v":""},{"$f":"'Ek.3-A'!L184","v":""},{"v":0,"d":"%0.00"},"H",{"$f":"IF(O184=\"E\",SUM($N$5:N184),0)","v":{"v":0,"d":"%0.00"}},0]
[2.85,"YERLİ KATKI ORANI RAPORU",null,291590700049,0.1,null,70,{"$f":"IF(TRIM('Ek.3-A'!E185)<>\"\",\"var\",\"yok\")","v":"yok"},{"$f":"IF('Ek.3-A'!E185=\"\", \"\", IF(VLOOKUP('Ek.3-A'!E185, Veriler!D:E, 2, 0)=0, \"\", VLOOKUP('Ek.3-A'!E185, Veriler!D:E, 2, 0)))","v":""},{"$f":"IF('Ek.3-A'!O185=\"\", \"\", 'Ek.3-A'!O185)","v":""},{"$f":"'Ek.3-A'!R185","v":0},{"$f":"'Ek.3-A'!K185","v":""},{"$f":"'Ek.3-A'!L185","v":""},{"v":0,"d":"%0.00"},"H",{"$f":"IF(O185=\"E\",SUM($N$5:N185),0)","v":{"v":0,"d":"%0.00"}},0]
[2.86,"YERLİ KATKI ORANI RAPORU",null,720410000019,0.1]
[2.87,"YERLİ KATKI ORANI RAPORU",null,720410000011,0.1]
[2.88,"YERLİ KATKI ORANI RAPORU",null,700600900019,0.1]
[2.89,"YERLİ KATKI ORANI RAPORU",null,700600900011,0.1]
[{"v":2.9,"d":"2.90"},"YERLİ KATKI ORANI RAPORU",null,360100000012,0.1]
[2.91,"YERLİ KATKI ORANI RAPORU",null,853630100000,0.1]
[2.92,"YERLİ KATKI ORANI RAPORU",null,854232750000,0.1]
[2.93,"YERLİ KATKI ORANI RAPORU",null,854511000011,0.1]
[2.94,"YERLİ KATKI ORANI RAPORU",null,854720000000,0.1]
[2.95,"YERLİ KATKI ORANI RAPORU",null,853190000000,0.1,null,{"$f":"G170+1","v":71},{"$f":"IF(TRIM('Ek.3-A'!E195)<>\"\",\"var\",\"yok\")","v":"yok"},{"$f":"IF('Ek.3-A'!E195=\"\", \"\", IF(VLOOKUP('Ek.3-A'!E195, Veriler!D:E, 2, 0)=0, \"\", VLOOKUP('Ek.3-A'!E195, Veriler!D:E, 2, 0)))","v":""},{"$f":"IF('Ek.3-A'!O195=\"\", \"\", 'Ek.3-A'!O195)","v":""},{"$f":"'Ek.3-A'!R195","v":0},{"$f":"'Ek.3-A'!K195","v":""},{"$f":"'Ek.3-A'!L195","v":""},{"$f":"IF(H195=\"var\",0,IF(M195<=0.005,M195,0))","v":{"v":0,"d":"%0.00"}},{"$f":"IF(M195<=0.005,\"E\",\"H\")","v":"H"},{"$f":"IF(O195=\"E\",SUM($N$5:N195),0)","v":{"v":0,"d":"%0.00"}},{"$f":"IF(P195<=0.1, K195, IF(N195>$F$2, N195*K195, $F$2*K195))","v":0}]
[2.96,"YERLİ KATKI ORANI RAPORU",null,854999000000,0.1,null,{"$f":"G195+1","v":72},{"$f":"IF(TRIM('Ek.3-A'!E196)<>\"\",\"var\",\"yok\")","v":"yok"},{"$f":"IF('Ek.3-A'!E196=\"\", \"\", IF(VLOOKUP('Ek.3-A'!E196, Veriler!D:E, 2, 0)=0, \"\", VLOOKUP('Ek.3-A'!E196, Veriler!D:E, 2, 0)))","v":""},{"$f":"IF('Ek.3-A'!O196=\"\", \"\", 'Ek.3-A'!O196)","v":""},{"$f":"'Ek.3-A'!R196","v":0},{"$f":"'Ek.3-A'!K196","v":""},{"$f":"'Ek.3-A'!L196","v":""},{"$f":"IF(H196=\"var\",0,IF(M196<=0.005,M196,0))","v":{"v":0,"d":"%0.00"}},{"$f":"IF(M196<=0.005,\"E\",\"H\")","v":"H"},{"$f":"IF(O196=\"E\",SUM($N$5:N196),0)","v":{"v":0,"d":"%0.00"}},{"$f":"IF(P196<=0.1, K196, IF(N196>$F$2, N196*K196, $F$2*K196))","v":0}]
[2.97,"YERLİ KATKI ORANI RAPORU",null,854290000000,0.1,null,{"$f":"G196+1","v":73},{"$f":"IF(TRIM('Ek.3-A'!E197)<>\"\",\"var\",\"yok\")","v":"yok"},{"$f":"IF('Ek.3-A'!E197=\"\", \"\", IF(VLOOKUP('Ek.3-A'!E197, Veriler!D:E, 2, 0)=0, \"\", VLOOKUP('Ek.3-A'!E197, Veriler!D:E, 2, 0)))","v":""},{"$f":"IF('Ek.3-A'!O197=\"\", \"\", 'Ek.3-A'!O197)","v":""},{"$f":"'Ek.3-A'!R197","v":0},{"$f":"'Ek.3-A'!K197","v":""},{"$f":"'Ek.3-A'!L197","v":""},{"v":0,"d":"%0.00"},"H",{"$f":"IF(O197=\"E\",SUM($N$5:N197),0)","v":{"v":0,"d":"%0.00"}},0]
[2.98,"YERLİ KATKI ORANI RAPORU",null,381800900000,0.1,null,{"$f":"G197+1","v":74},{"$f":"IF(TRIM('Ek.3-A'!E198)<>\"\",\"var\",\"yok\")","v":"yok"},{"$f":"IF('Ek.3-A'!E198=\"\", \"\", IF(VLOOKUP('Ek.3-A'!E198, Veriler!D:E, 2, 0)=0, \"\", VLOOKUP('Ek.3-A'!E198, Veriler!D:E, 2, 0)))","v":""},{"$f":"IF('Ek.3-A'!O198=\"\", \"\", 'Ek.3-A'!O198)","v":""},{"$f":"'Ek.3-A'!R198","v":0},{"$f":"'Ek.3-A'!K198","v":""},{"$f":"'Ek.3-A'!L198","v":""},{"v":0,"d":"%0.00"},"H",{"$f":"IF(O198=\"E\",SUM($N$5:N198),0)","v":{"v":0,"d":"%0.00"}},0]
[2.99,"YERLİ KATKI ORANI RAPORU",null,400219100000,0.1,null,75,{"$f":"IF(TRIM('Ek.3-A'!E199)<>\"\",\"var\",\"yok\")","v":"yok"},{"$f":"IF('Ek.3-A'!E199=\"\", \"\", IF(VLOOKUP('Ek.3-A'!E199, Veriler!D:E, 2, 0)=0, \"\", VLOOKUP('Ek.3-A'!E199, Veriler!D:E, 2, 0)))","v":""},{"$f":"IF('Ek.3-A'!O199=\"\", \"\", 'Ek.3-A'!O199)","v":""},{"$f":"'Ek.3-A'!R199","v":0},{"$f":"'Ek.3-A'!K199","v":""},{"$f":"'Ek.3-A'!L199","v":""},{"v":0,"d":"%0.00"},"H",{"$f":"IF(O199=\"E\",SUM($N$5:N199),0)","v":{"v":0,"d":"%0.00"}},0]
[{"v":3,"d":"3.00"},"YERLİ KATKI ORANI RAPORU",null,390730000000,0.1,null,76,{"$f":"IF(TRIM('Ek.3-A'!E200)<>\"\",\"var\",\"yok\")","v":"yok"},{"$f":"IF('Ek.3-A'!E200=\"\", \"\", IF(VLOOKUP('Ek.3-A'!E200, Veriler!D:E, 2, 0)=0, \"\", VLOOKUP('Ek.3-A'!E200, Veriler!D:E, 2, 0)))","v":""},{"$f":"IF('Ek.3-A'!O200=\"\", \"\", 'Ek.3-A'!O200)","v":""},{"$f":"'Ek.3-A'!R200","v":0},{"$f":"'Ek.3-A'!K200","v":""},{"$f":"'Ek.3-A'!L200","v":""},{"v":0,"d":"%0.00"},"H",{"$f":"IF(O200=\"E\",SUM($N$5:N200),0)","v":{"v":0,"d":"%0.00"}},0]
[3.01,"YERLİ KATKI ORANI RAPORU",null,854929000000,0.1,null,77,{"$f":"IF(TRIM('Ek.3-A'!E201)<>\"\",\"var\",\"yok\")","v":"yok"},{"$f":"IF('Ek.3-A'!E201=\"\", \"\", IF(VLOOKUP('Ek.3-A'!E201, Veriler!D:E, 2, 0)=0, \"\", VLOOKUP('Ek.3-A'!E201, Veriler!D:E, 2, 0)))","v":""},{"$f":"IF('Ek.3-A'!O201=\"\", \"\", 'Ek.3-A'!O201)","v":""},{"$f":"'Ek.3-A'!R201","v":0},{"$f":"'Ek.3-A'!K201","v":""},{"$f":"'Ek.3-A'!L201","v":""},{"v":0,"d":"%0.00"},"H",{"$f":"IF(O201=\"E\",SUM($N$5:N201),0)","v":{"v":0,"d":"%0.00"}},0]
[3.02,"YERLİ KATKI ORANI RAPORU",null,854921000000,0.1,null,78,{"$f":"IF(TRIM('Ek.3-A'!E202)<>\"\",\"var\",\"yok\")","v":"yok"},{"$f":"IF('Ek.3-A'!E202=\"\", \"\", IF(VLOOKUP('Ek.3-A'!E202, Veriler!D:E, 2, 0)=0, \"\", VLOOKUP('Ek.3-A'!E202, Veriler!D:E, 2, 0)))","v":""},{"$f":"IF('Ek.3-A'!O202=\"\", \"\", 'Ek.3-A'!O202)","v":""},{"$f":"'Ek.3-A'!R202","v":0},{"$f":"'Ek.3-A'!K202","v":""},{"$f":"'Ek.3-A'!L202","v":""},{"v":0,"d":"%0.00"},"H",{"$f":"IF(O202=\"E\",SUM($N$5:N202),0)","v":{"v":0,"d":"%0.00"}},0]
[3.03,"YERLİ KATKI ORANI RAPORU",null,320619000000,0.1,null,79,{"$f":"IF(TRIM('Ek.3-A'!E203)<>\"\",\"var\",\"yok\")","v":"yok"},{"$f":"IF('Ek.3-A'!E203=\"\", \"\", IF(VLOOKUP('Ek.3-A'!E203, Veriler!D:E, 2, 0)=0, \"\", VLOOKUP('Ek.3-A'!E203, Veriler!D:E, 2, 0)))","v":""},{"$f":"IF('Ek.3-A'!O203=\"\", \"\", 'Ek.3-A'!O203)","v":""},{"$f":"'Ek.3-A'!R203","v":0},{"$f":"'Ek.3-A'!K203","v":""},{"$f":"'Ek.3-A'!L203","v":""},{"v":0,"d":"%0.00"},"H",{"$f":"IF(O203=\"E\",SUM($N$5:N203),0)","v":{"v":0,"d":"%0.00"}},0]
[3.04,"YERLİ KATKI ORANI RAPORU",null,320611000000,0.1,null,80,{"$f":"IF(TRIM('Ek.3-A'!E204)<>\"\",\"var\",\"yok\")","v":"yok"},{"$f":"IF('Ek.3-A'!E204=\"\", \"\", IF(VLOOKUP('Ek.3-A'!E204, Veriler!D:E, 2, 0)=0, \"\", VLOOKUP('Ek.3-A'!E204, Veriler!D:E, 2, 0)))","v":""},{"$f":"IF('Ek.3-A'!O204=\"\", \"\", 'Ek.3-A'!O204)","v":""},{"$f":"'Ek.3-A'!R204","v":0},{"$f":"'Ek.3-A'!K204","v":""},{"$f":"'Ek.3-A'!L204","v":""},{"v":0,"d":"%0.00"},"H",{"$f":"IF(O204=\"E\",SUM($N$5:N204),0)","v":{"v":0,"d":"%0.00"}},0]
[3.05,"YERLİ KATKI ORANI RAPORU",null,350510500000,0.1,null,81,{"$f":"IF(TRIM('Ek.3-A'!E205)<>\"\",\"var\",\"yok\")","v":"yok"},{"$f":"IF('Ek.3-A'!E205=\"\", \"\", IF(VLOOKUP('Ek.3-A'!E205, Veriler!D:E, 2, 0)=0, \"\", VLOOKUP('Ek.3-A'!E205, Veriler!D:E, 2, 0)))","v":""},{"$f":"IF('Ek.3-A'!O205=\"\", \"\", 'Ek.3-A'!O205)","v":""},{"$f":"'Ek.3-A'!R205","v":0},{"$f":"'Ek.3-A'!K205","v":""},{"$f":"'Ek.3-A'!L205","v":""},{"v":0,"d":"%0.00"},"H",{"$f":"IF(O205=\"E\",SUM($N$5:N205),0)","v":{"v":0,"d":"%0.00"}},0]
[3.06,"YERLİ KATKI ORANI RAPORU",null,291531000000,0.1,null,82,{"$f":"IF(TRIM('Ek.3-A'!E206)<>\"\",\"var\",\"yok\")","v":"yok"},{"$f":"IF('Ek.3-A'!E206=\"\", \"\", IF(VLOOKUP('Ek.3-A'!E206, Veriler!D:E, 2, 0)=0, \"\", VLOOKUP('Ek.3-A'!E206, Veriler!D:E, 2, 0)))","v":""},{"$f":"IF('Ek.3-A'!O206=\"\", \"\", 'Ek.3-A'!O206)","v":""},{"$f":"'Ek.3-A'!R206","v":0},{"$f":"'Ek.3-A'!K206","v":""},{"$f":"'Ek.3-A'!L206","v":""},{"v":0,"d":"%0.00"},"H",{"$f":"IF(O206=\"E\",SUM($N$5:N206),0)","v":{"v":0,"d":"%0.00"}},0]
[3.07,"YERLİ KATKI ORANI RAPORU",null,400270000000,0.1,null,83,{"$f":"IF(TRIM('Ek.3-A'!E207)<>\"\",\"var\",\"yok\")","v":"yok"},{"$f":"IF('Ek.3-A'!E207=\"\", \"\", IF(VLOOKUP('Ek.3-A'!E207, Veriler!D:E, 2, 0)=0, \"\", VLOOKUP('Ek.3-A'!E207, Veriler!D:E, 2, 0)))","v":""},{"$f":"IF('Ek.3-A'!O207=\"\", \"\", 'Ek.3-A'!O207)","v":""},{"$f":"'Ek.3-A'!R207","v":0},{"$f":"'Ek.3-A'!K207","v":""},{"$f":"'Ek.3-A'!L207","v":""},{"v":0,"d":"%0.00"},"H",{"$f":"IF(O207=\"E\",SUM($N$5:N207),0)","v":{"v":0,"d":"%0.00"}},0]
[3.08,"YERLİ KATKI ORANI RAPORU",null,290531000000,0.1,null,84,{"$f":"IF(TRIM('Ek.3-A'!E208)<>\"\",\"var\",\"yok\")","v":"yok"},{"$f":"IF('Ek.3-A'!E208=\"\", \"\", IF(VLOOKUP('Ek.3-A'!E208, Veriler!D:E, 2, 0)=0, \"\", VLOOKUP('Ek.3-A'!E208, Veriler!D:E, 2, 0)))","v":""},{"$f":"IF('Ek.3-A'!O208=\"\", \"\", 'Ek.3-A'!O208)","v":""},{"$f":"'Ek.3-A'!R208","v":0},{"$f":"'Ek.3-A'!K208","v":""},{"$f":"'Ek.3-A'!L208","v":""},{"v":0,"d":"%0.00"},"H",{"$f":"IF(O208=\"E\",SUM($N$5:N208),0)","v":{"v":0,"d":"%0.00"}},0]
[3.09,"YERLİ KATKI ORANI RAPORU",null,390190800019,0.1,{"$nulls":3},""]
[{"v":3.1,"d":"3.10"},"YERLİ KATKI ORANI RAPORU",null,390140000000,0.1,null,{"$f":"G185+1","v":71},{"$f":"IF(TRIM('Ek.3-A'!E210)<>\"\",\"var\",\"yok\")","v":"yok"},{"$f":"IF('Ek.3-A'!E210=\"\", \"\", IF(VLOOKUP('Ek.3-A'!E210, Veriler!D:E, 2, 0)=0, \"\", VLOOKUP('Ek.3-A'!E210, Veriler!D:E, 2, 0)))","v":""},{"$f":"IF('Ek.3-A'!O210=\"\", \"\", 'Ek.3-A'!O210)","v":""},{"$f":"'Ek.3-A'!R210","v":0},{"$f":"'Ek.3-A'!K210","v":""},{"$f":"'Ek.3-A'!L210","v":""},{"$f":"IF(H210=\"var\",0,IF(M210<=0.005,M210,0))","v":{"v":0,"d":"%0.00"}},{"$f":"IF(M210<=0.005,\"E\",\"H\")","v":"H"},{"$f":"IF(O210=\"E\",SUM($N$5:N210),0)","v":{"v":0,"d":"%0.00"}},{"$f":"IF(P210<=0.1, K210, IF(N210>$F$2, N210*K210, $F$2*K210))","v":0}]
[3.11,"YERLİ KATKI ORANI RAPORU",null,390130000000,0.1,null,{"$f":"G210+1","v":72},{"$f":"IF(TRIM('Ek.3-A'!E211)<>\"\",\"var\",\"yok\")","v":"yok"},{"$f":"IF('Ek.3-A'!E211=\"\", \"\", IF(VLOOKUP('Ek.3-A'!E211, Veriler!D:E, 2, 0)=0, \"\", VLOOKUP('Ek.3-A'!E211, Veriler!D:E, 2, 0)))","v":""},{"$f":"IF('Ek.3-A'!O211=\"\", \"\", 'Ek.3-A'!O211)","v":""},{"$f":"'Ek.3-A'!R211","v":0},{"$f":"'Ek.3-A'!K211","v":""},{"$f":"'Ek.3-A'!L211","v":""},{"$f":"IF(H211=\"var\",0,IF(M211<=0.005,M211,0))","v":{"v":0,"d":"%0.00"}},{"$f":"IF(M211<=0.005,\"E\",\"H\")","v":"H"},{"$f":"IF(O211=\"E\",SUM($N$5:N211),0)","v":{"v":0,"d":"%0.00"}},{"$f":"IF(P211<=0.1, K211, IF(N211>$F$2, N211*K211, $F$2*K211))","v":0}]
[3.12,"YERLİ KATKI ORANI RAPORU",null,853620100011,0.1,null,{"$f":"G211+1","v":73},{"$f":"IF(TRIM('Ek.3-A'!E212)<>\"\",\"var\",\"yok\")","v":"yok"},{"$f":"IF('Ek.3-A'!E212=\"\", \"\", IF(VLOOKUP('Ek.3-A'!E212, Veriler!D:E, 2, 0)=0, \"\", VLOOKUP('Ek.3-A'!E212, Veriler!D:E, 2, 0)))","v":""},{"$f":"IF('Ek.3-A'!O212=\"\", \"\", 'Ek.3-A'!O212)","v":""},{"$f":"'Ek.3-A'!R212","v":0},{"$f":"'Ek.3-A'!K212","v":""},{"$f":"'Ek.3-A'!L212","v":""},{"v":0,"d":"%0.00"},"H",{"$f":"IF(O212=\"E\",SUM($N$5:N212),0)","v":{"v":0,"d":"%0.00"}},0]
[3.13,"YERLİ KATKI ORANI RAPORU",null,290711001000,0.1,null,74,{"$f":"IF(TRIM('Ek.3-A'!E213)<>\"\",\"var\",\"yok\")","v":"yok"},{"$f":"IF('Ek.3-A'!E213=\"\", \"\", IF(VLOOKUP('Ek.3-A'!E213, Veriler!D:E, 2, 0)=0, \"\", VLOOKUP('Ek.3-A'!E213, Veriler!D:E, 2, 0)))","v":""},{"$f":"IF('Ek.3-A'!O213=\"\", \"\", 'Ek.3-A'!O213)","v":""},{"$f":"'Ek.3-A'!R213","v":0},{"$f":"'Ek.3-A'!K213","v":""},{"$f":"'Ek.3-A'!L213","v":""},{"v":0,"d":"%0.00"},"H",{"$f":"IF(O213=\"E\",SUM($N$5:N213),0)","v":{"v":0,"d":"%0.00"}},0]
[3.14,"YERLİ KATKI ORANI RAPORU",null,390940000000,0.1,null,75,{"$f":"IF(TRIM('Ek.3-A'!E214)<>\"\",\"var\",\"yok\")","v":"yok"},{"$f":"IF('Ek.3-A'!E214=\"\", \"\", IF(VLOOKUP('Ek.3-A'!E214, Veriler!D:E, 2, 0)=0, \"\", VLOOKUP('Ek.3-A'!E214, Veriler!D:E, 2, 0)))","v":""},{"$f":"IF('Ek.3-A'!O214=\"\", \"\", 'Ek.3-A'!O214)","v":""},{"$f":"'Ek.3-A'!R214","v":0},{"$f":"'Ek.3-A'!K214","v":""},{"$f":"'Ek.3-A'!L214","v":""},{"v":0,"d":"%0.00"},"H",{"$f":"IF(O214=\"E\",SUM($N$5:N214),0)","v":{"v":0,"d":"%0.00"}},0]
[3.15,"YERLİ KATKI ORANI RAPORU",null,720241900012,0.1,null,76,{"$f":"IF(TRIM('Ek.3-A'!E215)<>\"\",\"var\",\"yok\")","v":"yok"},{"$f":"IF('Ek.3-A'!E215=\"\", \"\", IF(VLOOKUP('Ek.3-A'!E215, Veriler!D:E, 2, 0)=0, \"\", VLOOKUP('Ek.3-A'!E215, Veriler!D:E, 2, 0)))","v":""},{"$f":"IF('Ek.3-A'!O215=\"\", \"\", 'Ek.3-A'!O215)","v":""},{"$f":"'Ek.3-A'!R215","v":0},{"$f":"'Ek.3-A'!K215","v":""},{"$f":"'Ek.3-A'!L215","v":""},{"v":0,"d":"%0.00"},"H",{"$f":"IF(O215=\"E\",SUM($N$5:N215),0)","v":{"v":0,"d":"%0.00"}},0]
[3.16,"YERLİ KATKI ORANI RAPORU",null,720270000000,0.1,null,77,{"$f":"IF(TRIM('Ek.3-A'!E216)<>\"\",\"var\",\"yok\")","v":"yok"},{"$f":"IF('Ek.3-A'!E216=\"\", \"\", IF(VLOOKUP('Ek.3-A'!E216, Veriler!D:E, 2, 0)=0, \"\", VLOOKUP('Ek.3-A'!E216, Veriler!D:E, 2, 0)))","v":""},{"$f":"IF('Ek.3-A'!O216=\"\", \"\", 'Ek.3-A'!O216)","v":""},{"$f":"'Ek.3-A'!R216","v":0},{"$f":"'Ek.3-A'!K216","v":""},{"$f":"'Ek.3-A'!L216","v":""},{"v":0,"d":"%0.00"},"H",{"$f":"IF(O216=\"E\",SUM($N$5:N216),0)","v":{"v":0,"d":"%0.00"}},0]
[3.17,"YERLİ KATKI ORANI RAPORU",null,720293000000,0.1,null,78,{"$f":"IF(TRIM('Ek.3-A'!E217)<>\"\",\"var\",\"yok\")","v":"yok"},{"$f":"IF('Ek.3-A'!E217=\"\", \"\", IF(VLOOKUP('Ek.3-A'!E217, Veriler!D:E, 2, 0)=0, \"\", VLOOKUP('Ek.3-A'!E217, Veriler!D:E, 2, 0)))","v":""},{"$f":"IF('Ek.3-A'!O217=\"\", \"\", 'Ek.3-A'!O217)","v":""},{"$f":"'Ek.3-A'!R217","v":0},{"$f":"'Ek.3-A'!K217","v":""},{"$f":"'Ek.3-A'!L217","v":""},{"v":0,"d":"%0.00"},"H",{"$f":"IF(O217=\"E\",SUM($N$5:N217),0)","v":{"v":0,"d":"%0.00"}},0]
[3.18,"YERLİ KATKI ORANI RAPORU",null,720230000000,0.1,null,79,{"$f":"IF(TRIM('Ek.3-A'!E218)<>\"\",\"var\",\"yok\")","v":"yok"},{"$f":"IF('Ek.3-A'!E218=\"\", \"\", IF(VLOOKUP('Ek.3-A'!E218, Veriler!D:E, 2, 0)=0, \"\", VLOOKUP('Ek.3-A'!E218, Veriler!D:E, 2, 0)))","v":""},{"$f":"IF('Ek.3-A'!O218=\"\", \"\", 'Ek.3-A'!O218)","v":""},{"$f":"'Ek.3-A'!R218","v":0},{"$f":"'Ek.3-A'!K218","v":""},{"$f":"'Ek.3-A'!L218","v":""},{"v":0,"d":"%0.00"},"H",{"$f":"IF(O218=\"E\",SUM($N$5:N218),0)","v":{"v":0,"d":"%0.00"}},0]
[3.19,"YERLİ KATKI ORANI RAPORU",null,720221000011,0.1,null,80,{"$f":"IF(TRIM('Ek.3-A'!E219)<>\"\",\"var\",\"yok\")","v":"yok"},{"$f":"IF('Ek.3-A'!E219=\"\", \"\", IF(VLOOKUP('Ek.3-A'!E219, Veriler!D:E, 2, 0)=0, \"\", VLOOKUP('Ek.3-A'!E219, Veriler!D:E, 2, 0)))","v":""},{"$f":"IF('Ek.3-A'!O219=\"\", \"\", 'Ek.3-A'!O219)","v":""},{"$f":"'Ek.3-A'!R219","v":0},{"$f":"'Ek.3-A'!K219","v":""},{"$f":"'Ek.3-A'!L219","v":""},{"v":0,"d":"%0.00"},"H",{"$f":"IF(O219=\"E\",SUM($N$5:N219),0)","v":{"v":0,"d":"%0.00"}},0]
[{"v":3.2,"d":"3.20"},"YERLİ KATKI ORANI RAPORU",null,848230000000,0.1,null,81,{"$f":"IF(TRIM('Ek.3-A'!E220)<>\"\",\"var\",\"yok\")","v":"yok"},{"$f":"IF('Ek.3-A'!E220=\"\", \"\", IF(VLOOKUP('Ek.3-A'!E220, Veriler!D:E, 2, 0)=0, \"\", VLOOKUP('Ek.3-A'!E220, Veriler!D:E, 2, 0)))","v":""},{"$f":"IF('Ek.3-A'!O220=\"\", \"\", 'Ek.3-A'!O220)","v":""},{"$f":"'Ek.3-A'!R220","v":0},{"$f":"'Ek.3-A'!K220","v":""},{"$f":"'Ek.3-A'!L220","v":""},{"v":0,"d":"%0.00"},"H",{"$f":"IF(O220=\"E\",SUM($N$5:N220),0)","v":{"v":0,"d":"%0.00"}},0]
[3.21,"YERLİ KATKI ORANI RAPORU",null,700510300000,0.1,null,82,{"$f":"IF(TRIM('Ek.3-A'!E221)<>\"\",\"var\",\"yok\")","v":"yok"},{"$f":"IF('Ek.3-A'!E221=\"\", \"\", IF(VLOOKUP('Ek.3-A'!E221, Veriler!D:E, 2, 0)=0, \"\", VLOOKUP('Ek.3-A'!E221, Veriler!D:E, 2, 0)))","v":""},{"$f":"IF('Ek.3-A'!O221=\"\", \"\", 'Ek.3-A'!O221)","v":""},{"$f":"'Ek.3-A'!R221","v":0},{"$f":"'Ek.3-A'!K221","v":""},{"$f":"'Ek.3-A'!L221","v":""},{"v":0,"d":"%0.00"},"H",{"$f":"IF(O221=\"E\",SUM($N$5:N221),0)","v":{"v":0,"d":"%0.00"}},0]
[3.22,"YERLİ KATKI ORANI RAPORU",null,854149000012,0.1,null,83,{"$f":"IF(TRIM('Ek.3-A'!E222)<>\"\",\"var\",\"yok\")","v":"yok"},{"$f":"IF('Ek.3-A'!E222=\"\", \"\", IF(VLOOKUP('Ek.3-A'!E222, Veriler!D:E, 2, 0)=0, \"\", VLOOKUP('Ek.3-A'!E222, Veriler!D:E, 2, 0)))","v":""},{"$f":"IF('Ek.3-A'!O222=\"\", \"\", 'Ek.3-A'!O222)","v":""},{"$f":"'Ek.3-A'!R222","v":0},{"$f":"'Ek.3-A'!K222","v":""},{"$f":"'Ek.3-A'!L222","v":""},{"v":0,"d":"%0.00"},"H",{"$f":"IF(O222=\"E\",SUM($N$5:N222),0)","v":{"v":0,"d":"%0.00"}},0]
[3.23,"YERLİ KATKI ORANI RAPORU",null,480256202000,0.1,null,84,{"$f":"IF(TRIM('Ek.3-A'!E223)<>\"\",\"var\",\"yok\")","v":"yok"},{"$f":"IF('Ek.3-A'!E223=\"\", \"\", IF(VLOOKUP('Ek.3-A'!E223, Veriler!D:E, 2, 0)=0, \"\", VLOOKUP('Ek.3-A'!E223, Veriler!D:E, 2, 0)))","v":""},{"$f":"IF('Ek.3-A'!O223=\"\", \"\", 'Ek.3-A'!O223)","v":""},{"$f":"'Ek.3-A'!R223","v":0},{"$f":"'Ek.3-A'!K223","v":""},{"$f":"'Ek.3-A'!L223","v":""},{"v":0,"d":"%0.00"},"H",{"$f":"IF(O223=\"E\",SUM($N$5:N223),0)","v":{"v":0,"d":"%0.00"}},0]
[3.24,"YERLİ KATKI ORANI RAPORU",null,854190000011,0.1]
[3.25,"YERLİ KATKI ORANI RAPORU",null,291735000000,0.1]
[3.26,"YERLİ KATKI ORANI RAPORU",null,271019670012,0.1]
[3.27,"YERLİ KATKI ORANI RAPORU",null,271019510000,0.1]
[3.28,"YERLİ KATKI ORANI RAPORU",null,271019310000,0.1]
[3.29,"YERLİ KATKI ORANI RAPORU",null,848710900000,0.1]
[{"v":3.3,"d":"3.30"},"YERLİ KATKI ORANI RAPORU",null,470329000000,0.1]
[3.31,"YERLİ KATKI ORANI RAPORU",null,470790100000,0.1]
[3.32,"YERLİ KATKI ORANI RAPORU",null,470790900000,0.1]
[3.33,"YERLİ KATKI ORANI RAPORU",null,291521000011,0.1,null,{"$f":"G208+1","v":85},{"$f":"IF(TRIM('Ek.3-A'!E233)<>\"\",\"var\",\"yok\")","v":"yok"},{"$f":"IF('Ek.3-A'!E233=\"\", \"\", IF(VLOOKUP('Ek.3-A'!E233, Veriler!D:E, 2, 0)=0, \"\", VLOOKUP('Ek.3-A'!E233, Veriler!D:E, 2, 0)))","v":""},{"$f":"IF('Ek.3-A'!O233=\"\", \"\", 'Ek.3-A'!O233)","v":""},{"$f":"'Ek.3-A'!R233","v":0},{"$f":"'Ek.3-A'!K233","v":""},{"$f":"'Ek.3-A'!L233","v":""},{"$f":"IF(H233=\"var\",0,IF(M233<=0.005,M233,0))","v":{"v":0,"d":"%0.00"}},{"$f":"IF(M233<=0.005,\"E\",\"H\")","v":"H"},{"$f":"IF(O233=\"E\",SUM($N$5:N233),0)","v":{"v":0,"d":"%0.00"}},{"$f":"IF(P233<=0.1, K233, IF(N233>$F$2, N233*K233, $F$2*K233))","v":0}]
[3.34,"YERLİ KATKI ORANI RAPORU",null,710691000000,0.1,null,{"$f":"G233+1","v":86},{"$f":"IF(TRIM('Ek.3-A'!E234)<>\"\",\"var\",\"yok\")","v":"yok"},{"$f":"IF('Ek.3-A'!E234=\"\", \"\", IF(VLOOKUP('Ek.3-A'!E234, Veriler!D:E, 2, 0)=0, \"\", VLOOKUP('Ek.3-A'!E234, Veriler!D:E, 2, 0)))","v":""},{"$f":"IF('Ek.3-A'!O234=\"\", \"\", 'Ek.3-A'!O234)","v":""},{"$f":"'Ek.3-A'!R234","v":0},{"$f":"'Ek.3-A'!K234","v":""},{"$f":"'Ek.3-A'!L234","v":""},{"$f":"IF(H234=\"var\",0,IF(M234<=0.005,M234,0))","v":{"v":0,"d":"%0.00"}},{"$f":"IF(M234<=0.005,\"E\",\"H\")","v":"H"},{"$f":"IF(O234=\"E\",SUM($N$5:N234),0)","v":{"v":0,"d":"%0.00"}},{"$f":"IF(P234<=0.1, K234, IF(N234>$F$2, N234*K234, $F$2*K234))","v":0}]
[3.35,"YERLİ KATKI ORANI RAPORU",null,850640000000,0.1,null,{"$f":"G234+1","v":87},{"$f":"IF(TRIM('Ek.3-A'!E235)<>\"\",\"var\",\"yok\")","v":"yok"},{"$f":"IF('Ek.3-A'!E235=\"\", \"\", IF(VLOOKUP('Ek.3-A'!E235, Veriler!D:E, 2, 0)=0, \"\", VLOOKUP('Ek.3-A'!E235, Veriler!D:E, 2, 0)))","v":""},{"$f":"IF('Ek.3-A'!O235=\"\", \"\", 'Ek.3-A'!O235)","v":""},{"$f":"'Ek.3-A'!R235","v":0},{"$f":"'Ek.3-A'!K235","v":""},{"$f":"'Ek.3-A'!L235","v":""},{"v":0,"d":"%0.00"},"H",{"$f":"IF(O235=\"E\",SUM($N$5:N235),0)","v":{"v":0,"d":"%0.00"}},0]
[3.36,"YERLİ KATKI ORANI RAPORU",null,271012110000,0.1,null,{"$f":"G235+1","v":88},{"$f":"IF(TRIM('Ek.3-A'!E236)<>\"\",\"var\",\"yok\")","v":"yok"},{"$f":"IF('Ek.3-A'!E236=\"\", \"\", IF(VLOOKUP('Ek.3-A'!E236, Veriler!D:E, 2, 0)=0, \"\", VLOOKUP('Ek.3-A'!E236, Veriler!D:E, 2, 0)))","v":""},{"$f":"IF('Ek.3-A'!O236=\"\", \"\", 'Ek.3-A'!O236)","v":""},{"$f":"'Ek.3-A'!R236","v":0},{"$f":"'Ek.3-A'!K236","v":""},{"$f":"'Ek.3-A'!L236","v":""},{"v":0,"d":"%0.00"},"H",{"$f":"IF(O236=\"E\",SUM($N$5:N236),0)","v":{"v":0,"d":"%0.00"}},0]
[3.37,"YERLİ KATKI ORANI RAPORU",null,400239000000,0.1,null,89,{"$f":"IF(TRIM('Ek.3-A'!E237)<>\"\",\"var\",\"yok\")","v":"yok"},{"$f":"IF('Ek.3-A'!E237=\"\", \"\", IF(VLOOKUP('Ek.3-A'!E237, Veriler!D:E, 2, 0)=0, \"\", VLOOKUP('Ek.3-A'!E237, Veriler!D:E, 2, 0)))","v":""},{"$f":"IF('Ek.3-A'!O237=\"\", \"\", 'Ek.3-A'!O237)","v":""},{"$f":"'Ek.3-A'!R237","v":0},{"$f":"'Ek.3-A'!K237","v":""},{"$f":"'Ek.3-A'!L237","v":""},{"v":0,"d":"%0.00"},"H",{"$f":"IF(O237=\"E\",SUM($N$5:N237),0)","v":{"v":0,"d":"%0.00"}},0]
[3.38,"YERLİ KATKI ORANI RAPORU",null,250300100000,0.1,null,90,{"$f":"IF(TRIM('Ek.3-A'!E238)<>\"\",\"var\",\"yok\")","v":"yok"},{"$f":"IF('Ek.3-A'!E238=\"\", \"\", IF(VLOOKUP('Ek.3-A'!E238, Veriler!D:E, 2, 0)=0, \"\", VLOOKUP('Ek.3-A'!E238, Veriler!D:E, 2, 0)))","v":""},{"$f":"IF('Ek.3-A'!O238=\"\", \"\", 'Ek.3-A'!O238)","v":""},{"$f":"'Ek.3-A'!R238","v":0},{"$f":"'Ek.3-A'!K238","v":""},{"$f":"'Ek.3-A'!L238","v":""},{"v":0,"d":"%0.00"},"H",{"$f":"IF(O238=\"E\",SUM($N$5:N238),0)","v":{"v":0,"d":"%0.00"}},0]
[3.39,"YERLİ KATKI ORANI RAPORU",null,940199100000,0.1,null,91,{"$f":"IF(TRIM('Ek.3-A'!E239)<>\"\",\"var\",\"yok\")","v":"yok"},{"$f":"IF('Ek.3-A'!E239=\"\", \"\", IF(VLOOKUP('Ek.3-A'!E239, Veriler!D:E, 2, 0)=0, \"\", VLOOKUP('Ek.3-A'!E239, Veriler!D:E, 2, 0)))","v":""},{"$f":"IF('Ek.3-A'!O239=\"\", \"\", 'Ek.3-A'!O239)","v":""},{"$f":"'Ek.3-A'!R239","v":0},{"$f":"'Ek.3-A'!K239","v":""},{"$f":"'Ek.3-A'!L239","v":""},{"v":0,"d":"%0.00"},"H",{"$f":"IF(O239=\"E\",SUM($N$5:N239),0)","v":{"v":0,"d":"%0.00"}},0]
[{"v":3.4,"d":"3.40"},"YERLİ KATKI ORANI RAPORU",null,292122000011,0.1,null,92,{"$f":"IF(TRIM('Ek.3-A'!E240)<>\"\",\"var\",\"yok\")","v":"yok"},{"$f":"IF('Ek.3-A'!E240=\"\", \"\", IF(VLOOKUP('Ek.3-A'!E240, Veriler!D:E, 2, 0)=0, \"\", VLOOKUP('Ek.3-A'!E240, Veriler!D:E, 2, 0)))","v":""},{"$f":"IF('Ek.3-A'!O240=\"\", \"\", 'Ek.3-A'!O240)","v":""},{"$f":"'Ek.3-A'!R240","v":0},{"$f":"'Ek.3-A'!K240","v":""},{"$f":"'Ek.3-A'!L240","v":""},{"v":0,"d":"%0.00"},"H",{"$f":"IF(O240=\"E\",SUM($N$5:N240),0)","v":{"v":0,"d":"%0.00"}},0]
[3.41,"YERLİ KATKI ORANI RAPORU",null,300190910000,0.1,null,93,{"$f":"IF(TRIM('Ek.3-A'!E241)<>\"\",\"var\",\"yok\")","v":"yok"},{"$f":"IF('Ek.3-A'!E241=\"\", \"\", IF(VLOOKUP('Ek.3-A'!E241, Veriler!D:E, 2, 0)=0, \"\", VLOOKUP('Ek.3-A'!E241, Veriler!D:E, 2, 0)))","v":""},{"$f":"IF('Ek.3-A'!O241=\"\", \"\", 'Ek.3-A'!O241)","v":""},{"$f":"'Ek.3-A'!R241","v":0},{"$f":"'Ek.3-A'!K241","v":""},{"$f":"'Ek.3-A'!L241","v":""},{"v":0,"d":"%0.00"},"H",{"$f":"IF(O241=\"E\",SUM($N$5:N241),0)","v":{"v":0,"d":"%0.00"}},0]
[3.42,"YERLİ KATKI ORANI RAPORU",null,391239200000,0.1,null,94,{"$f":"IF(TRIM('Ek.3-A'!E242)<>\"\",\"var\",\"yok\")","v":"yok"},{"$f":"IF('Ek.3-A'!E242=\"\", \"\", IF(VLOOKUP('Ek.3-A'!E242, Veriler!D:E, 2, 0)=0, \"\", VLOOKUP('Ek.3-A'!E242, Veriler!D:E, 2, 0)))","v":""},{"$f":"IF('Ek.3-A'!O242=\"\", \"\", 'Ek.3-A'!O242)","v":""},{"$f":"'Ek.3-A'!R242","v":0},{"$f":"'Ek.3-A'!K242","v":""},{"$f":"'Ek.3-A'!L242","v":""},{"v":0,"d":"%0.00"},"H",{"$f":"IF(O242=\"E\",SUM($N$5:N242),0)","v":{"v":0,"d":"%0.00"}},0]
[3.43,"YERLİ KATKI ORANI RAPORU",null,854141000000,0.1,null,95,{"$f":"IF(TRIM('Ek.3-A'!E243)<>\"\",\"var\",\"yok\")","v":"yok"},{"$f":"IF('Ek.3-A'!E243=\"\", \"\", IF(VLOOKUP('Ek.3-A'!E243, Veriler!D:E, 2, 0)=0, \"\", VLOOKUP('Ek.3-A'!E243, Veriler!D:E, 2, 0)))","v":""},{"$f":"IF('Ek.3-A'!O243=\"\", \"\", 'Ek.3-A'!O243)","v":""},{"$f":"'Ek.3-A'!R243","v":0},{"$f":"'Ek.3-A'!K243","v":""},{"$f":"'Ek.3-A'!L243","v":""},{"v":0,"d":"%0.00"},"H",{"$f":"IF(O243=\"E\",SUM($N$5:N243),0)","v":{"v":0,"d":"%0.00"}},0]
[3.44,"YERLİ KATKI ORANI RAPORU",null,330210290000,0.1,null,96,{"$f":"IF(TRIM('Ek.3-A'!E244)<>\"\",\"var\",\"yok\")","v":"yok"},{"$f":"IF('Ek.3-A'!E244=\"\", \"\", IF(VLOOKUP('Ek.3-A'!E244, Veriler!D:E, 2, 0)=0, \"\", VLOOKUP('Ek.3-A'!E244, Veriler!D:E, 2, 0)))","v":""},{"$f":"IF('Ek.3-A'!O244=\"\", \"\", 'Ek.3-A'!O244)","v":""},{"$f":"'Ek.3-A'!R244","v":0},{"$f":"'Ek.3-A'!K244","v":""},{"$f":"'Ek.3-A'!L244","v":""},{"v":0,"d":"%0.00"},"H",{"$f":"IF(O244=\"E\",SUM($N$5:N244),0)","v":{"v":0,"d":"%0.00"}},0]
[3.45,"YERLİ KATKI ORANI RAPORU",null,330210401000,0.1,null,97,{"$f":"IF(TRIM('Ek.3-A'!E245)<>\"\",\"var\",\"yok\")","v":"yok"},{"$f":"IF('Ek.3-A'!E245=\"\", \"\", IF(VLOOKUP('Ek.3-A'!E245, Veriler!D:E, 2, 0)=0, \"\", VLOOKUP('Ek.3-A'!E245, Veriler!D:E, 2, 0)))","v":""},{"$f":"IF('Ek.3-A'!O245=\"\", \"\", 'Ek.3-A'!O245)","v":""},{"$f":"'Ek.3-A'!R245","v":0},{"$f":"'Ek.3-A'!K245","v":""},{"$f":"'Ek.3-A'!L245","v":""},{"v":0,"d":"%0.00"},"H",{"$f":"IF(O245=\"E\",SUM($N$5:N245),0)","v":{"v":0,"d":"%0.00"}},0]
[3.46,"YERLİ KATKI ORANI RAPORU",null,848240000000,0.1,null,98,{"$f":"IF(TRIM('Ek.3-A'!E246)<>\"\",\"var\",\"yok\")","v":"yok"},{"$f":"IF('Ek.3-A'!E246=\"\", \"\", IF(VLOOKUP('Ek.3-A'!E246, Veriler!D:E, 2, 0)=0, \"\", VLOOKUP('Ek.3-A'!E246, Veriler!D:E, 2, 0)))","v":""},{"$f":"IF('Ek.3-A'!O246=\"\", \"\", 'Ek.3-A'!O246)","v":""},{"$f":"'Ek.3-A'!R246","v":0},{"$f":"'Ek.3-A'!K246","v":""},{"$f":"'Ek.3-A'!L246","v":""},{"v":0,"d":"%0.00"},"H",{"$f":"IF(O246=\"E\",SUM($N$5:N246),0)","v":{"v":0,"d":"%0.00"}},0]
[3.47,"YERLİ KATKI ORANI RAPORU",null,470321000000,0.1,{"$nulls":3},""]
[3.48,"YERLİ KATKI ORANI RAPORU",null,280300009011,0.1,null,{"$f":"G223+1","v":85},{"$f":"IF(TRIM('Ek.3-A'!E248)<>\"\",\"var\",\"yok\")","v":"yok"},{"$f":"IF('Ek.3-A'!E248=\"\", \"\", IF(VLOOKUP('Ek.3-A'!E248, Veriler!D:E, 2, 0)=0, \"\", VLOOKUP('Ek.3-A'!E248, Veriler!D:E, 2, 0)))","v":""},{"$f":"IF('Ek.3-A'!O248=\"\", \"\", 'Ek.3-A'!O248)","v":""},{"$f":"'Ek.3-A'!R248","v":0},{"$f":"'Ek.3-A'!K248","v":""},{"$f":"'Ek.3-A'!L248","v":""},{"$f":"IF(H248=\"var\",0,IF(M248<=0.005,M248,0))","v":{"v":0,"d":"%0.00"}},{"$f":"IF(M248<=0.005,\"E\",\"H\")","v":"H"},{"$f":"IF(O248=\"E\",SUM($N$5:N248),0)","v":{"v":0,"d":"%0.00"}},{"$f":"IF(P248<=0.1, K248, IF(N248>$F$2, N248*K248, $F$2*K248))","v":0}]
[3.49,"YERLİ KATKI ORANI RAPORU",null,854231110000,0.1,null,{"$f":"G248+1","v":86},{"$f":"IF(TRIM('Ek.3-A'!E249)<>\"\",\"var\",\"yok\")","v":"yok"},{"$f":"IF('Ek.3-A'!E249=\"\", \"\", IF(VLOOKUP('Ek.3-A'!E249, Veriler!D:E, 2, 0)=0, \"\", VLOOKUP('Ek.3-A'!E249, Veriler!D:E, 2, 0)))","v":""},{"$f":"IF('Ek.3-A'!O249=\"\", \"\", 'Ek.3-A'!O249)","v":""},{"$f":"'Ek.3-A'!R249","v":0},{"$f":"'Ek.3-A'!K249","v":""},{"$f":"'Ek.3-A'!L249","v":""},{"$f":"IF(H249=\"var\",0,IF(M249<=0.005,M249,0))","v":{"v":0,"d":"%0.00"}},{"$f":"IF(M249<=0.005,\"E\",\"H\")","v":"H"},{"$f":"IF(O249=\"E\",SUM($N$5:N249),0)","v":{"v":0,"d":"%0.00"}},{"$f":"IF(P249<=0.1, K249, IF(N249>$F$2, N249*K249, $F$2*K249))","v":0}]
[{"v":3.5,"d":"3.50"},"YERLİ KATKI ORANI RAPORU",null,854231900000,0.1,null,{"$f":"G249+1","v":87},{"$f":"IF(TRIM('Ek.3-A'!E250)<>\"\",\"var\",\"yok\")","v":"yok"},{"$f":"IF('Ek.3-A'!E250=\"\", \"\", IF(VLOOKUP('Ek.3-A'!E250, Veriler!D:E, 2, 0)=0, \"\", VLOOKUP('Ek.3-A'!E250, Veriler!D:E, 2, 0)))","v":""},{"$f":"IF('Ek.3-A'!O250=\"\", \"\", 'Ek.3-A'!O250)","v":""},{"$f":"'Ek.3-A'!R250","v":0},{"$f":"'Ek.3-A'!K250","v":""},{"$f":"'Ek.3-A'!L250","v":""},{"v":0,"d":"%0.00"},"H",{"$f":"IF(O250=\"E\",SUM($N$5:N250),0)","v":{"v":0,"d":"%0.00"}},0]
[3.51,"YERLİ KATKI ORANI RAPORU",null,854231190000,0.1,null,88,{"$f":"IF(TRIM('Ek.3-A'!E251)<>\"\",\"var\",\"yok\")","v":"yok"},{"$f":"IF('Ek.3-A'!E251=\"\", \"\", IF(VLOOKUP('Ek.3-A'!E251, Veriler!D:E, 2, 0)=0, \"\", VLOOKUP('Ek.3-A'!E251, Veriler!D:E, 2, 0)))","v":""},{"$f":"IF('Ek.3-A'!O251=\"\", \"\", 'Ek.3-A'!O251)","v":""},{"$f":"'Ek.3-A'!R251","v":0},{"$f":"'Ek.3-A'!K251","v":""},{"$f":"'Ek.3-A'!L251","v":""},{"v":0,"d":"%0.00"},"H",{"$f":"IF(O251=\"E\",SUM($N$5:N251),0)","v":{"v":0,"d":"%0.00"}},0]
[3.52,"YERLİ KATKI ORANI RAPORU",null,800110000000,0.1,null,89,{"$f":"IF(TRIM('Ek.3-A'!E252)<>\"\",\"var\",\"yok\")","v":"yok"},{"$f":"IF('Ek.3-A'!E252=\"\", \"\", IF(VLOOKUP('Ek.3-A'!E252, Veriler!D:E, 2, 0)=0, \"\", VLOOKUP('Ek.3-A'!E252, Veriler!D:E, 2, 0)))","v":""},{"$f":"IF('Ek.3-A'!O252=\"\", \"\", 'Ek.3-A'!O252)","v":""},{"$f":"'Ek.3-A'!R252","v":0},{"$f":"'Ek.3-A'!K252","v":""},{"$f":"'Ek.3-A'!L252","v":""},{"v":0,"d":"%0.00"},"H",{"$f":"IF(O252=\"E\",SUM($N$5:N252),0)","v":{"v":0,"d":"%0.00"}},0]
[3.53,"YERLİ KATKI ORANI RAPORU",null,400260000000,0.1,null,90,{"$f":"IF(TRIM('Ek.3-A'!E253)<>\"\",\"var\",\"yok\")","v":"yok"},{"$f":"IF('Ek.3-A'!E253=\"\", \"\", IF(VLOOKUP('Ek.3-A'!E253, Veriler!D:E, 2, 0)=0, \"\", VLOOKUP('Ek.3-A'!E253, Veriler!D:E, 2, 0)))","v":""},{"$f":"IF('Ek.3-A'!O253=\"\", \"\", 'Ek.3-A'!O253)","v":""},{"$f":"'Ek.3-A'!R253","v":0},{"$f":"'Ek.3-A'!K253","v":""},{"$f":"'Ek.3-A'!L253","v":""},{"v":0,"d":"%0.00"},"H",{"$f":"IF(O253=\"E\",SUM($N$5:N253),0)","v":{"v":0,"d":"%0.00"}},0]
[3.54,"YERLİ KATKI ORANI RAPORU",null,290512000012,0.1,null,91,{"$f":"IF(TRIM('Ek.3-A'!E254)<>\"\",\"var\",\"yok\")","v":"yok"},{"$f":"IF('Ek.3-A'!E254=\"\", \"\", IF(VLOOKUP('Ek.3-A'!E254, Veriler!D:E, 2, 0)=0, \"\", VLOOKUP('Ek.3-A'!E254, Veriler!D:E, 2, 0)))","v":""},{"$f":"IF('Ek.3-A'!O254=\"\", \"\", 'Ek.3-A'!O254)","v":""},{"$f":"'Ek.3-A'!R254","v":0},{"$f":"'Ek.3-A'!K254","v":""},{"$f":"'Ek.3-A'!L254","v":""},{"v":0,"d":"%0.00"},"H",{"$f":"IF(O254=\"E\",SUM($N$5:N254),0)","v":{"v":0,"d":"%0.00"}},0]
[3.55,"YERLİ KATKI ORANI RAPORU",null,530710000000,0.1,null,92,{"$f":"IF(TRIM('Ek.3-A'!E255)<>\"\",\"var\",\"yok\")","v":"yok"},{"$f":"IF('Ek.3-A'!E255=\"\", \"\", IF(VLOOKUP('Ek.3-A'!E255, Veriler!D:E, 2, 0)=0, \"\", VLOOKUP('Ek.3-A'!E255, Veriler!D:E, 2, 0)))","v":""},{"$f":"IF('Ek.3-A'!O255=\"\", \"\", 'Ek.3-A'!O255)","v":""},{"$f":"'Ek.3-A'!R255","v":0},{"$f":"'Ek.3-A'!K255","v":""},{"$f":"'Ek.3-A'!L255","v":""},{"v":0,"d":"%0.00"},"H",{"$f":"IF(O255=\"E\",SUM($N$5:N255),0)","v":{"v":0,"d":"%0.00"}},0]
[3.56,"YERLİ KATKI ORANI RAPORU",null,720430000000,0.1,null,93,{"$f":"IF(TRIM('Ek.3-A'!E256)<>\"\",\"var\",\"yok\")","v":"yok"},{"$f":"IF('Ek.3-A'!E256=\"\", \"\", IF(VLOOKUP('Ek.3-A'!E256, Veriler!D:E, 2, 0)=0, \"\", VLOOKUP('Ek.3-A'!E256, Veriler!D:E, 2, 0)))","v":""},{"$f":"IF('Ek.3-A'!O256=\"\", \"\", 'Ek.3-A'!O256)","v":""},{"$f":"'Ek.3-A'!R256","v":0},{"$f":"'Ek.3-A'!K256","v":""},{"$f":"'Ek.3-A'!L256","v":""},{"v":0,"d":"%0.00"},"H",{"$f":"IF(O256=\"E\",SUM($N$5:N256),0)","v":{"v":0,"d":"%0.00"}},0]
[3.57,"YERLİ KATKI ORANI RAPORU",null,401120100019,0.1,null,94,{"$f":"IF(TRIM('Ek.3-A'!E257)<>\"\",\"var\",\"yok\")","v":"yok"},{"$f":"IF('Ek.3-A'!E257=\"\", \"\", IF(VLOOKUP('Ek.3-A'!E257, Veriler!D:E, 2, 0)=0, \"\", VLOOKUP('Ek.3-A'!E257, Veriler!D:E, 2, 0)))","v":""},{"$f":"IF('Ek.3-A'!O257=\"\", \"\", 'Ek.3-A'!O257)","v":""},{"$f":"'Ek.3-A'!R257","v":0},{"$f":"'Ek.3-A'!K257","v":""},{"$f":"'Ek.3-A'!L257","v":""},{"v":0,"d":"%0.00"},"H",{"$f":"IF(O257=\"E\",SUM($N$5:N257),0)","v":{"v":0,"d":"%0.00"}},0]
[3.58,"YERLİ KATKI ORANI RAPORU",null,401120100011,0.1,null,95,{"$f":"IF(TRIM('Ek.3-A'!E258)<>\"\",\"var\",\"yok\")","v":"yok"},{"$f":"IF('Ek.3-A'!E258=\"\", \"\", IF(VLOOKUP('Ek.3-A'!E258, Veriler!D:E, 2, 0)=0, \"\", VLOOKUP('Ek.3-A'!E258, Veriler!D:E, 2, 0)))","v":""},{"$f":"IF('Ek.3-A'!O258=\"\", \"\", 'Ek.3-A'!O258)","v":""},{"$f":"'Ek.3-A'!R258","v":0},{"$f":"'Ek.3-A'!K258","v":""},{"$f":"'Ek.3-A'!L258","v":""},{"v":0,"d":"%0.00"},"H",{"$f":"IF(O258=\"E\",SUM($N$5:N258),0)","v":{"v":0,"d":"%0.00"}},0]
[3.59,"YERLİ KATKI ORANI RAPORU",null,848360809012,0.1,null,96,{"$f":"IF(TRIM('Ek.3-A'!E259)<>\"\",\"var\",\"yok\")","v":"yok"},{"$f":"IF('Ek.3-A'!E259=\"\", \"\", IF(VLOOKUP('Ek.3-A'!E259, Veriler!D:E, 2, 0)=0, \"\", VLOOKUP('Ek.3-A'!E259, Veriler!D:E, 2, 0)))","v":""},{"$f":"IF('Ek.3-A'!O259=\"\", \"\", 'Ek.3-A'!O259)","v":""},{"$f":"'Ek.3-A'!R259","v":0},{"$f":"'Ek.3-A'!K259","v":""},{"$f":"'Ek.3-A'!L259","v":""},{"v":0,"d":"%0.00"},"H",{"$f":"IF(O259=\"E\",SUM($N$5:N259),0)","v":{"v":0,"d":"%0.00"}},0]
[{"v":3.6,"d":"3.60"},"YERLİ KATKI ORANI RAPORU",null,840732900000,0.1,null,97,{"$f":"IF(TRIM('Ek.3-A'!E260)<>\"\",\"var\",\"yok\")","v":"yok"},{"$f":"IF('Ek.3-A'!E260=\"\", \"\", IF(VLOOKUP('Ek.3-A'!E260, Veriler!D:E, 2, 0)=0, \"\", VLOOKUP('Ek.3-A'!E260, Veriler!D:E, 2, 0)))","v":""},{"$f":"IF('Ek.3-A'!O260=\"\", \"\", 'Ek.3-A'!O260)","v":""},{"$f":"'Ek.3-A'!R260","v":0},{"$f":"'Ek.3-A'!K260","v":""},{"$f":"'Ek.3-A'!L260","v":""},{"v":0,"d":"%0.00"},"H",{"$f":"IF(O260=\"E\",SUM($N$5:N260),0)","v":{"v":0,"d":"%0.00"}},0]
[3.61,"YERLİ KATKI ORANI RAPORU",null,840732100000,0.1,null,98,{"$f":"IF(TRIM('Ek.3-A'!E261)<>\"\",\"var\",\"yok\")","v":"yok"},{"$f":"IF('Ek.3-A'!E261=\"\", \"\", IF(VLOOKUP('Ek.3-A'!E261, Veriler!D:E, 2, 0)=0, \"\", VLOOKUP('Ek.3-A'!E261, Veriler!D:E, 2, 0)))","v":""},{"$f":"IF('Ek.3-A'!O261=\"\", \"\", 'Ek.3-A'!O261)","v":""},{"$f":"'Ek.3-A'!R261","v":0},{"$f":"'Ek.3-A'!K261","v":""},{"$f":"'Ek.3-A'!L261","v":""},{"v":0,"d":"%0.00"},"H",{"$f":"IF(O261=\"E\",SUM($N$5:N261),0)","v":{"v":0,"d":"%0.00"}},0]
[3.62,"YERLİ KATKI ORANI RAPORU",null,840733800000,0.1]
[3.63,"YERLİ KATKI ORANI RAPORU",null,840731000000,0.1]
[3.64,"YERLİ KATKI ORANI RAPORU",null,840734910000,0.1]
[3.65,"YERLİ KATKI ORANI RAPORU",null,840734990000,0.1]
[3.66,"YERLİ KATKI ORANI RAPORU",null,840734100000,0.1]
[3.67,"YERLİ KATKI ORANI RAPORU",null,400591000000,0.1]
[3.68,"YERLİ KATKI ORANI RAPORU",null,400400000019,0.1]
[3.69,"YERLİ KATKI ORANI RAPORU",null,271019210019,0.1]
[{"v":3.7,"d":"3.70"},"YERLİ KATKI ORANI RAPORU",null,530610300000,0.1]
[3.71,"YERLİ KATKI ORANI RAPORU",null,851150009000,0.1,null,{"$f":"G246+1","v":99},{"$f":"IF(TRIM('Ek.3-A'!E271)<>\"\",\"var\",\"yok\")","v":"yok"},{"$f":"IF('Ek.3-A'!E271=\"\", \"\", IF(VLOOKUP('Ek.3-A'!E271, Veriler!D:E, 2, 0)=0, \"\", VLOOKUP('Ek.3-A'!E271, Veriler!D:E, 2, 0)))","v":""},{"$f":"IF('Ek.3-A'!O271=\"\", \"\", 'Ek.3-A'!O271)","v":""},{"$f":"'Ek.3-A'!R271","v":0},{"$f":"'Ek.3-A'!K271","v":""},{"$f":"'Ek.3-A'!L271","v":""},{"$f":"IF(H271=\"var\",0,IF(M271<=0.005,M271,0))","v":{"v":0,"d":"%0.00"}},{"$f":"IF(M271<=0.005,\"E\",\"H\")","v":"H"},{"$f":"IF(O271=\"E\",SUM($N$5:N271),0)","v":{"v":0,"d":"%0.00"}},{"$f":"IF(P271<=0.1, K271, IF(N271>$F$2, N271*K271, $F$2*K271))","v":0}]
[3.72,"YERLİ KATKI ORANI RAPORU",null,284390900000,0.1,null,{"$f":"G271+1","v":100},{"$f":"IF(TRIM('Ek.3-A'!E272)<>\"\",\"var\",\"yok\")","v":"yok"},{"$f":"IF('Ek.3-A'!E272=\"\", \"\", IF(VLOOKUP('Ek.3-A'!E272, Veriler!D:E, 2, 0)=0, \"\", VLOOKUP('Ek.3-A'!E272, Veriler!D:E, 2, 0)))","v":""},{"$f":"IF('Ek.3-A'!O272=\"\", \"\", 'Ek.3-A'!O272)","v":""},{"$f":"'Ek.3-A'!R272","v":0},{"$f":"'Ek.3-A'!K272","v":""},{"$f":"'Ek.3-A'!L272","v":""},{"$f":"IF(H272=\"var\",0,IF(M272<=0.005,M272,0))","v":{"v":0,"d":"%0.00"}},{"$f":"IF(M272<=0.005,\"E\",\"H\")","v":"H"},{"$f":"IF(O272=\"E\",SUM($N$5:N272),0)","v":{"v":0,"d":"%0.00"}},{"$f":"IF(P272<=0.1, K272, IF(N272>$F$2, N272*K272, $F$2*K272))","v":0}]
[3.73,"YERLİ KATKI ORANI RAPORU",null,854914900000,0.1,null,{"$f":"G272+1","v":101},{"$f":"IF(TRIM('Ek.3-A'!E273)<>\"\",\"var\",\"yok\")","v":"yok"},{"$f":"IF('Ek.3-A'!E273=\"\", \"\", IF(VLOOKUP('Ek.3-A'!E273, Veriler!D:E, 2, 0)=0, \"\", VLOOKUP('Ek.3-A'!E273, Veriler!D:E, 2, 0)))","v":""},{"$f":"IF('Ek.3-A'!O273=\"\", \"\", 'Ek.3-A'!O273)","v":""},{"$f":"'Ek.3-A'!R273","v":0},{"$f":"'Ek.3-A'!K273","v":""},{"$f":"'Ek.3-A'!L273","v":""},{"v":0,"d":"%0.00"},"H",{"$f":"IF(O273=\"E\",SUM($N$5:N273),0)","v":{"v":0,"d":"%0.00"}},0]
[3.74,"YERLİ KATKI ORANI RAPORU",null,854913900000,0.1,null,{"$f":"G273+1","v":102},{"$f":"IF(TRIM('Ek.3-A'!E274)<>\"\",\"var\",\"yok\")","v":"yok"},{"$f":"IF('Ek.3-A'!E274=\"\", \"\", IF(VLOOKUP('Ek.3-A'!E274, Veriler!D:E, 2, 0)=0, \"\", VLOOKUP('Ek.3-A'!E274, Veriler!D:E, 2, 0)))","v":""},{"$f":"IF('Ek.3-A'!O274=\"\", \"\", 'Ek.3-A'!O274)","v":""},{"$f":"'Ek.3-A'!R274","v":0},{"$f":"'Ek.3-A'!K274","v":""},{"$f":"'Ek.3-A'!L274","v":""},{"v":0,"d":"%0.00"},"H",{"$f":"IF(O274=\"E\",SUM($N$5:N274),0)","v":{"v":0,"d":"%0.00"}},0]
[3.75,"YERLİ KATKI ORANI RAPORU",null,810530000000,0.1,null,103,{"$f":"IF(TRIM('Ek.3-A'!E275)<>\"\",\"var\",\"yok\")","v":"yok"},{"$f":"IF('Ek.3-A'!E275=\"\", \"\", IF(VLOOKUP('Ek.3-A'!E275, Veriler!D:E, 2, 0)=0, \"\", VLOOKUP('Ek.3-A'!E275, Veriler!D:E, 2, 0)))","v":""},{"$f":"IF('Ek.3-A'!O275=\"\", \"\", 'Ek.3-A'!O275)","v":""},{"$f":"'Ek.3-A'!R275","v":0},{"$f":"'Ek.3-A'!K275","v":""},{"$f":"'Ek.3-A'!L275","v":""},{"v":0,"d":"%0.00"},"H",{"$f":"IF(O275=\"E\",SUM($N$5:N275),0)","v":{"v":0,"d":"%0.00"}},0]
[3.76,"YERLİ KATKI ORANI RAPORU",null,391190190000,0.1,null,104,{"$f":"IF(TRIM('Ek.3-A'!E276)<>\"\",\"var\",\"yok\")","v":"yok"},{"$f":"IF('Ek.3-A'!E276=\"\", \"\", IF(VLOOKUP('Ek.3-A'!E276, Veriler!D:E, 2, 0)=0, \"\", VLOOKUP('Ek.3-A'!E276, Veriler!D:E, 2, 0)))","v":""},{"$f":"IF('Ek.3-A'!O276=\"\", \"\", 'Ek.3-A'!O276)","v":""},{"$f":"'Ek.3-A'!R276","v":0},{"$f":"'Ek.3-A'!K276","v":""},{"$f":"'Ek.3-A'!L276","v":""},{"v":0,"d":"%0.00"},"H",{"$f":"IF(O276=\"E\",SUM($N$5:N276),0)","v":{"v":0,"d":"%0.00"}},0]
[3.77,"YERLİ KATKI ORANI RAPORU",null,848220000000,0.1,null,105,{"$f":"IF(TRIM('Ek.3-A'!E277)<>\"\",\"var\",\"yok\")","v":"yok"},{"$f":"IF('Ek.3-A'!E277=\"\", \"\", IF(VLOOKUP('Ek.3-A'!E277, Veriler!D:E, 2, 0)=0, \"\", VLOOKUP('Ek.3-A'!E277, Veriler!D:E, 2, 0)))","v":""},{"$f":"IF('Ek.3-A'!O277=\"\", \"\", 'Ek.3-A'!O277)","v":""},{"$f":"'Ek.3-A'!R277","v":0},{"$f":"'Ek.3-A'!K277","v":""},{"$f":"'Ek.3-A'!L277","v":""},{"v":0,"d":"%0.00"},"H",{"$f":"IF(O277=\"E\",SUM($N$5:N277),0)","v":{"v":0,"d":"%0.00"}},0]
[3.78,"YERLİ KATKI ORANI RAPORU",null,270730000000,0.1,null,106,{"$f":"IF(TRIM('Ek.3-A'!E278)<>\"\",\"var\",\"yok\")","v":"yok"},{"$f":"IF('Ek.3-A'!E278=\"\", \"\", IF(VLOOKUP('Ek.3-A'!E278, Veriler!D:E, 2, 0)=0, \"\", VLOOKUP('Ek.3-A'!E278, Veriler!D:E, 2, 0)))","v":""},{"$f":"IF('Ek.3-A'!O278=\"\", \"\", 'Ek.3-A'!O278)","v":""},{"$f":"'Ek.3-A'!R278","v":0},{"$f":"'Ek.3-A'!K278","v":""},{"$f":"'Ek.3-A'!L278","v":""},{"v":0,"d":"%0.00"},"H",{"$f":"IF(O278=\"E\",SUM($N$5:N278),0)","v":{"v":0,"d":"%0.00"}},0]
[3.79,"YERLİ KATKI ORANI RAPORU",null,630900000000,0.1,null,107,{"$f":"IF(TRIM('Ek.3-A'!E279)<>\"\",\"var\",\"yok\")","v":"yok"},{"$f":"IF('Ek.3-A'!E279=\"\", \"\", IF(VLOOKUP('Ek.3-A'!E279, Veriler!D:E, 2, 0)=0, \"\", VLOOKUP('Ek.3-A'!E279, Veriler!D:E, 2, 0)))","v":""},{"$f":"IF('Ek.3-A'!O279=\"\", \"\", 'Ek.3-A'!O279)","v":""},{"$f":"'Ek.3-A'!R279","v":0},{"$f":"'Ek.3-A'!K279","v":""},{"$f":"'Ek.3-A'!L279","v":""},{"v":0,"d":"%0.00"},"H",{"$f":"IF(O279=\"E\",SUM($N$5:N279),0)","v":{"v":0,"d":"%0.00"}},0]
[{"v":3.8,"d":"3.80"},"YERLİ KATKI ORANI RAPORU",null,854912900000,0.1,null,108,{"$f":"IF(TRIM('Ek.3-A'!E280)<>\"\",\"var\",\"yok\")","v":"yok"},{"$f":"IF('Ek.3-A'!E280=\"\", \"\", IF(VLOOKUP('Ek.3-A'!E280, Veriler!D:E, 2, 0)=0, \"\", VLOOKUP('Ek.3-A'!E280, Veriler!D:E, 2, 0)))","v":""},{"$f":"IF('Ek.3-A'!O280=\"\", \"\", 'Ek.3-A'!O280)","v":""},{"$f":"'Ek.3-A'!R280","v":0},{"$f":"'Ek.3-A'!K280","v":""},{"$f":"'Ek.3-A'!L280","v":""},{"v":0,"d":"%0.00"},"H",{"$f":"IF(O280=\"E\",SUM($N$5:N280),0)","v":{"v":0,"d":"%0.00"}},0]
[3.81,"YERLİ KATKI ORANI RAPORU",null,854911900000,0.1,null,109,{"$f":"IF(TRIM('Ek.3-A'!E281)<>\"\",\"var\",\"yok\")","v":"yok"},{"$f":"IF('Ek.3-A'!E281=\"\", \"\", IF(VLOOKUP('Ek.3-A'!E281, Veriler!D:E, 2, 0)=0, \"\", VLOOKUP('Ek.3-A'!E281, Veriler!D:E, 2, 0)))","v":""},{"$f":"IF('Ek.3-A'!O281=\"\", \"\", 'Ek.3-A'!O281)","v":""},{"$f":"'Ek.3-A'!R281","v":0},{"$f":"'Ek.3-A'!K281","v":""},{"$f":"'Ek.3-A'!L281","v":""},{"v":0,"d":"%0.00"},"H",{"$f":"IF(O281=\"E\",SUM($N$5:N281),0)","v":{"v":0,"d":"%0.00"}},0]
[3.82,"YERLİ KATKI ORANI RAPORU",null,850720800000,0.1,null,110,{"$f":"IF(TRIM('Ek.3-A'!E282)<>\"\",\"var\",\"yok\")","v":"yok"},{"$f":"IF('Ek.3-A'!E282=\"\", \"\", IF(VLOOKUP('Ek.3-A'!E282, Veriler!D:E, 2, 0)=0, \"\", VLOOKUP('Ek.3-A'!E282, Veriler!D:E, 2, 0)))","v":""},{"$f":"IF('Ek.3-A'!O282=\"\", \"\", 'Ek.3-A'!O282)","v":""},{"$f":"'Ek.3-A'!R282","v":0},{"$f":"'Ek.3-A'!K282","v":""},{"$f":"'Ek.3-A'!L282","v":""},{"v":0,"d":"%0.00"},"H",{"$f":"IF(O282=\"E\",SUM($N$5:N282),0)","v":{"v":0,"d":"%0.00"}},0]
[3.83,"YERLİ KATKI ORANI RAPORU",null,271012450011,0.1,null,111,{"$f":"IF(TRIM('Ek.3-A'!E283)<>\"\",\"var\",\"yok\")","v":"yok"},{"$f":"IF('Ek.3-A'!E283=\"\", \"\", IF(VLOOKUP('Ek.3-A'!E283, Veriler!D:E, 2, 0)=0, \"\", VLOOKUP('Ek.3-A'!E283, Veriler!D:E, 2, 0)))","v":""},{"$f":"IF('Ek.3-A'!O283=\"\", \"\", 'Ek.3-A'!O283)","v":""},{"$f":"'Ek.3-A'!R283","v":0},{"$f":"'Ek.3-A'!K283","v":""},{"$f":"'Ek.3-A'!L283","v":""},{"v":0,"d":"%0.00"},"H",{"$f":"IF(O283=\"E\",SUM($N$5:N283),0)","v":{"v":0,"d":"%0.00"}},0]
[3.84,"YERLİ KATKI ORANI RAPORU",null,293090989068,0.1,null,112,{"$f":"IF(TRIM('Ek.3-A'!E284)<>\"\",\"var\",\"yok\")","v":"yok"},{"$f":"IF('Ek.3-A'!E284=\"\", \"\", IF(VLOOKUP('Ek.3-A'!E284, Veriler!D:E, 2, 0)=0, \"\", VLOOKUP('Ek.3-A'!E284, Veriler!D:E, 2, 0)))","v":""},{"$f":"IF('Ek.3-A'!O284=\"\", \"\", 'Ek.3-A'!O284)","v":""},{"$f":"'Ek.3-A'!R284","v":0},{"$f":"'Ek.3-A'!K284","v":""},{"$f":"'Ek.3-A'!L284","v":""},{"v":0,"d":"%0.00"},"H",{"$f":"IF(O284=\"E\",SUM($N$5:N284),0)","v":{"v":0,"d":"%0.00"}},0]
[3.85,"YERLİ KATKI ORANI RAPORU",null,293090959068,0.1,{"$nulls":3},""]
[3.86,"YERLİ KATKI ORANI RAPORU",null,400251000000,0.1,null,{"$f":"G261+1","v":99},{"$f":"IF(TRIM('Ek.3-A'!E286)<>\"\",\"var\",\"yok\")","v":"yok"},{"$f":"IF('Ek.3-A'!E286=\"\", \"\", IF(VLOOKUP('Ek.3-A'!E286, Veriler!D:E, 2, 0)=0, \"\", VLOOKUP('Ek.3-A'!E286, Veriler!D:E, 2, 0)))","v":""},{"$f":"IF('Ek.3-A'!O286=\"\", \"\", 'Ek.3-A'!O286)","v":""},{"$f":"'Ek.3-A'!R286","v":0},{"$f":"'Ek.3-A'!K286","v":""},{"$f":"'Ek.3-A'!L286","v":""},{"$f":"IF(H286=\"var\",0,IF(M286<=0.005,M286,0))","v":{"v":0,"d":"%0.00"}},{"$f":"IF(M286<=0.005,\"E\",\"H\")","v":"H"},{"$f":"IF(O286=\"E\",SUM($N$5:N286),0)","v":{"v":0,"d":"%0.00"}},{"$f":"IF(P286<=0.1, K286, IF(N286>$F$2, N286*K286, $F$2*K286))","v":0}]
[3.87,"YERLİ KATKI ORANI RAPORU",null,400211000000,0.1,null,{"$f":"G286+1","v":100},{"$f":"IF(TRIM('Ek.3-A'!E287)<>\"\",\"var\",\"yok\")","v":"yok"},{"$f":"IF('Ek.3-A'!E287=\"\", \"\", IF(VLOOKUP('Ek.3-A'!E287, Veriler!D:E, 2, 0)=0, \"\", VLOOKUP('Ek.3-A'!E287, Veriler!D:E, 2, 0)))","v":""},{"$f":"IF('Ek.3-A'!O287=\"\", \"\", 'Ek.3-A'!O287)","v":""},{"$f":"'Ek.3-A'!R287","v":0},{"$f":"'Ek.3-A'!K287","v":""},{"$f":"'Ek.3-A'!L287","v":""},{"$f":"IF(H287=\"var\",0,IF(M287<=0.005,M287,0))","v":{"v":0,"d":"%0.00"}},{"$f":"IF(M287<=0.005,\"E\",\"H\")","v":"H"},{"$f":"IF(O287=\"E\",SUM($N$5:N287),0)","v":{"v":0,"d":"%0.00"}},{"$f":"IF(P287<=0.1, K287, IF(N287>$F$2, N287*K287, $F$2*K287))","v":0}]
[3.88,"YERLİ KATKI ORANI RAPORU",null,850440839011,0.1,null,{"$f":"G287+1","v":101},{"$f":"IF(TRIM('Ek.3-A'!E288)<>\"\",\"var\",\"yok\")","v":"yok"},{"$f":"IF('Ek.3-A'!E288=\"\", \"\", IF(VLOOKUP('Ek.3-A'!E288, Veriler!D:E, 2, 0)=0, \"\", VLOOKUP('Ek.3-A'!E288, Veriler!D:E, 2, 0)))","v":""},{"$f":"IF('Ek.3-A'!O288=\"\", \"\", 'Ek.3-A'!O288)","v":""},{"$f":"'Ek.3-A'!R288","v":0},{"$f":"'Ek.3-A'!K288","v":""},{"$f":"'Ek.3-A'!L288","v":""},{"v":0,"d":"%0.00"},"H",{"$f":"IF(O288=\"E\",SUM($N$5:N288),0)","v":{"v":0,"d":"%0.00"}},0]
[3.89,"YERLİ KATKI ORANI RAPORU",null,381700500000,0.1,null,102,{"$f":"IF(TRIM('Ek.3-A'!E289)<>\"\",\"var\",\"yok\")","v":"yok"},{"$f":"IF('Ek.3-A'!E289=\"\", \"\", IF(VLOOKUP('Ek.3-A'!E289, Veriler!D:E, 2, 0)=0, \"\", VLOOKUP('Ek.3-A'!E289, Veriler!D:E, 2, 0)))","v":""},{"$f":"IF('Ek.3-A'!O289=\"\", \"\", 'Ek.3-A'!O289)","v":""},{"$f":"'Ek.3-A'!R289","v":0},{"$f":"'Ek.3-A'!K289","v":""},{"$f":"'Ek.3-A'!L289","v":""},{"v":0,"d":"%0.00"},"H",{"$f":"IF(O289=\"E\",SUM($N$5:N289),0)","v":{"v":0,"d":"%0.00"}},0]
[{"v":3.9,"d":"3.90"},"YERLİ KATKI ORANI RAPORU",null,390110100000,0.1,null,103,{"$f":"IF(TRIM('Ek.3-A'!E290)<>\"\",\"var\",\"yok\")","v":"yok"},{"$f":"IF('Ek.3-A'!E290=\"\", \"\", IF(VLOOKUP('Ek.3-A'!E290, Veriler!D:E, 2, 0)=0, \"\", VLOOKUP('Ek.3-A'!E290, Veriler!D:E, 2, 0)))","v":""},{"$f":"IF('Ek.3-A'!O290=\"\", \"\", 'Ek.3-A'!O290)","v":""},{"$f":"'Ek.3-A'!R290","v":0},{"$f":"'Ek.3-A'!K290","v":""},{"$f":"'Ek.3-A'!L290","v":""},{"v":0,"d":"%0.00"},"H",{"$f":"IF(O290=\"E\",SUM($N$5:N290),0)","v":{"v":0,"d":"%0.00"}},0]
[3.91,"YERLİ KATKI ORANI RAPORU",null,850760000022,0.1,null,104,{"$f":"IF(TRIM('Ek.3-A'!E291)<>\"\",\"var\",\"yok\")","v":"yok"},{"$f":"IF('Ek.3-A'!E291=\"\", \"\", IF(VLOOKUP('Ek.3-A'!E291, Veriler!D:E, 2, 0)=0, \"\", VLOOKUP('Ek.3-A'!E291, Veriler!D:E, 2, 0)))","v":""},{"$f":"IF('Ek.3-A'!O291=\"\", \"\", 'Ek.3-A'!O291)","v":""},{"$f":"'Ek.3-A'!R291","v":0},{"$f":"'Ek.3-A'!K291","v":""},{"$f":"'Ek.3-A'!L291","v":""},{"v":0,"d":"%0.00"},"H",{"$f":"IF(O291=\"E\",SUM($N$5:N291),0)","v":{"v":0,"d":"%0.00"}},0]
[3.92,"YERLİ KATKI ORANI RAPORU",null,850760000021,0.1,null,105,{"$f":"IF(TRIM('Ek.3-A'!E292)<>\"\",\"var\",\"yok\")","v":"yok"},{"$f":"IF('Ek.3-A'!E292=\"\", \"\", IF(VLOOKUP('Ek.3-A'!E292, Veriler!D:E, 2, 0)=0, \"\", VLOOKUP('Ek.3-A'!E292, Veriler!D:E, 2, 0)))","v":""},{"$f":"IF('Ek.3-A'!O292=\"\", \"\", 'Ek.3-A'!O292)","v":""},{"$f":"'Ek.3-A'!R292","v":0},{"$f":"'Ek.3-A'!K292","v":""},{"$f":"'Ek.3-A'!L292","v":""},{"v":0,"d":"%0.00"},"H",{"$f":"IF(O292=\"E\",SUM($N$5:N292),0)","v":{"v":0,"d":"%0.00"}},0]
[3.93,"YERLİ KATKI ORANI RAPORU",null,850760000023,0.1,null,106,{"$f":"IF(TRIM('Ek.3-A'!E293)<>\"\",\"var\",\"yok\")","v":"yok"},{"$f":"IF('Ek.3-A'!E293=\"\", \"\", IF(VLOOKUP('Ek.3-A'!E293, Veriler!D:E, 2, 0)=0, \"\", VLOOKUP('Ek.3-A'!E293, Veriler!D:E, 2, 0)))","v":""},{"$f":"IF('Ek.3-A'!O293=\"\", \"\", 'Ek.3-A'!O293)","v":""},{"$f":"'Ek.3-A'!R293","v":0},{"$f":"'Ek.3-A'!K293","v":""},{"$f":"'Ek.3-A'!L293","v":""},{"v":0,"d":"%0.00"},"H",{"$f":"IF(O293=\"E\",SUM($N$5:N293),0)","v":{"v":0,"d":"%0.00"}},0]
[3.94,"YERLİ KATKI ORANI RAPORU",null,850760000019,0.1,null,107,{"$f":"IF(TRIM('Ek.3-A'!E294)<>\"\",\"var\",\"yok\")","v":"yok"},{"$f":"IF('Ek.3-A'!E294=\"\", \"\", IF(VLOOKUP('Ek.3-A'!E294, Veriler!D:E, 2, 0)=0, \"\", VLOOKUP('Ek.3-A'!E294, Veriler!D:E, 2, 0)))","v":""},{"$f":"IF('Ek.3-A'!O294=\"\", \"\", 'Ek.3-A'!O294)","v":""},{"$f":"'Ek.3-A'!R294","v":0},{"$f":"'Ek.3-A'!K294","v":""},{"$f":"'Ek.3-A'!L294","v":""},{"v":0,"d":"%0.00"},"H",{"$f":"IF(O294=\"E\",SUM($N$5:N294),0)","v":{"v":0,"d":"%0.00"}},0]
[3.95,"YERLİ KATKI ORANI RAPORU",null,850760000040,0.1,null,108,{"$f":"IF(TRIM('Ek.3-A'!E295)<>\"\",\"var\",\"yok\")","v":"yok"},{"$f":"IF('Ek.3-A'!E295=\"\", \"\", IF(VLOOKUP('Ek.3-A'!E295, Veriler!D:E, 2, 0)=0, \"\", VLOOKUP('Ek.3-A'!E295, Veriler!D:E, 2, 0)))","v":""},{"$f":"IF('Ek.3-A'!O295=\"\", \"\", 'Ek.3-A'!O295)","v":""},{"$f":"'Ek.3-A'!R295","v":0},{"$f":"'Ek.3-A'!K295","v":""},{"$f":"'Ek.3-A'!L295","v":""},{"v":0,"d":"%0.00"},"H",{"$f":"IF(O295=\"E\",SUM($N$5:N295),0)","v":{"v":0,"d":"%0.00"}},0]
[3.96,"YERLİ KATKI ORANI RAPORU",null,850760000029,0.1,null,109,{"$f":"IF(TRIM('Ek.3-A'!E296)<>\"\",\"var\",\"yok\")","v":"yok"},{"$f":"IF('Ek.3-A'!E296=\"\", \"\", IF(VLOOKUP('Ek.3-A'!E296, Veriler!D:E, 2, 0)=0, \"\", VLOOKUP('Ek.3-A'!E296, Veriler!D:E, 2, 0)))","v":""},{"$f":"IF('Ek.3-A'!O296=\"\", \"\", 'Ek.3-A'!O296)","v":""},{"$f":"'Ek.3-A'!R296","v":0},{"$f":"'Ek.3-A'!K296","v":""},{"$f":"'Ek.3-A'!L296","v":""},{"v":0,"d":"%0.00"},"H",{"$f":"IF(O296=\"E\",SUM($N$5:N296),0)","v":{"v":0,"d":"%0.00"}},0]
[3.97,"YERLİ KATKI ORANI RAPORU",null,850760000013,0.1,null,110,{"$f":"IF(TRIM('Ek.3-A'!E297)<>\"\",\"var\",\"yok\")","v":"yok"},{"$f":"IF('Ek.3-A'!E297=\"\", \"\", IF(VLOOKUP('Ek.3-A'!E297, Veriler!D:E, 2, 0)=0, \"\", VLOOKUP('Ek.3-A'!E297, Veriler!D:E, 2, 0)))","v":""},{"$f":"IF('Ek.3-A'!O297=\"\", \"\", 'Ek.3-A'!O297)","v":""},{"$f":"'Ek.3-A'!R297","v":0},{"$f":"'Ek.3-A'!K297","v":""},{"$f":"'Ek.3-A'!L297","v":""},{"v":0,"d":"%0.00"},"H",{"$f":"IF(O297=\"E\",SUM($N$5:N297),0)","v":{"v":0,"d":"%0.00"}},0]
[3.98,"YERLİ KATKI ORANI RAPORU",null,850760000030,0.1,null,111,{"$f":"IF(TRIM('Ek.3-A'!E298)<>\"\",\"var\",\"yok\")","v":"yok"},{"$f":"IF('Ek.3-A'!E298=\"\", \"\", IF(VLOOKUP('Ek.3-A'!E298, Veriler!D:E, 2, 0)=0, \"\", VLOOKUP('Ek.3-A'!E298, Veriler!D:E, 2, 0)))","v":""},{"$f":"IF('Ek.3-A'!O298=\"\", \"\", 'Ek.3-A'!O298)","v":""},{"$f":"'Ek.3-A'!R298","v":0},{"$f":"'Ek.3-A'!K298","v":""},{"$f":"'Ek.3-A'!L298","v":""},{"v":0,"d":"%0.00"},"H",{"$f":"IF(O298=\"E\",SUM($N$5:N298),0)","v":{"v":0,"d":"%0.00"}},0]
[3.99,"YERLİ KATKI ORANI RAPORU",null,850760000006,0.1,null,112,{"$f":"IF(TRIM('Ek.3-A'!E299)<>\"\",\"var\",\"yok\")","v":"yok"},{"$f":"IF('Ek.3-A'!E299=\"\", \"\", IF(VLOOKUP('Ek.3-A'!E299, Veriler!D:E, 2, 0)=0, \"\", VLOOKUP('Ek.3-A'!E299, Veriler!D:E, 2, 0)))","v":""},{"$f":"IF('Ek.3-A'!O299=\"\", \"\", 'Ek.3-A'!O299)","v":""},{"$f":"'Ek.3-A'!R299","v":0},{"$f":"'Ek.3-A'!K299","v":""},{"$f":"'Ek.3-A'!L299","v":""},{"v":0,"d":"%0.00"},"H",{"$f":"IF(O299=\"E\",SUM($N$5:N299),0)","v":{"v":0,"d":"%0.00"}},0]
[{"v":4,"d":"4.00"},"YERLİ KATKI ORANI RAPORU",null,850760000009,0.1]
[4.01,"YERLİ KATKI ORANI RAPORU",null,810420000000,0.1]
[4.02,"YERLİ KATKI ORANI RAPORU",null,810430000000,0.1]
[4.03,"YERLİ KATKI ORANI RAPORU",null,291714000000,0.1]
[4.04,"YERLİ KATKI ORANI RAPORU",null,850610110000,0.1]
[4.05,"YERLİ KATKI ORANI RAPORU",null,850610910000,0.1]
[4.06,"YERLİ KATKI ORANI RAPORU",null,251990900012,0.1]
[4.07,"YERLİ KATKI ORANI RAPORU",null,470730100000,0.1]
[4.08,"YERLİ KATKI ORANI RAPORU",null,470730900000,0.1]
[4.09,"YERLİ KATKI ORANI RAPORU",null,293361000000,0.1,null,{"$f":"G284+1","v":113},{"$f":"IF(TRIM('Ek.3-A'!E309)<>\"\",\"var\",\"yok\")","v":"yok"},{"$f":"IF('Ek.3-A'!E309=\"\", \"\", IF(VLOOKUP('Ek.3-A'!E309, Veriler!D:E, 2, 0)=0, \"\", VLOOKUP('Ek.3-A'!E309, Veriler!D:E, 2, 0)))","v":""},{"$f":"IF('Ek.3-A'!O309=\"\", \"\", 'Ek.3-A'!O309)","v":""},{"$f":"'Ek.3-A'!R309","v":0},{"$f":"'Ek.3-A'!K309","v":""},{"$f":"'Ek.3-A'!L309","v":""},{"$f":"IF(H309=\"var\",0,IF(M309<=0.005,M309,0))","v":{"v":0,"d":"%0.00"}},{"$f":"IF(M309<=0.005,\"E\",\"H\")","v":"H"},{"$f":"IF(O309=\"E\",SUM($N$5:N309),0)","v":{"v":0,"d":"%0.00"}},{"$f":"IF(P309<=0.1, K309, IF(N309>$F$2, N309*K309, $F$2*K309))","v":0}]
[{"v":4.1,"d":"4.10"},"YERLİ KATKI ORANI RAPORU",null,850511100000,0.1,null,{"$f":"G309+1","v":114},{"$f":"IF(TRIM('Ek.3-A'!E310)<>\"\",\"var\",\"yok\")","v":"yok"},{"$f":"IF('Ek.3-A'!E310=\"\", \"\", IF(VLOOKUP('Ek.3-A'!E310, Veriler!D:E, 2, 0)=0, \"\", VLOOKUP('Ek.3-A'!E310, Veriler!D:E, 2, 0)))","v":""},{"$f":"IF('Ek.3-A'!O310=\"\", \"\", 'Ek.3-A'!O310)","v":""},{"$f":"'Ek.3-A'!R310","v":0},{"$f":"'Ek.3-A'!K310","v":""},{"$f":"'Ek.3-A'!L310","v":""},{"$f":"IF(H310=\"var\",0,IF(M310<=0.005,M310,0))","v":{"v":0,"d":"%0.00"}},{"$f":"IF(M310<=0.005,\"E\",\"H\")","v":"H"},{"$f":"IF(O310=\"E\",SUM($N$5:N310),0)","v":{"v":0,"d":"%0.00"}},{"$f":"IF(P310<=0.1, K310, IF(N310>$F$2, N310*K310, $F$2*K310))","v":0}]
[4.11,"YERLİ KATKI ORANI RAPORU",null,820730100000,0.1,null,{"$f":"G310+1","v":115},{"$f":"IF(TRIM('Ek.3-A'!E311)<>\"\",\"var\",\"yok\")","v":"yok"},{"$f":"IF('Ek.3-A'!E311=\"\", \"\", IF(VLOOKUP('Ek.3-A'!E311, Veriler!D:E, 2, 0)=0, \"\", VLOOKUP('Ek.3-A'!E311, Veriler!D:E, 2, 0)))","v":""},{"$f":"IF('Ek.3-A'!O311=\"\", \"\", 'Ek.3-A'!O311)","v":""},{"$f":"'Ek.3-A'!R311","v":0},{"$f":"'Ek.3-A'!K311","v":""},{"$f":"'Ek.3-A'!L311","v":""},{"v":0,"d":"%0.00"},"H",{"$f":"IF(O311=\"E\",SUM($N$5:N311),0)","v":{"v":0,"d":"%0.00"}},0]
[4.12,"YERLİ KATKI ORANI RAPORU",null,291614000011,0.1,null,{"$f":"G311+1","v":116},{"$f":"IF(TRIM('Ek.3-A'!E312)<>\"\",\"var\",\"yok\")","v":"yok"},{"$f":"IF('Ek.3-A'!E312=\"\", \"\", IF(VLOOKUP('Ek.3-A'!E312, Veriler!D:E, 2, 0)=0, \"\", VLOOKUP('Ek.3-A'!E312, Veriler!D:E, 2, 0)))","v":""},{"$f":"IF('Ek.3-A'!O312=\"\", \"\", 'Ek.3-A'!O312)","v":""},{"$f":"'Ek.3-A'!R312","v":0},{"$f":"'Ek.3-A'!K312","v":""},{"$f":"'Ek.3-A'!L312","v":""},{"v":0,"d":"%0.00"},"H",{"$f":"IF(O312=\"E\",SUM($N$5:N312),0)","v":{"v":0,"d":"%0.00"}},0]
[4.13,"YERLİ KATKI ORANI RAPORU",null,290919900013,0.1,null,117,{"$f":"IF(TRIM('Ek.3-A'!E313)<>\"\",\"var\",\"yok\")","v":"yok"},{"$f":"IF('Ek.3-A'!E313=\"\", \"\", IF(VLOOKUP('Ek.3-A'!E313, Veriler!D:E, 2, 0)=0, \"\", VLOOKUP('Ek.3-A'!E313, Veriler!D:E, 2, 0)))","v":""},{"$f":"IF('Ek.3-A'!O313=\"\", \"\", 'Ek.3-A'!O313)","v":""},{"$f":"'Ek.3-A'!R313","v":0},{"$f":"'Ek.3-A'!K313","v":""},{"$f":"'Ek.3-A'!L313","v":""},{"v":0,"d":"%0.00"},"H",{"$f":"IF(O313=\"E\",SUM($N$5:N313),0)","v":{"v":0,"d":"%0.00"}},0]
[4.14,"YERLİ KATKI ORANI RAPORU",null,292910000011,0.1,null,118,{"$f":"IF(TRIM('Ek.3-A'!E314)<>\"\",\"var\",\"yok\")","v":"yok"},{"$f":"IF('Ek.3-A'!E314=\"\", \"\", IF(VLOOKUP('Ek.3-A'!E314, Veriler!D:E, 2, 0)=0, \"\", VLOOKUP('Ek.3-A'!E314, Veriler!D:E, 2, 0)))","v":""},{"$f":"IF('Ek.3-A'!O314=\"\", \"\", 'Ek.3-A'!O314)","v":""},{"$f":"'Ek.3-A'!R314","v":0},{"$f":"'Ek.3-A'!K314","v":""},{"$f":"'Ek.3-A'!L314","v":""},{"v":0,"d":"%0.00"},"H",{"$f":"IF(O314=\"E\",SUM($N$5:N314),0)","v":{"v":0,"d":"%0.00"}},0]
[4.15,"YERLİ KATKI ORANI RAPORU",null,382100000000,0.1,null,119,{"$f":"IF(TRIM('Ek.3-A'!E315)<>\"\",\"var\",\"yok\")","v":"yok"},{"$f":"IF('Ek.3-A'!E315=\"\", \"\", IF(VLOOKUP('Ek.3-A'!E315, Veriler!D:E, 2, 0)=0, \"\", VLOOKUP('Ek.3-A'!E315, Veriler!D:E, 2, 0)))","v":""},{"$f":"IF('Ek.3-A'!O315=\"\", \"\", 'Ek.3-A'!O315)","v":""},{"$f":"'Ek.3-A'!R315","v":0},{"$f":"'Ek.3-A'!K315","v":""},{"$f":"'Ek.3-A'!L315","v":""},{"v":0,"d":"%0.00"},"H",{"$f":"IF(O315=\"E\",SUM($N$5:N315),0)","v":{"v":0,"d":"%0.00"}},0]
[4.16,"YERLİ KATKI ORANI RAPORU",null,848330809019,0.1,null,120,{"$f":"IF(TRIM('Ek.3-A'!E316)<>\"\",\"var\",\"yok\")","v":"yok"},{"$f":"IF('Ek.3-A'!E316=\"\", \"\", IF(VLOOKUP('Ek.3-A'!E316, Veriler!D:E, 2, 0)=0, \"\", VLOOKUP('Ek.3-A'!E316, Veriler!D:E, 2, 0)))","v":""},{"$f":"IF('Ek.3-A'!O316=\"\", \"\", 'Ek.3-A'!O316)","v":""},{"$f":"'Ek.3-A'!R316","v":0},{"$f":"'Ek.3-A'!K316","v":""},{"$f":"'Ek.3-A'!L316","v":""},{"v":0,"d":"%0.00"},"H",{"$f":"IF(O316=\"E\",SUM($N$5:N316),0)","v":{"v":0,"d":"%0.00"}},0]
[4.17,"YERLİ KATKI ORANI RAPORU",null,381121001000,0.1,null,121,{"$f":"IF(TRIM('Ek.3-A'!E317)<>\"\",\"var\",\"yok\")","v":"yok"},{"$f":"IF('Ek.3-A'!E317=\"\", \"\", IF(VLOOKUP('Ek.3-A'!E317, Veriler!D:E, 2, 0)=0, \"\", VLOOKUP('Ek.3-A'!E317, Veriler!D:E, 2, 0)))","v":""},{"$f":"IF('Ek.3-A'!O317=\"\", \"\", 'Ek.3-A'!O317)","v":""},{"$f":"'Ek.3-A'!R317","v":0},{"$f":"'Ek.3-A'!K317","v":""},{"$f":"'Ek.3-A'!L317","v":""},{"v":0,"d":"%0.00"},"H",{"$f":"IF(O317=\"E\",SUM($N$5:N317),0)","v":{"v":0,"d":"%0.00"}},0]
[4.18,"YERLİ KATKI ORANI RAPORU",null,750210001000,0.1,null,122,{"$f":"IF(TRIM('Ek.3-A'!E318)<>\"\",\"var\",\"yok\")","v":"yok"},{"$f":"IF('Ek.3-A'!E318=\"\", \"\", IF(VLOOKUP('Ek.3-A'!E318, Veriler!D:E, 2, 0)=0, \"\", VLOOKUP('Ek.3-A'!E318, Veriler!D:E, 2, 0)))","v":""},{"$f":"IF('Ek.3-A'!O318=\"\", \"\", 'Ek.3-A'!O318)","v":""},{"$f":"'Ek.3-A'!R318","v":0},{"$f":"'Ek.3-A'!K318","v":""},{"$f":"'Ek.3-A'!L318","v":""},{"v":0,"d":"%0.00"},"H",{"$f":"IF(O318=\"E\",SUM($N$5:N318),0)","v":{"v":0,"d":"%0.00"}},0]
[4.19,"YERLİ KATKI ORANI RAPORU",null,870895100000,0.1,null,123,{"$f":"IF(TRIM('Ek.3-A'!E319)<>\"\",\"var\",\"yok\")","v":"yok"},{"$f":"IF('Ek.3-A'!E319=\"\", \"\", IF(VLOOKUP('Ek.3-A'!E319, Veriler!D:E, 2, 0)=0, \"\", VLOOKUP('Ek.3-A'!E319, Veriler!D:E, 2, 0)))","v":""},{"$f":"IF('Ek.3-A'!O319=\"\", \"\", 'Ek.3-A'!O319)","v":""},{"$f":"'Ek.3-A'!R319","v":0},{"$f":"'Ek.3-A'!K319","v":""},{"$f":"'Ek.3-A'!L319","v":""},{"v":0,"d":"%0.00"},"H",{"$f":"IF(O319=\"E\",SUM($N$5:N319),0)","v":{"v":0,"d":"%0.00"}},0]
[{"v":4.2,"d":"4.20"},"YERLİ KATKI ORANI RAPORU",null,870821100000,0.1,null,124,{"$f":"IF(TRIM('Ek.3-A'!E320)<>\"\",\"var\",\"yok\")","v":"yok"},{"$f":"IF('Ek.3-A'!E320=\"\", \"\", IF(VLOOKUP('Ek.3-A'!E320, Veriler!D:E, 2, 0)=0, \"\", VLOOKUP('Ek.3-A'!E320, Veriler!D:E, 2, 0)))","v":""},{"$f":"IF('Ek.3-A'!O320=\"\", \"\", 'Ek.3-A'!O320)","v":""},{"$f":"'Ek.3-A'!R320","v":0},{"$f":"'Ek.3-A'!K320","v":""},{"$f":"'Ek.3-A'!L320","v":""},{"v":0,"d":"%0.00"},"H",{"$f":"IF(O320=\"E\",SUM($N$5:N320),0)","v":{"v":0,"d":"%0.00"}},0]
[4.21,"YERLİ KATKI ORANI RAPORU",null,854160000000,0.1,null,125,{"$f":"IF(TRIM('Ek.3-A'!E321)<>\"\",\"var\",\"yok\")","v":"yok"},{"$f":"IF('Ek.3-A'!E321=\"\", \"\", IF(VLOOKUP('Ek.3-A'!E321, Veriler!D:E, 2, 0)=0, \"\", VLOOKUP('Ek.3-A'!E321, Veriler!D:E, 2, 0)))","v":""},{"$f":"IF('Ek.3-A'!O321=\"\", \"\", 'Ek.3-A'!O321)","v":""},{"$f":"'Ek.3-A'!R321","v":0},{"$f":"'Ek.3-A'!K321","v":""},{"$f":"'Ek.3-A'!L321","v":""},{"v":0,"d":"%0.00"},"H",{"$f":"IF(O321=\"E\",SUM($N$5:N321),0)","v":{"v":0,"d":"%0.00"}},0]
[4.22,"YERLİ KATKI ORANI RAPORU",null,271019810000,0.1,null,126,{"$f":"IF(TRIM('Ek.3-A'!E322)<>\"\",\"var\",\"yok\")","v":"yok"},{"$f":"IF('Ek.3-A'!E322=\"\", \"\", IF(VLOOKUP('Ek.3-A'!E322, Veriler!D:E, 2, 0)=0, \"\", VLOOKUP('Ek.3-A'!E322, Veriler!D:E, 2, 0)))","v":""},{"$f":"IF('Ek.3-A'!O322=\"\", \"\", 'Ek.3-A'!O322)","v":""},{"$f":"'Ek.3-A'!R322","v":0},{"$f":"'Ek.3-A'!K322","v":""},{"$f":"'Ek.3-A'!L322","v":""},{"v":0,"d":"%0.00"},"H",{"$f":"IF(O322=\"E\",SUM($N$5:N322),0)","v":{"v":0,"d":"%0.00"}},0]
[4.23,"YERLİ KATKI ORANI RAPORU",null,271019430011,0.1,{"$nulls":3},""]
[4.24,"YERLİ KATKI ORANI RAPORU",null,271012450018,0.1,null,{"$f":"G299+1","v":113},{"$f":"IF(TRIM('Ek.3-A'!E324)<>\"\",\"var\",\"yok\")","v":"yok"},{"$f":"IF('Ek.3-A'!E324=\"\", \"\", IF(VLOOKUP('Ek.3-A'!E324, Veriler!D:E, 2, 0)=0, \"\", VLOOKUP('Ek.3-A'!E324, Veriler!D:E, 2, 0)))","v":""},{"$f":"IF('Ek.3-A'!O324=\"\", \"\", 'Ek.3-A'!O324)","v":""},{"$f":"'Ek.3-A'!R324","v":0},{"$f":"'Ek.3-A'!K324","v":""},{"$f":"'Ek.3-A'!L324","v":""},{"$f":"IF(H324=\"var\",0,IF(M324<=0.005,M324,0))","v":{"v":0,"d":"%0.00"}},{"$f":"IF(M324<=0.005,\"E\",\"H\")","v":"H"},{"$f":"IF(O324=\"E\",SUM($N$5:N324),0)","v":{"v":0,"d":"%0.00"}},{"$f":"IF(P324<=0.1, K324, IF(N324>$F$2, N324*K324, $F$2*K324))","v":0}]
[4.25,"YERLİ KATKI ORANI RAPORU",null,852721200000,0.1,null,{"$f":"G324+1","v":114},{"$f":"IF(TRIM('Ek.3-A'!E325)<>\"\",\"var\",\"yok\")","v":"yok"},{"$f":"IF('Ek.3-A'!E325=\"\", \"\", IF(VLOOKUP('Ek.3-A'!E325, Veriler!D:E, 2, 0)=0, \"\", VLOOKUP('Ek.3-A'!E325, Veriler!D:E, 2, 0)))","v":""},{"$f":"IF('Ek.3-A'!O325=\"\", \"\", 'Ek.3-A'!O325)","v":""},{"$f":"'Ek.3-A'!R325","v":0},{"$f":"'Ek.3-A'!K325","v":""},{"$f":"'Ek.3-A'!L325","v":""},{"$f":"IF(H325=\"var\",0,IF(M325<=0.005,M325,0))","v":{"v":0,"d":"%0.00"}},{"$f":"IF(M325<=0.005,\"E\",\"H\")","v":"H"},{"$f":"IF(O325=\"E\",SUM($N$5:N325),0)","v":{"v":0,"d":"%0.00"}},{"$f":"IF(P325<=0.1, K325, IF(N325>$F$2, N325*K325, $F$2*K325))","v":0}]
[4.26,"YERLİ KATKI ORANI RAPORU",null,871410900019,0.1,null,{"$f":"G325+1","v":115},{"$f":"IF(TRIM('Ek.3-A'!E326)<>\"\",\"var\",\"yok\")","v":"yok"},{"$f":"IF('Ek.3-A'!E326=\"\", \"\", IF(VLOOKUP('Ek.3-A'!E326, Veriler!D:E, 2, 0)=0, \"\", VLOOKUP('Ek.3-A'!E326, Veriler!D:E, 2, 0)))","v":""},{"$f":"IF('Ek.3-A'!O326=\"\", \"\", 'Ek.3-A'!O326)","v":""},{"$f":"'Ek.3-A'!R326","v":0},{"$f":"'Ek.3-A'!K326","v":""},{"$f":"'Ek.3-A'!L326","v":""},{"v":0,"d":"%0.00"},"H",{"$f":"IF(O326=\"E\",SUM($N$5:N326),0)","v":{"v":0,"d":"%0.00"}},0]
[4.27,"YERLİ KATKI ORANI RAPORU",null,291533000000,0.1,null,116,{"$f":"IF(TRIM('Ek.3-A'!E327)<>\"\",\"var\",\"yok\")","v":"yok"},{"$f":"IF('Ek.3-A'!E327=\"\", \"\", IF(VLOOKUP('Ek.3-A'!E327, Veriler!D:E, 2, 0)=0, \"\", VLOOKUP('Ek.3-A'!E327, Veriler!D:E, 2, 0)))","v":""},{"$f":"IF('Ek.3-A'!O327=\"\", \"\", 'Ek.3-A'!O327)","v":""},{"$f":"'Ek.3-A'!R327","v":0},{"$f":"'Ek.3-A'!K327","v":""},{"$f":"'Ek.3-A'!L327","v":""},{"v":0,"d":"%0.00"},"H",{"$f":"IF(O327=\"E\",SUM($N$5:N327),0)","v":{"v":0,"d":"%0.00"}},0]
[4.28,"YERLİ KATKI ORANI RAPORU",null,750300900000,0.1,null,117,{"$f":"IF(TRIM('Ek.3-A'!E328)<>\"\",\"var\",\"yok\")","v":"yok"},{"$f":"IF('Ek.3-A'!E328=\"\", \"\", IF(VLOOKUP('Ek.3-A'!E328, Veriler!D:E, 2, 0)=0, \"\", VLOOKUP('Ek.3-A'!E328, Veriler!D:E, 2, 0)))","v":""},{"$f":"IF('Ek.3-A'!O328=\"\", \"\", 'Ek.3-A'!O328)","v":""},{"$f":"'Ek.3-A'!R328","v":0},{"$f":"'Ek.3-A'!K328","v":""},{"$f":"'Ek.3-A'!L328","v":""},{"v":0,"d":"%0.00"},"H",{"$f":"IF(O328=\"E\",SUM($N$5:N328),0)","v":{"v":0,"d":"%0.00"}},0]
[4.29,"YERLİ KATKI ORANI RAPORU",null,750620000019,0.1,null,118,{"$f":"IF(TRIM('Ek.3-A'!E329)<>\"\",\"var\",\"yok\")","v":"yok"},{"$f":"IF('Ek.3-A'!E329=\"\", \"\", IF(VLOOKUP('Ek.3-A'!E329, Veriler!D:E, 2, 0)=0, \"\", VLOOKUP('Ek.3-A'!E329, Veriler!D:E, 2, 0)))","v":""},{"$f":"IF('Ek.3-A'!O329=\"\", \"\", 'Ek.3-A'!O329)","v":""},{"$f":"'Ek.3-A'!R329","v":0},{"$f":"'Ek.3-A'!K329","v":""},{"$f":"'Ek.3-A'!L329","v":""},{"v":0,"d":"%0.00"},"H",{"$f":"IF(O329=\"E\",SUM($N$5:N329),0)","v":{"v":0,"d":"%0.00"}},0]
[{"v":4.3,"d":"4.30"},"YERLİ KATKI ORANI RAPORU",null,750890009019,0.1,null,119,{"$f":"IF(TRIM('Ek.3-A'!E330)<>\"\",\"var\",\"yok\")","v":"yok"},{"$f":"IF('Ek.3-A'!E330=\"\", \"\", IF(VLOOKUP('Ek.3-A'!E330, Veriler!D:E, 2, 0)=0, \"\", VLOOKUP('Ek.3-A'!E330, Veriler!D:E, 2, 0)))","v":""},{"$f":"IF('Ek.3-A'!O330=\"\", \"\", 'Ek.3-A'!O330)","v":""},{"$f":"'Ek.3-A'!R330","v":0},{"$f":"'Ek.3-A'!K330","v":""},{"$f":"'Ek.3-A'!L330","v":""},{"v":0,"d":"%0.00"},"H",{"$f":"IF(O330=\"E\",SUM($N$5:N330),0)","v":{"v":0,"d":"%0.00"}},0]
[4.31,"YERLİ KATKI ORANI RAPORU",null,440290000000,0.1,null,120,{"$f":"IF(TRIM('Ek.3-A'!E331)<>\"\",\"var\",\"yok\")","v":"yok"},{"$f":"IF('Ek.3-A'!E331=\"\", \"\", IF(VLOOKUP('Ek.3-A'!E331, Veriler!D:E, 2, 0)=0, \"\", VLOOKUP('Ek.3-A'!E331, Veriler!D:E, 2, 0)))","v":""},{"$f":"IF('Ek.3-A'!O331=\"\", \"\", 'Ek.3-A'!O331)","v":""},{"$f":"'Ek.3-A'!R331","v":0},{"$f":"'Ek.3-A'!K331","v":""},{"$f":"'Ek.3-A'!L331","v":""},{"v":0,"d":"%0.00"},"H",{"$f":"IF(O331=\"E\",SUM($N$5:N331),0)","v":{"v":0,"d":"%0.00"}},0]
[4.32,"YERLİ KATKI ORANI RAPORU",null,292219000028,0.1,null,121,{"$f":"IF(TRIM('Ek.3-A'!E332)<>\"\",\"var\",\"yok\")","v":"yok"},{"$f":"IF('Ek.3-A'!E332=\"\", \"\", IF(VLOOKUP('Ek.3-A'!E332, Veriler!D:E, 2, 0)=0, \"\", VLOOKUP('Ek.3-A'!E332, Veriler!D:E, 2, 0)))","v":""},{"$f":"IF('Ek.3-A'!O332=\"\", \"\", 'Ek.3-A'!O332)","v":""},{"$f":"'Ek.3-A'!R332","v":0},{"$f":"'Ek.3-A'!K332","v":""},{"$f":"'Ek.3-A'!L332","v":""},{"v":0,"d":"%0.00"},"H",{"$f":"IF(O332=\"E\",SUM($N$5:N332),0)","v":{"v":0,"d":"%0.00"}},0]
[4.33,"YERLİ KATKI ORANI RAPORU",null,290516850019,0.1,null,122,{"$f":"IF(TRIM('Ek.3-A'!E333)<>\"\",\"var\",\"yok\")","v":"yok"},{"$f":"IF('Ek.3-A'!E333=\"\", \"\", IF(VLOOKUP('Ek.3-A'!E333, Veriler!D:E, 2, 0)=0, \"\", VLOOKUP('Ek.3-A'!E333, Veriler!D:E, 2, 0)))","v":""},{"$f":"IF('Ek.3-A'!O333=\"\", \"\", 'Ek.3-A'!O333)","v":""},{"$f":"'Ek.3-A'!R333","v":0},{"$f":"'Ek.3-A'!K333","v":""},{"$f":"'Ek.3-A'!L333","v":""},{"v":0,"d":"%0.00"},"H",{"$f":"IF(O333=\"E\",SUM($N$5:N333),0)","v":{"v":0,"d":"%0.00"}},0]
[4.34,"YERLİ KATKI ORANI RAPORU",null,844399901000,0.1,null,123,{"$f":"IF(TRIM('Ek.3-A'!E334)<>\"\",\"var\",\"yok\")","v":"yok"},{"$f":"IF('Ek.3-A'!E334=\"\", \"\", IF(VLOOKUP('Ek.3-A'!E334, Veriler!D:E, 2, 0)=0, \"\", VLOOKUP('Ek.3-A'!E334, Veriler!D:E, 2, 0)))","v":""},{"$f":"IF('Ek.3-A'!O334=\"\", \"\", 'Ek.3-A'!O334)","v":""},{"$f":"'Ek.3-A'!R334","v":0},{"$f":"'Ek.3-A'!K334","v":""},{"$f":"'Ek.3-A'!L334","v":""},{"v":0,"d":"%0.00"},"H",{"$f":"IF(O334=\"E\",SUM($N$5:N334),0)","v":{"v":0,"d":"%0.00"}},0]
[4.35,"YERLİ KATKI ORANI RAPORU",null,280920000017,0.1,null,124,{"$f":"IF(TRIM('Ek.3-A'!E335)<>\"\",\"var\",\"yok\")","v":"yok"},{"$f":"IF('Ek.3-A'!E335=\"\", \"\", IF(VLOOKUP('Ek.3-A'!E335, Veriler!D:E, 2, 0)=0, \"\", VLOOKUP('Ek.3-A'!E335, Veriler!D:E, 2, 0)))","v":""},{"$f":"IF('Ek.3-A'!O335=\"\", \"\", 'Ek.3-A'!O335)","v":""},{"$f":"'Ek.3-A'!R335","v":0},{"$f":"'Ek.3-A'!K335","v":""},{"$f":"'Ek.3-A'!L335","v":""},{"v":0,"d":"%0.00"},"H",{"$f":"IF(O335=\"E\",SUM($N$5:N335),0)","v":{"v":0,"d":"%0.00"}},0]
[4.36,"YERLİ KATKI ORANI RAPORU",null,721320000019,0.1,null,125,{"$f":"IF(TRIM('Ek.3-A'!E336)<>\"\",\"var\",\"yok\")","v":"yok"},{"$f":"IF('Ek.3-A'!E336=\"\", \"\", IF(VLOOKUP('Ek.3-A'!E336, Veriler!D:E, 2, 0)=0, \"\", VLOOKUP('Ek.3-A'!E336, Veriler!D:E, 2, 0)))","v":""},{"$f":"IF('Ek.3-A'!O336=\"\", \"\", 'Ek.3-A'!O336)","v":""},{"$f":"'Ek.3-A'!R336","v":0},{"$f":"'Ek.3-A'!K336","v":""},{"$f":"'Ek.3-A'!L336","v":""},{"v":0,"d":"%0.00"},"H",{"$f":"IF(O336=\"E\",SUM($N$5:N336),0)","v":{"v":0,"d":"%0.00"}},0]
[4.37,"YERLİ KATKI ORANI RAPORU",null,853620100019,0.1,null,126,{"$f":"IF(TRIM('Ek.3-A'!E337)<>\"\",\"var\",\"yok\")","v":"yok"},{"$f":"IF('Ek.3-A'!E337=\"\", \"\", IF(VLOOKUP('Ek.3-A'!E337, Veriler!D:E, 2, 0)=0, \"\", VLOOKUP('Ek.3-A'!E337, Veriler!D:E, 2, 0)))","v":""},{"$f":"IF('Ek.3-A'!O337=\"\", \"\", 'Ek.3-A'!O337)","v":""},{"$f":"'Ek.3-A'!R337","v":0},{"$f":"'Ek.3-A'!K337","v":""},{"$f":"'Ek.3-A'!L337","v":""},{"v":0,"d":"%0.00"},"H",{"$f":"IF(O337=\"E\",SUM($N$5:N337),0)","v":{"v":0,"d":"%0.00"}},0]
[4.38,"YERLİ KATKI ORANI RAPORU",null,853620900019,0.1]
[4.39,"YERLİ KATKI ORANI RAPORU",null,290243000000,0.1]
[{"v":4.4,"d":"4.40"},"YERLİ KATKI ORANI RAPORU",null,722300190000,0.1]
[4.41,"YERLİ KATKI ORANI RAPORU",null,721913900019,0.1]
[4.42,"YERLİ KATKI ORANI RAPORU",null,721913100019,0.1]
[4.43,"YERLİ KATKI ORANI RAPORU",null,721912100019,0.1]
[4.44,"YERLİ KATKI ORANI RAPORU",null,730441009000,0.1]
[4.45,"YERLİ KATKI ORANI RAPORU",null,730449830000,0.1]
[4.46,"YERLİ KATKI ORANI RAPORU",null,721921100011,0.1]
[4.47,"YERLİ KATKI ORANI RAPORU",null,271320000011,0.1,null,{"$f":"G322+1","v":127},{"$f":"IF(TRIM('Ek.3-A'!E347)<>\"\",\"var\",\"yok\")","v":"yok"},{"$f":"IF('Ek.3-A'!E347=\"\", \"\", IF(VLOOKUP('Ek.3-A'!E347, Veriler!D:E, 2, 0)=0, \"\", VLOOKUP('Ek.3-A'!E347, Veriler!D:E, 2, 0)))","v":""},{"$f":"IF('Ek.3-A'!O347=\"\", \"\", 'Ek.3-A'!O347)","v":""},{"$f":"'Ek.3-A'!R347","v":0},{"$f":"'Ek.3-A'!K347","v":""},{"$f":"'Ek.3-A'!L347","v":""},{"$f":"IF(H347=\"var\",0,IF(M347<=0.005,M347,0))","v":{"v":0,"d":"%0.00"}},{"$f":"IF(M347<=0.005,\"E\",\"H\")","v":"H"},{"$f":"IF(O347=\"E\",SUM($N$5:N347),0)","v":{"v":0,"d":"%0.00"}},{"$f":"IF(P347<=0.1, K347, IF(N347>$F$2, N347*K347, $F$2*K347))","v":0}]
[4.48,"YERLİ KATKI ORANI RAPORU",null,271119000011,0.1,null,{"$f":"G347+1","v":128},{"$f":"IF(TRIM('Ek.3-A'!E348)<>\"\",\"var\",\"yok\")","v":"yok"},{"$f":"IF('Ek.3-A'!E348=\"\", \"\", IF(VLOOKUP('Ek.3-A'!E348, Veriler!D:E, 2, 0)=0, \"\", VLOOKUP('Ek.3-A'!E348, Veriler!D:E, 2, 0)))","v":""},{"$f":"IF('Ek.3-A'!O348=\"\", \"\", 'Ek.3-A'!O348)","v":""},{"$f":"'Ek.3-A'!R348","v":0},{"$f":"'Ek.3-A'!K348","v":""},{"$f":"'Ek.3-A'!L348","v":""},{"$f":"IF(H348=\"var\",0,IF(M348<=0.005,M348,0))","v":{"v":0,"d":"%0.00"}},{"$f":"IF(M348<=0.005,\"E\",\"H\")","v":"H"},{"$f":"IF(O348=\"E\",SUM($N$5:N348),0)","v":{"v":0,"d":"%0.00"}},{"$f":"IF(P348<=0.1, K348, IF(N348>$F$2, N348*K348, $F$2*K348))","v":0}]
[4.49,"YERLİ KATKI ORANI RAPORU",null,271311000000,0.1,null,{"$f":"G348+1","v":129},{"$f":"IF(TRIM('Ek.3-A'!E349)<>\"\",\"var\",\"yok\")","v":"yok"},{"$f":"IF('Ek.3-A'!E349=\"\", \"\", IF(VLOOKUP('Ek.3-A'!E349, Veriler!D:E, 2, 0)=0, \"\", VLOOKUP('Ek.3-A'!E349, Veriler!D:E, 2, 0)))","v":""},{"$f":"IF('Ek.3-A'!O349=\"\", \"\", 'Ek.3-A'!O349)","v":""},{"$f":"'Ek.3-A'!R349","v":0},{"$f":"'Ek.3-A'!K349","v":""},{"$f":"'Ek.3-A'!L349","v":""},{"v":0,"d":"%0.00"},"H",{"$f":"IF(O349=\"E\",SUM($N$5:N349),0)","v":{"v":0,"d":"%0.00"}},0]
[{"v":4.5,"d":"4.50"},"YERLİ KATKI ORANI RAPORU",null,391110000000,0.1,null,{"$f":"G349+1","v":130},{"$f":"IF(TRIM('Ek.3-A'!E350)<>\"\",\"var\",\"yok\")","v":"yok"},{"$f":"IF('Ek.3-A'!E350=\"\", \"\", IF(VLOOKUP('Ek.3-A'!E350, Veriler!D:E, 2, 0)=0, \"\", VLOOKUP('Ek.3-A'!E350, Veriler!D:E, 2, 0)))","v":""},{"$f":"IF('Ek.3-A'!O350=\"\", \"\", 'Ek.3-A'!O350)","v":""},{"$f":"'Ek.3-A'!R350","v":0},{"$f":"'Ek.3-A'!K350","v":""},{"$f":"'Ek.3-A'!L350","v":""},{"v":0,"d":"%0.00"},"H",{"$f":"IF(O350=\"E\",SUM($N$5:N350),0)","v":{"v":0,"d":"%0.00"}},0]
[4.51,"YERLİ KATKI ORANI RAPORU",null,850710800011,0.1,null,131,{"$f":"IF(TRIM('Ek.3-A'!E351)<>\"\",\"var\",\"yok\")","v":"yok"},{"$f":"IF('Ek.3-A'!E351=\"\", \"\", IF(VLOOKUP('Ek.3-A'!E351, Veriler!D:E, 2, 0)=0, \"\", VLOOKUP('Ek.3-A'!E351, Veriler!D:E, 2, 0)))","v":""},{"$f":"IF('Ek.3-A'!O351=\"\", \"\", 'Ek.3-A'!O351)","v":""},{"$f":"'Ek.3-A'!R351","v":0},{"$f":"'Ek.3-A'!K351","v":""},{"$f":"'Ek.3-A'!L351","v":""},{"v":0,"d":"%0.00"},"H",{"$f":"IF(O351=\"E\",SUM($N$5:N351),0)","v":{"v":0,"d":"%0.00"}},0]
[4.52,"YERLİ KATKI ORANI RAPORU",null,850710200011,0.1,null,132,{"$f":"IF(TRIM('Ek.3-A'!E352)<>\"\",\"var\",\"yok\")","v":"yok"},{"$f":"IF('Ek.3-A'!E352=\"\", \"\", IF(VLOOKUP('Ek.3-A'!E352, Veriler!D:E, 2, 0)=0, \"\", VLOOKUP('Ek.3-A'!E352, Veriler!D:E, 2, 0)))","v":""},{"$f":"IF('Ek.3-A'!O352=\"\", \"\", 'Ek.3-A'!O352)","v":""},{"$f":"'Ek.3-A'!R352","v":0},{"$f":"'Ek.3-A'!K352","v":""},{"$f":"'Ek.3-A'!L352","v":""},{"v":0,"d":"%0.00"},"H",{"$f":"IF(O352=\"E\",SUM($N$5:N352),0)","v":{"v":0,"d":"%0.00"}},0]
[4.53,"YERLİ KATKI ORANI RAPORU",null,391220190011,0.1,null,133,{"$f":"IF(TRIM('Ek.3-A'!E353)<>\"\",\"var\",\"yok\")","v":"yok"},{"$f":"IF('Ek.3-A'!E353=\"\", \"\", IF(VLOOKUP('Ek.3-A'!E353, Veriler!D:E, 2, 0)=0, \"\", VLOOKUP('Ek.3-A'!E353, Veriler!D:E, 2, 0)))","v":""},{"$f":"IF('Ek.3-A'!O353=\"\", \"\", 'Ek.3-A'!O353)","v":""},{"$f":"'Ek.3-A'!R353","v":0},{"$f":"'Ek.3-A'!K353","v":""},{"$f":"'Ek.3-A'!L353","v":""},{"v":0,"d":"%0.00"},"H",{"$f":"IF(O353=\"E\",SUM($N$5:N353),0)","v":{"v":0,"d":"%0.00"}},0]
[4.54,"YERLİ KATKI ORANI RAPORU",null,950300350000,0.1,null,134,{"$f":"IF(TRIM('Ek.3-A'!E354)<>\"\",\"var\",\"yok\")","v":"yok"},{"$f":"IF('Ek.3-A'!E354=\"\", \"\", IF(VLOOKUP('Ek.3-A'!E354, Veriler!D:E, 2, 0)=0, \"\", VLOOKUP('Ek.3-A'!E354, Veriler!D:E, 2, 0)))","v":""},{"$f":"IF('Ek.3-A'!O354=\"\", \"\", 'Ek.3-A'!O354)","v":""},{"$f":"'Ek.3-A'!R354","v":0},{"$f":"'Ek.3-A'!K354","v":""},{"$f":"'Ek.3-A'!L354","v":""},{"v":0,"d":"%0.00"},"H",{"$f":"IF(O354=\"E\",SUM($N$5:N354),0)","v":{"v":0,"d":"%0.00"}},0]
[4.55,"YERLİ KATKI ORANI RAPORU",null,390931000000,0.1,null,135,{"$f":"IF(TRIM('Ek.3-A'!E355)<>\"\",\"var\",\"yok\")","v":"yok"},{"$f":"IF('Ek.3-A'!E355=\"\", \"\", IF(VLOOKUP('Ek.3-A'!E355, Veriler!D:E, 2, 0)=0, \"\", VLOOKUP('Ek.3-A'!E355, Veriler!D:E, 2, 0)))","v":""},{"$f":"IF('Ek.3-A'!O355=\"\", \"\", 'Ek.3-A'!O355)","v":""},{"$f":"'Ek.3-A'!R355","v":0},{"$f":"'Ek.3-A'!K355","v":""},{"$f":"'Ek.3-A'!L355","v":""},{"v":0,"d":"%0.00"},"H",{"$f":"IF(O355=\"E\",SUM($N$5:N355),0)","v":{"v":0,"d":"%0.00"}},0]
[4.56,"YERLİ KATKI ORANI RAPORU",null,390769000000,0.1,null,136,{"$f":"IF(TRIM('Ek.3-A'!E356)<>\"\",\"var\",\"yok\")","v":"yok"},{"$f":"IF('Ek.3-A'!E356=\"\", \"\", IF(VLOOKUP('Ek.3-A'!E356, Veriler!D:E, 2, 0)=0, \"\", VLOOKUP('Ek.3-A'!E356, Veriler!D:E, 2, 0)))","v":""},{"$f":"IF('Ek.3-A'!O356=\"\", \"\", 'Ek.3-A'!O356)","v":""},{"$f":"'Ek.3-A'!R356","v":0},{"$f":"'Ek.3-A'!K356","v":""},{"$f":"'Ek.3-A'!L356","v":""},{"v":0,"d":"%0.00"},"H",{"$f":"IF(O356=\"E\",SUM($N$5:N356),0)","v":{"v":0,"d":"%0.00"}},0]
[4.57,"YERLİ KATKI ORANI RAPORU",null,390761000000,0.1,null,137,{"$f":"IF(TRIM('Ek.3-A'!E357)<>\"\",\"var\",\"yok\")","v":"yok"},{"$f":"IF('Ek.3-A'!E357=\"\", \"\", IF(VLOOKUP('Ek.3-A'!E357, Veriler!D:E, 2, 0)=0, \"\", VLOOKUP('Ek.3-A'!E357, Veriler!D:E, 2, 0)))","v":""},{"$f":"IF('Ek.3-A'!O357=\"\", \"\", 'Ek.3-A'!O357)","v":""},{"$f":"'Ek.3-A'!R357","v":0},{"$f":"'Ek.3-A'!K357","v":""},{"$f":"'Ek.3-A'!L357","v":""},{"v":0,"d":"%0.00"},"H",{"$f":"IF(O357=\"E\",SUM($N$5:N357),0)","v":{"v":0,"d":"%0.00"}},0]
[4.58,"YERLİ KATKI ORANI RAPORU",null,390610000000,0.1,null,138,{"$f":"IF(TRIM('Ek.3-A'!E358)<>\"\",\"var\",\"yok\")","v":"yok"},{"$f":"IF('Ek.3-A'!E358=\"\", \"\", IF(VLOOKUP('Ek.3-A'!E358, Veriler!D:E, 2, 0)=0, \"\", VLOOKUP('Ek.3-A'!E358, Veriler!D:E, 2, 0)))","v":""},{"$f":"IF('Ek.3-A'!O358=\"\", \"\", 'Ek.3-A'!O358)","v":""},{"$f":"'Ek.3-A'!R358","v":0},{"$f":"'Ek.3-A'!K358","v":""},{"$f":"'Ek.3-A'!L358","v":""},{"v":0,"d":"%0.00"},"H",{"$f":"IF(O358=\"E\",SUM($N$5:N358),0)","v":{"v":0,"d":"%0.00"}},0]
[4.59,"YERLİ KATKI ORANI RAPORU",null,392091000000,0.1,null,139,{"$f":"IF(TRIM('Ek.3-A'!E359)<>\"\",\"var\",\"yok\")","v":"yok"},{"$f":"IF('Ek.3-A'!E359=\"\", \"\", IF(VLOOKUP('Ek.3-A'!E359, Veriler!D:E, 2, 0)=0, \"\", VLOOKUP('Ek.3-A'!E359, Veriler!D:E, 2, 0)))","v":""},{"$f":"IF('Ek.3-A'!O359=\"\", \"\", 'Ek.3-A'!O359)","v":""},{"$f":"'Ek.3-A'!R359","v":0},{"$f":"'Ek.3-A'!K359","v":""},{"$f":"'Ek.3-A'!L359","v":""},{"v":0,"d":"%0.00"},"H",{"$f":"IF(O359=\"E\",SUM($N$5:N359),0)","v":{"v":0,"d":"%0.00"}},0]
[{"v":4.6,"d":"4.60"},"YERLİ KATKI ORANI RAPORU",null,390810000011,0.1,null,140,{"$f":"IF(TRIM('Ek.3-A'!E360)<>\"\",\"var\",\"yok\")","v":"yok"},{"$f":"IF('Ek.3-A'!E360=\"\", \"\", IF(VLOOKUP('Ek.3-A'!E360, Veriler!D:E, 2, 0)=0, \"\", VLOOKUP('Ek.3-A'!E360, Veriler!D:E, 2, 0)))","v":""},{"$f":"IF('Ek.3-A'!O360=\"\", \"\", 'Ek.3-A'!O360)","v":""},{"$f":"'Ek.3-A'!R360","v":0},{"$f":"'Ek.3-A'!K360","v":""},{"$f":"'Ek.3-A'!L360","v":""},{"v":0,"d":"%0.00"},"H",{"$f":"IF(O360=\"E\",SUM($N$5:N360),0)","v":{"v":0,"d":"%0.00"}},0]
[4.61,"YERLİ KATKI ORANI RAPORU",null,390810000019,0.1,{"$nulls":3},""]
[4.62,"YERLİ KATKI ORANI RAPORU",null,390710000000,0.1,null,{"$f":"G337+1","v":127},{"$f":"IF(TRIM('Ek.3-A'!E362)<>\"\",\"var\",\"yok\")","v":"yok"},{"$f":"IF('Ek.3-A'!E362=\"\", \"\", IF(VLOOKUP('Ek.3-A'!E362, Veriler!D:E, 2, 0)=0, \"\", VLOOKUP('Ek.3-A'!E362, Veriler!D:E, 2, 0)))","v":""},{"$f":"IF('Ek.3-A'!O362=\"\", \"\", 'Ek.3-A'!O362)","v":""},{"$f":"'Ek.3-A'!R362","v":0},{"$f":"'Ek.3-A'!K362","v":""},{"$f":"'Ek.3-A'!L362","v":""},{"$f":"IF(H362=\"var\",0,IF(M362<=0.005,M362,0))","v":{"v":0,"d":"%0.00"}},{"$f":"IF(M362<=0.005,\"E\",\"H\")","v":"H"},{"$f":"IF(O362=\"E\",SUM($N$5:N362),0)","v":{"v":0,"d":"%0.00"}},{"$f":"IF(P362<=0.1, K362, IF(N362>$F$2, N362*K362, $F$2*K362))","v":0}]
[4.63,"YERLİ KATKI ORANI RAPORU",null,390729200000,0.1,null,{"$f":"G362+1","v":128},{"$f":"IF(TRIM('Ek.3-A'!E363)<>\"\",\"var\",\"yok\")","v":"yok"},{"$f":"IF('Ek.3-A'!E363=\"\", \"\", IF(VLOOKUP('Ek.3-A'!E363, Veriler!D:E, 2, 0)=0, \"\", VLOOKUP('Ek.3-A'!E363, Veriler!D:E, 2, 0)))","v":""},{"$f":"IF('Ek.3-A'!O363=\"\", \"\", 'Ek.3-A'!O363)","v":""},{"$f":"'Ek.3-A'!R363","v":0},{"$f":"'Ek.3-A'!K363","v":""},{"$f":"'Ek.3-A'!L363","v":""},{"$f":"IF(H363=\"var\",0,IF(M363<=0.005,M363,0))","v":{"v":0,"d":"%0.00"}},{"$f":"IF(M363<=0.005,\"E\",\"H\")","v":"H"},{"$f":"IF(O363=\"E\",SUM($N$5:N363),0)","v":{"v":0,"d":"%0.00"}},{"$f":"IF(P363<=0.1, K363, IF(N363>$F$2, N363*K363, $F$2*K363))","v":0}]
[4.64,"YERLİ KATKI ORANI RAPORU",null,390729110000,0.1,null,{"$f":"G363+1","v":129},{"$f":"IF(TRIM('Ek.3-A'!E364)<>\"\",\"var\",\"yok\")","v":"yok"},{"$f":"IF('Ek.3-A'!E364=\"\", \"\", IF(VLOOKUP('Ek.3-A'!E364, Veriler!D:E, 2, 0)=0, \"\", VLOOKUP('Ek.3-A'!E364, Veriler!D:E, 2, 0)))","v":""},{"$f":"IF('Ek.3-A'!O364=\"\", \"\", 'Ek.3-A'!O364)","v":""},{"$f":"'Ek.3-A'!R364","v":0},{"$f":"'Ek.3-A'!K364","v":""},{"$f":"'Ek.3-A'!L364","v":""},{"v":0,"d":"%0.00"},"H",{"$f":"IF(O364=\"E\",SUM($N$5:N364),0)","v":{"v":0,"d":"%0.00"}},0]
[4.65,"YERLİ KATKI ORANI RAPORU",null,390110900012,0.1,null,130,{"$f":"IF(TRIM('Ek.3-A'!E365)<>\"\",\"var\",\"yok\")","v":"yok"},{"$f":"IF('Ek.3-A'!E365=\"\", \"\", IF(VLOOKUP('Ek.3-A'!E365, Veriler!D:E, 2, 0)=0, \"\", VLOOKUP('Ek.3-A'!E365, Veriler!D:E, 2, 0)))","v":""},{"$f":"IF('Ek.3-A'!O365=\"\", \"\", 'Ek.3-A'!O365)","v":""},{"$f":"'Ek.3-A'!R365","v":0},{"$f":"'Ek.3-A'!K365","v":""},{"$f":"'Ek.3-A'!L365","v":""},{"v":0,"d":"%0.00"},"H",{"$f":"IF(O365=\"E\",SUM($N$5:N365),0)","v":{"v":0,"d":"%0.00"}},0]
[4.66,"YERLİ KATKI ORANI RAPORU",null,390120900012,0.1,null,131,{"$f":"IF(TRIM('Ek.3-A'!E366)<>\"\",\"var\",\"yok\")","v":"yok"},{"$f":"IF('Ek.3-A'!E366=\"\", \"\", IF(VLOOKUP('Ek.3-A'!E366, Veriler!D:E, 2, 0)=0, \"\", VLOOKUP('Ek.3-A'!E366, Veriler!D:E, 2, 0)))","v":""},{"$f":"IF('Ek.3-A'!O366=\"\", \"\", 'Ek.3-A'!O366)","v":""},{"$f":"'Ek.3-A'!R366","v":0},{"$f":"'Ek.3-A'!K366","v":""},{"$f":"'Ek.3-A'!L366","v":""},{"v":0,"d":"%0.00"},"H",{"$f":"IF(O366=\"E\",SUM($N$5:N366),0)","v":{"v":0,"d":"%0.00"}},0]
[4.67,"YERLİ KATKI ORANI RAPORU",null,390120100000,0.1,null,132,{"$f":"IF(TRIM('Ek.3-A'!E367)<>\"\",\"var\",\"yok\")","v":"yok"},{"$f":"IF('Ek.3-A'!E367=\"\", \"\", IF(VLOOKUP('Ek.3-A'!E367, Veriler!D:E, 2, 0)=0, \"\", VLOOKUP('Ek.3-A'!E367, Veriler!D:E, 2, 0)))","v":""},{"$f":"IF('Ek.3-A'!O367=\"\", \"\", 'Ek.3-A'!O367)","v":""},{"$f":"'Ek.3-A'!R367","v":0},{"$f":"'Ek.3-A'!K367","v":""},{"$f":"'Ek.3-A'!L367","v":""},{"v":0,"d":"%0.00"},"H",{"$f":"IF(O367=\"E\",SUM($N$5:N367),0)","v":{"v":0,"d":"%0.00"}},0]
[4.68,"YERLİ KATKI ORANI RAPORU",null,390740000000,0.1,null,133,{"$f":"IF(TRIM('Ek.3-A'!E368)<>\"\",\"var\",\"yok\")","v":"yok"},{"$f":"IF('Ek.3-A'!E368=\"\", \"\", IF(VLOOKUP('Ek.3-A'!E368, Veriler!D:E, 2, 0)=0, \"\", VLOOKUP('Ek.3-A'!E368, Veriler!D:E, 2, 0)))","v":""},{"$f":"IF('Ek.3-A'!O368=\"\", \"\", 'Ek.3-A'!O368)","v":""},{"$f":"'Ek.3-A'!R368","v":0},{"$f":"'Ek.3-A'!K368","v":""},{"$f":"'Ek.3-A'!L368","v":""},{"v":0,"d":"%0.00"},"H",{"$f":"IF(O368=\"E\",SUM($N$5:N368),0)","v":{"v":0,"d":"%0.00"}},0]
[4.69,"YERLİ KATKI ORANI RAPORU",null,390210000011,0.1,null,134,{"$f":"IF(TRIM('Ek.3-A'!E369)<>\"\",\"var\",\"yok\")","v":"yok"},{"$f":"IF('Ek.3-A'!E369=\"\", \"\", IF(VLOOKUP('Ek.3-A'!E369, Veriler!D:E, 2, 0)=0, \"\", VLOOKUP('Ek.3-A'!E369, Veriler!D:E, 2, 0)))","v":""},{"$f":"IF('Ek.3-A'!O369=\"\", \"\", 'Ek.3-A'!O369)","v":""},{"$f":"'Ek.3-A'!R369","v":0},{"$f":"'Ek.3-A'!K369","v":""},{"$f":"'Ek.3-A'!L369","v":""},{"v":0,"d":"%0.00"},"H",{"$f":"IF(O369=\"E\",SUM($N$5:N369),0)","v":{"v":0,"d":"%0.00"}},0]
[{"v":4.7,"d":"4.70"},"YERLİ KATKI ORANI RAPORU",null,390230000011,0.1,null,135,{"$f":"IF(TRIM('Ek.3-A'!E370)<>\"\",\"var\",\"yok\")","v":"yok"},{"$f":"IF('Ek.3-A'!E370=\"\", \"\", IF(VLOOKUP('Ek.3-A'!E370, Veriler!D:E, 2, 0)=0, \"\", VLOOKUP('Ek.3-A'!E370, Veriler!D:E, 2, 0)))","v":""},{"$f":"IF('Ek.3-A'!O370=\"\", \"\", 'Ek.3-A'!O370)","v":""},{"$f":"'Ek.3-A'!R370","v":0},{"$f":"'Ek.3-A'!K370","v":""},{"$f":"'Ek.3-A'!L370","v":""},{"v":0,"d":"%0.00"},"H",{"$f":"IF(O370=\"E\",SUM($N$5:N370),0)","v":{"v":0,"d":"%0.00"}},0]
[4.71,"YERLİ KATKI ORANI RAPORU",null,390319000000,0.1,null,136,{"$f":"IF(TRIM('Ek.3-A'!E371)<>\"\",\"var\",\"yok\")","v":"yok"},{"$f":"IF('Ek.3-A'!E371=\"\", \"\", IF(VLOOKUP('Ek.3-A'!E371, Veriler!D:E, 2, 0)=0, \"\", VLOOKUP('Ek.3-A'!E371, Veriler!D:E, 2, 0)))","v":""},{"$f":"IF('Ek.3-A'!O371=\"\", \"\", 'Ek.3-A'!O371)","v":""},{"$f":"'Ek.3-A'!R371","v":0},{"$f":"'Ek.3-A'!K371","v":""},{"$f":"'Ek.3-A'!L371","v":""},{"v":0,"d":"%0.00"},"H",{"$f":"IF(O371=\"E\",SUM($N$5:N371),0)","v":{"v":0,"d":"%0.00"}},0]
[4.72,"YERLİ KATKI ORANI RAPORU",null,390461000000,0.1,null,137,{"$f":"IF(TRIM('Ek.3-A'!E372)<>\"\",\"var\",\"yok\")","v":"yok"},{"$f":"IF('Ek.3-A'!E372=\"\", \"\", IF(VLOOKUP('Ek.3-A'!E372, Veriler!D:E, 2, 0)=0, \"\", VLOOKUP('Ek.3-A'!E372, Veriler!D:E, 2, 0)))","v":""},{"$f":"IF('Ek.3-A'!O372=\"\", \"\", 'Ek.3-A'!O372)","v":""},{"$f":"'Ek.3-A'!R372","v":0},{"$f":"'Ek.3-A'!K372","v":""},{"$f":"'Ek.3-A'!L372","v":""},{"v":0,"d":"%0.00"},"H",{"$f":"IF(O372=\"E\",SUM($N$5:N372),0)","v":{"v":0,"d":"%0.00"}},0]
[4.73,"YERLİ KATKI ORANI RAPORU",null,540220002912,0.1,null,138,{"$f":"IF(TRIM('Ek.3-A'!E373)<>\"\",\"var\",\"yok\")","v":"yok"},{"$f":"IF('Ek.3-A'!E373=\"\", \"\", IF(VLOOKUP('Ek.3-A'!E373, Veriler!D:E, 2, 0)=0, \"\", VLOOKUP('Ek.3-A'!E373, Veriler!D:E, 2, 0)))","v":""},{"$f":"IF('Ek.3-A'!O373=\"\", \"\", 'Ek.3-A'!O373)","v":""},{"$f":"'Ek.3-A'!R373","v":0},{"$f":"'Ek.3-A'!K373","v":""},{"$f":"'Ek.3-A'!L373","v":""},{"v":0,"d":"%0.00"},"H",{"$f":"IF(O373=\"E\",SUM($N$5:N373),0)","v":{"v":0,"d":"%0.00"}},0]
[4.74,"YERLİ KATKI ORANI RAPORU",null,310420500000,0.1,null,139,{"$f":"IF(TRIM('Ek.3-A'!E374)<>\"\",\"var\",\"yok\")","v":"yok"},{"$f":"IF('Ek.3-A'!E374=\"\", \"\", IF(VLOOKUP('Ek.3-A'!E374, Veriler!D:E, 2, 0)=0, \"\", VLOOKUP('Ek.3-A'!E374, Veriler!D:E, 2, 0)))","v":""},{"$f":"IF('Ek.3-A'!O374=\"\", \"\", 'Ek.3-A'!O374)","v":""},{"$f":"'Ek.3-A'!R374","v":0},{"$f":"'Ek.3-A'!K374","v":""},{"$f":"'Ek.3-A'!L374","v":""},{"v":0,"d":"%0.00"},"H",{"$f":"IF(O374=\"E\",SUM($N$5:N374),0)","v":{"v":0,"d":"%0.00"}},0]
[4.75,"YERLİ KATKI ORANI RAPORU",null,283421000000,0.1,null,140,{"$f":"IF(TRIM('Ek.3-A'!E375)<>\"\",\"var\",\"yok\")","v":"yok"},{"$f":"IF('Ek.3-A'!E375=\"\", \"\", IF(VLOOKUP('Ek.3-A'!E375, Veriler!D:E, 2, 0)=0, \"\", VLOOKUP('Ek.3-A'!E375, Veriler!D:E, 2, 0)))","v":""},{"$f":"IF('Ek.3-A'!O375=\"\", \"\", 'Ek.3-A'!O375)","v":""},{"$f":"'Ek.3-A'!R375","v":0},{"$f":"'Ek.3-A'!K375","v":""},{"$f":"'Ek.3-A'!L375","v":""},{"v":0,"d":"%0.00"},"H",{"$f":"IF(O375=\"E\",SUM($N$5:N375),0)","v":{"v":0,"d":"%0.00"}},0]
[4.76,"YERLİ KATKI ORANI RAPORU",null,850680800000,0.1]
[4.77,"YERLİ KATKI ORANI RAPORU",null,854991000000,0.1]
[4.78,"YERLİ KATKI ORANI RAPORU",null,854931000000,0.1]
[4.79,"YERLİ KATKI ORANI RAPORU",null,854919900000,0.1]
[{"v":4.8,"d":"4.80"},"YERLİ KATKI ORANI RAPORU",null,853710910000,0.1]
[4.81,"YERLİ KATKI ORANI RAPORU",null,271112940000,0.1]
[4.82,"YERLİ KATKI ORANI RAPORU",null,290532000000,0.1]
[4.83,"YERLİ KATKI ORANI RAPORU",null,390230000019,0.1]
[4.84,"YERLİ KATKI ORANI RAPORU",null,391590110000,0.1]
[4.85,"YERLİ KATKI ORANI RAPORU",null,740811000011,0.1,null,{"$f":"G360+1","v":141},{"$f":"IF(TRIM('Ek.3-A'!E385)<>\"\",\"var\",\"yok\")","v":"yok"},{"$f":"IF('Ek.3-A'!E385=\"\", \"\", IF(VLOOKUP('Ek.3-A'!E385, Veriler!D:E, 2, 0)=0, \"\", VLOOKUP('Ek.3-A'!E385, Veriler!D:E, 2, 0)))","v":""},{"$f":"IF('Ek.3-A'!O385=\"\", \"\", 'Ek.3-A'!O385)","v":""},{"$f":"'Ek.3-A'!R385","v":0},{"$f":"'Ek.3-A'!K385","v":""},{"$f":"'Ek.3-A'!L385","v":""},{"$f":"IF(H385=\"var\",0,IF(M385<=0.005,M385,0))","v":{"v":0,"d":"%0.00"}},{"$f":"IF(M385<=0.005,\"E\",\"H\")","v":"H"},{"$f":"IF(O385=\"E\",SUM($N$5:N385),0)","v":{"v":0,"d":"%0.00"}},{"$f":"IF(P385<=0.1, K385, IF(N385>$F$2, N385*K385, $F$2*K385))","v":0}]
[4.86,"YERLİ KATKI ORANI RAPORU",null,740400100000,0.1,null,{"$f":"G385+1","v":142},{"$f":"IF(TRIM('Ek.3-A'!E386)<>\"\",\"var\",\"yok\")","v":"yok"},{"$f":"IF('Ek.3-A'!E386=\"\", \"\", IF(VLOOKUP('Ek.3-A'!E386, Veriler!D:E, 2, 0)=0, \"\", VLOOKUP('Ek.3-A'!E386, Veriler!D:E, 2, 0)))","v":""},{"$f":"IF('Ek.3-A'!O386=\"\", \"\", 'Ek.3-A'!O386)","v":""},{"$f":"'Ek.3-A'!R386","v":0},{"$f":"'Ek.3-A'!K386","v":""},{"$f":"'Ek.3-A'!L386","v":""},{"$f":"IF(H386=\"var\",0,IF(M386<=0.005,M386,0))","v":{"v":0,"d":"%0.00"}},{"$f":"IF(M386<=0.005,\"E\",\"H\")","v":"H"},{"$f":"IF(O386=\"E\",SUM($N$5:N386),0)","v":{"v":0,"d":"%0.00"}},{"$f":"IF(P386<=0.1, K386, IF(N386>$F$2, N386*K386, $F$2*K386))","v":0}]
[4.87,"YERLİ KATKI ORANI RAPORU",null,740311001000,0.1,null,{"$f":"G386+1","v":143},{"$f":"IF(TRIM('Ek.3-A'!E387)<>\"\",\"var\",\"yok\")","v":"yok"},{"$f":"IF('Ek.3-A'!E387=\"\", \"\", IF(VLOOKUP('Ek.3-A'!E387, Veriler!D:E, 2, 0)=0, \"\", VLOOKUP('Ek.3-A'!E387, Veriler!D:E, 2, 0)))","v":""},{"$f":"IF('Ek.3-A'!O387=\"\", \"\", 'Ek.3-A'!O387)","v":""},{"$f":"'Ek.3-A'!R387","v":0},{"$f":"'Ek.3-A'!K387","v":""},{"$f":"'Ek.3-A'!L387","v":""},{"v":0,"d":"%0.00"},"H",{"$f":"IF(O387=\"E\",SUM($N$5:N387),0)","v":{"v":0,"d":"%0.00"}},0]
[4.88,"YERLİ KATKI ORANI RAPORU",null,780110000000,0.1,null,{"$f":"G387+1","v":144},{"$f":"IF(TRIM('Ek.3-A'!E388)<>\"\",\"var\",\"yok\")","v":"yok"},{"$f":"IF('Ek.3-A'!E388=\"\", \"\", IF(VLOOKUP('Ek.3-A'!E388, Veriler!D:E, 2, 0)=0, \"\", VLOOKUP('Ek.3-A'!E388, Veriler!D:E, 2, 0)))","v":""},{"$f":"IF('Ek.3-A'!O388=\"\", \"\", 'Ek.3-A'!O388)","v":""},{"$f":"'Ek.3-A'!R388","v":0},{"$f":"'Ek.3-A'!K388","v":""},{"$f":"'Ek.3-A'!L388","v":""},{"v":0,"d":"%0.00"},"H",{"$f":"IF(O388=\"E\",SUM($N$5:N388),0)","v":{"v":0,"d":"%0.00"}},0]
[4.89,"YERLİ KATKI ORANI RAPORU",null,740319009000,0.1,null,145,{"$f":"IF(TRIM('Ek.3-A'!E389)<>\"\",\"var\",\"yok\")","v":"yok"},{"$f":"IF('Ek.3-A'!E389=\"\", \"\", IF(VLOOKUP('Ek.3-A'!E389, Veriler!D:E, 2, 0)=0, \"\", VLOOKUP('Ek.3-A'!E389, Veriler!D:E, 2, 0)))","v":""},{"$f":"IF('Ek.3-A'!O389=\"\", \"\", 'Ek.3-A'!O389)","v":""},{"$f":"'Ek.3-A'!R389","v":0},{"$f":"'Ek.3-A'!K389","v":""},{"$f":"'Ek.3-A'!L389","v":""},{"v":0,"d":"%0.00"},"H",{"$f":"IF(O389=\"E\",SUM($N$5:N389),0)","v":{"v":0,"d":"%0.00"}},0]
[{"v":4.9,"d":"4.90"},"YERLİ KATKI ORANI RAPORU",null,320416000000,0.1,null,146,{"$f":"IF(TRIM('Ek.3-A'!E390)<>\"\",\"var\",\"yok\")","v":"yok"},{"$f":"IF('Ek.3-A'!E390=\"\", \"\", IF(VLOOKUP('Ek.3-A'!E390, Veriler!D:E, 2, 0)=0, \"\", VLOOKUP('Ek.3-A'!E390, Veriler!D:E, 2, 0)))","v":""},{"$f":"IF('Ek.3-A'!O390=\"\", \"\", 'Ek.3-A'!O390)","v":""},{"$f":"'Ek.3-A'!R390","v":0},{"$f":"'Ek.3-A'!K390","v":""},{"$f":"'Ek.3-A'!L390","v":""},{"v":0,"d":"%0.00"},"H",{"$f":"IF(O390=\"E\",SUM($N$5:N390),0)","v":{"v":0,"d":"%0.00"}},0]
[4.91,"YERLİ KATKI ORANI RAPORU",null,853641900000,0.1,null,147,{"$f":"IF(TRIM('Ek.3-A'!E391)<>\"\",\"var\",\"yok\")","v":"yok"},{"$f":"IF('Ek.3-A'!E391=\"\", \"\", IF(VLOOKUP('Ek.3-A'!E391, Veriler!D:E, 2, 0)=0, \"\", VLOOKUP('Ek.3-A'!E391, Veriler!D:E, 2, 0)))","v":""},{"$f":"IF('Ek.3-A'!O391=\"\", \"\", 'Ek.3-A'!O391)","v":""},{"$f":"'Ek.3-A'!R391","v":0},{"$f":"'Ek.3-A'!K391","v":""},{"$f":"'Ek.3-A'!L391","v":""},{"v":0,"d":"%0.00"},"H",{"$f":"IF(O391=\"E\",SUM($N$5:N391),0)","v":{"v":0,"d":"%0.00"}},0]
[4.92,"YERLİ KATKI ORANI RAPORU",null,340290100012,0.1,null,148,{"$f":"IF(TRIM('Ek.3-A'!E392)<>\"\",\"var\",\"yok\")","v":"yok"},{"$f":"IF('Ek.3-A'!E392=\"\", \"\", IF(VLOOKUP('Ek.3-A'!E392, Veriler!D:E, 2, 0)=0, \"\", VLOOKUP('Ek.3-A'!E392, Veriler!D:E, 2, 0)))","v":""},{"$f":"IF('Ek.3-A'!O392=\"\", \"\", 'Ek.3-A'!O392)","v":""},{"$f":"'Ek.3-A'!R392","v":0},{"$f":"'Ek.3-A'!K392","v":""},{"$f":"'Ek.3-A'!L392","v":""},{"v":0,"d":"%0.00"},"H",{"$f":"IF(O392=\"E\",SUM($N$5:N392),0)","v":{"v":0,"d":"%0.00"}},0]
[4.93,"YERLİ KATKI ORANI RAPORU",null,293399809049,0.1,null,149,{"$f":"IF(TRIM('Ek.3-A'!E393)<>\"\",\"var\",\"yok\")","v":"yok"},{"$f":"IF('Ek.3-A'!E393=\"\", \"\", IF(VLOOKUP('Ek.3-A'!E393, Veriler!D:E, 2, 0)=0, \"\", VLOOKUP('Ek.3-A'!E393, Veriler!D:E, 2, 0)))","v":""},{"$f":"IF('Ek.3-A'!O393=\"\", \"\", 'Ek.3-A'!O393)","v":""},{"$f":"'Ek.3-A'!R393","v":0},{"$f":"'Ek.3-A'!K393","v":""},{"$f":"'Ek.3-A'!L393","v":""},{"v":0,"d":"%0.00"},"H",{"$f":"IF(O393=\"E\",SUM($N$5:N393),0)","v":{"v":0,"d":"%0.00"}},0]
[4.94,"YERLİ KATKI ORANI RAPORU",null,293299009029,0.1,null,150,{"$f":"IF(TRIM('Ek.3-A'!E394)<>\"\",\"var\",\"yok\")","v":"yok"},{"$f":"IF('Ek.3-A'!E394=\"\", \"\", IF(VLOOKUP('Ek.3-A'!E394, Veriler!D:E, 2, 0)=0, \"\", VLOOKUP('Ek.3-A'!E394, Veriler!D:E, 2, 0)))","v":""},{"$f":"IF('Ek.3-A'!O394=\"\", \"\", 'Ek.3-A'!O394)","v":""},{"$f":"'Ek.3-A'!R394","v":0},{"$f":"'Ek.3-A'!K394","v":""},{"$f":"'Ek.3-A'!L394","v":""},{"v":0,"d":"%0.00"},"H",{"$f":"IF(O394=\"E\",SUM($N$5:N394),0)","v":{"v":0,"d":"%0.00"}},0]
[4.95,"YERLİ KATKI ORANI RAPORU",null,852990659000,0.1,null,151,{"$f":"IF(TRIM('Ek.3-A'!E395)<>\"\",\"var\",\"yok\")","v":"yok"},{"$f":"IF('Ek.3-A'!E395=\"\", \"\", IF(VLOOKUP('Ek.3-A'!E395, Veriler!D:E, 2, 0)=0, \"\", VLOOKUP('Ek.3-A'!E395, Veriler!D:E, 2, 0)))","v":""},{"$f":"IF('Ek.3-A'!O395=\"\", \"\", 'Ek.3-A'!O395)","v":""},{"$f":"'Ek.3-A'!R395","v":0},{"$f":"'Ek.3-A'!K395","v":""},{"$f":"'Ek.3-A'!L395","v":""},{"v":0,"d":"%0.00"},"H",{"$f":"IF(O395=\"E\",SUM($N$5:N395),0)","v":{"v":0,"d":"%0.00"}},0]
[4.96,"YERLİ KATKI ORANI RAPORU",null,290511001011,0.1,null,152,{"$f":"IF(TRIM('Ek.3-A'!E396)<>\"\",\"var\",\"yok\")","v":"yok"},{"$f":"IF('Ek.3-A'!E396=\"\", \"\", IF(VLOOKUP('Ek.3-A'!E396, Veriler!D:E, 2, 0)=0, \"\", VLOOKUP('Ek.3-A'!E396, Veriler!D:E, 2, 0)))","v":""},{"$f":"IF('Ek.3-A'!O396=\"\", \"\", 'Ek.3-A'!O396)","v":""},{"$f":"'Ek.3-A'!R396","v":0},{"$f":"'Ek.3-A'!K396","v":""},{"$f":"'Ek.3-A'!L396","v":""},{"v":0,"d":"%0.00"},"H",{"$f":"IF(O396=\"E\",SUM($N$5:N396),0)","v":{"v":0,"d":"%0.00"}},0]
[4.97,"YERLİ KATKI ORANI RAPORU",null,850110100000,0.1,null,153,{"$f":"IF(TRIM('Ek.3-A'!E397)<>\"\",\"var\",\"yok\")","v":"yok"},{"$f":"IF('Ek.3-A'!E397=\"\", \"\", IF(VLOOKUP('Ek.3-A'!E397, Veriler!D:E, 2, 0)=0, \"\", VLOOKUP('Ek.3-A'!E397, Veriler!D:E, 2, 0)))","v":""},{"$f":"IF('Ek.3-A'!O397=\"\", \"\", 'Ek.3-A'!O397)","v":""},{"$f":"'Ek.3-A'!R397","v":0},{"$f":"'Ek.3-A'!K397","v":""},{"$f":"'Ek.3-A'!L397","v":""},{"v":0,"d":"%0.00"},"H",{"$f":"IF(O397=\"E\",SUM($N$5:N397),0)","v":{"v":0,"d":"%0.00"}},0]
[4.98,"YERLİ KATKI ORANI RAPORU",null,852351100000,0.1,null,154,{"$f":"IF(TRIM('Ek.3-A'!E398)<>\"\",\"var\",\"yok\")","v":"yok"},{"$f":"IF('Ek.3-A'!E398=\"\", \"\", IF(VLOOKUP('Ek.3-A'!E398, Veriler!D:E, 2, 0)=0, \"\", VLOOKUP('Ek.3-A'!E398, Veriler!D:E, 2, 0)))","v":""},{"$f":"IF('Ek.3-A'!O398=\"\", \"\", 'Ek.3-A'!O398)","v":""},{"$f":"'Ek.3-A'!R398","v":0},{"$f":"'Ek.3-A'!K398","v":""},{"$f":"'Ek.3-A'!L398","v":""},{"v":0,"d":"%0.00"},"H",{"$f":"IF(O398=\"E\",SUM($N$5:N398),0)","v":{"v":0,"d":"%0.00"}},0]
[4.99,"YERLİ KATKI ORANI RAPORU",null,410150301000,0.1,{"$nulls":3},""]
[{"v":5,"d":"5.00"},"YERLİ KATKI ORANI RAPORU",null,854690101013,0.1,null,{"$f":"G375+1","v":141},{"$f":"IF(TRIM('Ek.3-A'!E400)<>\"\",\"var\",\"yok\")","v":"yok"},{"$f":"IF('Ek.3-A'!E400=\"\", \"\", IF(VLOOKUP('Ek.3-A'!E400, Veriler!D:E, 2, 0)=0, \"\", VLOOKUP('Ek.3-A'!E400, Veriler!D:E, 2, 0)))","v":""},{"$f":"IF('Ek.3-A'!O400=\"\", \"\", 'Ek.3-A'!O400)","v":""},{"$f":"'Ek.3-A'!R400","v":0},{"$f":"'Ek.3-A'!K400","v":""},{"$f":"'Ek.3-A'!L400","v":""},{"$f":"IF(H400=\"var\",0,IF(M400<=0.005,M400,0))","v":{"v":0,"d":"%0.00"}},{"$f":"IF(M400<=0.005,\"E\",\"H\")","v":"H"},{"$f":"IF(O400=\"E\",SUM($N$5:N400),0)","v":{"v":0,"d":"%0.00"}},{"$f":"IF(P400<=0.1, K400, IF(N400>$F$2, N400*K400, $F$2*K400))","v":0}]
[5.01,"YERLİ KATKI ORANI RAPORU",null,281122000000,0.1,null,{"$f":"G400+1","v":142},{"$f":"IF(TRIM('Ek.3-A'!E401)<>\"\",\"var\",\"yok\")","v":"yok"},{"$f":"IF('Ek.3-A'!E401=\"\", \"\", IF(VLOOKUP('Ek.3-A'!E401, Veriler!D:E, 2, 0)=0, \"\", VLOOKUP('Ek.3-A'!E401, Veriler!D:E, 2, 0)))","v":""},{"$f":"IF('Ek.3-A'!O401=\"\", \"\", 'Ek.3-A'!O401)","v":""},{"$f":"'Ek.3-A'!R401","v":0},{"$f":"'Ek.3-A'!K401","v":""},{"$f":"'Ek.3-A'!L401","v":""},{"$f":"IF(H401=\"var\",0,IF(M401<=0.005,M401,0))","v":{"v":0,"d":"%0.00"}},{"$f":"IF(M401<=0.005,\"E\",\"H\")","v":"H"},{"$f":"IF(O401=\"E\",SUM($N$5:N401),0)","v":{"v":0,"d":"%0.00"}},{"$f":"IF(P401<=0.1, K401, IF(N401>$F$2, N401*K401, $F$2*K401))","v":0}]
[5.02,"YERLİ KATKI ORANI RAPORU",null,722519900000,0.1,null,{"$f":"G401+1","v":143},{"$f":"IF(TRIM('Ek.3-A'!E402)<>\"\",\"var\",\"yok\")","v":"yok"},{"$f":"IF('Ek.3-A'!E402=\"\", \"\", IF(VLOOKUP('Ek.3-A'!E402, Veriler!D:E, 2, 0)=0, \"\", VLOOKUP('Ek.3-A'!E402, Veriler!D:E, 2, 0)))","v":""},{"$f":"IF('Ek.3-A'!O402=\"\", \"\", 'Ek.3-A'!O402)","v":""},{"$f":"'Ek.3-A'!R402","v":0},{"$f":"'Ek.3-A'!K402","v":""},{"$f":"'Ek.3-A'!L402","v":""},{"v":0,"d":"%0.00"},"H",{"$f":"IF(O402=\"E\",SUM($N$5:N402),0)","v":{"v":0,"d":"%0.00"}},0]
[5.03,"YERLİ KATKI ORANI RAPORU",null,722511000000,0.1,null,144,{"$f":"IF(TRIM('Ek.3-A'!E403)<>\"\",\"var\",\"yok\")","v":"yok"},{"$f":"IF('Ek.3-A'!E403=\"\", \"\", IF(VLOOKUP('Ek.3-A'!E403, Veriler!D:E, 2, 0)=0, \"\", VLOOKUP('Ek.3-A'!E403, Veriler!D:E, 2, 0)))","v":""},{"$f":"IF('Ek.3-A'!O403=\"\", \"\", 'Ek.3-A'!O403)","v":""},{"$f":"'Ek.3-A'!R403","v":0},{"$f":"'Ek.3-A'!K403","v":""},{"$f":"'Ek.3-A'!L403","v":""},{"v":0,"d":"%0.00"},"H",{"$f":"IF(O403=\"E\",SUM($N$5:N403),0)","v":{"v":0,"d":"%0.00"}},0]
[5.04,"YERLİ KATKI ORANI RAPORU",null,291814000000,0.1,null,145,{"$f":"IF(TRIM('Ek.3-A'!E404)<>\"\",\"var\",\"yok\")","v":"yok"},{"$f":"IF('Ek.3-A'!E404=\"\", \"\", IF(VLOOKUP('Ek.3-A'!E404, Veriler!D:E, 2, 0)=0, \"\", VLOOKUP('Ek.3-A'!E404, Veriler!D:E, 2, 0)))","v":""},{"$f":"IF('Ek.3-A'!O404=\"\", \"\", 'Ek.3-A'!O404)","v":""},{"$f":"'Ek.3-A'!R404","v":0},{"$f":"'Ek.3-A'!K404","v":""},{"$f":"'Ek.3-A'!L404","v":""},{"v":0,"d":"%0.00"},"H",{"$f":"IF(O404=\"E\",SUM($N$5:N404),0)","v":{"v":0,"d":"%0.00"}},0]
[5.05,"YERLİ KATKI ORANI RAPORU",null,283711000011,0.1,null,146,{"$f":"IF(TRIM('Ek.3-A'!E405)<>\"\",\"var\",\"yok\")","v":"yok"},{"$f":"IF('Ek.3-A'!E405=\"\", \"\", IF(VLOOKUP('Ek.3-A'!E405, Veriler!D:E, 2, 0)=0, \"\", VLOOKUP('Ek.3-A'!E405, Veriler!D:E, 2, 0)))","v":""},{"$f":"IF('Ek.3-A'!O405=\"\", \"\", 'Ek.3-A'!O405)","v":""},{"$f":"'Ek.3-A'!R405","v":0},{"$f":"'Ek.3-A'!K405","v":""},{"$f":"'Ek.3-A'!L405","v":""},{"v":0,"d":"%0.00"},"H",{"$f":"IF(O405=\"E\",SUM($N$5:N405),0)","v":{"v":0,"d":"%0.00"}},0]
[5.06,"YERLİ KATKI ORANI RAPORU",null,890800001000,0.1,null,147,{"$f":"IF(TRIM('Ek.3-A'!E406)<>\"\",\"var\",\"yok\")","v":"yok"},{"$f":"IF('Ek.3-A'!E406=\"\", \"\", IF(VLOOKUP('Ek.3-A'!E406, Veriler!D:E, 2, 0)=0, \"\", VLOOKUP('Ek.3-A'!E406, Veriler!D:E, 2, 0)))","v":""},{"$f":"IF('Ek.3-A'!O406=\"\", \"\", 'Ek.3-A'!O406)","v":""},{"$f":"'Ek.3-A'!R406","v":0},{"$f":"'Ek.3-A'!K406","v":""},{"$f":"'Ek.3-A'!L406","v":""},{"v":0,"d":"%0.00"},"H",{"$f":"IF(O406=\"E\",SUM($N$5:N406),0)","v":{"v":0,"d":"%0.00"}},0]
[5.07,"YERLİ KATKI ORANI RAPORU",null,710812000012,0.1,null,148,{"$f":"IF(TRIM('Ek.3-A'!E407)<>\"\",\"var\",\"yok\")","v":"yok"},{"$f":"IF('Ek.3-A'!E407=\"\", \"\", IF(VLOOKUP('Ek.3-A'!E407, Veriler!D:E, 2, 0)=0, \"\", VLOOKUP('Ek.3-A'!E407, Veriler!D:E, 2, 0)))","v":""},{"$f":"IF('Ek.3-A'!O407=\"\", \"\", 'Ek.3-A'!O407)","v":""},{"$f":"'Ek.3-A'!R407","v":0},{"$f":"'Ek.3-A'!K407","v":""},{"$f":"'Ek.3-A'!L407","v":""},{"v":0,"d":"%0.00"},"H",{"$f":"IF(O407=\"E\",SUM($N$5:N407),0)","v":{"v":0,"d":"%0.00"}},0]
[5.08,"YERLİ KATKI ORANI RAPORU",null,710812000013,0.1,null,149,{"$f":"IF(TRIM('Ek.3-A'!E408)<>\"\",\"var\",\"yok\")","v":"yok"},{"$f":"IF('Ek.3-A'!E408=\"\", \"\", IF(VLOOKUP('Ek.3-A'!E408, Veriler!D:E, 2, 0)=0, \"\", VLOOKUP('Ek.3-A'!E408, Veriler!D:E, 2, 0)))","v":""},{"$f":"IF('Ek.3-A'!O408=\"\", \"\", 'Ek.3-A'!O408)","v":""},{"$f":"'Ek.3-A'!R408","v":0},{"$f":"'Ek.3-A'!K408","v":""},{"$f":"'Ek.3-A'!L408","v":""},{"v":0,"d":"%0.00"},"H",{"$f":"IF(O408=\"E\",SUM($N$5:N408),0)","v":{"v":0,"d":"%0.00"}},0]
[5.09,"YERLİ KATKI ORANI RAPORU",null,851140009000,0.1,null,150,{"$f":"IF(TRIM('Ek.3-A'!E409)<>\"\",\"var\",\"yok\")","v":"yok"},{"$f":"IF('Ek.3-A'!E409=\"\", \"\", IF(VLOOKUP('Ek.3-A'!E409, Veriler!D:E, 2, 0)=0, \"\", VLOOKUP('Ek.3-A'!E409, Veriler!D:E, 2, 0)))","v":""},{"$f":"IF('Ek.3-A'!O409=\"\", \"\", 'Ek.3-A'!O409)","v":""},{"$f":"'Ek.3-A'!R409","v":0},{"$f":"'Ek.3-A'!K409","v":""},{"$f":"'Ek.3-A'!L409","v":""},{"v":0,"d":"%0.00"},"H",{"$f":"IF(O409=\"E\",SUM($N$5:N409),0)","v":{"v":0,"d":"%0.00"}},0]
[{"v":5.1,"d":"5.10"},"YERLİ KATKI ORANI RAPORU",null,382311000000,0.1,null,151,{"$f":"IF(TRIM('Ek.3-A'!E410)<>\"\",\"var\",\"yok\")","v":"yok"},{"$f":"IF('Ek.3-A'!E410=\"\", \"\", IF(VLOOKUP('Ek.3-A'!E410, Veriler!D:E, 2, 0)=0, \"\", VLOOKUP('Ek.3-A'!E410, Veriler!D:E, 2, 0)))","v":""},{"$f":"IF('Ek.3-A'!O410=\"\", \"\", 'Ek.3-A'!O410)","v":""},{"$f":"'Ek.3-A'!R410","v":0},{"$f":"'Ek.3-A'!K410","v":""},{"$f":"'Ek.3-A'!L410","v":""},{"v":0,"d":"%0.00"},"H",{"$f":"IF(O410=\"E\",SUM($N$5:N410),0)","v":{"v":0,"d":"%0.00"}},0]
[5.11,"YERLİ KATKI ORANI RAPORU",null,290250000000,0.1,null,152,{"$f":"IF(TRIM('Ek.3-A'!E411)<>\"\",\"var\",\"yok\")","v":"yok"},{"$f":"IF('Ek.3-A'!E411=\"\", \"\", IF(VLOOKUP('Ek.3-A'!E411, Veriler!D:E, 2, 0)=0, \"\", VLOOKUP('Ek.3-A'!E411, Veriler!D:E, 2, 0)))","v":""},{"$f":"IF('Ek.3-A'!O411=\"\", \"\", 'Ek.3-A'!O411)","v":""},{"$f":"'Ek.3-A'!R411","v":0},{"$f":"'Ek.3-A'!K411","v":""},{"$f":"'Ek.3-A'!L411","v":""},{"v":0,"d":"%0.00"},"H",{"$f":"IF(O411=\"E\",SUM($N$5:N411),0)","v":{"v":0,"d":"%0.00"}},0]
[5.12,"YERLİ KATKI ORANI RAPORU",null,391520000000,0.1,null,153,{"$f":"IF(TRIM('Ek.3-A'!E412)<>\"\",\"var\",\"yok\")","v":"yok"},{"$f":"IF('Ek.3-A'!E412=\"\", \"\", IF(VLOOKUP('Ek.3-A'!E412, Veriler!D:E, 2, 0)=0, \"\", VLOOKUP('Ek.3-A'!E412, Veriler!D:E, 2, 0)))","v":""},{"$f":"IF('Ek.3-A'!O412=\"\", \"\", 'Ek.3-A'!O412)","v":""},{"$f":"'Ek.3-A'!R412","v":0},{"$f":"'Ek.3-A'!K412","v":""},{"$f":"'Ek.3-A'!L412","v":""},{"v":0,"d":"%0.00"},"H",{"$f":"IF(O412=\"E\",SUM($N$5:N412),0)","v":{"v":0,"d":"%0.00"}},0]
[5.13,"YERLİ KATKI ORANI RAPORU",null,550210000000,0.1,null,154,{"$f":"IF(TRIM('Ek.3-A'!E413)<>\"\",\"var\",\"yok\")","v":"yok"},{"$f":"IF('Ek.3-A'!E413=\"\", \"\", IF(VLOOKUP('Ek.3-A'!E413, Veriler!D:E, 2, 0)=0, \"\", VLOOKUP('Ek.3-A'!E413, Veriler!D:E, 2, 0)))","v":""},{"$f":"IF('Ek.3-A'!O413=\"\", \"\", 'Ek.3-A'!O413)","v":""},{"$f":"'Ek.3-A'!R413","v":0},{"$f":"'Ek.3-A'!K413","v":""},{"$f":"'Ek.3-A'!L413","v":""},{"v":0,"d":"%0.00"},"H",{"$f":"IF(O413=\"E\",SUM($N$5:N413),0)","v":{"v":0,"d":"%0.00"}},0]
[5.14,"YERLİ KATKI ORANI RAPORU",null,281810110000,0.1]
[5.15,"YERLİ KATKI ORANI RAPORU",null,340420000000,0.1]
[5.16,"YERLİ KATKI ORANI RAPORU",null,281410000000,0.1]
[5.17,"YERLİ KATKI ORANI RAPORU",null,283620000011,0.1]
[5.18,"YERLİ KATKI ORANI RAPORU",null,720390000000,0.1]
[5.19,"YERLİ KATKI ORANI RAPORU",null,852491000000,0.1]
[{"v":5.2,"d":"5.20"},"YERLİ KATKI ORANI RAPORU",null,852492000000,0.1]
[5.21,"YERLİ KATKI ORANI RAPORU",null,251020001011,0.1]
[5.22,"YERLİ KATKI ORANI RAPORU",null,680530000000,0.1]
[5.23,"YERLİ KATKI ORANI RAPORU",null,722840100000,0.1,null,{"$f":"G398+1","v":155},{"$f":"IF(TRIM('Ek.3-A'!E423)<>\"\",\"var\",\"yok\")","v":"yok"},{"$f":"IF('Ek.3-A'!E423=\"\", \"\", IF(VLOOKUP('Ek.3-A'!E423, Veriler!D:E, 2, 0)=0, \"\", VLOOKUP('Ek.3-A'!E423, Veriler!D:E, 2, 0)))","v":""},{"$f":"IF('Ek.3-A'!O423=\"\", \"\", 'Ek.3-A'!O423)","v":""},{"$f":"'Ek.3-A'!R423","v":0},{"$f":"'Ek.3-A'!K423","v":""},{"$f":"'Ek.3-A'!L423","v":""},{"$f":"IF(H423=\"var\",0,IF(M423<=0.005,M423,0))","v":{"v":0,"d":"%0.00"}},{"$f":"IF(M423<=0.005,\"E\",\"H\")","v":"H"},{"$f":"IF(O423=\"E\",SUM($N$5:N423),0)","v":{"v":0,"d":"%0.00"}},{"$f":"IF(P423<=0.1, K423, IF(N423>$F$2, N423*K423, $F$2*K423))","v":0}]
[5.24,"YERLİ KATKI ORANI RAPORU",null,240120950000,0.1,null,{"$f":"G423+1","v":156},{"$f":"IF(TRIM('Ek.3-A'!E424)<>\"\",\"var\",\"yok\")","v":"yok"},{"$f":"IF('Ek.3-A'!E424=\"\", \"\", IF(VLOOKUP('Ek.3-A'!E424, Veriler!D:E, 2, 0)=0, \"\", VLOOKUP('Ek.3-A'!E424, Veriler!D:E, 2, 0)))","v":""},{"$f":"IF('Ek.3-A'!O424=\"\", \"\", 'Ek.3-A'!O424)","v":""},{"$f":"'Ek.3-A'!R424","v":0},{"$f":"'Ek.3-A'!K424","v":""},{"$f":"'Ek.3-A'!L424","v":""},{"$f":"IF(H424=\"var\",0,IF(M424<=0.005,M424,0))","v":{"v":0,"d":"%0.00"}},{"$f":"IF(M424<=0.005,\"E\",\"H\")","v":"H"},{"$f":"IF(O424=\"E\",SUM($N$5:N424),0)","v":{"v":0,"d":"%0.00"}},{"$f":"IF(P424<=0.1, K424, IF(N424>$F$2, N424*K424, $F$2*K424))","v":0}]
[5.25,"YERLİ KATKI ORANI RAPORU",null,840820350000,0.1,null,{"$f":"G424+1","v":157},{"$f":"IF(TRIM('Ek.3-A'!E425)<>\"\",\"var\",\"yok\")","v":"yok"},{"$f":"IF('Ek.3-A'!E425=\"\", \"\", IF(VLOOKUP('Ek.3-A'!E425, Veriler!D:E, 2, 0)=0, \"\", VLOOKUP('Ek.3-A'!E425, Veriler!D:E, 2, 0)))","v":""},{"$f":"IF('Ek.3-A'!O425=\"\", \"\", 'Ek.3-A'!O425)","v":""},{"$f":"'Ek.3-A'!R425","v":0},{"$f":"'Ek.3-A'!K425","v":""},{"$f":"'Ek.3-A'!L425","v":""},{"v":0,"d":"%0.00"},"H",{"$f":"IF(O425=\"E\",SUM($N$5:N425),0)","v":{"v":0,"d":"%0.00"}},0]
[5.26,"YERLİ KATKI ORANI RAPORU",null,253090700000,0.1,null,{"$f":"G425+1","v":158},{"$f":"IF(TRIM('Ek.3-A'!E426)<>\"\",\"var\",\"yok\")","v":"yok"},{"$f":"IF('Ek.3-A'!E426=\"\", \"\", IF(VLOOKUP('Ek.3-A'!E426, Veriler!D:E, 2, 0)=0, \"\", VLOOKUP('Ek.3-A'!E426, Veriler!D:E, 2, 0)))","v":""},{"$f":"IF('Ek.3-A'!O426=\"\", \"\", 'Ek.3-A'!O426)","v":""},{"$f":"'Ek.3-A'!R426","v":0},{"$f":"'Ek.3-A'!K426","v":""},{"$f":"'Ek.3-A'!L426","v":""},{"v":0,"d":"%0.00"},"H",{"$f":"IF(O426=\"E\",SUM($N$5:N426),0)","v":{"v":0,"d":"%0.00"}},0]
[5.27,"YERLİ KATKI ORANI RAPORU",null,240399900000,0.1,null,159,{"$f":"IF(TRIM('Ek.3-A'!E427)<>\"\",\"var\",\"yok\")","v":"yok"},{"$f":"IF('Ek.3-A'!E427=\"\", \"\", IF(VLOOKUP('Ek.3-A'!E427, Veriler!D:E, 2, 0)=0, \"\", VLOOKUP('Ek.3-A'!E427, Veriler!D:E, 2, 0)))","v":""},{"$f":"IF('Ek.3-A'!O427=\"\", \"\", 'Ek.3-A'!O427)","v":""},{"$f":"'Ek.3-A'!R427","v":0},{"$f":"'Ek.3-A'!K427","v":""},{"$f":"'Ek.3-A'!L427","v":""},{"v":0,"d":"%0.00"},"H",{"$f":"IF(O427=\"E\",SUM($N$5:N427),0)","v":{"v":0,"d":"%0.00"}},0]
[5.28,"YERLİ KATKI ORANI RAPORU",null,270400100000,0.1,null,160,{"$f":"IF(TRIM('Ek.3-A'!E428)<>\"\",\"var\",\"yok\")","v":"yok"},{"$f":"IF('Ek.3-A'!E428=\"\", \"\", IF(VLOOKUP('Ek.3-A'!E428, Veriler!D:E, 2, 0)=0, \"\", VLOOKUP('Ek.3-A'!E428, Veriler!D:E, 2, 0)))","v":""},{"$f":"IF('Ek.3-A'!O428=\"\", \"\", 'Ek.3-A'!O428)","v":""},{"$f":"'Ek.3-A'!R428","v":0},{"$f":"'Ek.3-A'!K428","v":""},{"$f":"'Ek.3-A'!L428","v":""},{"v":0,"d":"%0.00"},"H",{"$f":"IF(O428=\"E\",SUM($N$5:N428),0)","v":{"v":0,"d":"%0.00"}},0]
[5.29,"YERLİ KATKI ORANI RAPORU",null,300390000000,0.1,null,161,{"$f":"IF(TRIM('Ek.3-A'!E429)<>\"\",\"var\",\"yok\")","v":"yok"},{"$f":"IF('Ek.3-A'!E429=\"\", \"\", IF(VLOOKUP('Ek.3-A'!E429, Veriler!D:E, 2, 0)=0, \"\", VLOOKUP('Ek.3-A'!E429, Veriler!D:E, 2, 0)))","v":""},{"$f":"IF('Ek.3-A'!O429=\"\", \"\", 'Ek.3-A'!O429)","v":""},{"$f":"'Ek.3-A'!R429","v":0},{"$f":"'Ek.3-A'!K429","v":""},{"$f":"'Ek.3-A'!L429","v":""},{"v":0,"d":"%0.00"},"H",{"$f":"IF(O429=\"E\",SUM($N$5:N429),0)","v":{"v":0,"d":"%0.00"}},0]
[{"v":5.3,"d":"5.30"},"YERLİ KATKI ORANI RAPORU",null,851779000000,0.1,null,162,{"$f":"IF(TRIM('Ek.3-A'!E430)<>\"\",\"var\",\"yok\")","v":"yok"},{"$f":"IF('Ek.3-A'!E430=\"\", \"\", IF(VLOOKUP('Ek.3-A'!E430, Veriler!D:E, 2, 0)=0, \"\", VLOOKUP('Ek.3-A'!E430, Veriler!D:E, 2, 0)))","v":""},{"$f":"IF('Ek.3-A'!O430=\"\", \"\", 'Ek.3-A'!O430)","v":""},{"$f":"'Ek.3-A'!R430","v":0},{"$f":"'Ek.3-A'!K430","v":""},{"$f":"'Ek.3-A'!L430","v":""},{"v":0,"d":"%0.00"},"H",{"$f":"IF(O430=\"E\",SUM($N$5:N430),0)","v":{"v":0,"d":"%0.00"}},0]
[5.31,"YERLİ KATKI ORANI RAPORU",null,291736000011,0.1,null,163,{"$f":"IF(TRIM('Ek.3-A'!E431)<>\"\",\"var\",\"yok\")","v":"yok"},{"$f":"IF('Ek.3-A'!E431=\"\", \"\", IF(VLOOKUP('Ek.3-A'!E431, Veriler!D:E, 2, 0)=0, \"\", VLOOKUP('Ek.3-A'!E431, Veriler!D:E, 2, 0)))","v":""},{"$f":"IF('Ek.3-A'!O431=\"\", \"\", 'Ek.3-A'!O431)","v":""},{"$f":"'Ek.3-A'!R431","v":0},{"$f":"'Ek.3-A'!K431","v":""},{"$f":"'Ek.3-A'!L431","v":""},{"v":0,"d":"%0.00"},"H",{"$f":"IF(O431=\"E\",SUM($N$5:N431),0)","v":{"v":0,"d":"%0.00"}},0]
[5.32,"YERLİ KATKI ORANI RAPORU",null,401512000011,0.1,null,164,{"$f":"IF(TRIM('Ek.3-A'!E432)<>\"\",\"var\",\"yok\")","v":"yok"},{"$f":"IF('Ek.3-A'!E432=\"\", \"\", IF(VLOOKUP('Ek.3-A'!E432, Veriler!D:E, 2, 0)=0, \"\", VLOOKUP('Ek.3-A'!E432, Veriler!D:E, 2, 0)))","v":""},{"$f":"IF('Ek.3-A'!O432=\"\", \"\", 'Ek.3-A'!O432)","v":""},{"$f":"'Ek.3-A'!R432","v":0},{"$f":"'Ek.3-A'!K432","v":""},{"$f":"'Ek.3-A'!L432","v":""},{"v":0,"d":"%0.00"},"H",{"$f":"IF(O432=\"E\",SUM($N$5:N432),0)","v":{"v":0,"d":"%0.00"}},0]
[5.33,"YERLİ KATKI ORANI RAPORU",null,401512000019,0.1,null,165,{"$f":"IF(TRIM('Ek.3-A'!E433)<>\"\",\"var\",\"yok\")","v":"yok"},{"$f":"IF('Ek.3-A'!E433=\"\", \"\", IF(VLOOKUP('Ek.3-A'!E433, Veriler!D:E, 2, 0)=0, \"\", VLOOKUP('Ek.3-A'!E433, Veriler!D:E, 2, 0)))","v":""},{"$f":"IF('Ek.3-A'!O433=\"\", \"\", 'Ek.3-A'!O433)","v":""},{"$f":"'Ek.3-A'!R433","v":0},{"$f":"'Ek.3-A'!K433","v":""},{"$f":"'Ek.3-A'!L433","v":""},{"v":0,"d":"%0.00"},"H",{"$f":"IF(O433=\"E\",SUM($N$5:N433),0)","v":{"v":0,"d":"%0.00"}},0]
[5.34,"YERLİ KATKI ORANI RAPORU",null,810830000000,0.1,null,166,{"$f":"IF(TRIM('Ek.3-A'!E434)<>\"\",\"var\",\"yok\")","v":"yok"},{"$f":"IF('Ek.3-A'!E434=\"\", \"\", IF(VLOOKUP('Ek.3-A'!E434, Veriler!D:E, 2, 0)=0, \"\", VLOOKUP('Ek.3-A'!E434, Veriler!D:E, 2, 0)))","v":""},{"$f":"IF('Ek.3-A'!O434=\"\", \"\", 'Ek.3-A'!O434)","v":""},{"$f":"'Ek.3-A'!R434","v":0},{"$f":"'Ek.3-A'!K434","v":""},{"$f":"'Ek.3-A'!L434","v":""},{"v":0,"d":"%0.00"},"H",{"$f":"IF(O434=\"E\",SUM($N$5:N434),0)","v":{"v":0,"d":"%0.00"}},0]
[5.35,"YERLİ KATKI ORANI RAPORU",null,810890900000,0.1,null,167,{"$f":"IF(TRIM('Ek.3-A'!E435)<>\"\",\"var\",\"yok\")","v":"yok"},{"$f":"IF('Ek.3-A'!E435=\"\", \"\", IF(VLOOKUP('Ek.3-A'!E435, Veriler!D:E, 2, 0)=0, \"\", VLOOKUP('Ek.3-A'!E435, Veriler!D:E, 2, 0)))","v":""},{"$f":"IF('Ek.3-A'!O435=\"\", \"\", 'Ek.3-A'!O435)","v":""},{"$f":"'Ek.3-A'!R435","v":0},{"$f":"'Ek.3-A'!K435","v":""},{"$f":"'Ek.3-A'!L435","v":""},{"v":0,"d":"%0.00"},"H",{"$f":"IF(O435=\"E\",SUM($N$5:N435),0)","v":{"v":0,"d":"%0.00"}},0]
[5.36,"YERLİ KATKI ORANI RAPORU",null,810890500000,0.1,null,168,{"$f":"IF(TRIM('Ek.3-A'!E436)<>\"\",\"var\",\"yok\")","v":"yok"},{"$f":"IF('Ek.3-A'!E436=\"\", \"\", IF(VLOOKUP('Ek.3-A'!E436, Veriler!D:E, 2, 0)=0, \"\", VLOOKUP('Ek.3-A'!E436, Veriler!D:E, 2, 0)))","v":""},{"$f":"IF('Ek.3-A'!O436=\"\", \"\", 'Ek.3-A'!O436)","v":""},{"$f":"'Ek.3-A'!R436","v":0},{"$f":"'Ek.3-A'!K436","v":""},{"$f":"'Ek.3-A'!L436","v":""},{"v":0,"d":"%0.00"},"H",{"$f":"IF(O436=\"E\",SUM($N$5:N436),0)","v":{"v":0,"d":"%0.00"}},0]
[5.37,"YERLİ KATKI ORANI RAPORU",null,300249000000,0.1,{"$nulls":3},""]
[5.38,"YERLİ KATKI ORANI RAPORU",null,290230000000,0.1,null,{"$f":"G413+1","v":155},{"$f":"IF(TRIM('Ek.3-A'!E438)<>\"\",\"var\",\"yok\")","v":"yok"},{"$f":"IF('Ek.3-A'!E438=\"\", \"\", IF(VLOOKUP('Ek.3-A'!E438, Veriler!D:E, 2, 0)=0, \"\", VLOOKUP('Ek.3-A'!E438, Veriler!D:E, 2, 0)))","v":""},{"$f":"IF('Ek.3-A'!O438=\"\", \"\", 'Ek.3-A'!O438)","v":""},{"$f":"'Ek.3-A'!R438","v":0},{"$f":"'Ek.3-A'!K438","v":""},{"$f":"'Ek.3-A'!L438","v":""},{"$f":"IF(H438=\"var\",0,IF(M438<=0.005,M438,0))","v":{"v":0,"d":"%0.00"}},{"$f":"IF(M438<=0.005,\"E\",\"H\")","v":"H"},{"$f":"IF(O438=\"E\",SUM($N$5:N438),0)","v":{"v":0,"d":"%0.00"}},{"$f":"IF(P438<=0.1, K438, IF(N438>$F$2, N438*K438, $F$2*K438))","v":0}]
[5.39,"YERLİ KATKI ORANI RAPORU",null,480421100000,0.1,null,{"$f":"G438+1","v":156},{"$f":"IF(TRIM('Ek.3-A'!E439)<>\"\",\"var\",\"yok\")","v":"yok"},{"$f":"IF('Ek.3-A'!E439=\"\", \"\", IF(VLOOKUP('Ek.3-A'!E439, Veriler!D:E, 2, 0)=0, \"\", VLOOKUP('Ek.3-A'!E439, Veriler!D:E, 2, 0)))","v":""},{"$f":"IF('Ek.3-A'!O439=\"\", \"\", 'Ek.3-A'!O439)","v":""},{"$f":"'Ek.3-A'!R439","v":0},{"$f":"'Ek.3-A'!K439","v":""},{"$f":"'Ek.3-A'!L439","v":""},{"$f":"IF(H439=\"var\",0,IF(M439<=0.005,M439,0))","v":{"v":0,"d":"%0.00"}},{"$f":"IF(M439<=0.005,\"E\",\"H\")","v":"H"},{"$f":"IF(O439=\"E\",SUM($N$5:N439),0)","v":{"v":0,"d":"%0.00"}},{"$f":"IF(P439<=0.1, K439, IF(N439>$F$2, N439*K439, $F$2*K439))","v":0}]
[{"v":5.4,"d":"5.40"},"YERLİ KATKI ORANI RAPORU",null,854129000000,0.1,null,{"$f":"G439+1","v":157},{"$f":"IF(TRIM('Ek.3-A'!E440)<>\"\",\"var\",\"yok\")","v":"yok"},{"$f":"IF('Ek.3-A'!E440=\"\", \"\", IF(VLOOKUP('Ek.3-A'!E440, Veriler!D:E, 2, 0)=0, \"\", VLOOKUP('Ek.3-A'!E440, Veriler!D:E, 2, 0)))","v":""},{"$f":"IF('Ek.3-A'!O440=\"\", \"\", 'Ek.3-A'!O440)","v":""},{"$f":"'Ek.3-A'!R440","v":0},{"$f":"'Ek.3-A'!K440","v":""},{"$f":"'Ek.3-A'!L440","v":""},{"v":0,"d":"%0.00"},"H",{"$f":"IF(O440=\"E\",SUM($N$5:N440),0)","v":{"v":0,"d":"%0.00"}},0]
[5.41,"YERLİ KATKI ORANI RAPORU",null,841191001000,0.1,null,158,{"$f":"IF(TRIM('Ek.3-A'!E441)<>\"\",\"var\",\"yok\")","v":"yok"},{"$f":"IF('Ek.3-A'!E441=\"\", \"\", IF(VLOOKUP('Ek.3-A'!E441, Veriler!D:E, 2, 0)=0, \"\", VLOOKUP('Ek.3-A'!E441, Veriler!D:E, 2, 0)))","v":""},{"$f":"IF('Ek.3-A'!O441=\"\", \"\", 'Ek.3-A'!O441)","v":""},{"$f":"'Ek.3-A'!R441","v":0},{"$f":"'Ek.3-A'!K441","v":""},{"$f":"'Ek.3-A'!L441","v":""},{"v":0,"d":"%0.00"},"H",{"$f":"IF(O441=\"E\",SUM($N$5:N441),0)","v":{"v":0,"d":"%0.00"}},0]
[5.42,"YERLİ KATKI ORANI RAPORU",null,841191009000,0.1,null,159,{"$f":"IF(TRIM('Ek.3-A'!E442)<>\"\",\"var\",\"yok\")","v":"yok"},{"$f":"IF('Ek.3-A'!E442=\"\", \"\", IF(VLOOKUP('Ek.3-A'!E442, Veriler!D:E, 2, 0)=0, \"\", VLOOKUP('Ek.3-A'!E442, Veriler!D:E, 2, 0)))","v":""},{"$f":"IF('Ek.3-A'!O442=\"\", \"\", 'Ek.3-A'!O442)","v":""},{"$f":"'Ek.3-A'!R442","v":0},{"$f":"'Ek.3-A'!K442","v":""},{"$f":"'Ek.3-A'!L442","v":""},{"v":0,"d":"%0.00"},"H",{"$f":"IF(O442=\"E\",SUM($N$5:N442),0)","v":{"v":0,"d":"%0.00"}},0]
[5.43,"YERLİ KATKI ORANI RAPORU",null,841112301000,0.1,null,160,{"$f":"IF(TRIM('Ek.3-A'!E443)<>\"\",\"var\",\"yok\")","v":"yok"},{"$f":"IF('Ek.3-A'!E443=\"\", \"\", IF(VLOOKUP('Ek.3-A'!E443, Veriler!D:E, 2, 0)=0, \"\", VLOOKUP('Ek.3-A'!E443, Veriler!D:E, 2, 0)))","v":""},{"$f":"IF('Ek.3-A'!O443=\"\", \"\", 'Ek.3-A'!O443)","v":""},{"$f":"'Ek.3-A'!R443","v":0},{"$f":"'Ek.3-A'!K443","v":""},{"$f":"'Ek.3-A'!L443","v":""},{"v":0,"d":"%0.00"},"H",{"$f":"IF(O443=\"E\",SUM($N$5:N443),0)","v":{"v":0,"d":"%0.00"}},0]
[5.44,"YERLİ KATKI ORANI RAPORU",null,841112801000,0.1,null,161,{"$f":"IF(TRIM('Ek.3-A'!E444)<>\"\",\"var\",\"yok\")","v":"yok"},{"$f":"IF('Ek.3-A'!E444=\"\", \"\", IF(VLOOKUP('Ek.3-A'!E444, Veriler!D:E, 2, 0)=0, \"\", VLOOKUP('Ek.3-A'!E444, Veriler!D:E, 2, 0)))","v":""},{"$f":"IF('Ek.3-A'!O444=\"\", \"\", 'Ek.3-A'!O444)","v":""},{"$f":"'Ek.3-A'!R444","v":0},{"$f":"'Ek.3-A'!K444","v":""},{"$f":"'Ek.3-A'!L444","v":""},{"v":0,"d":"%0.00"},"H",{"$f":"IF(O444=\"E\",SUM($N$5:N444),0)","v":{"v":0,"d":"%0.00"}},0]
[5.45,"YERLİ KATKI ORANI RAPORU",null,880730000000,0.1,null,162,{"$f":"IF(TRIM('Ek.3-A'!E445)<>\"\",\"var\",\"yok\")","v":"yok"},{"$f":"IF('Ek.3-A'!E445=\"\", \"\", IF(VLOOKUP('Ek.3-A'!E445, Veriler!D:E, 2, 0)=0, \"\", VLOOKUP('Ek.3-A'!E445, Veriler!D:E, 2, 0)))","v":""},{"$f":"IF('Ek.3-A'!O445=\"\", \"\", 'Ek.3-A'!O445)","v":""},{"$f":"'Ek.3-A'!R445","v":0},{"$f":"'Ek.3-A'!K445","v":""},{"$f":"'Ek.3-A'!L445","v":""},{"v":0,"d":"%0.00"},"H",{"$f":"IF(O445=\"E\",SUM($N$5:N445),0)","v":{"v":0,"d":"%0.00"}},0]
[5.46,"YERLİ KATKI ORANI RAPORU",null,310210100000,0.1,null,163,{"$f":"IF(TRIM('Ek.3-A'!E446)<>\"\",\"var\",\"yok\")","v":"yok"},{"$f":"IF('Ek.3-A'!E446=\"\", \"\", IF(VLOOKUP('Ek.3-A'!E446, Veriler!D:E, 2, 0)=0, \"\", VLOOKUP('Ek.3-A'!E446, Veriler!D:E, 2, 0)))","v":""},{"$f":"IF('Ek.3-A'!O446=\"\", \"\", 'Ek.3-A'!O446)","v":""},{"$f":"'Ek.3-A'!R446","v":0},{"$f":"'Ek.3-A'!K446","v":""},{"$f":"'Ek.3-A'!L446","v":""},{"v":0,"d":"%0.00"},"H",{"$f":"IF(O446=\"E\",SUM($N$5:N446),0)","v":{"v":0,"d":"%0.00"}},0]
[5.47,"YERLİ KATKI ORANI RAPORU",null,291532000000,0.1,null,164,{"$f":"IF(TRIM('Ek.3-A'!E447)<>\"\",\"var\",\"yok\")","v":"yok"},{"$f":"IF('Ek.3-A'!E447=\"\", \"\", IF(VLOOKUP('Ek.3-A'!E447, Veriler!D:E, 2, 0)=0, \"\", VLOOKUP('Ek.3-A'!E447, Veriler!D:E, 2, 0)))","v":""},{"$f":"IF('Ek.3-A'!O447=\"\", \"\", 'Ek.3-A'!O447)","v":""},{"$f":"'Ek.3-A'!R447","v":0},{"$f":"'Ek.3-A'!K447","v":""},{"$f":"'Ek.3-A'!L447","v":""},{"v":0,"d":"%0.00"},"H",{"$f":"IF(O447=\"E\",SUM($N$5:N447),0)","v":{"v":0,"d":"%0.00"}},0]
[5.48,"YERLİ KATKI ORANI RAPORU",null,390529000000,0.1,null,165,{"$f":"IF(TRIM('Ek.3-A'!E448)<>\"\",\"var\",\"yok\")","v":"yok"},{"$f":"IF('Ek.3-A'!E448=\"\", \"\", IF(VLOOKUP('Ek.3-A'!E448, Veriler!D:E, 2, 0)=0, \"\", VLOOKUP('Ek.3-A'!E448, Veriler!D:E, 2, 0)))","v":""},{"$f":"IF('Ek.3-A'!O448=\"\", \"\", 'Ek.3-A'!O448)","v":""},{"$f":"'Ek.3-A'!R448","v":0},{"$f":"'Ek.3-A'!K448","v":""},{"$f":"'Ek.3-A'!L448","v":""},{"v":0,"d":"%0.00"},"H",{"$f":"IF(O448=\"E\",SUM($N$5:N448),0)","v":{"v":0,"d":"%0.00"}},0]
[5.49,"YERLİ KATKI ORANI RAPORU",null,290321000000,0.1,null,166,{"$f":"IF(TRIM('Ek.3-A'!E449)<>\"\",\"var\",\"yok\")","v":"yok"},{"$f":"IF('Ek.3-A'!E449=\"\", \"\", IF(VLOOKUP('Ek.3-A'!E449, Veriler!D:E, 2, 0)=0, \"\", VLOOKUP('Ek.3-A'!E449, Veriler!D:E, 2, 0)))","v":""},{"$f":"IF('Ek.3-A'!O449=\"\", \"\", 'Ek.3-A'!O449)","v":""},{"$f":"'Ek.3-A'!R449","v":0},{"$f":"'Ek.3-A'!K449","v":""},{"$f":"'Ek.3-A'!L449","v":""},{"v":0,"d":"%0.00"},"H",{"$f":"IF(O449=\"E\",SUM($N$5:N449),0)","v":{"v":0,"d":"%0.00"}},0]
[{"v":5.5,"d":"5.50"},"YERLİ KATKI ORANI RAPORU",null,391530000000,0.1,null,167,{"$f":"IF(TRIM('Ek.3-A'!E450)<>\"\",\"var\",\"yok\")","v":"yok"},{"$f":"IF('Ek.3-A'!E450=\"\", \"\", IF(VLOOKUP('Ek.3-A'!E450, Veriler!D:E, 2, 0)=0, \"\", VLOOKUP('Ek.3-A'!E450, Veriler!D:E, 2, 0)))","v":""},{"$f":"IF('Ek.3-A'!O450=\"\", \"\", 'Ek.3-A'!O450)","v":""},{"$f":"'Ek.3-A'!R450","v":0},{"$f":"'Ek.3-A'!K450","v":""},{"$f":"'Ek.3-A'!L450","v":""},{"v":0,"d":"%0.00"},"H",{"$f":"IF(O450=\"E\",SUM($N$5:N450),0)","v":{"v":0,"d":"%0.00"}},0]
[5.51,"YERLİ KATKI ORANI RAPORU",null,390591000000,0.1,null,168,{"$f":"IF(TRIM('Ek.3-A'!E451)<>\"\",\"var\",\"yok\")","v":"yok"},{"$f":"IF('Ek.3-A'!E451=\"\", \"\", IF(VLOOKUP('Ek.3-A'!E451, Veriler!D:E, 2, 0)=0, \"\", VLOOKUP('Ek.3-A'!E451, Veriler!D:E, 2, 0)))","v":""},{"$f":"IF('Ek.3-A'!O451=\"\", \"\", 'Ek.3-A'!O451)","v":""},{"$f":"'Ek.3-A'!R451","v":0},{"$f":"'Ek.3-A'!K451","v":""},{"$f":"'Ek.3-A'!L451","v":""},{"v":0,"d":"%0.00"},"H",{"$f":"IF(O451=\"E\",SUM($N$5:N451),0)","v":{"v":0,"d":"%0.00"}},0]
[5.52,"YERLİ KATKI ORANI RAPORU",null,392112000000,0.1]
[5.53,"YERLİ KATKI ORANI RAPORU",null,550410000019,0.1]
[5.54,"YERLİ KATKI ORANI RAPORU",null,540331000000,0.1]
[5.55,"YERLİ KATKI ORANI RAPORU",null,271012210000,0.1]
[5.56,"YERLİ KATKI ORANI RAPORU",null,902230000000,0.1]
[5.57,"YERLİ KATKI ORANI RAPORU",null,902290200000,0.1]
[5.58,"YERLİ KATKI ORANI RAPORU",null,340391000000,0.1]
[5.59,"YERLİ KATKI ORANI RAPORU",null,340399000000,0.1]
[{"v":5.6,"d":"5.60"},"YERLİ KATKI ORANI RAPORU",null,271012150011,0.1]
[5.61,"YERLİ KATKI ORANI RAPORU",null,293369800019,0.1,null,{"$f":"G436+1","v":169},{"$f":"IF(TRIM('Ek.3-A'!E461)<>\"\",\"var\",\"yok\")","v":"yok"},{"$f":"IF('Ek.3-A'!E461=\"\", \"\", IF(VLOOKUP('Ek.3-A'!E461, Veriler!D:E, 2, 0)=0, \"\", VLOOKUP('Ek.3-A'!E461, Veriler!D:E, 2, 0)))","v":""},{"$f":"IF('Ek.3-A'!O461=\"\", \"\", 'Ek.3-A'!O461)","v":""},{"$f":"'Ek.3-A'!R461","v":0},{"$f":"'Ek.3-A'!K461","v":""},{"$f":"'Ek.3-A'!L461","v":""},{"$f":"IF(H461=\"var\",0,IF(M461<=0.005,M461,0))","v":{"v":0,"d":"%0.00"}},{"$f":"IF(M461<=0.005,\"E\",\"H\")","v":"H"},{"$f":"IF(O461=\"E\",SUM($N$5:N461),0)","v":{"v":0,"d":"%0.00"}},{"$f":"IF(P461<=0.1, K461, IF(N461>$F$2, N461*K461, $F$2*K461))","v":0}]
[5.62,"YERLİ KATKI ORANI RAPORU",null,293339990039,0.1,null,{"$f":"G461+1","v":170},{"$f":"IF(TRIM('Ek.3-A'!E462)<>\"\",\"var\",\"yok\")","v":"yok"},{"$f":"IF('Ek.3-A'!E462=\"\", \"\", IF(VLOOKUP('Ek.3-A'!E462, Veriler!D:E, 2, 0)=0, \"\", VLOOKUP('Ek.3-A'!E462, Veriler!D:E, 2, 0)))","v":""},{"$f":"IF('Ek.3-A'!O462=\"\", \"\", 'Ek.3-A'!O462)","v":""},{"$f":"'Ek.3-A'!R462","v":0},{"$f":"'Ek.3-A'!K462","v":""},{"$f":"'Ek.3-A'!L462","v":""},{"$f":"IF(H462=\"var\",0,IF(M462<=0.005,M462,0))","v":{"v":0,"d":"%0.00"}},{"$f":"IF(M462<=0.005,\"E\",\"H\")","v":"H"},{"$f":"IF(O462=\"E\",SUM($N$5:N462),0)","v":{"v":0,"d":"%0.00"}},{"$f":"IF(P462<=0.1, K462, IF(N462>$F$2, N462*K462, $F$2*K462))","v":0}]
[5.63,"YERLİ KATKI ORANI RAPORU",null,293359950038,0.1,null,{"$f":"G462+1","v":171},{"$f":"IF(TRIM('Ek.3-A'!E463)<>\"\",\"var\",\"yok\")","v":"yok"},{"$f":"IF('Ek.3-A'!E463=\"\", \"\", IF(VLOOKUP('Ek.3-A'!E463, Veriler!D:E, 2, 0)=0, \"\", VLOOKUP('Ek.3-A'!E463, Veriler!D:E, 2, 0)))","v":""},{"$f":"IF('Ek.3-A'!O463=\"\", \"\", 'Ek.3-A'!O463)","v":""},{"$f":"'Ek.3-A'!R463","v":0},{"$f":"'Ek.3-A'!K463","v":""},{"$f":"'Ek.3-A'!L463","v":""},{"v":0,"d":"%0.00"},"H",{"$f":"IF(O463=\"E\",SUM($N$5:N463),0)","v":{"v":0,"d":"%0.00"}},0]
[5.64,"YERLİ KATKI ORANI RAPORU",null,480511000000,0.1,null,{"$f":"G463+1","v":172},{"$f":"IF(TRIM('Ek.3-A'!E464)<>\"\",\"var\",\"yok\")","v":"yok"},{"$f":"IF('Ek.3-A'!E464=\"\", \"\", IF(VLOOKUP('Ek.3-A'!E464, Veriler!D:E, 2, 0)=0, \"\", VLOOKUP('Ek.3-A'!E464, Veriler!D:E, 2, 0)))","v":""},{"$f":"IF('Ek.3-A'!O464=\"\", \"\", 'Ek.3-A'!O464)","v":""},{"$f":"'Ek.3-A'!R464","v":0},{"$f":"'Ek.3-A'!K464","v":""},{"$f":"'Ek.3-A'!L464","v":""},{"v":0,"d":"%0.00"},"H",{"$f":"IF(O464=\"E\",SUM($N$5:N464),0)","v":{"v":0,"d":"%0.00"}},0]
[5.65,"YERLİ KATKI ORANI RAPORU",null,848320000000,0.1,null,173,{"$f":"IF(TRIM('Ek.3-A'!E465)<>\"\",\"var\",\"yok\")","v":"yok"},{"$f":"IF('Ek.3-A'!E465=\"\", \"\", IF(VLOOKUP('Ek.3-A'!E465, Veriler!D:E, 2, 0)=0, \"\", VLOOKUP('Ek.3-A'!E465, Veriler!D:E, 2, 0)))","v":""},{"$f":"IF('Ek.3-A'!O465=\"\", \"\", 'Ek.3-A'!O465)","v":""},{"$f":"'Ek.3-A'!R465","v":0},{"$f":"'Ek.3-A'!K465","v":""},{"$f":"'Ek.3-A'!L465","v":""},{"v":0,"d":"%0.00"},"H",{"$f":"IF(O465=\"E\",SUM($N$5:N465),0)","v":{"v":0,"d":"%0.00"}},0]
[5.66,"YERLİ KATKI ORANI RAPORU",null,481013009000,0.1,null,174,{"$f":"IF(TRIM('Ek.3-A'!E466)<>\"\",\"var\",\"yok\")","v":"yok"},{"$f":"IF('Ek.3-A'!E466=\"\", \"\", IF(VLOOKUP('Ek.3-A'!E466, Veriler!D:E, 2, 0)=0, \"\", VLOOKUP('Ek.3-A'!E466, Veriler!D:E, 2, 0)))","v":""},{"$f":"IF('Ek.3-A'!O466=\"\", \"\", 'Ek.3-A'!O466)","v":""},{"$f":"'Ek.3-A'!R466","v":0},{"$f":"'Ek.3-A'!K466","v":""},{"$f":"'Ek.3-A'!L466","v":""},{"v":0,"d":"%0.00"},"H",{"$f":"IF(O466=\"E\",SUM($N$5:N466),0)","v":{"v":0,"d":"%0.00"}},0]
[5.67,"YERLİ KATKI ORANI RAPORU",null,481029300000,0.1,null,175,{"$f":"IF(TRIM('Ek.3-A'!E467)<>\"\",\"var\",\"yok\")","v":"yok"},{"$f":"IF('Ek.3-A'!E467=\"\", \"\", IF(VLOOKUP('Ek.3-A'!E467, Veriler!D:E, 2, 0)=0, \"\", VLOOKUP('Ek.3-A'!E467, Veriler!D:E, 2, 0)))","v":""},{"$f":"IF('Ek.3-A'!O467=\"\", \"\", 'Ek.3-A'!O467)","v":""},{"$f":"'Ek.3-A'!R467","v":0},{"$f":"'Ek.3-A'!K467","v":""},{"$f":"'Ek.3-A'!L467","v":""},{"v":0,"d":"%0.00"},"H",{"$f":"IF(O467=\"E\",SUM($N$5:N467),0)","v":{"v":0,"d":"%0.00"}},0]
[5.68,"YERLİ KATKI ORANI RAPORU",null,481029809000,0.1,null,176,{"$f":"IF(TRIM('Ek.3-A'!E468)<>\"\",\"var\",\"yok\")","v":"yok"},{"$f":"IF('Ek.3-A'!E468=\"\", \"\", IF(VLOOKUP('Ek.3-A'!E468, Veriler!D:E, 2, 0)=0, \"\", VLOOKUP('Ek.3-A'!E468, Veriler!D:E, 2, 0)))","v":""},{"$f":"IF('Ek.3-A'!O468=\"\", \"\", 'Ek.3-A'!O468)","v":""},{"$f":"'Ek.3-A'!R468","v":0},{"$f":"'Ek.3-A'!K468","v":""},{"$f":"'Ek.3-A'!L468","v":""},{"v":0,"d":"%0.00"},"H",{"$f":"IF(O468=\"E\",SUM($N$5:N468),0)","v":{"v":0,"d":"%0.00"}},0]
[5.69,"YERLİ KATKI ORANI RAPORU",null,854800200000,0.1,null,177,{"$f":"IF(TRIM('Ek.3-A'!E469)<>\"\",\"var\",\"yok\")","v":"yok"},{"$f":"IF('Ek.3-A'!E469=\"\", \"\", IF(VLOOKUP('Ek.3-A'!E469, Veriler!D:E, 2, 0)=0, \"\", VLOOKUP('Ek.3-A'!E469, Veriler!D:E, 2, 0)))","v":""},{"$f":"IF('Ek.3-A'!O469=\"\", \"\", 'Ek.3-A'!O469)","v":""},{"$f":"'Ek.3-A'!R469","v":0},{"$f":"'Ek.3-A'!K469","v":""},{"$f":"'Ek.3-A'!L469","v":""},{"v":0,"d":"%0.00"},"H",{"$f":"IF(O469=\"E\",SUM($N$5:N469),0)","v":{"v":0,"d":"%0.00"}},0]
[{"v":5.7,"d":"5.70"},"YERLİ KATKI ORANI RAPORU",null,330210900000,0.1,null,178,{"$f":"IF(TRIM('Ek.3-A'!E470)<>\"\",\"var\",\"yok\")","v":"yok"},{"$f":"IF('Ek.3-A'!E470=\"\", \"\", IF(VLOOKUP('Ek.3-A'!E470, Veriler!D:E, 2, 0)=0, \"\", VLOOKUP('Ek.3-A'!E470, Veriler!D:E, 2, 0)))","v":""},{"$f":"IF('Ek.3-A'!O470=\"\", \"\", 'Ek.3-A'!O470)","v":""},{"$f":"'Ek.3-A'!R470","v":0},{"$f":"'Ek.3-A'!K470","v":""},{"$f":"'Ek.3-A'!L470","v":""},{"v":0,"d":"%0.00"},"H",{"$f":"IF(O470=\"E\",SUM($N$5:N470),0)","v":{"v":0,"d":"%0.00"}},0]
[5.71,"YERLİ KATKI ORANI RAPORU",null,390120900011,0.1,null,179,{"$f":"IF(TRIM('Ek.3-A'!E471)<>\"\",\"var\",\"yok\")","v":"yok"},{"$f":"IF('Ek.3-A'!E471=\"\", \"\", IF(VLOOKUP('Ek.3-A'!E471, Veriler!D:E, 2, 0)=0, \"\", VLOOKUP('Ek.3-A'!E471, Veriler!D:E, 2, 0)))","v":""},{"$f":"IF('Ek.3-A'!O471=\"\", \"\", 'Ek.3-A'!O471)","v":""},{"$f":"'Ek.3-A'!R471","v":0},{"$f":"'Ek.3-A'!K471","v":""},{"$f":"'Ek.3-A'!L471","v":""},{"v":0,"d":"%0.00"},"H",{"$f":"IF(O471=\"E\",SUM($N$5:N471),0)","v":{"v":0,"d":"%0.00"}},0]
[5.72,"YERLİ KATKI ORANI RAPORU",null,510529000000,0.1,null,180,{"$f":"IF(TRIM('Ek.3-A'!E472)<>\"\",\"var\",\"yok\")","v":"yok"},{"$f":"IF('Ek.3-A'!E472=\"\", \"\", IF(VLOOKUP('Ek.3-A'!E472, Veriler!D:E, 2, 0)=0, \"\", VLOOKUP('Ek.3-A'!E472, Veriler!D:E, 2, 0)))","v":""},{"$f":"IF('Ek.3-A'!O472=\"\", \"\", 'Ek.3-A'!O472)","v":""},{"$f":"'Ek.3-A'!R472","v":0},{"$f":"'Ek.3-A'!K472","v":""},{"$f":"'Ek.3-A'!L472","v":""},{"v":0,"d":"%0.00"},"H",{"$f":"IF(O472=\"E\",SUM($N$5:N472),0)","v":{"v":0,"d":"%0.00"}},0]
[5.73,"YERLİ KATKI ORANI RAPORU",null,293149400000,0.6,null,181,{"$f":"IF(TRIM('Ek.3-A'!E473)<>\"\",\"var\",\"yok\")","v":"yok"},{"$f":"IF('Ek.3-A'!E473=\"\", \"\", IF(VLOOKUP('Ek.3-A'!E473, Veriler!D:E, 2, 0)=0, \"\", VLOOKUP('Ek.3-A'!E473, Veriler!D:E, 2, 0)))","v":""},{"$f":"IF('Ek.3-A'!O473=\"\", \"\", 'Ek.3-A'!O473)","v":""},{"$f":"'Ek.3-A'!R473","v":0},{"$f":"'Ek.3-A'!K473","v":""},{"$f":"'Ek.3-A'!L473","v":""},{"v":0,"d":"%0.00"},"H",{"$f":"IF(O473=\"E\",SUM($N$5:N473),0)","v":{"v":0,"d":"%0.00"}},0]
[5.74,"YERLİ KATKI ORANI RAPORU",null,293149900029,0.6,null,182,{"$f":"IF(TRIM('Ek.3-A'!E474)<>\"\",\"var\",\"yok\")","v":"yok"},{"$f":"IF('Ek.3-A'!E474=\"\", \"\", IF(VLOOKUP('Ek.3-A'!E474, Veriler!D:E, 2, 0)=0, \"\", VLOOKUP('Ek.3-A'!E474, Veriler!D:E, 2, 0)))","v":""},{"$f":"IF('Ek.3-A'!O474=\"\", \"\", 'Ek.3-A'!O474)","v":""},{"$f":"'Ek.3-A'!R474","v":0},{"$f":"'Ek.3-A'!K474","v":""},{"$f":"'Ek.3-A'!L474","v":""},{"v":0,"d":"%0.00"},"H",{"$f":"IF(O474=\"E\",SUM($N$5:N474),0)","v":{"v":0,"d":"%0.00"}},0]
[5.75,"YERLİ KATKI ORANI RAPORU",null,293149800029,0.6,{"$nulls":3},""]
[5.76,"YERLİ KATKI ORANI RAPORU",null,293319900011,0.6,null,{"$f":"G451+1","v":169},{"$f":"IF(TRIM('Ek.3-A'!E476)<>\"\",\"var\",\"yok\")","v":"yok"},{"$f":"IF('Ek.3-A'!E476=\"\", \"\", IF(VLOOKUP('Ek.3-A'!E476, Veriler!D:E, 2, 0)=0, \"\", VLOOKUP('Ek.3-A'!E476, Veriler!D:E, 2, 0)))","v":""},{"$f":"IF('Ek.3-A'!O476=\"\", \"\", 'Ek.3-A'!O476)","v":""},{"$f":"'Ek.3-A'!R476","v":0},{"$f":"'Ek.3-A'!K476","v":""},{"$f":"'Ek.3-A'!L476","v":""},{"$f":"IF(H476=\"var\",0,IF(M476<=0.005,M476,0))","v":{"v":0,"d":"%0.00"}},{"$f":"IF(M476<=0.005,\"E\",\"H\")","v":"H"},{"$f":"IF(O476=\"E\",SUM($N$5:N476),0)","v":{"v":0,"d":"%0.00"}},{"$f":"IF(P476<=0.1, K476, IF(N476>$F$2, N476*K476, $F$2*K476))","v":0}]
[5.77,"YERLİ KATKI ORANI RAPORU",null,292145000011,0.6,null,{"$f":"G476+1","v":170},{"$f":"IF(TRIM('Ek.3-A'!E477)<>\"\",\"var\",\"yok\")","v":"yok"},{"$f":"IF('Ek.3-A'!E477=\"\", \"\", IF(VLOOKUP('Ek.3-A'!E477, Veriler!D:E, 2, 0)=0, \"\", VLOOKUP('Ek.3-A'!E477, Veriler!D:E, 2, 0)))","v":""},{"$f":"IF('Ek.3-A'!O477=\"\", \"\", 'Ek.3-A'!O477)","v":""},{"$f":"'Ek.3-A'!R477","v":0},{"$f":"'Ek.3-A'!K477","v":""},{"$f":"'Ek.3-A'!L477","v":""},{"$f":"IF(H477=\"var\",0,IF(M477<=0.005,M477,0))","v":{"v":0,"d":"%0.00"}},{"$f":"IF(M477<=0.005,\"E\",\"H\")","v":"H"},{"$f":"IF(O477=\"E\",SUM($N$5:N477),0)","v":{"v":0,"d":"%0.00"}},{"$f":"IF(P477<=0.1, K477, IF(N477>$F$2, N477*K477, $F$2*K477))","v":0}]
[5.78,"YERLİ KATKI ORANI RAPORU",null,292145000012,0.6,null,{"$f":"G477+1","v":171},{"$f":"IF(TRIM('Ek.3-A'!E478)<>\"\",\"var\",\"yok\")","v":"yok"},{"$f":"IF('Ek.3-A'!E478=\"\", \"\", IF(VLOOKUP('Ek.3-A'!E478, Veriler!D:E, 2, 0)=0, \"\", VLOOKUP('Ek.3-A'!E478, Veriler!D:E, 2, 0)))","v":""},{"$f":"IF('Ek.3-A'!O478=\"\", \"\", 'Ek.3-A'!O478)","v":""},{"$f":"'Ek.3-A'!R478","v":0},{"$f":"'Ek.3-A'!K478","v":""},{"$f":"'Ek.3-A'!L478","v":""},{"v":0,"d":"%0.00"},"H",{"$f":"IF(O478=\"E\",SUM($N$5:N478),0)","v":{"v":0,"d":"%0.00"}},0]
[5.79,"YERLİ KATKI ORANI RAPORU",null,292119400000,0.6,null,172,{"$f":"IF(TRIM('Ek.3-A'!E479)<>\"\",\"var\",\"yok\")","v":"yok"},{"$f":"IF('Ek.3-A'!E479=\"\", \"\", IF(VLOOKUP('Ek.3-A'!E479, Veriler!D:E, 2, 0)=0, \"\", VLOOKUP('Ek.3-A'!E479, Veriler!D:E, 2, 0)))","v":""},{"$f":"IF('Ek.3-A'!O479=\"\", \"\", 'Ek.3-A'!O479)","v":""},{"$f":"'Ek.3-A'!R479","v":0},{"$f":"'Ek.3-A'!K479","v":""},{"$f":"'Ek.3-A'!L479","v":""},{"v":0,"d":"%0.00"},"H",{"$f":"IF(O479=\"E\",SUM($N$5:N479),0)","v":{"v":0,"d":"%0.00"}},0]
[{"v":5.8,"d":"5.80"},"YERLİ KATKI ORANI RAPORU",null,290343000013,0.6,null,173,{"$f":"IF(TRIM('Ek.3-A'!E480)<>\"\",\"var\",\"yok\")","v":"yok"},{"$f":"IF('Ek.3-A'!E480=\"\", \"\", IF(VLOOKUP('Ek.3-A'!E480, Veriler!D:E, 2, 0)=0, \"\", VLOOKUP('Ek.3-A'!E480, Veriler!D:E, 2, 0)))","v":""},{"$f":"IF('Ek.3-A'!O480=\"\", \"\", 'Ek.3-A'!O480)","v":""},{"$f":"'Ek.3-A'!R480","v":0},{"$f":"'Ek.3-A'!K480","v":""},{"$f":"'Ek.3-A'!L480","v":""},{"v":0,"d":"%0.00"},"H",{"$f":"IF(O480=\"E\",SUM($N$5:N480),0)","v":{"v":0,"d":"%0.00"}},0]
[5.81,"YERLİ KATKI ORANI RAPORU",null,290345000011,0.6,null,174,{"$f":"IF(TRIM('Ek.3-A'!E481)<>\"\",\"var\",\"yok\")","v":"yok"},{"$f":"IF('Ek.3-A'!E481=\"\", \"\", IF(VLOOKUP('Ek.3-A'!E481, Veriler!D:E, 2, 0)=0, \"\", VLOOKUP('Ek.3-A'!E481, Veriler!D:E, 2, 0)))","v":""},{"$f":"IF('Ek.3-A'!O481=\"\", \"\", 'Ek.3-A'!O481)","v":""},{"$f":"'Ek.3-A'!R481","v":0},{"$f":"'Ek.3-A'!K481","v":""},{"$f":"'Ek.3-A'!L481","v":""},{"v":0,"d":"%0.00"},"H",{"$f":"IF(O481=\"E\",SUM($N$5:N481),0)","v":{"v":0,"d":"%0.00"}},0]
[5.82,"YERLİ KATKI ORANI RAPORU",null,290919900025,0.6,null,175,{"$f":"IF(TRIM('Ek.3-A'!E482)<>\"\",\"var\",\"yok\")","v":"yok"},{"$f":"IF('Ek.3-A'!E482=\"\", \"\", IF(VLOOKUP('Ek.3-A'!E482, Veriler!D:E, 2, 0)=0, \"\", VLOOKUP('Ek.3-A'!E482, Veriler!D:E, 2, 0)))","v":""},{"$f":"IF('Ek.3-A'!O482=\"\", \"\", 'Ek.3-A'!O482)","v":""},{"$f":"'Ek.3-A'!R482","v":0},{"$f":"'Ek.3-A'!K482","v":""},{"$f":"'Ek.3-A'!L482","v":""},{"v":0,"d":"%0.00"},"H",{"$f":"IF(O482=\"E\",SUM($N$5:N482),0)","v":{"v":0,"d":"%0.00"}},0]
[5.83,"YERLİ KATKI ORANI RAPORU",null,290348000012,0.6,null,176,{"$f":"IF(TRIM('Ek.3-A'!E483)<>\"\",\"var\",\"yok\")","v":"yok"},{"$f":"IF('Ek.3-A'!E483=\"\", \"\", IF(VLOOKUP('Ek.3-A'!E483, Veriler!D:E, 2, 0)=0, \"\", VLOOKUP('Ek.3-A'!E483, Veriler!D:E, 2, 0)))","v":""},{"$f":"IF('Ek.3-A'!O483=\"\", \"\", 'Ek.3-A'!O483)","v":""},{"$f":"'Ek.3-A'!R483","v":0},{"$f":"'Ek.3-A'!K483","v":""},{"$f":"'Ek.3-A'!L483","v":""},{"v":0,"d":"%0.00"},"H",{"$f":"IF(O483=\"E\",SUM($N$5:N483),0)","v":{"v":0,"d":"%0.00"}},0]
[5.84,"YERLİ KATKI ORANI RAPORU",null,290346000011,0.6,null,177,{"$f":"IF(TRIM('Ek.3-A'!E484)<>\"\",\"var\",\"yok\")","v":"yok"},{"$f":"IF('Ek.3-A'!E484=\"\", \"\", IF(VLOOKUP('Ek.3-A'!E484, Veriler!D:E, 2, 0)=0, \"\", VLOOKUP('Ek.3-A'!E484, Veriler!D:E, 2, 0)))","v":""},{"$f":"IF('Ek.3-A'!O484=\"\", \"\", 'Ek.3-A'!O484)","v":""},{"$f":"'Ek.3-A'!R484","v":0},{"$f":"'Ek.3-A'!K484","v":""},{"$f":"'Ek.3-A'!L484","v":""},{"v":0,"d":"%0.00"},"H",{"$f":"IF(O484=\"E\",SUM($N$5:N484),0)","v":{"v":0,"d":"%0.00"}},0]
[5.85,"YERLİ KATKI ORANI RAPORU",null,290347000011,0.6,null,178,{"$f":"IF(TRIM('Ek.3-A'!E485)<>\"\",\"var\",\"yok\")","v":"yok"},{"$f":"IF('Ek.3-A'!E485=\"\", \"\", IF(VLOOKUP('Ek.3-A'!E485, Veriler!D:E, 2, 0)=0, \"\", VLOOKUP('Ek.3-A'!E485, Veriler!D:E, 2, 0)))","v":""},{"$f":"IF('Ek.3-A'!O485=\"\", \"\", 'Ek.3-A'!O485)","v":""},{"$f":"'Ek.3-A'!R485","v":0},{"$f":"'Ek.3-A'!K485","v":""},{"$f":"'Ek.3-A'!L485","v":""},{"v":0,"d":"%0.00"},"H",{"$f":"IF(O485=\"E\",SUM($N$5:N485),0)","v":{"v":0,"d":"%0.00"}},0]
[5.86,"YERLİ KATKI ORANI RAPORU",null,290346000014,0.6,null,179,{"$f":"IF(TRIM('Ek.3-A'!E486)<>\"\",\"var\",\"yok\")","v":"yok"},{"$f":"IF('Ek.3-A'!E486=\"\", \"\", IF(VLOOKUP('Ek.3-A'!E486, Veriler!D:E, 2, 0)=0, \"\", VLOOKUP('Ek.3-A'!E486, Veriler!D:E, 2, 0)))","v":""},{"$f":"IF('Ek.3-A'!O486=\"\", \"\", 'Ek.3-A'!O486)","v":""},{"$f":"'Ek.3-A'!R486","v":0},{"$f":"'Ek.3-A'!K486","v":""},{"$f":"'Ek.3-A'!L486","v":""},{"v":0,"d":"%0.00"},"H",{"$f":"IF(O486=\"E\",SUM($N$5:N486),0)","v":{"v":0,"d":"%0.00"}},0]
[5.87,"YERLİ KATKI ORANI RAPORU",null,290344000012,0.6,null,180,{"$f":"IF(TRIM('Ek.3-A'!E487)<>\"\",\"var\",\"yok\")","v":"yok"},{"$f":"IF('Ek.3-A'!E487=\"\", \"\", IF(VLOOKUP('Ek.3-A'!E487, Veriler!D:E, 2, 0)=0, \"\", VLOOKUP('Ek.3-A'!E487, Veriler!D:E, 2, 0)))","v":""},{"$f":"IF('Ek.3-A'!O487=\"\", \"\", 'Ek.3-A'!O487)","v":""},{"$f":"'Ek.3-A'!R487","v":0},{"$f":"'Ek.3-A'!K487","v":""},{"$f":"'Ek.3-A'!L487","v":""},{"v":0,"d":"%0.00"},"H",{"$f":"IF(O487=\"E\",SUM($N$5:N487),0)","v":{"v":0,"d":"%0.00"}},0]
[5.88,"YERLİ KATKI ORANI RAPORU",null,290345000012,0.6,null,181,{"$f":"IF(TRIM('Ek.3-A'!E488)<>\"\",\"var\",\"yok\")","v":"yok"},{"$f":"IF('Ek.3-A'!E488=\"\", \"\", IF(VLOOKUP('Ek.3-A'!E488, Veriler!D:E, 2, 0)=0, \"\", VLOOKUP('Ek.3-A'!E488, Veriler!D:E, 2, 0)))","v":""},{"$f":"IF('Ek.3-A'!O488=\"\", \"\", 'Ek.3-A'!O488)","v":""},{"$f":"'Ek.3-A'!R488","v":0},{"$f":"'Ek.3-A'!K488","v":""},{"$f":"'Ek.3-A'!L488","v":""},{"v":0,"d":"%0.00"},"H",{"$f":"IF(O488=\"E\",SUM($N$5:N488),0)","v":{"v":0,"d":"%0.00"}},0]
[5.89,"YERLİ KATKI ORANI RAPORU",null,290919900034,0.6,null,182,{"$f":"IF(TRIM('Ek.3-A'!E489)<>\"\",\"var\",\"yok\")","v":"yok"},{"$f":"IF('Ek.3-A'!E489=\"\", \"\", IF(VLOOKUP('Ek.3-A'!E489, Veriler!D:E, 2, 0)=0, \"\", VLOOKUP('Ek.3-A'!E489, Veriler!D:E, 2, 0)))","v":""},{"$f":"IF('Ek.3-A'!O489=\"\", \"\", 'Ek.3-A'!O489)","v":""},{"$f":"'Ek.3-A'!R489","v":0},{"$f":"'Ek.3-A'!K489","v":""},{"$f":"'Ek.3-A'!L489","v":""},{"v":0,"d":"%0.00"},"H",{"$f":"IF(O489=\"E\",SUM($N$5:N489),0)","v":{"v":0,"d":"%0.00"}},0]
[{"v":5.9,"d":"5.90"},"YERLİ KATKI ORANI RAPORU",null,290919900023,0.6]
[5.91,"YERLİ KATKI ORANI RAPORU",null,290369190011,0.6]
[5.92,"YERLİ KATKI ORANI RAPORU",null,290919900030,0.6]
[5.93,"YERLİ KATKI ORANI RAPORU",null,290389100000,0.6]
[5.94,"YERLİ KATKI ORANI RAPORU",null,290124000000,0.6]
[5.95,"YERLİ KATKI ORANI RAPORU",null,293299005013,0.6]
[5.96,"YERLİ KATKI ORANI RAPORU",null,293299005011,0.6]
[5.97,"YERLİ KATKI ORANI RAPORU",null,293359200000,0.6]
[5.98,"YERLİ KATKI ORANI RAPORU",null,293299005012,0.6]
[5.99,"YERLİ KATKI ORANI RAPORU",null,291469100000,0.6,null,{"$f":"G474+1","v":183},{"$f":"IF(TRIM('Ek.3-A'!E499)<>\"\",\"var\",\"yok\")","v":"yok"},{"$f":"IF('Ek.3-A'!E499=\"\", \"\", IF(VLOOKUP('Ek.3-A'!E499, Veriler!D:E, 2, 0)=0, \"\", VLOOKUP('Ek.3-A'!E499, Veriler!D:E, 2, 0)))","v":""},{"$f":"IF('Ek.3-A'!O499=\"\", \"\", 'Ek.3-A'!O499)","v":""},{"$f":"'Ek.3-A'!R499","v":0},{"$f":"'Ek.3-A'!K499","v":""},{"$f":"'Ek.3-A'!L499","v":""},{"$f":"IF(H499=\"var\",0,IF(M499<=0.005,M499,0))","v":{"v":0,"d":"%0.00"}},{"$f":"IF(M499<=0.005,\"E\",\"H\")","v":"H"},{"$f":"IF(O499=\"E\",SUM($N$5:N499),0)","v":{"v":0,"d":"%0.00"}},{"$f":"IF(P499<=0.1, K499, IF(N499>$F$2, N499*K499, $F$2*K499))","v":0}]
[{"v":6,"d":"6.00"},"YERLİ KATKI ORANI RAPORU",null,151800990000,0.6,null,{"$f":"G499+1","v":184},{"$f":"IF(TRIM('Ek.3-A'!E500)<>\"\",\"var\",\"yok\")","v":"yok"},{"$f":"IF('Ek.3-A'!E500=\"\", \"\", IF(VLOOKUP('Ek.3-A'!E500, Veriler!D:E, 2, 0)=0, \"\", VLOOKUP('Ek.3-A'!E500, Veriler!D:E, 2, 0)))","v":""},{"$f":"IF('Ek.3-A'!O500=\"\", \"\", 'Ek.3-A'!O500)","v":""},{"$f":"'Ek.3-A'!R500","v":0},{"$f":"'Ek.3-A'!K500","v":""},{"$f":"'Ek.3-A'!L500","v":""},{"$f":"IF(H500=\"var\",0,IF(M500<=0.005,M500,0))","v":{"v":0,"d":"%0.00"}},{"$f":"IF(M500<=0.005,\"E\",\"H\")","v":"H"},{"$f":"IF(O500=\"E\",SUM($N$5:N500),0)","v":{"v":0,"d":"%0.00"}},{"$f":"IF(P500<=0.1, K500, IF(N500>$F$2, N500*K500, $F$2*K500))","v":0}]
[6.01,"YERLİ KATKI ORANI RAPORU",null,290919900026,0.6,null,{"$f":"G500+1","v":185},{"$f":"IF(TRIM('Ek.3-A'!E501)<>\"\",\"var\",\"yok\")","v":"yok"},{"$f":"IF('Ek.3-A'!E501=\"\", \"\", IF(VLOOKUP('Ek.3-A'!E501, Veriler!D:E, 2, 0)=0, \"\", VLOOKUP('Ek.3-A'!E501, Veriler!D:E, 2, 0)))","v":""},{"$f":"IF('Ek.3-A'!O501=\"\", \"\", 'Ek.3-A'!O501)","v":""},{"$f":"'Ek.3-A'!R501","v":0},{"$f":"'Ek.3-A'!K501","v":""},{"$f":"'Ek.3-A'!L501","v":""},{"v":0,"d":"%0.00"},"H",{"$f":"IF(O501=\"E\",SUM($N$5:N501),0)","v":{"v":0,"d":"%0.00"}},0]
[6.02,"YERLİ KATKI ORANI RAPORU",null,291560110000,0.6,null,{"$f":"G501+1","v":186},{"$f":"IF(TRIM('Ek.3-A'!E502)<>\"\",\"var\",\"yok\")","v":"yok"},{"$f":"IF('Ek.3-A'!E502=\"\", \"\", IF(VLOOKUP('Ek.3-A'!E502, Veriler!D:E, 2, 0)=0, \"\", VLOOKUP('Ek.3-A'!E502, Veriler!D:E, 2, 0)))","v":""},{"$f":"IF('Ek.3-A'!O502=\"\", \"\", 'Ek.3-A'!O502)","v":""},{"$f":"'Ek.3-A'!R502","v":0},{"$f":"'Ek.3-A'!K502","v":""},{"$f":"'Ek.3-A'!L502","v":""},{"v":0,"d":"%0.00"},"H",{"$f":"IF(O502=\"E\",SUM($N$5:N502),0)","v":{"v":0,"d":"%0.00"}},0]
[6.03,"YERLİ KATKI ORANI RAPORU",null,291030000000,0.6,null,187,{"$f":"IF(TRIM('Ek.3-A'!E503)<>\"\",\"var\",\"yok\")","v":"yok"},{"$f":"IF('Ek.3-A'!E503=\"\", \"\", IF(VLOOKUP('Ek.3-A'!E503, Veriler!D:E, 2, 0)=0, \"\", VLOOKUP('Ek.3-A'!E503, Veriler!D:E, 2, 0)))","v":""},{"$f":"IF('Ek.3-A'!O503=\"\", \"\", 'Ek.3-A'!O503)","v":""},{"$f":"'Ek.3-A'!R503","v":0},{"$f":"'Ek.3-A'!K503","v":""},{"$f":"'Ek.3-A'!L503","v":""},{"v":0,"d":"%0.00"},"H",{"$f":"IF(O503=\"E\",SUM($N$5:N503),0)","v":{"v":0,"d":"%0.00"}},0]
[6.04,"YERLİ KATKI ORANI RAPORU",null,390729910000,0.6,null,188,{"$f":"IF(TRIM('Ek.3-A'!E504)<>\"\",\"var\",\"yok\")","v":"yok"},{"$f":"IF('Ek.3-A'!E504=\"\", \"\", IF(VLOOKUP('Ek.3-A'!E504, Veriler!D:E, 2, 0)=0, \"\", VLOOKUP('Ek.3-A'!E504, Veriler!D:E, 2, 0)))","v":""},{"$f":"IF('Ek.3-A'!O504=\"\", \"\", 'Ek.3-A'!O504)","v":""},{"$f":"'Ek.3-A'!R504","v":0},{"$f":"'Ek.3-A'!K504","v":""},{"$f":"'Ek.3-A'!L504","v":""},{"v":0,"d":"%0.00"},"H",{"$f":"IF(O504=\"E\",SUM($N$5:N504),0)","v":{"v":0,"d":"%0.00"}},0]
[6.05,"YERLİ KATKI ORANI RAPORU",null,290715100000,0.6,null,189,{"$f":"IF(TRIM('Ek.3-A'!E505)<>\"\",\"var\",\"yok\")","v":"yok"},{"$f":"IF('Ek.3-A'!E505=\"\", \"\", IF(VLOOKUP('Ek.3-A'!E505, Veriler!D:E, 2, 0)=0, \"\", VLOOKUP('Ek.3-A'!E505, Veriler!D:E, 2, 0)))","v":""},{"$f":"IF('Ek.3-A'!O505=\"\", \"\", 'Ek.3-A'!O505)","v":""},{"$f":"'Ek.3-A'!R505","v":0},{"$f":"'Ek.3-A'!K505","v":""},{"$f":"'Ek.3-A'!L505","v":""},{"v":0,"d":"%0.00"},"H",{"$f":"IF(O505=\"E\",SUM($N$5:N505),0)","v":{"v":0,"d":"%0.00"}},0]
[6.06,"YERLİ KATKI ORANI RAPORU",null,290541000000,0.6,null,190,{"$f":"IF(TRIM('Ek.3-A'!E506)<>\"\",\"var\",\"yok\")","v":"yok"},{"$f":"IF('Ek.3-A'!E506=\"\", \"\", IF(VLOOKUP('Ek.3-A'!E506, Veriler!D:E, 2, 0)=0, \"\", VLOOKUP('Ek.3-A'!E506, Veriler!D:E, 2, 0)))","v":""},{"$f":"IF('Ek.3-A'!O506=\"\", \"\", 'Ek.3-A'!O506)","v":""},{"$f":"'Ek.3-A'!R506","v":0},{"$f":"'Ek.3-A'!K506","v":""},{"$f":"'Ek.3-A'!L506","v":""},{"v":0,"d":"%0.00"},"H",{"$f":"IF(O506=\"E\",SUM($N$5:N506),0)","v":{"v":0,"d":"%0.00"}},0]
[6.07,"YERLİ KATKI ORANI RAPORU",null,293339350000,0.6,null,191,{"$f":"IF(TRIM('Ek.3-A'!E507)<>\"\",\"var\",\"yok\")","v":"yok"},{"$f":"IF('Ek.3-A'!E507=\"\", \"\", IF(VLOOKUP('Ek.3-A'!E507, Veriler!D:E, 2, 0)=0, \"\", VLOOKUP('Ek.3-A'!E507, Veriler!D:E, 2, 0)))","v":""},{"$f":"IF('Ek.3-A'!O507=\"\", \"\", 'Ek.3-A'!O507)","v":""},{"$f":"'Ek.3-A'!R507","v":0},{"$f":"'Ek.3-A'!K507","v":""},{"$f":"'Ek.3-A'!L507","v":""},{"v":0,"d":"%0.00"},"H",{"$f":"IF(O507=\"E\",SUM($N$5:N507),0)","v":{"v":0,"d":"%0.00"}},0]
[6.08,"YERLİ KATKI ORANI RAPORU",null,293379000012,0.6,null,192,{"$f":"IF(TRIM('Ek.3-A'!E508)<>\"\",\"var\",\"yok\")","v":"yok"},{"$f":"IF('Ek.3-A'!E508=\"\", \"\", IF(VLOOKUP('Ek.3-A'!E508, Veriler!D:E, 2, 0)=0, \"\", VLOOKUP('Ek.3-A'!E508, Veriler!D:E, 2, 0)))","v":""},{"$f":"IF('Ek.3-A'!O508=\"\", \"\", 'Ek.3-A'!O508)","v":""},{"$f":"'Ek.3-A'!R508","v":0},{"$f":"'Ek.3-A'!K508","v":""},{"$f":"'Ek.3-A'!L508","v":""},{"v":0,"d":"%0.00"},"H",{"$f":"IF(O508=\"E\",SUM($N$5:N508),0)","v":{"v":0,"d":"%0.00"}},0]
[6.09,"YERLİ KATKI ORANI RAPORU",null,292145000021,0.6,null,193,{"$f":"IF(TRIM('Ek.3-A'!E509)<>\"\",\"var\",\"yok\")","v":"yok"},{"$f":"IF('Ek.3-A'!E509=\"\", \"\", IF(VLOOKUP('Ek.3-A'!E509, Veriler!D:E, 2, 0)=0, \"\", VLOOKUP('Ek.3-A'!E509, Veriler!D:E, 2, 0)))","v":""},{"$f":"IF('Ek.3-A'!O509=\"\", \"\", 'Ek.3-A'!O509)","v":""},{"$f":"'Ek.3-A'!R509","v":0},{"$f":"'Ek.3-A'!K509","v":""},{"$f":"'Ek.3-A'!L509","v":""},{"v":0,"d":"%0.00"},"H",{"$f":"IF(O509=\"E\",SUM($N$5:N509),0)","v":{"v":0,"d":"%0.00"}},0]
[{"v":6.1,"d":"6.10"},"YERLİ KATKI ORANI RAPORU",null,291300009011,0.6,null,194,{"$f":"IF(TRIM('Ek.3-A'!E510)<>\"\",\"var\",\"yok\")","v":"yok"},{"$f":"IF('Ek.3-A'!E510=\"\", \"\", IF(VLOOKUP('Ek.3-A'!E510, Veriler!D:E, 2, 0)=0, \"\", VLOOKUP('Ek.3-A'!E510, Veriler!D:E, 2, 0)))","v":""},{"$f":"IF('Ek.3-A'!O510=\"\", \"\", 'Ek.3-A'!O510)","v":""},{"$f":"'Ek.3-A'!R510","v":0},{"$f":"'Ek.3-A'!K510","v":""},{"$f":"'Ek.3-A'!L510","v":""},{"v":0,"d":"%0.00"},"H",{"$f":"IF(O510=\"E\",SUM($N$5:N510),0)","v":{"v":0,"d":"%0.00"}},0]
[6.11,"YERLİ KATKI ORANI RAPORU",null,290930902000,0.6,null,195,{"$f":"IF(TRIM('Ek.3-A'!E511)<>\"\",\"var\",\"yok\")","v":"yok"},{"$f":"IF('Ek.3-A'!E511=\"\", \"\", IF(VLOOKUP('Ek.3-A'!E511, Veriler!D:E, 2, 0)=0, \"\", VLOOKUP('Ek.3-A'!E511, Veriler!D:E, 2, 0)))","v":""},{"$f":"IF('Ek.3-A'!O511=\"\", \"\", 'Ek.3-A'!O511)","v":""},{"$f":"'Ek.3-A'!R511","v":0},{"$f":"'Ek.3-A'!K511","v":""},{"$f":"'Ek.3-A'!L511","v":""},{"v":0,"d":"%0.00"},"H",{"$f":"IF(O511=\"E\",SUM($N$5:N511),0)","v":{"v":0,"d":"%0.00"}},0]
[6.12,"YERLİ KATKI ORANI RAPORU",null,293010000000,0.6,null,196,{"$f":"IF(TRIM('Ek.3-A'!E512)<>\"\",\"var\",\"yok\")","v":"yok"},{"$f":"IF('Ek.3-A'!E512=\"\", \"\", IF(VLOOKUP('Ek.3-A'!E512, Veriler!D:E, 2, 0)=0, \"\", VLOOKUP('Ek.3-A'!E512, Veriler!D:E, 2, 0)))","v":""},{"$f":"IF('Ek.3-A'!O512=\"\", \"\", 'Ek.3-A'!O512)","v":""},{"$f":"'Ek.3-A'!R512","v":0},{"$f":"'Ek.3-A'!K512","v":""},{"$f":"'Ek.3-A'!L512","v":""},{"v":0,"d":"%0.00"},"H",{"$f":"IF(O512=\"E\",SUM($N$5:N512),0)","v":{"v":0,"d":"%0.00"}},0]
[6.13,"YERLİ KATKI ORANI RAPORU",null,292700000023,0.6,{"$nulls":3},""]
[6.14,"YERLİ KATKI ORANI RAPORU",null,290410000016,0.6,null,{"$f":"G489+1","v":183},{"$f":"IF(TRIM('Ek.3-A'!E514)<>\"\",\"var\",\"yok\")","v":"yok"},{"$f":"IF('Ek.3-A'!E514=\"\", \"\", IF(VLOOKUP('Ek.3-A'!E514, Veriler!D:E, 2, 0)=0, \"\", VLOOKUP('Ek.3-A'!E514, Veriler!D:E, 2, 0)))","v":""},{"$f":"IF('Ek.3-A'!O514=\"\", \"\", 'Ek.3-A'!O514)","v":""},{"$f":"'Ek.3-A'!R514","v":0},{"$f":"'Ek.3-A'!K514","v":""},{"$f":"'Ek.3-A'!L514","v":""},{"$f":"IF(H514=\"var\",0,IF(M514<=0.005,M514,0))","v":{"v":0,"d":"%0.00"}},{"$f":"IF(M514<=0.005,\"E\",\"H\")","v":"H"},{"$f":"IF(O514=\"E\",SUM($N$5:N514),0)","v":{"v":0,"d":"%0.00"}},{"$f":"IF(P514<=0.1, K514, IF(N514>$F$2, N514*K514, $F$2*K514))","v":0}]
[6.15,"YERLİ KATKI ORANI RAPORU",null,390950100000,0.6,null,{"$f":"G514+1","v":184},{"$f":"IF(TRIM('Ek.3-A'!E515)<>\"\",\"var\",\"yok\")","v":"yok"},{"$f":"IF('Ek.3-A'!E515=\"\", \"\", IF(VLOOKUP('Ek.3-A'!E515, Veriler!D:E, 2, 0)=0, \"\", VLOOKUP('Ek.3-A'!E515, Veriler!D:E, 2, 0)))","v":""},{"$f":"IF('Ek.3-A'!O515=\"\", \"\", 'Ek.3-A'!O515)","v":""},{"$f":"'Ek.3-A'!R515","v":0},{"$f":"'Ek.3-A'!K515","v":""},{"$f":"'Ek.3-A'!L515","v":""},{"$f":"IF(H515=\"var\",0,IF(M515<=0.005,M515,0))","v":{"v":0,"d":"%0.00"}},{"$f":"IF(M515<=0.005,\"E\",\"H\")","v":"H"},{"$f":"IF(O515=\"E\",SUM($N$5:N515),0)","v":{"v":0,"d":"%0.00"}},{"$f":"IF(P515<=0.1, K515, IF(N515>$F$2, N515*K515, $F$2*K515))","v":0}]
[6.16,"YERLİ KATKI ORANI RAPORU",null,290539300000,0.6,null,{"$f":"G515+1","v":185},{"$f":"IF(TRIM('Ek.3-A'!E516)<>\"\",\"var\",\"yok\")","v":"yok"},{"$f":"IF('Ek.3-A'!E516=\"\", \"\", IF(VLOOKUP('Ek.3-A'!E516, Veriler!D:E, 2, 0)=0, \"\", VLOOKUP('Ek.3-A'!E516, Veriler!D:E, 2, 0)))","v":""},{"$f":"IF('Ek.3-A'!O516=\"\", \"\", 'Ek.3-A'!O516)","v":""},{"$f":"'Ek.3-A'!R516","v":0},{"$f":"'Ek.3-A'!K516","v":""},{"$f":"'Ek.3-A'!L516","v":""},{"v":0,"d":"%0.00"},"H",{"$f":"IF(O516=\"E\",SUM($N$5:N516),0)","v":{"v":0,"d":"%0.00"}},0]
[6.17,"YERLİ KATKI ORANI RAPORU",null,291819400000,0.6,null,186,{"$f":"IF(TRIM('Ek.3-A'!E517)<>\"\",\"var\",\"yok\")","v":"yok"},{"$f":"IF('Ek.3-A'!E517=\"\", \"\", IF(VLOOKUP('Ek.3-A'!E517, Veriler!D:E, 2, 0)=0, \"\", VLOOKUP('Ek.3-A'!E517, Veriler!D:E, 2, 0)))","v":""},{"$f":"IF('Ek.3-A'!O517=\"\", \"\", 'Ek.3-A'!O517)","v":""},{"$f":"'Ek.3-A'!R517","v":0},{"$f":"'Ek.3-A'!K517","v":""},{"$f":"'Ek.3-A'!L517","v":""},{"v":0,"d":"%0.00"},"H",{"$f":"IF(O517=\"E\",SUM($N$5:N517),0)","v":{"v":0,"d":"%0.00"}},0]
[6.18,"YERLİ KATKI ORANI RAPORU",null,290559910000,0.6,null,187,{"$f":"IF(TRIM('Ek.3-A'!E518)<>\"\",\"var\",\"yok\")","v":"yok"},{"$f":"IF('Ek.3-A'!E518=\"\", \"\", IF(VLOOKUP('Ek.3-A'!E518, Veriler!D:E, 2, 0)=0, \"\", VLOOKUP('Ek.3-A'!E518, Veriler!D:E, 2, 0)))","v":""},{"$f":"IF('Ek.3-A'!O518=\"\", \"\", 'Ek.3-A'!O518)","v":""},{"$f":"'Ek.3-A'!R518","v":0},{"$f":"'Ek.3-A'!K518","v":""},{"$f":"'Ek.3-A'!L518","v":""},{"v":0,"d":"%0.00"},"H",{"$f":"IF(O518=\"E\",SUM($N$5:N518),0)","v":{"v":0,"d":"%0.00"}},0]
[{"v":6.19000000000001,"d":"6.19"},"YERLİ KATKI ORANI RAPORU",null,293090400000,0.6,null,188,{"$f":"IF(TRIM('Ek.3-A'!E519)<>\"\",\"var\",\"yok\")","v":"yok"},{"$f":"IF('Ek.3-A'!E519=\"\", \"\", IF(VLOOKUP('Ek.3-A'!E519, Veriler!D:E, 2, 0)=0, \"\", VLOOKUP('Ek.3-A'!E519, Veriler!D:E, 2, 0)))","v":""},{"$f":"IF('Ek.3-A'!O519=\"\", \"\", 'Ek.3-A'!O519)","v":""},{"$f":"'Ek.3-A'!R519","v":0},{"$f":"'Ek.3-A'!K519","v":""},{"$f":"'Ek.3-A'!L519","v":""},{"v":0,"d":"%0.00"},"H",{"$f":"IF(O519=\"E\",SUM($N$5:N519),0)","v":{"v":0,"d":"%0.00"}},0]
[{"v":6.2,"d":"6.20"},"YERLİ KATKI ORANI RAPORU",null,290351000000,0.6,null,189,{"$f":"IF(TRIM('Ek.3-A'!E520)<>\"\",\"var\",\"yok\")","v":"yok"},{"$f":"IF('Ek.3-A'!E520=\"\", \"\", IF(VLOOKUP('Ek.3-A'!E520, Veriler!D:E, 2, 0)=0, \"\", VLOOKUP('Ek.3-A'!E520, Veriler!D:E, 2, 0)))","v":""},{"$f":"IF('Ek.3-A'!O520=\"\", \"\", 'Ek.3-A'!O520)","v":""},{"$f":"'Ek.3-A'!R520","v":0},{"$f":"'Ek.3-A'!K520","v":""},{"$f":"'Ek.3-A'!L520","v":""},{"v":0,"d":"%0.00"},"H",{"$f":"IF(O520=\"E\",SUM($N$5:N520),0)","v":{"v":0,"d":"%0.00"}},0]
[6.21,"YERLİ KATKI ORANI RAPORU",null,293339200000,0.6,null,190,{"$f":"IF(TRIM('Ek.3-A'!E521)<>\"\",\"var\",\"yok\")","v":"yok"},{"$f":"IF('Ek.3-A'!E521=\"\", \"\", IF(VLOOKUP('Ek.3-A'!E521, Veriler!D:E, 2, 0)=0, \"\", VLOOKUP('Ek.3-A'!E521, Veriler!D:E, 2, 0)))","v":""},{"$f":"IF('Ek.3-A'!O521=\"\", \"\", 'Ek.3-A'!O521)","v":""},{"$f":"'Ek.3-A'!R521","v":0},{"$f":"'Ek.3-A'!K521","v":""},{"$f":"'Ek.3-A'!L521","v":""},{"v":0,"d":"%0.00"},"H",{"$f":"IF(O521=\"E\",SUM($N$5:N521),0)","v":{"v":0,"d":"%0.00"}},0]
[6.22,"YERLİ KATKI ORANI RAPORU",null,291891000000,0.6,null,191,{"$f":"IF(TRIM('Ek.3-A'!E522)<>\"\",\"var\",\"yok\")","v":"yok"},{"$f":"IF('Ek.3-A'!E522=\"\", \"\", IF(VLOOKUP('Ek.3-A'!E522, Veriler!D:E, 2, 0)=0, \"\", VLOOKUP('Ek.3-A'!E522, Veriler!D:E, 2, 0)))","v":""},{"$f":"IF('Ek.3-A'!O522=\"\", \"\", 'Ek.3-A'!O522)","v":""},{"$f":"'Ek.3-A'!R522","v":0},{"$f":"'Ek.3-A'!K522","v":""},{"$f":"'Ek.3-A'!L522","v":""},{"v":0,"d":"%0.00"},"H",{"$f":"IF(O522=\"E\",SUM($N$5:N522),0)","v":{"v":0,"d":"%0.00"}},0]
[6.23,"YERLİ KATKI ORANI RAPORU",null,290420000023,0.6,null,192,{"$f":"IF(TRIM('Ek.3-A'!E523)<>\"\",\"var\",\"yok\")","v":"yok"},{"$f":"IF('Ek.3-A'!E523=\"\", \"\", IF(VLOOKUP('Ek.3-A'!E523, Veriler!D:E, 2, 0)=0, \"\", VLOOKUP('Ek.3-A'!E523, Veriler!D:E, 2, 0)))","v":""},{"$f":"IF('Ek.3-A'!O523=\"\", \"\", 'Ek.3-A'!O523)","v":""},{"$f":"'Ek.3-A'!R523","v":0},{"$f":"'Ek.3-A'!K523","v":""},{"$f":"'Ek.3-A'!L523","v":""},{"v":0,"d":"%0.00"},"H",{"$f":"IF(O523=\"E\",SUM($N$5:N523),0)","v":{"v":0,"d":"%0.00"}},0]
[6.24,"YERLİ KATKI ORANI RAPORU",null,293399500000,0.6,null,193,{"$f":"IF(TRIM('Ek.3-A'!E524)<>\"\",\"var\",\"yok\")","v":"yok"},{"$f":"IF('Ek.3-A'!E524=\"\", \"\", IF(VLOOKUP('Ek.3-A'!E524, Veriler!D:E, 2, 0)=0, \"\", VLOOKUP('Ek.3-A'!E524, Veriler!D:E, 2, 0)))","v":""},{"$f":"IF('Ek.3-A'!O524=\"\", \"\", 'Ek.3-A'!O524)","v":""},{"$f":"'Ek.3-A'!R524","v":0},{"$f":"'Ek.3-A'!K524","v":""},{"$f":"'Ek.3-A'!L524","v":""},{"v":0,"d":"%0.00"},"H",{"$f":"IF(O524=\"E\",SUM($N$5:N524),0)","v":{"v":0,"d":"%0.00"}},0]
[6.25,"YERLİ KATKI ORANI RAPORU",null,293359950022,0.6,null,194,{"$f":"IF(TRIM('Ek.3-A'!E525)<>\"\",\"var\",\"yok\")","v":"yok"},{"$f":"IF('Ek.3-A'!E525=\"\", \"\", IF(VLOOKUP('Ek.3-A'!E525, Veriler!D:E, 2, 0)=0, \"\", VLOOKUP('Ek.3-A'!E525, Veriler!D:E, 2, 0)))","v":""},{"$f":"IF('Ek.3-A'!O525=\"\", \"\", 'Ek.3-A'!O525)","v":""},{"$f":"'Ek.3-A'!R525","v":0},{"$f":"'Ek.3-A'!K525","v":""},{"$f":"'Ek.3-A'!L525","v":""},{"v":0,"d":"%0.00"},"H",{"$f":"IF(O525=\"E\",SUM($N$5:N525),0)","v":{"v":0,"d":"%0.00"}},0]
[6.26,"YERLİ KATKI ORANI RAPORU",null,290729008012,0.6,null,195,{"$f":"IF(TRIM('Ek.3-A'!E526)<>\"\",\"var\",\"yok\")","v":"yok"},{"$f":"IF('Ek.3-A'!E526=\"\", \"\", IF(VLOOKUP('Ek.3-A'!E526, Veriler!D:E, 2, 0)=0, \"\", VLOOKUP('Ek.3-A'!E526, Veriler!D:E, 2, 0)))","v":""},{"$f":"IF('Ek.3-A'!O526=\"\", \"\", 'Ek.3-A'!O526)","v":""},{"$f":"'Ek.3-A'!R526","v":0},{"$f":"'Ek.3-A'!K526","v":""},{"$f":"'Ek.3-A'!L526","v":""},{"v":0,"d":"%0.00"},"H",{"$f":"IF(O526=\"E\",SUM($N$5:N526),0)","v":{"v":0,"d":"%0.00"}},0]
[{"v":6.27000000000001,"d":"6.27"},"YERLİ KATKI ORANI RAPORU",null,293369402000,0.6,null,196,{"$f":"IF(TRIM('Ek.3-A'!E527)<>\"\",\"var\",\"yok\")","v":"yok"},{"$f":"IF('Ek.3-A'!E527=\"\", \"\", IF(VLOOKUP('Ek.3-A'!E527, Veriler!D:E, 2, 0)=0, \"\", VLOOKUP('Ek.3-A'!E527, Veriler!D:E, 2, 0)))","v":""},{"$f":"IF('Ek.3-A'!O527=\"\", \"\", 'Ek.3-A'!O527)","v":""},{"$f":"'Ek.3-A'!R527","v":0},{"$f":"'Ek.3-A'!K527","v":""},{"$f":"'Ek.3-A'!L527","v":""},{"v":0,"d":"%0.00"},"H",{"$f":"IF(O527=\"E\",SUM($N$5:N527),0)","v":{"v":0,"d":"%0.00"}},0]
[6.28,"YERLİ KATKI ORANI RAPORU",null,291899400000,0.6]
[6.29,"YERLİ KATKI ORANI RAPORU",null,290949110000,0.6]
[{"v":6.3,"d":"6.30"},"YERLİ KATKI ORANI RAPORU",null,284590900019,0.6]
[6.31,"YERLİ KATKI ORANI RAPORU",null,292423009000,0.6]
[6.32,"YERLİ KATKI ORANI RAPORU",null,390690200000,0.6]
[6.33,"YERLİ KATKI ORANI RAPORU",null,291539009913,0.6]
[6.34,"YERLİ KATKI ORANI RAPORU",null,291539009911,0.6]
[{"v":6.35000000000001,"d":"6.35"},"YERLİ KATKI ORANI RAPORU",null,293212000000,0.6]
[6.36,"YERLİ KATKI ORANI RAPORU",null,290514100000,0.6]
[6.37,"YERLİ KATKI ORANI RAPORU",null,290129009014,0.6,null,{"$f":"G512+1","v":197},{"$f":"IF(TRIM('Ek.3-A'!E537)<>\"\",\"var\",\"yok\")","v":"yok"},{"$f":"IF('Ek.3-A'!E537=\"\", \"\", IF(VLOOKUP('Ek.3-A'!E537, Veriler!D:E, 2, 0)=0, \"\", VLOOKUP('Ek.3-A'!E537, Veriler!D:E, 2, 0)))","v":""},{"$f":"IF('Ek.3-A'!O537=\"\", \"\", 'Ek.3-A'!O537)","v":""},{"$f":"'Ek.3-A'!R537","v":0},{"$f":"'Ek.3-A'!K537","v":""},{"$f":"'Ek.3-A'!L537","v":""},{"$f":"IF(H537=\"var\",0,IF(M537<=0.005,M537,0))","v":{"v":0,"d":"%0.00"}},{"$f":"IF(M537<=0.005,\"E\",\"H\")","v":"H"},{"$f":"IF(O537=\"E\",SUM($N$5:N537),0)","v":{"v":0,"d":"%0.00"}},{"$f":"IF(P537<=0.1, K537, IF(N537>$F$2, N537*K537, $F$2*K537))","v":0}]
[6.38,"YERLİ KATKI ORANI RAPORU",null,293339990011,0.6,null,{"$f":"G537+1","v":198},{"$f":"IF(TRIM('Ek.3-A'!E538)<>\"\",\"var\",\"yok\")","v":"yok"},{"$f":"IF('Ek.3-A'!E538=\"\", \"\", IF(VLOOKUP('Ek.3-A'!E538, Veriler!D:E, 2, 0)=0, \"\", VLOOKUP('Ek.3-A'!E538, Veriler!D:E, 2, 0)))","v":""},{"$f":"IF('Ek.3-A'!O538=\"\", \"\", 'Ek.3-A'!O538)","v":""},{"$f":"'Ek.3-A'!R538","v":0},{"$f":"'Ek.3-A'!K538","v":""},{"$f":"'Ek.3-A'!L538","v":""},{"$f":"IF(H538=\"var\",0,IF(M538<=0.005,M538,0))","v":{"v":0,"d":"%0.00"}},{"$f":"IF(M538<=0.005,\"E\",\"H\")","v":"H"},{"$f":"IF(O538=\"E\",SUM($N$5:N538),0)","v":{"v":0,"d":"%0.00"}},{"$f":"IF(P538<=0.1, K538, IF(N538>$F$2, N538*K538, $F$2*K538))","v":0}]
[6.39,"YERLİ KATKI ORANI RAPORU",null,293339250000,0.6,null,{"$f":"G538+1","v":199},{"$f":"IF(TRIM('Ek.3-A'!E539)<>\"\",\"var\",\"yok\")","v":"yok"},{"$f":"IF('Ek.3-A'!E539=\"\", \"\", IF(VLOOKUP('Ek.3-A'!E539, Veriler!D:E, 2, 0)=0, \"\", VLOOKUP('Ek.3-A'!E539, Veriler!D:E, 2, 0)))","v":""},{"$f":"IF('Ek.3-A'!O539=\"\", \"\", 'Ek.3-A'!O539)","v":""},{"$f":"'Ek.3-A'!R539","v":0},{"$f":"'Ek.3-A'!K539","v":""},{"$f":"'Ek.3-A'!L539","v":""},{"v":0,"d":"%0.00"},"H",{"$f":"IF(O539=\"E\",SUM($N$5:N539),0)","v":{"v":0,"d":"%0.00"}},0]
[{"v":6.40000000000001,"d":"6.40"},"YERLİ KATKI ORANI RAPORU",null,293590300000,0.6,null,{"$f":"G539+1","v":200},{"$f":"IF(TRIM('Ek.3-A'!E540)<>\"\",\"var\",\"yok\")","v":"yok"},{"$f":"IF('Ek.3-A'!E540=\"\", \"\", IF(VLOOKUP('Ek.3-A'!E540, Veriler!D:E, 2, 0)=0, \"\", VLOOKUP('Ek.3-A'!E540, Veriler!D:E, 2, 0)))","v":""},{"$f":"IF('Ek.3-A'!O540=\"\", \"\", 'Ek.3-A'!O540)","v":""},{"$f":"'Ek.3-A'!R540","v":0},{"$f":"'Ek.3-A'!K540","v":""},{"$f":"'Ek.3-A'!L540","v":""},{"v":0,"d":"%0.00"},"H",{"$f":"IF(O540=\"E\",SUM($N$5:N540),0)","v":{"v":0,"d":"%0.00"}},0]
[6.41,"YERLİ KATKI ORANI RAPORU",null,291439000013,0.6,null,201,{"$f":"IF(TRIM('Ek.3-A'!E541)<>\"\",\"var\",\"yok\")","v":"yok"},{"$f":"IF('Ek.3-A'!E541=\"\", \"\", IF(VLOOKUP('Ek.3-A'!E541, Veriler!D:E, 2, 0)=0, \"\", VLOOKUP('Ek.3-A'!E541, Veriler!D:E, 2, 0)))","v":""},{"$f":"IF('Ek.3-A'!O541=\"\", \"\", 'Ek.3-A'!O541)","v":""},{"$f":"'Ek.3-A'!R541","v":0},{"$f":"'Ek.3-A'!K541","v":""},{"$f":"'Ek.3-A'!L541","v":""},{"v":0,"d":"%0.00"},"H",{"$f":"IF(O541=\"E\",SUM($N$5:N541),0)","v":{"v":0,"d":"%0.00"}},0]
[6.42,"YERLİ KATKI ORANI RAPORU",null,293339550000,0.6,null,202,{"$f":"IF(TRIM('Ek.3-A'!E542)<>\"\",\"var\",\"yok\")","v":"yok"},{"$f":"IF('Ek.3-A'!E542=\"\", \"\", IF(VLOOKUP('Ek.3-A'!E542, Veriler!D:E, 2, 0)=0, \"\", VLOOKUP('Ek.3-A'!E542, Veriler!D:E, 2, 0)))","v":""},{"$f":"IF('Ek.3-A'!O542=\"\", \"\", 'Ek.3-A'!O542)","v":""},{"$f":"'Ek.3-A'!R542","v":0},{"$f":"'Ek.3-A'!K542","v":""},{"$f":"'Ek.3-A'!L542","v":""},{"v":0,"d":"%0.00"},"H",{"$f":"IF(O542=\"E\",SUM($N$5:N542),0)","v":{"v":0,"d":"%0.00"}},0]
[{"v":6.43000000000001,"d":"6.43"},"YERLİ KATKI ORANI RAPORU",null,293410000013,0.6,null,203,{"$f":"IF(TRIM('Ek.3-A'!E543)<>\"\",\"var\",\"yok\")","v":"yok"},{"$f":"IF('Ek.3-A'!E543=\"\", \"\", IF(VLOOKUP('Ek.3-A'!E543, Veriler!D:E, 2, 0)=0, \"\", VLOOKUP('Ek.3-A'!E543, Veriler!D:E, 2, 0)))","v":""},{"$f":"IF('Ek.3-A'!O543=\"\", \"\", 'Ek.3-A'!O543)","v":""},{"$f":"'Ek.3-A'!R543","v":0},{"$f":"'Ek.3-A'!K543","v":""},{"$f":"'Ek.3-A'!L543","v":""},{"v":0,"d":"%0.00"},"H",{"$f":"IF(O543=\"E\",SUM($N$5:N543),0)","v":{"v":0,"d":"%0.00"}},0]
[{"v":6.44000000000001,"d":"6.44"},"YERLİ KATKI ORANI RAPORU",null,290723000011,0.6,null,204,{"$f":"IF(TRIM('Ek.3-A'!E544)<>\"\",\"var\",\"yok\")","v":"yok"},{"$f":"IF('Ek.3-A'!E544=\"\", \"\", IF(VLOOKUP('Ek.3-A'!E544, Veriler!D:E, 2, 0)=0, \"\", VLOOKUP('Ek.3-A'!E544, Veriler!D:E, 2, 0)))","v":""},{"$f":"IF('Ek.3-A'!O544=\"\", \"\", 'Ek.3-A'!O544)","v":""},{"$f":"'Ek.3-A'!R544","v":0},{"$f":"'Ek.3-A'!K544","v":""},{"$f":"'Ek.3-A'!L544","v":""},{"v":0,"d":"%0.00"},"H",{"$f":"IF(O544=\"E\",SUM($N$5:N544),0)","v":{"v":0,"d":"%0.00"}},0]
[6.45,"YERLİ KATKI ORANI RAPORU",null,290723000019,0.6,null,205,{"$f":"IF(TRIM('Ek.3-A'!E545)<>\"\",\"var\",\"yok\")","v":"yok"},{"$f":"IF('Ek.3-A'!E545=\"\", \"\", IF(VLOOKUP('Ek.3-A'!E545, Veriler!D:E, 2, 0)=0, \"\", VLOOKUP('Ek.3-A'!E545, Veriler!D:E, 2, 0)))","v":""},{"$f":"IF('Ek.3-A'!O545=\"\", \"\", 'Ek.3-A'!O545)","v":""},{"$f":"'Ek.3-A'!R545","v":0},{"$f":"'Ek.3-A'!K545","v":""},{"$f":"'Ek.3-A'!L545","v":""},{"v":0,"d":"%0.00"},"H",{"$f":"IF(O545=\"E\",SUM($N$5:N545),0)","v":{"v":0,"d":"%0.00"}},0]
[6.46,"YERLİ KATKI ORANI RAPORU",null,290892000000,0.6,null,206,{"$f":"IF(TRIM('Ek.3-A'!E546)<>\"\",\"var\",\"yok\")","v":"yok"},{"$f":"IF('Ek.3-A'!E546=\"\", \"\", IF(VLOOKUP('Ek.3-A'!E546, Veriler!D:E, 2, 0)=0, \"\", VLOOKUP('Ek.3-A'!E546, Veriler!D:E, 2, 0)))","v":""},{"$f":"IF('Ek.3-A'!O546=\"\", \"\", 'Ek.3-A'!O546)","v":""},{"$f":"'Ek.3-A'!R546","v":0},{"$f":"'Ek.3-A'!K546","v":""},{"$f":"'Ek.3-A'!L546","v":""},{"v":0,"d":"%0.00"},"H",{"$f":"IF(O546=\"E\",SUM($N$5:N546),0)","v":{"v":0,"d":"%0.00"}},0]
[6.47,"YERLİ KATKI ORANI RAPORU",null,293332000013,0.6,null,207,{"$f":"IF(TRIM('Ek.3-A'!E547)<>\"\",\"var\",\"yok\")","v":"yok"},{"$f":"IF('Ek.3-A'!E547=\"\", \"\", IF(VLOOKUP('Ek.3-A'!E547, Veriler!D:E, 2, 0)=0, \"\", VLOOKUP('Ek.3-A'!E547, Veriler!D:E, 2, 0)))","v":""},{"$f":"IF('Ek.3-A'!O547=\"\", \"\", 'Ek.3-A'!O547)","v":""},{"$f":"'Ek.3-A'!R547","v":0},{"$f":"'Ek.3-A'!K547","v":""},{"$f":"'Ek.3-A'!L547","v":""},{"v":0,"d":"%0.00"},"H",{"$f":"IF(O547=\"E\",SUM($N$5:N547),0)","v":{"v":0,"d":"%0.00"}},0]
[{"v":6.48000000000001,"d":"6.48"},"YERLİ KATKI ORANI RAPORU",null,291440100000,0.6,null,208,{"$f":"IF(TRIM('Ek.3-A'!E548)<>\"\",\"var\",\"yok\")","v":"yok"},{"$f":"IF('Ek.3-A'!E548=\"\", \"\", IF(VLOOKUP('Ek.3-A'!E548, Veriler!D:E, 2, 0)=0, \"\", VLOOKUP('Ek.3-A'!E548, Veriler!D:E, 2, 0)))","v":""},{"$f":"IF('Ek.3-A'!O548=\"\", \"\", 'Ek.3-A'!O548)","v":""},{"$f":"'Ek.3-A'!R548","v":0},{"$f":"'Ek.3-A'!K548","v":""},{"$f":"'Ek.3-A'!L548","v":""},{"v":0,"d":"%0.00"},"H",{"$f":"IF(O548=\"E\",SUM($N$5:N548),0)","v":{"v":0,"d":"%0.00"}},0]
[6.49,"YERLİ KATKI ORANI RAPORU",null,293499909024,0.6,null,209,{"$f":"IF(TRIM('Ek.3-A'!E549)<>\"\",\"var\",\"yok\")","v":"yok"},{"$f":"IF('Ek.3-A'!E549=\"\", \"\", IF(VLOOKUP('Ek.3-A'!E549, Veriler!D:E, 2, 0)=0, \"\", VLOOKUP('Ek.3-A'!E549, Veriler!D:E, 2, 0)))","v":""},{"$f":"IF('Ek.3-A'!O549=\"\", \"\", 'Ek.3-A'!O549)","v":""},{"$f":"'Ek.3-A'!R549","v":0},{"$f":"'Ek.3-A'!K549","v":""},{"$f":"'Ek.3-A'!L549","v":""},{"v":0,"d":"%0.00"},"H",{"$f":"IF(O549=\"E\",SUM($N$5:N549),0)","v":{"v":0,"d":"%0.00"}},0]
[{"v":6.5,"d":"6.50"},"YERLİ KATKI ORANI RAPORU",null,293090500000,0.6,null,210,{"$f":"IF(TRIM('Ek.3-A'!E550)<>\"\",\"var\",\"yok\")","v":"yok"},{"$f":"IF('Ek.3-A'!E550=\"\", \"\", IF(VLOOKUP('Ek.3-A'!E550, Veriler!D:E, 2, 0)=0, \"\", VLOOKUP('Ek.3-A'!E550, Veriler!D:E, 2, 0)))","v":""},{"$f":"IF('Ek.3-A'!O550=\"\", \"\", 'Ek.3-A'!O550)","v":""},{"$f":"'Ek.3-A'!R550","v":0},{"$f":"'Ek.3-A'!K550","v":""},{"$f":"'Ek.3-A'!L550","v":""},{"v":0,"d":"%0.00"},"H",{"$f":"IF(O550=\"E\",SUM($N$5:N550),0)","v":{"v":0,"d":"%0.00"}},0]
[{"v":6.51000000000001,"d":"6.51"},"YERLİ KATKI ORANI RAPORU",null,291413000000,0.6,{"$nulls":3},""]
[{"v":6.52000000000001,"d":"6.52"},"YERLİ KATKI ORANI RAPORU",null,291419100000,0.6,null,{"$f":"G527+1","v":197},{"$f":"IF(TRIM('Ek.3-A'!E552)<>\"\",\"var\",\"yok\")","v":"yok"},{"$f":"IF('Ek.3-A'!E552=\"\", \"\", IF(VLOOKUP('Ek.3-A'!E552, Veriler!D:E, 2, 0)=0, \"\", VLOOKUP('Ek.3-A'!E552, Veriler!D:E, 2, 0)))","v":""},{"$f":"IF('Ek.3-A'!O552=\"\", \"\", 'Ek.3-A'!O552)","v":""},{"$f":"'Ek.3-A'!R552","v":0},{"$f":"'Ek.3-A'!K552","v":""},{"$f":"'Ek.3-A'!L552","v":""},{"$f":"IF(H552=\"var\",0,IF(M552<=0.005,M552,0))","v":{"v":0,"d":"%0.00"}},{"$f":"IF(M552<=0.005,\"E\",\"H\")","v":"H"},{"$f":"IF(O552=\"E\",SUM($N$5:N552),0)","v":{"v":0,"d":"%0.00"}},{"$f":"IF(P552<=0.1, K552, IF(N552>$F$2, N552*K552, $F$2*K552))","v":0}]
[6.53,"YERLİ KATKI ORANI RAPORU",null,292221000011,0.6,null,{"$f":"G552+1","v":198},{"$f":"IF(TRIM('Ek.3-A'!E553)<>\"\",\"var\",\"yok\")","v":"yok"},{"$f":"IF('Ek.3-A'!E553=\"\", \"\", IF(VLOOKUP('Ek.3-A'!E553, Veriler!D:E, 2, 0)=0, \"\", VLOOKUP('Ek.3-A'!E553, Veriler!D:E, 2, 0)))","v":""},{"$f":"IF('Ek.3-A'!O553=\"\", \"\", 'Ek.3-A'!O553)","v":""},{"$f":"'Ek.3-A'!R553","v":0},{"$f":"'Ek.3-A'!K553","v":""},{"$f":"'Ek.3-A'!L553","v":""},{"$f":"IF(H553=\"var\",0,IF(M553<=0.005,M553,0))","v":{"v":0,"d":"%0.00"}},{"$f":"IF(M553<=0.005,\"E\",\"H\")","v":"H"},{"$f":"IF(O553=\"E\",SUM($N$5:N553),0)","v":{"v":0,"d":"%0.00"}},{"$f":"IF(P553<=0.1, K553, IF(N553>$F$2, N553*K553, $F$2*K553))","v":0}]
[6.54,"YERLİ KATKI ORANI RAPORU",null,292221000012,0.6,null,{"$f":"G553+1","v":199},{"$f":"IF(TRIM('Ek.3-A'!E554)<>\"\",\"var\",\"yok\")","v":"yok"},{"$f":"IF('Ek.3-A'!E554=\"\", \"\", IF(VLOOKUP('Ek.3-A'!E554, Veriler!D:E, 2, 0)=0, \"\", VLOOKUP('Ek.3-A'!E554, Veriler!D:E, 2, 0)))","v":""},{"$f":"IF('Ek.3-A'!O554=\"\", \"\", 'Ek.3-A'!O554)","v":""},{"$f":"'Ek.3-A'!R554","v":0},{"$f":"'Ek.3-A'!K554","v":""},{"$f":"'Ek.3-A'!L554","v":""},{"v":0,"d":"%0.00"},"H",{"$f":"IF(O554=\"E\",SUM($N$5:N554),0)","v":{"v":0,"d":"%0.00"}},0]
[6.55,"YERLİ KATKI ORANI RAPORU",null,901310100000,0.6,null,200,{"$f":"IF(TRIM('Ek.3-A'!E555)<>\"\",\"var\",\"yok\")","v":"yok"},{"$f":"IF('Ek.3-A'!E555=\"\", \"\", IF(VLOOKUP('Ek.3-A'!E555, Veriler!D:E, 2, 0)=0, \"\", VLOOKUP('Ek.3-A'!E555, Veriler!D:E, 2, 0)))","v":""},{"$f":"IF('Ek.3-A'!O555=\"\", \"\", 'Ek.3-A'!O555)","v":""},{"$f":"'Ek.3-A'!R555","v":0},{"$f":"'Ek.3-A'!K555","v":""},{"$f":"'Ek.3-A'!L555","v":""},{"v":0,"d":"%0.00"},"H",{"$f":"IF(O555=\"E\",SUM($N$5:N555),0)","v":{"v":0,"d":"%0.00"}},0]
[{"v":6.56000000000001,"d":"6.56"},"YERLİ KATKI ORANI RAPORU",null,844820000011,0.6,null,201,{"$f":"IF(TRIM('Ek.3-A'!E556)<>\"\",\"var\",\"yok\")","v":"yok"},{"$f":"IF('Ek.3-A'!E556=\"\", \"\", IF(VLOOKUP('Ek.3-A'!E556, Veriler!D:E, 2, 0)=0, \"\", VLOOKUP('Ek.3-A'!E556, Veriler!D:E, 2, 0)))","v":""},{"$f":"IF('Ek.3-A'!O556=\"\", \"\", 'Ek.3-A'!O556)","v":""},{"$f":"'Ek.3-A'!R556","v":0},{"$f":"'Ek.3-A'!K556","v":""},{"$f":"'Ek.3-A'!L556","v":""},{"v":0,"d":"%0.00"},"H",{"$f":"IF(O556=\"E\",SUM($N$5:N556),0)","v":{"v":0,"d":"%0.00"}},0]
[6.57,"YERLİ KATKI ORANI RAPORU",null,844820000019,0.6,null,202,{"$f":"IF(TRIM('Ek.3-A'!E557)<>\"\",\"var\",\"yok\")","v":"yok"},{"$f":"IF('Ek.3-A'!E557=\"\", \"\", IF(VLOOKUP('Ek.3-A'!E557, Veriler!D:E, 2, 0)=0, \"\", VLOOKUP('Ek.3-A'!E557, Veriler!D:E, 2, 0)))","v":""},{"$f":"IF('Ek.3-A'!O557=\"\", \"\", 'Ek.3-A'!O557)","v":""},{"$f":"'Ek.3-A'!R557","v":0},{"$f":"'Ek.3-A'!K557","v":""},{"$f":"'Ek.3-A'!L557","v":""},{"v":0,"d":"%0.00"},"H",{"$f":"IF(O557=\"E\",SUM($N$5:N557),0)","v":{"v":0,"d":"%0.00"}},0]
[6.58,"YERLİ KATKI ORANI RAPORU",null,844839000019,0.6,null,203,{"$f":"IF(TRIM('Ek.3-A'!E558)<>\"\",\"var\",\"yok\")","v":"yok"},{"$f":"IF('Ek.3-A'!E558=\"\", \"\", IF(VLOOKUP('Ek.3-A'!E558, Veriler!D:E, 2, 0)=0, \"\", VLOOKUP('Ek.3-A'!E558, Veriler!D:E, 2, 0)))","v":""},{"$f":"IF('Ek.3-A'!O558=\"\", \"\", 'Ek.3-A'!O558)","v":""},{"$f":"'Ek.3-A'!R558","v":0},{"$f":"'Ek.3-A'!K558","v":""},{"$f":"'Ek.3-A'!L558","v":""},{"v":0,"d":"%0.00"},"H",{"$f":"IF(O558=\"E\",SUM($N$5:N558),0)","v":{"v":0,"d":"%0.00"}},0]
[{"v":6.59000000000001,"d":"6.59"},"YERLİ KATKI ORANI RAPORU",null,844833000000,0.6,null,204,{"$f":"IF(TRIM('Ek.3-A'!E559)<>\"\",\"var\",\"yok\")","v":"yok"},{"$f":"IF('Ek.3-A'!E559=\"\", \"\", IF(VLOOKUP('Ek.3-A'!E559, Veriler!D:E, 2, 0)=0, \"\", VLOOKUP('Ek.3-A'!E559, Veriler!D:E, 2, 0)))","v":""},{"$f":"IF('Ek.3-A'!O559=\"\", \"\", 'Ek.3-A'!O559)","v":""},{"$f":"'Ek.3-A'!R559","v":0},{"$f":"'Ek.3-A'!K559","v":""},{"$f":"'Ek.3-A'!L559","v":""},{"v":0,"d":"%0.00"},"H",{"$f":"IF(O559=\"E\",SUM($N$5:N559),0)","v":{"v":0,"d":"%0.00"}},0]
[{"v":6.60000000000001,"d":"6.60"},"YERLİ KATKI ORANI RAPORU",null,844839000012,0.6,null,205,{"$f":"IF(TRIM('Ek.3-A'!E560)<>\"\",\"var\",\"yok\")","v":"yok"},{"$f":"IF('Ek.3-A'!E560=\"\", \"\", IF(VLOOKUP('Ek.3-A'!E560, Veriler!D:E, 2, 0)=0, \"\", VLOOKUP('Ek.3-A'!E560, Veriler!D:E, 2, 0)))","v":""},{"$f":"IF('Ek.3-A'!O560=\"\", \"\", 'Ek.3-A'!O560)","v":""},{"$f":"'Ek.3-A'!R560","v":0},{"$f":"'Ek.3-A'!K560","v":""},{"$f":"'Ek.3-A'!L560","v":""},{"v":0,"d":"%0.00"},"H",{"$f":"IF(O560=\"E\",SUM($N$5:N560),0)","v":{"v":0,"d":"%0.00"}},0]
[6.61,"YERLİ KATKI ORANI RAPORU",null,844851100000,0.6,null,206,{"$f":"IF(TRIM('Ek.3-A'!E561)<>\"\",\"var\",\"yok\")","v":"yok"},{"$f":"IF('Ek.3-A'!E561=\"\", \"\", IF(VLOOKUP('Ek.3-A'!E561, Veriler!D:E, 2, 0)=0, \"\", VLOOKUP('Ek.3-A'!E561, Veriler!D:E, 2, 0)))","v":""},{"$f":"IF('Ek.3-A'!O561=\"\", \"\", 'Ek.3-A'!O561)","v":""},{"$f":"'Ek.3-A'!R561","v":0},{"$f":"'Ek.3-A'!K561","v":""},{"$f":"'Ek.3-A'!L561","v":""},{"v":0,"d":"%0.00"},"H",{"$f":"IF(O561=\"E\",SUM($N$5:N561),0)","v":{"v":0,"d":"%0.00"}},0]
[6.62,"YERLİ KATKI ORANI RAPORU",null,846693600000,0.6,null,207,{"$f":"IF(TRIM('Ek.3-A'!E562)<>\"\",\"var\",\"yok\")","v":"yok"},{"$f":"IF('Ek.3-A'!E562=\"\", \"\", IF(VLOOKUP('Ek.3-A'!E562, Veriler!D:E, 2, 0)=0, \"\", VLOOKUP('Ek.3-A'!E562, Veriler!D:E, 2, 0)))","v":""},{"$f":"IF('Ek.3-A'!O562=\"\", \"\", 'Ek.3-A'!O562)","v":""},{"$f":"'Ek.3-A'!R562","v":0},{"$f":"'Ek.3-A'!K562","v":""},{"$f":"'Ek.3-A'!L562","v":""},{"v":0,"d":"%0.00"},"H",{"$f":"IF(O562=\"E\",SUM($N$5:N562),0)","v":{"v":0,"d":"%0.00"}},0]
[6.63,"YERLİ KATKI ORANI RAPORU",null,846610380000,0.6,null,208,{"$f":"IF(TRIM('Ek.3-A'!E563)<>\"\",\"var\",\"yok\")","v":"yok"},{"$f":"IF('Ek.3-A'!E563=\"\", \"\", IF(VLOOKUP('Ek.3-A'!E563, Veriler!D:E, 2, 0)=0, \"\", VLOOKUP('Ek.3-A'!E563, Veriler!D:E, 2, 0)))","v":""},{"$f":"IF('Ek.3-A'!O563=\"\", \"\", 'Ek.3-A'!O563)","v":""},{"$f":"'Ek.3-A'!R563","v":0},{"$f":"'Ek.3-A'!K563","v":""},{"$f":"'Ek.3-A'!L563","v":""},{"v":0,"d":"%0.00"},"H",{"$f":"IF(O563=\"E\",SUM($N$5:N563),0)","v":{"v":0,"d":"%0.00"}},0]
[{"v":6.64000000000001,"d":"6.64"},"YERLİ KATKI ORANI RAPORU",null,846620980000,0.6,null,209,{"$f":"IF(TRIM('Ek.3-A'!E564)<>\"\",\"var\",\"yok\")","v":"yok"},{"$f":"IF('Ek.3-A'!E564=\"\", \"\", IF(VLOOKUP('Ek.3-A'!E564, Veriler!D:E, 2, 0)=0, \"\", VLOOKUP('Ek.3-A'!E564, Veriler!D:E, 2, 0)))","v":""},{"$f":"IF('Ek.3-A'!O564=\"\", \"\", 'Ek.3-A'!O564)","v":""},{"$f":"'Ek.3-A'!R564","v":0},{"$f":"'Ek.3-A'!K564","v":""},{"$f":"'Ek.3-A'!L564","v":""},{"v":0,"d":"%0.00"},"H",{"$f":"IF(O564=\"E\",SUM($N$5:N564),0)","v":{"v":0,"d":"%0.00"}},0]
[{"v":6.65000000000001,"d":"6.65"},"YERLİ KATKI ORANI RAPORU",null,846610200000,0.6,null,210,{"$f":"IF(TRIM('Ek.3-A'!E565)<>\"\",\"var\",\"yok\")","v":"yok"},{"$f":"IF('Ek.3-A'!E565=\"\", \"\", IF(VLOOKUP('Ek.3-A'!E565, Veriler!D:E, 2, 0)=0, \"\", VLOOKUP('Ek.3-A'!E565, Veriler!D:E, 2, 0)))","v":""},{"$f":"IF('Ek.3-A'!O565=\"\", \"\", 'Ek.3-A'!O565)","v":""},{"$f":"'Ek.3-A'!R565","v":0},{"$f":"'Ek.3-A'!K565","v":""},{"$f":"'Ek.3-A'!L565","v":""},{"v":0,"d":"%0.00"},"H",{"$f":"IF(O565=\"E\",SUM($N$5:N565),0)","v":{"v":0,"d":"%0.00"}},0]
[6.66,"YERLİ KATKI ORANI RAPORU",null,846610800000,0.6]
[{"v":6.67000000000001,"d":"6.67"},"YERLİ KATKI ORANI RAPORU",null,846694009000,0.6]
[{"v":6.68000000000001,"d":"6.68"},"YERLİ KATKI ORANI RAPORU",null,847350800000,0.6]
[{"v":6.69000000000001,"d":"6.69"},"YERLİ KATKI ORANI RAPORU",null,847350200000,0.6]
[{"v":6.7,"d":"6.70"},"YERLİ KATKI ORANI RAPORU",null,848690000000,0.6]
[6.71,"YERLİ KATKI ORANI RAPORU",null,843142000000,0.6]
[{"v":6.72000000000001,"d":"6.72"},"YERLİ KATKI ORANI RAPORU",null,846693400000,0.6]
[{"v":6.73000000000001,"d":"6.73"},"YERLİ KATKI ORANI RAPORU",null,850300200000,0.6]
[6.74,"YERLİ KATKI ORANI RAPORU",null,850300919019,0.6]
[{"v":6.75000000000001,"d":"6.75"},"YERLİ KATKI ORANI RAPORU",null,853810000000,0.6,null,{"$f":"G550+1","v":211},{"$f":"IF(TRIM('Ek.3-A'!E575)<>\"\",\"var\",\"yok\")","v":"yok"},{"$f":"IF('Ek.3-A'!E575=\"\", \"\", IF(VLOOKUP('Ek.3-A'!E575, Veriler!D:E, 2, 0)=0, \"\", VLOOKUP('Ek.3-A'!E575, Veriler!D:E, 2, 0)))","v":""},{"$f":"IF('Ek.3-A'!O575=\"\", \"\", 'Ek.3-A'!O575)","v":""},{"$f":"'Ek.3-A'!R575","v":0},{"$f":"'Ek.3-A'!K575","v":""},{"$f":"'Ek.3-A'!L575","v":""},{"$f":"IF(H575=\"var\",0,IF(M575<=0.005,M575,0))","v":{"v":0,"d":"%0.00"}},{"$f":"IF(M575<=0.005,\"E\",\"H\")","v":"H"},{"$f":"IF(O575=\"E\",SUM($N$5:N575),0)","v":{"v":0,"d":"%0.00"}},{"$f":"IF(P575<=0.1, K575, IF(N575>$F$2, N575*K575, $F$2*K575))","v":0}]
[{"v":6.76000000000001,"d":"6.76"},"YERLİ KATKI ORANI RAPORU",null,851690000019,0.6,null,{"$f":"G575+1","v":212},{"$f":"IF(TRIM('Ek.3-A'!E576)<>\"\",\"var\",\"yok\")","v":"yok"},{"$f":"IF('Ek.3-A'!E576=\"\", \"\", IF(VLOOKUP('Ek.3-A'!E576, Veriler!D:E, 2, 0)=0, \"\", VLOOKUP('Ek.3-A'!E576, Veriler!D:E, 2, 0)))","v":""},{"$f":"IF('Ek.3-A'!O576=\"\", \"\", 'Ek.3-A'!O576)","v":""},{"$f":"'Ek.3-A'!R576","v":0},{"$f":"'Ek.3-A'!K576","v":""},{"$f":"'Ek.3-A'!L576","v":""},{"$f":"IF(H576=\"var\",0,IF(M576<=0.005,M576,0))","v":{"v":0,"d":"%0.00"}},{"$f":"IF(M576<=0.005,\"E\",\"H\")","v":"H"},{"$f":"IF(O576=\"E\",SUM($N$5:N576),0)","v":{"v":0,"d":"%0.00"}},{"$f":"IF(P576<=0.1, K576, IF(N576>$F$2, N576*K576, $F$2*K576))","v":0}]
[{"v":6.77000000000001,"d":"6.77"},"YERLİ KATKI ORANI RAPORU",null,851890009000,0.6,null,{"$f":"G576+1","v":213},{"$f":"IF(TRIM('Ek.3-A'!E577)<>\"\",\"var\",\"yok\")","v":"yok"},{"$f":"IF('Ek.3-A'!E577=\"\", \"\", IF(VLOOKUP('Ek.3-A'!E577, Veriler!D:E, 2, 0)=0, \"\", VLOOKUP('Ek.3-A'!E577, Veriler!D:E, 2, 0)))","v":""},{"$f":"IF('Ek.3-A'!O577=\"\", \"\", 'Ek.3-A'!O577)","v":""},{"$f":"'Ek.3-A'!R577","v":0},{"$f":"'Ek.3-A'!K577","v":""},{"$f":"'Ek.3-A'!L577","v":""},{"v":0,"d":"%0.00"},"H",{"$f":"IF(O577=\"E\",SUM($N$5:N577),0)","v":{"v":0,"d":"%0.00"}},0]
[6.78,"YERLİ KATKI ORANI RAPORU",null,852990180000,0.6,null,{"$f":"G577+1","v":214},{"$f":"IF(TRIM('Ek.3-A'!E578)<>\"\",\"var\",\"yok\")","v":"yok"},{"$f":"IF('Ek.3-A'!E578=\"\", \"\", IF(VLOOKUP('Ek.3-A'!E578, Veriler!D:E, 2, 0)=0, \"\", VLOOKUP('Ek.3-A'!E578, Veriler!D:E, 2, 0)))","v":""},{"$f":"IF('Ek.3-A'!O578=\"\", \"\", 'Ek.3-A'!O578)","v":""},{"$f":"'Ek.3-A'!R578","v":0},{"$f":"'Ek.3-A'!K578","v":""},{"$f":"'Ek.3-A'!L578","v":""},{"v":0,"d":"%0.00"},"H",{"$f":"IF(O578=\"E\",SUM($N$5:N578),0)","v":{"v":0,"d":"%0.00"}},0]
[6.79,"YERLİ KATKI ORANI RAPORU",null,852990200000,0.6,null,215,{"$f":"IF(TRIM('Ek.3-A'!E579)<>\"\",\"var\",\"yok\")","v":"yok"},{"$f":"IF('Ek.3-A'!E579=\"\", \"\", IF(VLOOKUP('Ek.3-A'!E579, Veriler!D:E, 2, 0)=0, \"\", VLOOKUP('Ek.3-A'!E579, Veriler!D:E, 2, 0)))","v":""},{"$f":"IF('Ek.3-A'!O579=\"\", \"\", 'Ek.3-A'!O579)","v":""},{"$f":"'Ek.3-A'!R579","v":0},{"$f":"'Ek.3-A'!K579","v":""},{"$f":"'Ek.3-A'!L579","v":""},{"v":0,"d":"%0.00"},"H",{"$f":"IF(O579=\"E\",SUM($N$5:N579),0)","v":{"v":0,"d":"%0.00"}},0]
[{"v":6.80000000000001,"d":"6.80"},"YERLİ KATKI ORANI RAPORU",null,880622100000,0.6,null,216,{"$f":"IF(TRIM('Ek.3-A'!E580)<>\"\",\"var\",\"yok\")","v":"yok"},{"$f":"IF('Ek.3-A'!E580=\"\", \"\", IF(VLOOKUP('Ek.3-A'!E580, Veriler!D:E, 2, 0)=0, \"\", VLOOKUP('Ek.3-A'!E580, Veriler!D:E, 2, 0)))","v":""},{"$f":"IF('Ek.3-A'!O580=\"\", \"\", 'Ek.3-A'!O580)","v":""},{"$f":"'Ek.3-A'!R580","v":0},{"$f":"'Ek.3-A'!K580","v":""},{"$f":"'Ek.3-A'!L580","v":""},{"v":0,"d":"%0.00"},"H",{"$f":"IF(O580=\"E\",SUM($N$5:N580),0)","v":{"v":0,"d":"%0.00"}},0]
[{"v":6.81000000000001,"d":"6.81"},"YERLİ KATKI ORANI RAPORU",null,880621100000,0.6,null,217,{"$f":"IF(TRIM('Ek.3-A'!E581)<>\"\",\"var\",\"yok\")","v":"yok"},{"$f":"IF('Ek.3-A'!E581=\"\", \"\", IF(VLOOKUP('Ek.3-A'!E581, Veriler!D:E, 2, 0)=0, \"\", VLOOKUP('Ek.3-A'!E581, Veriler!D:E, 2, 0)))","v":""},{"$f":"IF('Ek.3-A'!O581=\"\", \"\", 'Ek.3-A'!O581)","v":""},{"$f":"'Ek.3-A'!R581","v":0},{"$f":"'Ek.3-A'!K581","v":""},{"$f":"'Ek.3-A'!L581","v":""},{"v":0,"d":"%0.00"},"H",{"$f":"IF(O581=\"E\",SUM($N$5:N581),0)","v":{"v":0,"d":"%0.00"}},0]
[6.82,"YERLİ KATKI ORANI RAPORU",null,870870500012,0.6,null,218,{"$f":"IF(TRIM('Ek.3-A'!E582)<>\"\",\"var\",\"yok\")","v":"yok"},{"$f":"IF('Ek.3-A'!E582=\"\", \"\", IF(VLOOKUP('Ek.3-A'!E582, Veriler!D:E, 2, 0)=0, \"\", VLOOKUP('Ek.3-A'!E582, Veriler!D:E, 2, 0)))","v":""},{"$f":"IF('Ek.3-A'!O582=\"\", \"\", 'Ek.3-A'!O582)","v":""},{"$f":"'Ek.3-A'!R582","v":0},{"$f":"'Ek.3-A'!K582","v":""},{"$f":"'Ek.3-A'!L582","v":""},{"v":0,"d":"%0.00"},"H",{"$f":"IF(O582=\"E\",SUM($N$5:N582),0)","v":{"v":0,"d":"%0.00"}},0]
[{"v":6.83000000000001,"d":"6.83"},"YERLİ KATKI ORANI RAPORU",null,870850350019,0.6,null,219,{"$f":"IF(TRIM('Ek.3-A'!E583)<>\"\",\"var\",\"yok\")","v":"yok"},{"$f":"IF('Ek.3-A'!E583=\"\", \"\", IF(VLOOKUP('Ek.3-A'!E583, Veriler!D:E, 2, 0)=0, \"\", VLOOKUP('Ek.3-A'!E583, Veriler!D:E, 2, 0)))","v":""},{"$f":"IF('Ek.3-A'!O583=\"\", \"\", 'Ek.3-A'!O583)","v":""},{"$f":"'Ek.3-A'!R583","v":0},{"$f":"'Ek.3-A'!K583","v":""},{"$f":"'Ek.3-A'!L583","v":""},{"v":0,"d":"%0.00"},"H",{"$f":"IF(O583=\"E\",SUM($N$5:N583),0)","v":{"v":0,"d":"%0.00"}},0]
[{"v":6.84000000000001,"d":"6.84"},"YERLİ KATKI ORANI RAPORU",null,870880990000,0.6,null,220,{"$f":"IF(TRIM('Ek.3-A'!E584)<>\"\",\"var\",\"yok\")","v":"yok"},{"$f":"IF('Ek.3-A'!E584=\"\", \"\", IF(VLOOKUP('Ek.3-A'!E584, Veriler!D:E, 2, 0)=0, \"\", VLOOKUP('Ek.3-A'!E584, Veriler!D:E, 2, 0)))","v":""},{"$f":"IF('Ek.3-A'!O584=\"\", \"\", 'Ek.3-A'!O584)","v":""},{"$f":"'Ek.3-A'!R584","v":0},{"$f":"'Ek.3-A'!K584","v":""},{"$f":"'Ek.3-A'!L584","v":""},{"v":0,"d":"%0.00"},"H",{"$f":"IF(O584=\"E\",SUM($N$5:N584),0)","v":{"v":0,"d":"%0.00"}},0]
[{"v":6.85000000000001,"d":"6.85"},"YERLİ KATKI ORANI RAPORU",null,870870990012,0.6,null,221,{"$f":"IF(TRIM('Ek.3-A'!E585)<>\"\",\"var\",\"yok\")","v":"yok"},{"$f":"IF('Ek.3-A'!E585=\"\", \"\", IF(VLOOKUP('Ek.3-A'!E585, Veriler!D:E, 2, 0)=0, \"\", VLOOKUP('Ek.3-A'!E585, Veriler!D:E, 2, 0)))","v":""},{"$f":"IF('Ek.3-A'!O585=\"\", \"\", 'Ek.3-A'!O585)","v":""},{"$f":"'Ek.3-A'!R585","v":0},{"$f":"'Ek.3-A'!K585","v":""},{"$f":"'Ek.3-A'!L585","v":""},{"v":0,"d":"%0.00"},"H",{"$f":"IF(O585=\"E\",SUM($N$5:N585),0)","v":{"v":0,"d":"%0.00"}},0]
[6.86,"YERLİ KATKI ORANI RAPORU",null,870894350012,0.6,null,222,{"$f":"IF(TRIM('Ek.3-A'!E586)<>\"\",\"var\",\"yok\")","v":"yok"},{"$f":"IF('Ek.3-A'!E586=\"\", \"\", IF(VLOOKUP('Ek.3-A'!E586, Veriler!D:E, 2, 0)=0, \"\", VLOOKUP('Ek.3-A'!E586, Veriler!D:E, 2, 0)))","v":""},{"$f":"IF('Ek.3-A'!O586=\"\", \"\", 'Ek.3-A'!O586)","v":""},{"$f":"'Ek.3-A'!R586","v":0},{"$f":"'Ek.3-A'!K586","v":""},{"$f":"'Ek.3-A'!L586","v":""},{"v":0,"d":"%0.00"},"H",{"$f":"IF(O586=\"E\",SUM($N$5:N586),0)","v":{"v":0,"d":"%0.00"}},0]
[6.87,"YERLİ KATKI ORANI RAPORU",null,870894350011,0.6,null,223,{"$f":"IF(TRIM('Ek.3-A'!E587)<>\"\",\"var\",\"yok\")","v":"yok"},{"$f":"IF('Ek.3-A'!E587=\"\", \"\", IF(VLOOKUP('Ek.3-A'!E587, Veriler!D:E, 2, 0)=0, \"\", VLOOKUP('Ek.3-A'!E587, Veriler!D:E, 2, 0)))","v":""},{"$f":"IF('Ek.3-A'!O587=\"\", \"\", 'Ek.3-A'!O587)","v":""},{"$f":"'Ek.3-A'!R587","v":0},{"$f":"'Ek.3-A'!K587","v":""},{"$f":"'Ek.3-A'!L587","v":""},{"v":0,"d":"%0.00"},"H",{"$f":"IF(O587=\"E\",SUM($N$5:N587),0)","v":{"v":0,"d":"%0.00"}},0]
[{"v":6.88000000000001,"d":"6.88"},"YERLİ KATKI ORANI RAPORU",null,870821900000,0.6,null,224,{"$f":"IF(TRIM('Ek.3-A'!E588)<>\"\",\"var\",\"yok\")","v":"yok"},{"$f":"IF('Ek.3-A'!E588=\"\", \"\", IF(VLOOKUP('Ek.3-A'!E588, Veriler!D:E, 2, 0)=0, \"\", VLOOKUP('Ek.3-A'!E588, Veriler!D:E, 2, 0)))","v":""},{"$f":"IF('Ek.3-A'!O588=\"\", \"\", 'Ek.3-A'!O588)","v":""},{"$f":"'Ek.3-A'!R588","v":0},{"$f":"'Ek.3-A'!K588","v":""},{"$f":"'Ek.3-A'!L588","v":""},{"v":0,"d":"%0.00"},"H",{"$f":"IF(O588=\"E\",SUM($N$5:N588),0)","v":{"v":0,"d":"%0.00"}},0]
[{"v":6.89000000000001,"d":"6.89"},"YERLİ KATKI ORANI RAPORU",null,870894350016,0.6,{"$nulls":3},""]
[{"v":6.90000000000001,"d":"6.90"},"YERLİ KATKI ORANI RAPORU",null,870895910000,0.6,null,{"$f":"G565+1","v":211},{"$f":"IF(TRIM('Ek.3-A'!E590)<>\"\",\"var\",\"yok\")","v":"yok"},{"$f":"IF('Ek.3-A'!E590=\"\", \"\", IF(VLOOKUP('Ek.3-A'!E590, Veriler!D:E, 2, 0)=0, \"\", VLOOKUP('Ek.3-A'!E590, Veriler!D:E, 2, 0)))","v":""},{"$f":"IF('Ek.3-A'!O590=\"\", \"\", 'Ek.3-A'!O590)","v":""},{"$f":"'Ek.3-A'!R590","v":0},{"$f":"'Ek.3-A'!K590","v":""},{"$f":"'Ek.3-A'!L590","v":""},{"$f":"IF(H590=\"var\",0,IF(M590<=0.005,M590,0))","v":{"v":0,"d":"%0.00"}},{"$f":"IF(M590<=0.005,\"E\",\"H\")","v":"H"},{"$f":"IF(O590=\"E\",SUM($N$5:N590),0)","v":{"v":0,"d":"%0.00"}},{"$f":"IF(P590<=0.1, K590, IF(N590>$F$2, N590*K590, $F$2*K590))","v":0}]
[{"v":6.91000000000001,"d":"6.91"},"YERLİ KATKI ORANI RAPORU",null,870891350000,0.6,null,{"$f":"G590+1","v":212},{"$f":"IF(TRIM('Ek.3-A'!E591)<>\"\",\"var\",\"yok\")","v":"yok"},{"$f":"IF('Ek.3-A'!E591=\"\", \"\", IF(VLOOKUP('Ek.3-A'!E591, Veriler!D:E, 2, 0)=0, \"\", VLOOKUP('Ek.3-A'!E591, Veriler!D:E, 2, 0)))","v":""},{"$f":"IF('Ek.3-A'!O591=\"\", \"\", 'Ek.3-A'!O591)","v":""},{"$f":"'Ek.3-A'!R591","v":0},{"$f":"'Ek.3-A'!K591","v":""},{"$f":"'Ek.3-A'!L591","v":""},{"$f":"IF(H591=\"var\",0,IF(M591<=0.005,M591,0))","v":{"v":0,"d":"%0.00"}},{"$f":"IF(M591<=0.005,\"E\",\"H\")","v":"H"},{"$f":"IF(O591=\"E\",SUM($N$5:N591),0)","v":{"v":0,"d":"%0.00"}},{"$f":"IF(P591<=0.1, K591, IF(N591>$F$2, N591*K591, $F$2*K591))","v":0}]
[{"v":6.92000000000001,"d":"6.92"},"YERLİ KATKI ORANI RAPORU",null,870850350014,0.6,null,{"$f":"G591+1","v":213},{"$f":"IF(TRIM('Ek.3-A'!E592)<>\"\",\"var\",\"yok\")","v":"yok"},{"$f":"IF('Ek.3-A'!E592=\"\", \"\", IF(VLOOKUP('Ek.3-A'!E592, Veriler!D:E, 2, 0)=0, \"\", VLOOKUP('Ek.3-A'!E592, Veriler!D:E, 2, 0)))","v":""},{"$f":"IF('Ek.3-A'!O592=\"\", \"\", 'Ek.3-A'!O592)","v":""},{"$f":"'Ek.3-A'!R592","v":0},{"$f":"'Ek.3-A'!K592","v":""},{"$f":"'Ek.3-A'!L592","v":""},{"v":0,"d":"%0.00"},"H",{"$f":"IF(O592=\"E\",SUM($N$5:N592),0)","v":{"v":0,"d":"%0.00"}},0]
[{"v":6.93000000000001,"d":"6.93"},"YERLİ KATKI ORANI RAPORU",null,870829909000,0.6,null,214,{"$f":"IF(TRIM('Ek.3-A'!E593)<>\"\",\"var\",\"yok\")","v":"yok"},{"$f":"IF('Ek.3-A'!E593=\"\", \"\", IF(VLOOKUP('Ek.3-A'!E593, Veriler!D:E, 2, 0)=0, \"\", VLOOKUP('Ek.3-A'!E593, Veriler!D:E, 2, 0)))","v":""},{"$f":"IF('Ek.3-A'!O593=\"\", \"\", 'Ek.3-A'!O593)","v":""},{"$f":"'Ek.3-A'!R593","v":0},{"$f":"'Ek.3-A'!K593","v":""},{"$f":"'Ek.3-A'!L593","v":""},{"v":0,"d":"%0.00"},"H",{"$f":"IF(O593=\"E\",SUM($N$5:N593),0)","v":{"v":0,"d":"%0.00"}},0]
[{"v":6.94000000000001,"d":"6.94"},"YERLİ KATKI ORANI RAPORU",null,870894990019,0.6,null,215,{"$f":"IF(TRIM('Ek.3-A'!E594)<>\"\",\"var\",\"yok\")","v":"yok"},{"$f":"IF('Ek.3-A'!E594=\"\", \"\", IF(VLOOKUP('Ek.3-A'!E594, Veriler!D:E, 2, 0)=0, \"\", VLOOKUP('Ek.3-A'!E594, Veriler!D:E, 2, 0)))","v":""},{"$f":"IF('Ek.3-A'!O594=\"\", \"\", 'Ek.3-A'!O594)","v":""},{"$f":"'Ek.3-A'!R594","v":0},{"$f":"'Ek.3-A'!K594","v":""},{"$f":"'Ek.3-A'!L594","v":""},{"v":0,"d":"%0.00"},"H",{"$f":"IF(O594=\"E\",SUM($N$5:N594),0)","v":{"v":0,"d":"%0.00"}},0]
[6.95,"YERLİ KATKI ORANI RAPORU",null,870830990019,0.6,null,216,{"$f":"IF(TRIM('Ek.3-A'!E595)<>\"\",\"var\",\"yok\")","v":"yok"},{"$f":"IF('Ek.3-A'!E595=\"\", \"\", IF(VLOOKUP('Ek.3-A'!E595, Veriler!D:E, 2, 0)=0, \"\", VLOOKUP('Ek.3-A'!E595, Veriler!D:E, 2, 0)))","v":""},{"$f":"IF('Ek.3-A'!O595=\"\", \"\", 'Ek.3-A'!O595)","v":""},{"$f":"'Ek.3-A'!R595","v":0},{"$f":"'Ek.3-A'!K595","v":""},{"$f":"'Ek.3-A'!L595","v":""},{"v":0,"d":"%0.00"},"H",{"$f":"IF(O595=\"E\",SUM($N$5:N595),0)","v":{"v":0,"d":"%0.00"}},0]
[{"v":6.96000000000001,"d":"6.96"},"YERLİ KATKI ORANI RAPORU",null,870830910019,0.6,null,217,{"$f":"IF(TRIM('Ek.3-A'!E596)<>\"\",\"var\",\"yok\")","v":"yok"},{"$f":"IF('Ek.3-A'!E596=\"\", \"\", IF(VLOOKUP('Ek.3-A'!E596, Veriler!D:E, 2, 0)=0, \"\", VLOOKUP('Ek.3-A'!E596, Veriler!D:E, 2, 0)))","v":""},{"$f":"IF('Ek.3-A'!O596=\"\", \"\", 'Ek.3-A'!O596)","v":""},{"$f":"'Ek.3-A'!R596","v":0},{"$f":"'Ek.3-A'!K596","v":""},{"$f":"'Ek.3-A'!L596","v":""},{"v":0,"d":"%0.00"},"H",{"$f":"IF(O596=\"E\",SUM($N$5:N596),0)","v":{"v":0,"d":"%0.00"}},0]
[{"v":6.97000000000001,"d":"6.97"},"YERLİ KATKI ORANI RAPORU",null,870790900000,0.6,null,218,{"$f":"IF(TRIM('Ek.3-A'!E597)<>\"\",\"var\",\"yok\")","v":"yok"},{"$f":"IF('Ek.3-A'!E597=\"\", \"\", IF(VLOOKUP('Ek.3-A'!E597, Veriler!D:E, 2, 0)=0, \"\", VLOOKUP('Ek.3-A'!E597, Veriler!D:E, 2, 0)))","v":""},{"$f":"IF('Ek.3-A'!O597=\"\", \"\", 'Ek.3-A'!O597)","v":""},{"$f":"'Ek.3-A'!R597","v":0},{"$f":"'Ek.3-A'!K597","v":""},{"$f":"'Ek.3-A'!L597","v":""},{"v":0,"d":"%0.00"},"H",{"$f":"IF(O597=\"E\",SUM($N$5:N597),0)","v":{"v":0,"d":"%0.00"}},0]
[{"v":6.98000000000001,"d":"6.98"},"YERLİ KATKI ORANI RAPORU",null,870810909019,0.6,null,219,{"$f":"IF(TRIM('Ek.3-A'!E598)<>\"\",\"var\",\"yok\")","v":"yok"},{"$f":"IF('Ek.3-A'!E598=\"\", \"\", IF(VLOOKUP('Ek.3-A'!E598, Veriler!D:E, 2, 0)=0, \"\", VLOOKUP('Ek.3-A'!E598, Veriler!D:E, 2, 0)))","v":""},{"$f":"IF('Ek.3-A'!O598=\"\", \"\", 'Ek.3-A'!O598)","v":""},{"$f":"'Ek.3-A'!R598","v":0},{"$f":"'Ek.3-A'!K598","v":""},{"$f":"'Ek.3-A'!L598","v":""},{"v":0,"d":"%0.00"},"H",{"$f":"IF(O598=\"E\",SUM($N$5:N598),0)","v":{"v":0,"d":"%0.00"}},0]
[{"v":6.99000000000001,"d":"6.99"},"YERLİ KATKI ORANI RAPORU",null,870899979929,0.6,null,220,{"$f":"IF(TRIM('Ek.3-A'!E599)<>\"\",\"var\",\"yok\")","v":"yok"},{"$f":"IF('Ek.3-A'!E599=\"\", \"\", IF(VLOOKUP('Ek.3-A'!E599, Veriler!D:E, 2, 0)=0, \"\", VLOOKUP('Ek.3-A'!E599, Veriler!D:E, 2, 0)))","v":""},{"$f":"IF('Ek.3-A'!O599=\"\", \"\", 'Ek.3-A'!O599)","v":""},{"$f":"'Ek.3-A'!R599","v":0},{"$f":"'Ek.3-A'!K599","v":""},{"$f":"'Ek.3-A'!L599","v":""},{"v":0,"d":"%0.00"},"H",{"$f":"IF(O599=\"E\",SUM($N$5:N599),0)","v":{"v":0,"d":"%0.00"}},0]
[{"v":7.00000000000001,"d":"7.00"},"YERLİ KATKI ORANI RAPORU",null,870600110000,0.6,null,221,{"$f":"IF(TRIM('Ek.3-A'!E600)<>\"\",\"var\",\"yok\")","v":"yok"},{"$f":"IF('Ek.3-A'!E600=\"\", \"\", IF(VLOOKUP('Ek.3-A'!E600, Veriler!D:E, 2, 0)=0, \"\", VLOOKUP('Ek.3-A'!E600, Veriler!D:E, 2, 0)))","v":""},{"$f":"IF('Ek.3-A'!O600=\"\", \"\", 'Ek.3-A'!O600)","v":""},{"$f":"'Ek.3-A'!R600","v":0},{"$f":"'Ek.3-A'!K600","v":""},{"$f":"'Ek.3-A'!L600","v":""},{"v":0,"d":"%0.00"},"H",{"$f":"IF(O600=\"E\",SUM($N$5:N600),0)","v":{"v":0,"d":"%0.00"}},0]
[{"v":7.01000000000001,"d":"7.01"},"YERLİ KATKI ORANI RAPORU",null,870600990000,0.6,null,222,{"$f":"IF(TRIM('Ek.3-A'!E601)<>\"\",\"var\",\"yok\")","v":"yok"},{"$f":"IF('Ek.3-A'!E601=\"\", \"\", IF(VLOOKUP('Ek.3-A'!E601, Veriler!D:E, 2, 0)=0, \"\", VLOOKUP('Ek.3-A'!E601, Veriler!D:E, 2, 0)))","v":""},{"$f":"IF('Ek.3-A'!O601=\"\", \"\", 'Ek.3-A'!O601)","v":""},{"$f":"'Ek.3-A'!R601","v":0},{"$f":"'Ek.3-A'!K601","v":""},{"$f":"'Ek.3-A'!L601","v":""},{"v":0,"d":"%0.00"},"H",{"$f":"IF(O601=\"E\",SUM($N$5:N601),0)","v":{"v":0,"d":"%0.00"}},0]
[{"v":7.02000000000001,"d":"7.02"},"YERLİ KATKI ORANI RAPORU",null,870600190000,0.6,null,223,{"$f":"IF(TRIM('Ek.3-A'!E602)<>\"\",\"var\",\"yok\")","v":"yok"},{"$f":"IF('Ek.3-A'!E602=\"\", \"\", IF(VLOOKUP('Ek.3-A'!E602, Veriler!D:E, 2, 0)=0, \"\", VLOOKUP('Ek.3-A'!E602, Veriler!D:E, 2, 0)))","v":""},{"$f":"IF('Ek.3-A'!O602=\"\", \"\", 'Ek.3-A'!O602)","v":""},{"$f":"'Ek.3-A'!R602","v":0},{"$f":"'Ek.3-A'!K602","v":""},{"$f":"'Ek.3-A'!L602","v":""},{"v":0,"d":"%0.00"},"H",{"$f":"IF(O602=\"E\",SUM($N$5:N602),0)","v":{"v":0,"d":"%0.00"}},0]
[7.03,"YERLİ KATKI ORANI RAPORU",null,870600910000,0.6,null,224,{"$f":"IF(TRIM('Ek.3-A'!E603)<>\"\",\"var\",\"yok\")","v":"yok"},{"$f":"IF('Ek.3-A'!E603=\"\", \"\", IF(VLOOKUP('Ek.3-A'!E603, Veriler!D:E, 2, 0)=0, \"\", VLOOKUP('Ek.3-A'!E603, Veriler!D:E, 2, 0)))","v":""},{"$f":"IF('Ek.3-A'!O603=\"\", \"\", 'Ek.3-A'!O603)","v":""},{"$f":"'Ek.3-A'!R603","v":0},{"$f":"'Ek.3-A'!K603","v":""},{"$f":"'Ek.3-A'!L603","v":""},{"v":0,"d":"%0.00"},"H",{"$f":"IF(O603=\"E\",SUM($N$5:N603),0)","v":{"v":0,"d":"%0.00"}},0]
[{"v":7.04000000000001,"d":"7.04"},"YERLİ KATKI ORANI RAPORU",null,880790900000,0.6]
[{"v":7.05000000000001,"d":"7.05"},"YERLİ KATKI ORANI RAPORU",null,903300900000,0.6]
[{"v":7.06000000000001,"d":"7.06"},"YERLİ KATKI ORANI RAPORU",null,901090800000,0.6]
[{"v":7.07000000000001,"d":"7.07"},"YERLİ KATKI ORANI RAPORU",null,960899000000,0.6]
[{"v":7.08000000000001,"d":"7.08"},"YERLİ KATKI ORANI RAPORU",null,530500003019,0.6]
[{"v":7.09000000000001,"d":"7.09"},"YERLİ KATKI ORANI RAPORU",null,850162009100,0.6]
[{"v":7.10000000000001,"d":"7.10"},"YERLİ KATKI ORANI RAPORU",null,850162009200,0.6]
[7.11,"YERLİ KATKI ORANI RAPORU",null,830820000000,0.6]
[{"v":7.12000000000001,"d":"7.12"},"YERLİ KATKI ORANI RAPORU",null,830140190019,0.6]
[{"v":7.13000000000001,"d":"7.13"},"YERLİ KATKI ORANI RAPORU",null,830140900000,0.6,null,{"$f":"G588+1","v":225},{"$f":"IF(TRIM('Ek.3-A'!E613)<>\"\",\"var\",\"yok\")","v":"yok"},{"$f":"IF('Ek.3-A'!E613=\"\", \"\", IF(VLOOKUP('Ek.3-A'!E613, Veriler!D:E, 2, 0)=0, \"\", VLOOKUP('Ek.3-A'!E613, Veriler!D:E, 2, 0)))","v":""},{"$f":"IF('Ek.3-A'!O613=\"\", \"\", 'Ek.3-A'!O613)","v":""},{"$f":"'Ek.3-A'!R613","v":0},{"$f":"'Ek.3-A'!K613","v":""},{"$f":"'Ek.3-A'!L613","v":""},{"$f":"IF(H613=\"var\",0,IF(M613<=0.005,M613,0))","v":{"v":0,"d":"%0.00"}},{"$f":"IF(M613<=0.005,\"E\",\"H\")","v":"H"},{"$f":"IF(O613=\"E\",SUM($N$5:N613),0)","v":{"v":0,"d":"%0.00"}},{"$f":"IF(P613<=0.1, K613, IF(N613>$F$2, N613*K613, $F$2*K613))","v":0}]
[{"v":7.14000000000001,"d":"7.14"},"YERLİ KATKI ORANI RAPORU",null,820299800000,0.6,null,{"$f":"G613+1","v":226},{"$f":"IF(TRIM('Ek.3-A'!E614)<>\"\",\"var\",\"yok\")","v":"yok"},{"$f":"IF('Ek.3-A'!E614=\"\", \"\", IF(VLOOKUP('Ek.3-A'!E614, Veriler!D:E, 2, 0)=0, \"\", VLOOKUP('Ek.3-A'!E614, Veriler!D:E, 2, 0)))","v":""},{"$f":"IF('Ek.3-A'!O614=\"\", \"\", 'Ek.3-A'!O614)","v":""},{"$f":"'Ek.3-A'!R614","v":0},{"$f":"'Ek.3-A'!K614","v":""},{"$f":"'Ek.3-A'!L614","v":""},{"$f":"IF(H614=\"var\",0,IF(M614<=0.005,M614,0))","v":{"v":0,"d":"%0.00"}},{"$f":"IF(M614<=0.005,\"E\",\"H\")","v":"H"},{"$f":"IF(O614=\"E\",SUM($N$5:N614),0)","v":{"v":0,"d":"%0.00"}},{"$f":"IF(P614<=0.1, K614, IF(N614>$F$2, N614*K614, $F$2*K614))","v":0}]
[{"v":7.15000000000001,"d":"7.15"},"YERLİ KATKI ORANI RAPORU",null,830910000000,0.6,null,{"$f":"G614+1","v":227},{"$f":"IF(TRIM('Ek.3-A'!E615)<>\"\",\"var\",\"yok\")","v":"yok"},{"$f":"IF('Ek.3-A'!E615=\"\", \"\", IF(VLOOKUP('Ek.3-A'!E615, Veriler!D:E, 2, 0)=0, \"\", VLOOKUP('Ek.3-A'!E615, Veriler!D:E, 2, 0)))","v":""},{"$f":"IF('Ek.3-A'!O615=\"\", \"\", 'Ek.3-A'!O615)","v":""},{"$f":"'Ek.3-A'!R615","v":0},{"$f":"'Ek.3-A'!K615","v":""},{"$f":"'Ek.3-A'!L615","v":""},{"v":0,"d":"%0.00"},"H",{"$f":"IF(O615=\"E\",SUM($N$5:N615),0)","v":{"v":0,"d":"%0.00"}},0]
[{"v":7.16000000000001,"d":"7.16"},"YERLİ KATKI ORANI RAPORU",null,830220000000,0.6,null,{"$f":"G615+1","v":228},{"$f":"IF(TRIM('Ek.3-A'!E616)<>\"\",\"var\",\"yok\")","v":"yok"},{"$f":"IF('Ek.3-A'!E616=\"\", \"\", IF(VLOOKUP('Ek.3-A'!E616, Veriler!D:E, 2, 0)=0, \"\", VLOOKUP('Ek.3-A'!E616, Veriler!D:E, 2, 0)))","v":""},{"$f":"IF('Ek.3-A'!O616=\"\", \"\", 'Ek.3-A'!O616)","v":""},{"$f":"'Ek.3-A'!R616","v":0},{"$f":"'Ek.3-A'!K616","v":""},{"$f":"'Ek.3-A'!L616","v":""},{"v":0,"d":"%0.00"},"H",{"$f":"IF(O616=\"E\",SUM($N$5:N616),0)","v":{"v":0,"d":"%0.00"}},0]
[{"v":7.17000000000001,"d":"7.17"},"YERLİ KATKI ORANI RAPORU",null,830160000019,0.6,null,229,{"$f":"IF(TRIM('Ek.3-A'!E617)<>\"\",\"var\",\"yok\")","v":"yok"},{"$f":"IF('Ek.3-A'!E617=\"\", \"\", IF(VLOOKUP('Ek.3-A'!E617, Veriler!D:E, 2, 0)=0, \"\", VLOOKUP('Ek.3-A'!E617, Veriler!D:E, 2, 0)))","v":""},{"$f":"IF('Ek.3-A'!O617=\"\", \"\", 'Ek.3-A'!O617)","v":""},{"$f":"'Ek.3-A'!R617","v":0},{"$f":"'Ek.3-A'!K617","v":""},{"$f":"'Ek.3-A'!L617","v":""},{"v":0,"d":"%0.00"},"H",{"$f":"IF(O617=\"E\",SUM($N$5:N617),0)","v":{"v":0,"d":"%0.00"}},0]
[{"v":7.18000000000001,"d":"7.18"},"YERLİ KATKI ORANI RAPORU",null,830260000000,0.6,null,230,{"$f":"IF(TRIM('Ek.3-A'!E618)<>\"\",\"var\",\"yok\")","v":"yok"},{"$f":"IF('Ek.3-A'!E618=\"\", \"\", IF(VLOOKUP('Ek.3-A'!E618, Veriler!D:E, 2, 0)=0, \"\", VLOOKUP('Ek.3-A'!E618, Veriler!D:E, 2, 0)))","v":""},{"$f":"IF('Ek.3-A'!O618=\"\", \"\", 'Ek.3-A'!O618)","v":""},{"$f":"'Ek.3-A'!R618","v":0},{"$f":"'Ek.3-A'!K618","v":""},{"$f":"'Ek.3-A'!L618","v":""},{"v":0,"d":"%0.00"},"H",{"$f":"IF(O618=\"E\",SUM($N$5:N618),0)","v":{"v":0,"d":"%0.00"}},0]
[{"v":7.19000000000001,"d":"7.19"},"YERLİ KATKI ORANI RAPORU",null,820240000000,0.6,null,231,{"$f":"IF(TRIM('Ek.3-A'!E619)<>\"\",\"var\",\"yok\")","v":"yok"},{"$f":"IF('Ek.3-A'!E619=\"\", \"\", IF(VLOOKUP('Ek.3-A'!E619, Veriler!D:E, 2, 0)=0, \"\", VLOOKUP('Ek.3-A'!E619, Veriler!D:E, 2, 0)))","v":""},{"$f":"IF('Ek.3-A'!O619=\"\", \"\", 'Ek.3-A'!O619)","v":""},{"$f":"'Ek.3-A'!R619","v":0},{"$f":"'Ek.3-A'!K619","v":""},{"$f":"'Ek.3-A'!L619","v":""},{"v":0,"d":"%0.00"},"H",{"$f":"IF(O619=\"E\",SUM($N$5:N619),0)","v":{"v":0,"d":"%0.00"}},0]
[{"v":7.20000000000001,"d":"7.20"},"YERLİ KATKI ORANI RAPORU",null,291712000021,0.6,null,232,{"$f":"IF(TRIM('Ek.3-A'!E620)<>\"\",\"var\",\"yok\")","v":"yok"},{"$f":"IF('Ek.3-A'!E620=\"\", \"\", IF(VLOOKUP('Ek.3-A'!E620, Veriler!D:E, 2, 0)=0, \"\", VLOOKUP('Ek.3-A'!E620, Veriler!D:E, 2, 0)))","v":""},{"$f":"IF('Ek.3-A'!O620=\"\", \"\", 'Ek.3-A'!O620)","v":""},{"$f":"'Ek.3-A'!R620","v":0},{"$f":"'Ek.3-A'!K620","v":""},{"$f":"'Ek.3-A'!L620","v":""},{"v":0,"d":"%0.00"},"H",{"$f":"IF(O620=\"E\",SUM($N$5:N620),0)","v":{"v":0,"d":"%0.00"}},0]
[{"v":7.21000000000001,"d":"7.21"},"YERLİ KATKI ORANI RAPORU",null,291712000012,0.6,null,233,{"$f":"IF(TRIM('Ek.3-A'!E621)<>\"\",\"var\",\"yok\")","v":"yok"},{"$f":"IF('Ek.3-A'!E621=\"\", \"\", IF(VLOOKUP('Ek.3-A'!E621, Veriler!D:E, 2, 0)=0, \"\", VLOOKUP('Ek.3-A'!E621, Veriler!D:E, 2, 0)))","v":""},{"$f":"IF('Ek.3-A'!O621=\"\", \"\", 'Ek.3-A'!O621)","v":""},{"$f":"'Ek.3-A'!R621","v":0},{"$f":"'Ek.3-A'!K621","v":""},{"$f":"'Ek.3-A'!L621","v":""},{"v":0,"d":"%0.00"},"H",{"$f":"IF(O621=\"E\",SUM($N$5:N621),0)","v":{"v":0,"d":"%0.00"}},0]
[{"v":7.22000000000001,"d":"7.22"},"YERLİ KATKI ORANI RAPORU",null,293729000011,0.6,null,234,{"$f":"IF(TRIM('Ek.3-A'!E622)<>\"\",\"var\",\"yok\")","v":"yok"},{"$f":"IF('Ek.3-A'!E622=\"\", \"\", IF(VLOOKUP('Ek.3-A'!E622, Veriler!D:E, 2, 0)=0, \"\", VLOOKUP('Ek.3-A'!E622, Veriler!D:E, 2, 0)))","v":""},{"$f":"IF('Ek.3-A'!O622=\"\", \"\", 'Ek.3-A'!O622)","v":""},{"$f":"'Ek.3-A'!R622","v":0},{"$f":"'Ek.3-A'!K622","v":""},{"$f":"'Ek.3-A'!L622","v":""},{"v":0,"d":"%0.00"},"H",{"$f":"IF(O622=\"E\",SUM($N$5:N622),0)","v":{"v":0,"d":"%0.00"}},0]
[{"v":7.23000000000001,"d":"7.23"},"YERLİ KATKI ORANI RAPORU",null,130231001000,0.6,null,235,{"$f":"IF(TRIM('Ek.3-A'!E623)<>\"\",\"var\",\"yok\")","v":"yok"},{"$f":"IF('Ek.3-A'!E623=\"\", \"\", IF(VLOOKUP('Ek.3-A'!E623, Veriler!D:E, 2, 0)=0, \"\", VLOOKUP('Ek.3-A'!E623, Veriler!D:E, 2, 0)))","v":""},{"$f":"IF('Ek.3-A'!O623=\"\", \"\", 'Ek.3-A'!O623)","v":""},{"$f":"'Ek.3-A'!R623","v":0},{"$f":"'Ek.3-A'!K623","v":""},{"$f":"'Ek.3-A'!L623","v":""},{"v":0,"d":"%0.00"},"H",{"$f":"IF(O623=\"E\",SUM($N$5:N623),0)","v":{"v":0,"d":"%0.00"}},0]
[{"v":7.24000000000001,"d":"7.24"},"YERLİ KATKI ORANI RAPORU",null,130231009000,0.6,null,236,{"$f":"IF(TRIM('Ek.3-A'!E624)<>\"\",\"var\",\"yok\")","v":"yok"},{"$f":"IF('Ek.3-A'!E624=\"\", \"\", IF(VLOOKUP('Ek.3-A'!E624, Veriler!D:E, 2, 0)=0, \"\", VLOOKUP('Ek.3-A'!E624, Veriler!D:E, 2, 0)))","v":""},{"$f":"IF('Ek.3-A'!O624=\"\", \"\", 'Ek.3-A'!O624)","v":""},{"$f":"'Ek.3-A'!R624","v":0},{"$f":"'Ek.3-A'!K624","v":""},{"$f":"'Ek.3-A'!L624","v":""},{"v":0,"d":"%0.00"},"H",{"$f":"IF(O624=\"E\",SUM($N$5:N624),0)","v":{"v":0,"d":"%0.00"}},0]
[{"v":7.25000000000001,"d":"7.25"},"YERLİ KATKI ORANI RAPORU",null,850519100000,0.6,null,237,{"$f":"IF(TRIM('Ek.3-A'!E625)<>\"\",\"var\",\"yok\")","v":"yok"},{"$f":"IF('Ek.3-A'!E625=\"\", \"\", IF(VLOOKUP('Ek.3-A'!E625, Veriler!D:E, 2, 0)=0, \"\", VLOOKUP('Ek.3-A'!E625, Veriler!D:E, 2, 0)))","v":""},{"$f":"IF('Ek.3-A'!O625=\"\", \"\", 'Ek.3-A'!O625)","v":""},{"$f":"'Ek.3-A'!R625","v":0},{"$f":"'Ek.3-A'!K625","v":""},{"$f":"'Ek.3-A'!L625","v":""},{"v":0,"d":"%0.00"},"H",{"$f":"IF(O625=\"E\",SUM($N$5:N625),0)","v":{"v":0,"d":"%0.00"}},0]
[{"v":7.26000000000001,"d":"7.26"},"YERLİ KATKI ORANI RAPORU",null,681410000000,0.6,null,238,{"$f":"IF(TRIM('Ek.3-A'!E626)<>\"\",\"var\",\"yok\")","v":"yok"},{"$f":"IF('Ek.3-A'!E626=\"\", \"\", IF(VLOOKUP('Ek.3-A'!E626, Veriler!D:E, 2, 0)=0, \"\", VLOOKUP('Ek.3-A'!E626, Veriler!D:E, 2, 0)))","v":""},{"$f":"IF('Ek.3-A'!O626=\"\", \"\", 'Ek.3-A'!O626)","v":""},{"$f":"'Ek.3-A'!R626","v":0},{"$f":"'Ek.3-A'!K626","v":""},{"$f":"'Ek.3-A'!L626","v":""},{"v":0,"d":"%0.00"},"H",{"$f":"IF(O626=\"E\",SUM($N$5:N626),0)","v":{"v":0,"d":"%0.00"}},0]
[{"v":7.27000000000001,"d":"7.27"},"YERLİ KATKI ORANI RAPORU",null,450410910000,0.6,{"$nulls":3},""]
[{"v":7.28000000000001,"d":"7.28"},"YERLİ KATKI ORANI RAPORU",null,450410990019,0.6,null,{"$f":"G603+1","v":225},{"$f":"IF(TRIM('Ek.3-A'!E628)<>\"\",\"var\",\"yok\")","v":"yok"},{"$f":"IF('Ek.3-A'!E628=\"\", \"\", IF(VLOOKUP('Ek.3-A'!E628, Veriler!D:E, 2, 0)=0, \"\", VLOOKUP('Ek.3-A'!E628, Veriler!D:E, 2, 0)))","v":""},{"$f":"IF('Ek.3-A'!O628=\"\", \"\", 'Ek.3-A'!O628)","v":""},{"$f":"'Ek.3-A'!R628","v":0},{"$f":"'Ek.3-A'!K628","v":""},{"$f":"'Ek.3-A'!L628","v":""},{"$f":"IF(H628=\"var\",0,IF(M628<=0.005,M628,0))","v":{"v":0,"d":"%0.00"}},{"$f":"IF(M628<=0.005,\"E\",\"H\")","v":"H"},{"$f":"IF(O628=\"E\",SUM($N$5:N628),0)","v":{"v":0,"d":"%0.00"}},{"$f":"IF(P628<=0.1, K628, IF(N628>$F$2, N628*K628, $F$2*K628))","v":0}]
[{"v":7.29000000000001,"d":"7.29"},"YERLİ KATKI ORANI RAPORU",null,450410190000,0.6,null,{"$f":"G628+1","v":226},{"$f":"IF(TRIM('Ek.3-A'!E629)<>\"\",\"var\",\"yok\")","v":"yok"},{"$f":"IF('Ek.3-A'!E629=\"\", \"\", IF(VLOOKUP('Ek.3-A'!E629, Veriler!D:E, 2, 0)=0, \"\", VLOOKUP('Ek.3-A'!E629, Veriler!D:E, 2, 0)))","v":""},{"$f":"IF('Ek.3-A'!O629=\"\", \"\", 'Ek.3-A'!O629)","v":""},{"$f":"'Ek.3-A'!R629","v":0},{"$f":"'Ek.3-A'!K629","v":""},{"$f":"'Ek.3-A'!L629","v":""},{"$f":"IF(H629=\"var\",0,IF(M629<=0.005,M629,0))","v":{"v":0,"d":"%0.00"}},{"$f":"IF(M629<=0.005,\"E\",\"H\")","v":"H"},{"$f":"IF(O629=\"E\",SUM($N$5:N629),0)","v":{"v":0,"d":"%0.00"}},{"$f":"IF(P629<=0.1, K629, IF(N629>$F$2, N629*K629, $F$2*K629))","v":0}]
[{"v":7.30000000000001,"d":"7.30"},"YERLİ KATKI ORANI RAPORU",null,820820000000,0.6,null,{"$f":"G629+1","v":227},{"$f":"IF(TRIM('Ek.3-A'!E630)<>\"\",\"var\",\"yok\")","v":"yok"},{"$f":"IF('Ek.3-A'!E630=\"\", \"\", IF(VLOOKUP('Ek.3-A'!E630, Veriler!D:E, 2, 0)=0, \"\", VLOOKUP('Ek.3-A'!E630, Veriler!D:E, 2, 0)))","v":""},{"$f":"IF('Ek.3-A'!O630=\"\", \"\", 'Ek.3-A'!O630)","v":""},{"$f":"'Ek.3-A'!R630","v":0},{"$f":"'Ek.3-A'!K630","v":""},{"$f":"'Ek.3-A'!L630","v":""},{"v":0,"d":"%0.00"},"H",{"$f":"IF(O630=\"E\",SUM($N$5:N630),0)","v":{"v":0,"d":"%0.00"}},0]
[{"v":7.31000000000001,"d":"7.31"},"YERLİ KATKI ORANI RAPORU",null,380590909019,0.6,null,228,{"$f":"IF(TRIM('Ek.3-A'!E631)<>\"\",\"var\",\"yok\")","v":"yok"},{"$f":"IF('Ek.3-A'!E631=\"\", \"\", IF(VLOOKUP('Ek.3-A'!E631, Veriler!D:E, 2, 0)=0, \"\", VLOOKUP('Ek.3-A'!E631, Veriler!D:E, 2, 0)))","v":""},{"$f":"IF('Ek.3-A'!O631=\"\", \"\", 'Ek.3-A'!O631)","v":""},{"$f":"'Ek.3-A'!R631","v":0},{"$f":"'Ek.3-A'!K631","v":""},{"$f":"'Ek.3-A'!L631","v":""},{"v":0,"d":"%0.00"},"H",{"$f":"IF(O631=\"E\",SUM($N$5:N631),0)","v":{"v":0,"d":"%0.00"}},0]
[{"v":7.32000000000001,"d":"7.32"},"YERLİ KATKI ORANI RAPORU",null,441019009000,0.6,null,229,{"$f":"IF(TRIM('Ek.3-A'!E632)<>\"\",\"var\",\"yok\")","v":"yok"},{"$f":"IF('Ek.3-A'!E632=\"\", \"\", IF(VLOOKUP('Ek.3-A'!E632, Veriler!D:E, 2, 0)=0, \"\", VLOOKUP('Ek.3-A'!E632, Veriler!D:E, 2, 0)))","v":""},{"$f":"IF('Ek.3-A'!O632=\"\", \"\", 'Ek.3-A'!O632)","v":""},{"$f":"'Ek.3-A'!R632","v":0},{"$f":"'Ek.3-A'!K632","v":""},{"$f":"'Ek.3-A'!L632","v":""},{"v":0,"d":"%0.00"},"H",{"$f":"IF(O632=\"E\",SUM($N$5:N632),0)","v":{"v":0,"d":"%0.00"}},0]
[{"v":7.33000000000001,"d":"7.33"},"YERLİ KATKI ORANI RAPORU",null,441019001000,0.6,null,230,{"$f":"IF(TRIM('Ek.3-A'!E633)<>\"\",\"var\",\"yok\")","v":"yok"},{"$f":"IF('Ek.3-A'!E633=\"\", \"\", IF(VLOOKUP('Ek.3-A'!E633, Veriler!D:E, 2, 0)=0, \"\", VLOOKUP('Ek.3-A'!E633, Veriler!D:E, 2, 0)))","v":""},{"$f":"IF('Ek.3-A'!O633=\"\", \"\", 'Ek.3-A'!O633)","v":""},{"$f":"'Ek.3-A'!R633","v":0},{"$f":"'Ek.3-A'!K633","v":""},{"$f":"'Ek.3-A'!L633","v":""},{"v":0,"d":"%0.00"},"H",{"$f":"IF(O633=\"E\",SUM($N$5:N633),0)","v":{"v":0,"d":"%0.00"}},0]
[{"v":7.34000000000001,"d":"7.34"},"YERLİ KATKI ORANI RAPORU",null,441850000000,0.6,null,231,{"$f":"IF(TRIM('Ek.3-A'!E634)<>\"\",\"var\",\"yok\")","v":"yok"},{"$f":"IF('Ek.3-A'!E634=\"\", \"\", IF(VLOOKUP('Ek.3-A'!E634, Veriler!D:E, 2, 0)=0, \"\", VLOOKUP('Ek.3-A'!E634, Veriler!D:E, 2, 0)))","v":""},{"$f":"IF('Ek.3-A'!O634=\"\", \"\", 'Ek.3-A'!O634)","v":""},{"$f":"'Ek.3-A'!R634","v":0},{"$f":"'Ek.3-A'!K634","v":""},{"$f":"'Ek.3-A'!L634","v":""},{"v":0,"d":"%0.00"},"H",{"$f":"IF(O634=\"E\",SUM($N$5:N634),0)","v":{"v":0,"d":"%0.00"}},0]
[{"v":7.35000000000001,"d":"7.35"},"YERLİ KATKI ORANI RAPORU",null,441112100000,0.6,null,232,{"$f":"IF(TRIM('Ek.3-A'!E635)<>\"\",\"var\",\"yok\")","v":"yok"},{"$f":"IF('Ek.3-A'!E635=\"\", \"\", IF(VLOOKUP('Ek.3-A'!E635, Veriler!D:E, 2, 0)=0, \"\", VLOOKUP('Ek.3-A'!E635, Veriler!D:E, 2, 0)))","v":""},{"$f":"IF('Ek.3-A'!O635=\"\", \"\", 'Ek.3-A'!O635)","v":""},{"$f":"'Ek.3-A'!R635","v":0},{"$f":"'Ek.3-A'!K635","v":""},{"$f":"'Ek.3-A'!L635","v":""},{"v":0,"d":"%0.00"},"H",{"$f":"IF(O635=\"E\",SUM($N$5:N635),0)","v":{"v":0,"d":"%0.00"}},0]
[{"v":7.36000000000001,"d":"7.36"},"YERLİ KATKI ORANI RAPORU",null,441600009000,0.6,null,233,{"$f":"IF(TRIM('Ek.3-A'!E636)<>\"\",\"var\",\"yok\")","v":"yok"},{"$f":"IF('Ek.3-A'!E636=\"\", \"\", IF(VLOOKUP('Ek.3-A'!E636, Veriler!D:E, 2, 0)=0, \"\", VLOOKUP('Ek.3-A'!E636, Veriler!D:E, 2, 0)))","v":""},{"$f":"IF('Ek.3-A'!O636=\"\", \"\", 'Ek.3-A'!O636)","v":""},{"$f":"'Ek.3-A'!R636","v":0},{"$f":"'Ek.3-A'!K636","v":""},{"$f":"'Ek.3-A'!L636","v":""},{"v":0,"d":"%0.00"},"H",{"$f":"IF(O636=\"E\",SUM($N$5:N636),0)","v":{"v":0,"d":"%0.00"}},0]
[{"v":7.37000000000001,"d":"7.37"},"YERLİ KATKI ORANI RAPORU",null,441192900011,0.6,null,234,{"$f":"IF(TRIM('Ek.3-A'!E637)<>\"\",\"var\",\"yok\")","v":"yok"},{"$f":"IF('Ek.3-A'!E637=\"\", \"\", IF(VLOOKUP('Ek.3-A'!E637, Veriler!D:E, 2, 0)=0, \"\", VLOOKUP('Ek.3-A'!E637, Veriler!D:E, 2, 0)))","v":""},{"$f":"IF('Ek.3-A'!O637=\"\", \"\", 'Ek.3-A'!O637)","v":""},{"$f":"'Ek.3-A'!R637","v":0},{"$f":"'Ek.3-A'!K637","v":""},{"$f":"'Ek.3-A'!L637","v":""},{"v":0,"d":"%0.00"},"H",{"$f":"IF(O637=\"E\",SUM($N$5:N637),0)","v":{"v":0,"d":"%0.00"}},0]
[{"v":7.38000000000001,"d":"7.38"},"YERLİ KATKI ORANI RAPORU",null,441192100000,0.6,null,235,{"$f":"IF(TRIM('Ek.3-A'!E638)<>\"\",\"var\",\"yok\")","v":"yok"},{"$f":"IF('Ek.3-A'!E638=\"\", \"\", IF(VLOOKUP('Ek.3-A'!E638, Veriler!D:E, 2, 0)=0, \"\", VLOOKUP('Ek.3-A'!E638, Veriler!D:E, 2, 0)))","v":""},{"$f":"IF('Ek.3-A'!O638=\"\", \"\", 'Ek.3-A'!O638)","v":""},{"$f":"'Ek.3-A'!R638","v":0},{"$f":"'Ek.3-A'!K638","v":""},{"$f":"'Ek.3-A'!L638","v":""},{"v":0,"d":"%0.00"},"H",{"$f":"IF(O638=\"E\",SUM($N$5:N638),0)","v":{"v":0,"d":"%0.00"}},0]
[{"v":7.39000000000001,"d":"7.39"},"YERLİ KATKI ORANI RAPORU",null,441194900000,0.6,null,236,{"$f":"IF(TRIM('Ek.3-A'!E639)<>\"\",\"var\",\"yok\")","v":"yok"},{"$f":"IF('Ek.3-A'!E639=\"\", \"\", IF(VLOOKUP('Ek.3-A'!E639, Veriler!D:E, 2, 0)=0, \"\", VLOOKUP('Ek.3-A'!E639, Veriler!D:E, 2, 0)))","v":""},{"$f":"IF('Ek.3-A'!O639=\"\", \"\", 'Ek.3-A'!O639)","v":""},{"$f":"'Ek.3-A'!R639","v":0},{"$f":"'Ek.3-A'!K639","v":""},{"$f":"'Ek.3-A'!L639","v":""},{"v":0,"d":"%0.00"},"H",{"$f":"IF(O639=\"E\",SUM($N$5:N639),0)","v":{"v":0,"d":"%0.00"}},0]
[{"v":7.40000000000001,"d":"7.40"},"YERLİ KATKI ORANI RAPORU",null,441192900019,0.6,null,237,{"$f":"IF(TRIM('Ek.3-A'!E640)<>\"\",\"var\",\"yok\")","v":"yok"},{"$f":"IF('Ek.3-A'!E640=\"\", \"\", IF(VLOOKUP('Ek.3-A'!E640, Veriler!D:E, 2, 0)=0, \"\", VLOOKUP('Ek.3-A'!E640, Veriler!D:E, 2, 0)))","v":""},{"$f":"IF('Ek.3-A'!O640=\"\", \"\", 'Ek.3-A'!O640)","v":""},{"$f":"'Ek.3-A'!R640","v":0},{"$f":"'Ek.3-A'!K640","v":""},{"$f":"'Ek.3-A'!L640","v":""},{"v":0,"d":"%0.00"},"H",{"$f":"IF(O640=\"E\",SUM($N$5:N640),0)","v":{"v":0,"d":"%0.00"}},0]
[{"v":7.41000000000001,"d":"7.41"},"YERLİ KATKI ORANI RAPORU",null,441194100000,0.6,null,238,{"$f":"IF(TRIM('Ek.3-A'!E641)<>\"\",\"var\",\"yok\")","v":"yok"},{"$f":"IF('Ek.3-A'!E641=\"\", \"\", IF(VLOOKUP('Ek.3-A'!E641, Veriler!D:E, 2, 0)=0, \"\", VLOOKUP('Ek.3-A'!E641, Veriler!D:E, 2, 0)))","v":""},{"$f":"IF('Ek.3-A'!O641=\"\", \"\", 'Ek.3-A'!O641)","v":""},{"$f":"'Ek.3-A'!R641","v":0},{"$f":"'Ek.3-A'!K641","v":""},{"$f":"'Ek.3-A'!L641","v":""},{"v":0,"d":"%0.00"},"H",{"$f":"IF(O641=\"E\",SUM($N$5:N641),0)","v":{"v":0,"d":"%0.00"}},0]
[{"v":7.42000000000001,"d":"7.42"},"YERLİ KATKI ORANI RAPORU",null,380290009013,0.6]
[{"v":7.43000000000001,"d":"7.43"},"YERLİ KATKI ORANI RAPORU",null,381190001011,0.6]
[{"v":7.44000000000001,"d":"7.44"},"YERLİ KATKI ORANI RAPORU",null,284510000000,0.6]
[{"v":7.45000000000001,"d":"7.45"},"YERLİ KATKI ORANI RAPORU",null,841610100000,0.6]
[{"v":7.46000000000001,"d":"7.46"},"YERLİ KATKI ORANI RAPORU",null,841610900000,0.6]
[{"v":7.47000000000001,"d":"7.47"},"YERLİ KATKI ORANI RAPORU",null,710399000011,0.6]
[{"v":7.48000000000001,"d":"7.48"},"YERLİ KATKI ORANI RAPORU",null,293399809023,0.6]
[{"v":7.49000000000001,"d":"7.49"},"YERLİ KATKI ORANI RAPORU",null,390690300000,0.6]
[{"v":7.50000000000001,"d":"7.50"},"YERLİ KATKI ORANI RAPORU",null,291612000019,0.6]
[{"v":7.51000000000001,"d":"7.51"},"YERLİ KATKI ORANI RAPORU",null,291611002000,0.6,null,{"$f":"G626+1","v":239},{"$f":"IF(TRIM('Ek.3-A'!E651)<>\"\",\"var\",\"yok\")","v":"yok"},{"$f":"IF('Ek.3-A'!E651=\"\", \"\", IF(VLOOKUP('Ek.3-A'!E651, Veriler!D:E, 2, 0)=0, \"\", VLOOKUP('Ek.3-A'!E651, Veriler!D:E, 2, 0)))","v":""},{"$f":"IF('Ek.3-A'!O651=\"\", \"\", 'Ek.3-A'!O651)","v":""},{"$f":"'Ek.3-A'!R651","v":0},{"$f":"'Ek.3-A'!K651","v":""},{"$f":"'Ek.3-A'!L651","v":""},{"$f":"IF(H651=\"var\",0,IF(M651<=0.005,M651,0))","v":{"v":0,"d":"%0.00"}},{"$f":"IF(M651<=0.005,\"E\",\"H\")","v":"H"},{"$f":"IF(O651=\"E\",SUM($N$5:N651),0)","v":{"v":0,"d":"%0.00"}},{"$f":"IF(P651<=0.1, K651, IF(N651>$F$2, N651*K651, $F$2*K651))","v":0}]
[{"v":7.52000000000001,"d":"7.52"},"YERLİ KATKI ORANI RAPORU",null,550330000000,0.6,null,{"$f":"G651+1","v":240},{"$f":"IF(TRIM('Ek.3-A'!E652)<>\"\",\"var\",\"yok\")","v":"yok"},{"$f":"IF('Ek.3-A'!E652=\"\", \"\", IF(VLOOKUP('Ek.3-A'!E652, Veriler!D:E, 2, 0)=0, \"\", VLOOKUP('Ek.3-A'!E652, Veriler!D:E, 2, 0)))","v":""},{"$f":"IF('Ek.3-A'!O652=\"\", \"\", 'Ek.3-A'!O652)","v":""},{"$f":"'Ek.3-A'!R652","v":0},{"$f":"'Ek.3-A'!K652","v":""},{"$f":"'Ek.3-A'!L652","v":""},{"$f":"IF(H652=\"var\",0,IF(M652<=0.005,M652,0))","v":{"v":0,"d":"%0.00"}},{"$f":"IF(M652<=0.005,\"E\",\"H\")","v":"H"},{"$f":"IF(O652=\"E\",SUM($N$5:N652),0)","v":{"v":0,"d":"%0.00"}},{"$f":"IF(P652<=0.1, K652, IF(N652>$F$2, N652*K652, $F$2*K652))","v":0}]
[{"v":7.53000000000001,"d":"7.53"},"YERLİ KATKI ORANI RAPORU",null,550510500019,0.6,null,{"$f":"G652+1","v":241},{"$f":"IF(TRIM('Ek.3-A'!E653)<>\"\",\"var\",\"yok\")","v":"yok"},{"$f":"IF('Ek.3-A'!E653=\"\", \"\", IF(VLOOKUP('Ek.3-A'!E653, Veriler!D:E, 2, 0)=0, \"\", VLOOKUP('Ek.3-A'!E653, Veriler!D:E, 2, 0)))","v":""},{"$f":"IF('Ek.3-A'!O653=\"\", \"\", 'Ek.3-A'!O653)","v":""},{"$f":"'Ek.3-A'!R653","v":0},{"$f":"'Ek.3-A'!K653","v":""},{"$f":"'Ek.3-A'!L653","v":""},{"v":0,"d":"%0.00"},"H",{"$f":"IF(O653=\"E\",SUM($N$5:N653),0)","v":{"v":0,"d":"%0.00"}},0]
[{"v":7.54000000000001,"d":"7.54"},"YERLİ KATKI ORANI RAPORU",null,400259000000,0.6,null,{"$f":"G653+1","v":242},{"$f":"IF(TRIM('Ek.3-A'!E654)<>\"\",\"var\",\"yok\")","v":"yok"},{"$f":"IF('Ek.3-A'!E654=\"\", \"\", IF(VLOOKUP('Ek.3-A'!E654, Veriler!D:E, 2, 0)=0, \"\", VLOOKUP('Ek.3-A'!E654, Veriler!D:E, 2, 0)))","v":""},{"$f":"IF('Ek.3-A'!O654=\"\", \"\", 'Ek.3-A'!O654)","v":""},{"$f":"'Ek.3-A'!R654","v":0},{"$f":"'Ek.3-A'!K654","v":""},{"$f":"'Ek.3-A'!L654","v":""},{"v":0,"d":"%0.00"},"H",{"$f":"IF(O654=\"E\",SUM($N$5:N654),0)","v":{"v":0,"d":"%0.00"}},0]
[{"v":7.55000000000001,"d":"7.55"},"YERLİ KATKI ORANI RAPORU",null,390690400000,0.6,null,243,{"$f":"IF(TRIM('Ek.3-A'!E655)<>\"\",\"var\",\"yok\")","v":"yok"},{"$f":"IF('Ek.3-A'!E655=\"\", \"\", IF(VLOOKUP('Ek.3-A'!E655, Veriler!D:E, 2, 0)=0, \"\", VLOOKUP('Ek.3-A'!E655, Veriler!D:E, 2, 0)))","v":""},{"$f":"IF('Ek.3-A'!O655=\"\", \"\", 'Ek.3-A'!O655)","v":""},{"$f":"'Ek.3-A'!R655","v":0},{"$f":"'Ek.3-A'!K655","v":""},{"$f":"'Ek.3-A'!L655","v":""},{"v":0,"d":"%0.00"},"H",{"$f":"IF(O655=\"E\",SUM($N$5:N655),0)","v":{"v":0,"d":"%0.00"}},0]
[{"v":7.56000000000001,"d":"7.56"},"YERLİ KATKI ORANI RAPORU",null,380210000000,0.6,null,244,{"$f":"IF(TRIM('Ek.3-A'!E656)<>\"\",\"var\",\"yok\")","v":"yok"},{"$f":"IF('Ek.3-A'!E656=\"\", \"\", IF(VLOOKUP('Ek.3-A'!E656, Veriler!D:E, 2, 0)=0, \"\", VLOOKUP('Ek.3-A'!E656, Veriler!D:E, 2, 0)))","v":""},{"$f":"IF('Ek.3-A'!O656=\"\", \"\", 'Ek.3-A'!O656)","v":""},{"$f":"'Ek.3-A'!R656","v":0},{"$f":"'Ek.3-A'!K656","v":""},{"$f":"'Ek.3-A'!L656","v":""},{"v":0,"d":"%0.00"},"H",{"$f":"IF(O656=\"E\",SUM($N$5:N656),0)","v":{"v":0,"d":"%0.00"}},0]
[{"v":7.57000000000001,"d":"7.57"},"YERLİ KATKI ORANI RAPORU",null,380290009012,0.6,null,245,{"$f":"IF(TRIM('Ek.3-A'!E657)<>\"\",\"var\",\"yok\")","v":"yok"},{"$f":"IF('Ek.3-A'!E657=\"\", \"\", IF(VLOOKUP('Ek.3-A'!E657, Veriler!D:E, 2, 0)=0, \"\", VLOOKUP('Ek.3-A'!E657, Veriler!D:E, 2, 0)))","v":""},{"$f":"IF('Ek.3-A'!O657=\"\", \"\", 'Ek.3-A'!O657)","v":""},{"$f":"'Ek.3-A'!R657","v":0},{"$f":"'Ek.3-A'!K657","v":""},{"$f":"'Ek.3-A'!L657","v":""},{"v":0,"d":"%0.00"},"H",{"$f":"IF(O657=\"E\",SUM($N$5:N657),0)","v":{"v":0,"d":"%0.00"}},0]
[{"v":7.58000000000001,"d":"7.58"},"YERLİ KATKI ORANI RAPORU",null,853120400011,0.6,null,246,{"$f":"IF(TRIM('Ek.3-A'!E658)<>\"\",\"var\",\"yok\")","v":"yok"},{"$f":"IF('Ek.3-A'!E658=\"\", \"\", IF(VLOOKUP('Ek.3-A'!E658, Veriler!D:E, 2, 0)=0, \"\", VLOOKUP('Ek.3-A'!E658, Veriler!D:E, 2, 0)))","v":""},{"$f":"IF('Ek.3-A'!O658=\"\", \"\", 'Ek.3-A'!O658)","v":""},{"$f":"'Ek.3-A'!R658","v":0},{"$f":"'Ek.3-A'!K658","v":""},{"$f":"'Ek.3-A'!L658","v":""},{"v":0,"d":"%0.00"},"H",{"$f":"IF(O658=\"E\",SUM($N$5:N658),0)","v":{"v":0,"d":"%0.00"}},0]
[{"v":7.59000000000001,"d":"7.59"},"YERLİ KATKI ORANI RAPORU",null,853120400012,0.6,null,247,{"$f":"IF(TRIM('Ek.3-A'!E659)<>\"\",\"var\",\"yok\")","v":"yok"},{"$f":"IF('Ek.3-A'!E659=\"\", \"\", IF(VLOOKUP('Ek.3-A'!E659, Veriler!D:E, 2, 0)=0, \"\", VLOOKUP('Ek.3-A'!E659, Veriler!D:E, 2, 0)))","v":""},{"$f":"IF('Ek.3-A'!O659=\"\", \"\", 'Ek.3-A'!O659)","v":""},{"$f":"'Ek.3-A'!R659","v":0},{"$f":"'Ek.3-A'!K659","v":""},{"$f":"'Ek.3-A'!L659","v":""},{"v":0,"d":"%0.00"},"H",{"$f":"IF(O659=\"E\",SUM($N$5:N659),0)","v":{"v":0,"d":"%0.00"}},0]
[{"v":7.60000000000001,"d":"7.60"},"YERLİ KATKI ORANI RAPORU",null,284442900000,0.6,null,248,{"$f":"IF(TRIM('Ek.3-A'!E660)<>\"\",\"var\",\"yok\")","v":"yok"},{"$f":"IF('Ek.3-A'!E660=\"\", \"\", IF(VLOOKUP('Ek.3-A'!E660, Veriler!D:E, 2, 0)=0, \"\", VLOOKUP('Ek.3-A'!E660, Veriler!D:E, 2, 0)))","v":""},{"$f":"IF('Ek.3-A'!O660=\"\", \"\", 'Ek.3-A'!O660)","v":""},{"$f":"'Ek.3-A'!R660","v":0},{"$f":"'Ek.3-A'!K660","v":""},{"$f":"'Ek.3-A'!L660","v":""},{"v":0,"d":"%0.00"},"H",{"$f":"IF(O660=\"E\",SUM($N$5:N660),0)","v":{"v":0,"d":"%0.00"}},0]
[{"v":7.61000000000001,"d":"7.61"},"YERLİ KATKI ORANI RAPORU",null,284442100000,0.6,null,249,{"$f":"IF(TRIM('Ek.3-A'!E661)<>\"\",\"var\",\"yok\")","v":"yok"},{"$f":"IF('Ek.3-A'!E661=\"\", \"\", IF(VLOOKUP('Ek.3-A'!E661, Veriler!D:E, 2, 0)=0, \"\", VLOOKUP('Ek.3-A'!E661, Veriler!D:E, 2, 0)))","v":""},{"$f":"IF('Ek.3-A'!O661=\"\", \"\", 'Ek.3-A'!O661)","v":""},{"$f":"'Ek.3-A'!R661","v":0},{"$f":"'Ek.3-A'!K661","v":""},{"$f":"'Ek.3-A'!L661","v":""},{"v":0,"d":"%0.00"},"H",{"$f":"IF(O661=\"E\",SUM($N$5:N661),0)","v":{"v":0,"d":"%0.00"}},0]
[{"v":7.62000000000001,"d":"7.62"},"YERLİ KATKI ORANI RAPORU",null,850440609011,0.6,null,250,{"$f":"IF(TRIM('Ek.3-A'!E662)<>\"\",\"var\",\"yok\")","v":"yok"},{"$f":"IF('Ek.3-A'!E662=\"\", \"\", IF(VLOOKUP('Ek.3-A'!E662, Veriler!D:E, 2, 0)=0, \"\", VLOOKUP('Ek.3-A'!E662, Veriler!D:E, 2, 0)))","v":""},{"$f":"IF('Ek.3-A'!O662=\"\", \"\", 'Ek.3-A'!O662)","v":""},{"$f":"'Ek.3-A'!R662","v":0},{"$f":"'Ek.3-A'!K662","v":""},{"$f":"'Ek.3-A'!L662","v":""},{"v":0,"d":"%0.00"},"H",{"$f":"IF(O662=\"E\",SUM($N$5:N662),0)","v":{"v":0,"d":"%0.00"}},0]
[{"v":7.63000000000001,"d":"7.63"},"YERLİ KATKI ORANI RAPORU",null,850790300000,0.6,null,251,{"$f":"IF(TRIM('Ek.3-A'!E663)<>\"\",\"var\",\"yok\")","v":"yok"},{"$f":"IF('Ek.3-A'!E663=\"\", \"\", IF(VLOOKUP('Ek.3-A'!E663, Veriler!D:E, 2, 0)=0, \"\", VLOOKUP('Ek.3-A'!E663, Veriler!D:E, 2, 0)))","v":""},{"$f":"IF('Ek.3-A'!O663=\"\", \"\", 'Ek.3-A'!O663)","v":""},{"$f":"'Ek.3-A'!R663","v":0},{"$f":"'Ek.3-A'!K663","v":""},{"$f":"'Ek.3-A'!L663","v":""},{"v":0,"d":"%0.00"},"H",{"$f":"IF(O663=\"E\",SUM($N$5:N663),0)","v":{"v":0,"d":"%0.00"}},0]
[{"v":7.64000000000001,"d":"7.64"},"YERLİ KATKI ORANI RAPORU",null,850790800000,0.6,null,252,{"$f":"IF(TRIM('Ek.3-A'!E664)<>\"\",\"var\",\"yok\")","v":"yok"},{"$f":"IF('Ek.3-A'!E664=\"\", \"\", IF(VLOOKUP('Ek.3-A'!E664, Veriler!D:E, 2, 0)=0, \"\", VLOOKUP('Ek.3-A'!E664, Veriler!D:E, 2, 0)))","v":""},{"$f":"IF('Ek.3-A'!O664=\"\", \"\", 'Ek.3-A'!O664)","v":""},{"$f":"'Ek.3-A'!R664","v":0},{"$f":"'Ek.3-A'!K664","v":""},{"$f":"'Ek.3-A'!L664","v":""},{"v":0,"d":"%0.00"},"H",{"$f":"IF(O664=\"E\",SUM($N$5:N664),0)","v":{"v":0,"d":"%0.00"}},0]
[{"v":7.65000000000001,"d":"7.65"},"YERLİ KATKI ORANI RAPORU",null,292425000000,0.6,{"$nulls":3},""]
[{"v":7.66000000000001,"d":"7.66"},"YERLİ KATKI ORANI RAPORU",null,292249859014,0.6,null,{"$f":"G641+1","v":239},{"$f":"IF(TRIM('Ek.3-A'!E666)<>\"\",\"var\",\"yok\")","v":"yok"},{"$f":"IF('Ek.3-A'!E666=\"\", \"\", IF(VLOOKUP('Ek.3-A'!E666, Veriler!D:E, 2, 0)=0, \"\", VLOOKUP('Ek.3-A'!E666, Veriler!D:E, 2, 0)))","v":""},{"$f":"IF('Ek.3-A'!O666=\"\", \"\", 'Ek.3-A'!O666)","v":""},{"$f":"'Ek.3-A'!R666","v":0},{"$f":"'Ek.3-A'!K666","v":""},{"$f":"'Ek.3-A'!L666","v":""},{"$f":"IF(H666=\"var\",0,IF(M666<=0.005,M666,0))","v":{"v":0,"d":"%0.00"}},{"$f":"IF(M666<=0.005,\"E\",\"H\")","v":"H"},{"$f":"IF(O666=\"E\",SUM($N$5:N666),0)","v":{"v":0,"d":"%0.00"}},{"$f":"IF(P666<=0.1, K666, IF(N666>$F$2, N666*K666, $F$2*K666))","v":0}]
[{"v":7.67000000000001,"d":"7.67"},"YERLİ KATKI ORANI RAPORU",null,730451100000,0.6,null,{"$f":"G666+1","v":240},{"$f":"IF(TRIM('Ek.3-A'!E667)<>\"\",\"var\",\"yok\")","v":"yok"},{"$f":"IF('Ek.3-A'!E667=\"\", \"\", IF(VLOOKUP('Ek.3-A'!E667, Veriler!D:E, 2, 0)=0, \"\", VLOOKUP('Ek.3-A'!E667, Veriler!D:E, 2, 0)))","v":""},{"$f":"IF('Ek.3-A'!O667=\"\", \"\", 'Ek.3-A'!O667)","v":""},{"$f":"'Ek.3-A'!R667","v":0},{"$f":"'Ek.3-A'!K667","v":""},{"$f":"'Ek.3-A'!L667","v":""},{"$f":"IF(H667=\"var\",0,IF(M667<=0.005,M667,0))","v":{"v":0,"d":"%0.00"}},{"$f":"IF(M667<=0.005,\"E\",\"H\")","v":"H"},{"$f":"IF(O667=\"E\",SUM($N$5:N667),0)","v":{"v":0,"d":"%0.00"}},{"$f":"IF(P667<=0.1, K667, IF(N667>$F$2, N667*K667, $F$2*K667))","v":0}]
[{"v":7.68000000000001,"d":"7.68"},"YERLİ KATKI ORANI RAPORU",null,722490070000,0.6,null,{"$f":"G667+1","v":241},{"$f":"IF(TRIM('Ek.3-A'!E668)<>\"\",\"var\",\"yok\")","v":"yok"},{"$f":"IF('Ek.3-A'!E668=\"\", \"\", IF(VLOOKUP('Ek.3-A'!E668, Veriler!D:E, 2, 0)=0, \"\", VLOOKUP('Ek.3-A'!E668, Veriler!D:E, 2, 0)))","v":""},{"$f":"IF('Ek.3-A'!O668=\"\", \"\", 'Ek.3-A'!O668)","v":""},{"$f":"'Ek.3-A'!R668","v":0},{"$f":"'Ek.3-A'!K668","v":""},{"$f":"'Ek.3-A'!L668","v":""},{"v":0,"d":"%0.00"},"H",{"$f":"IF(O668=\"E\",SUM($N$5:N668),0)","v":{"v":0,"d":"%0.00"}},0]
[{"v":7.69000000000001,"d":"7.69"},"YERLİ KATKI ORANI RAPORU",null,722490140000,0.6,null,242,{"$f":"IF(TRIM('Ek.3-A'!E669)<>\"\",\"var\",\"yok\")","v":"yok"},{"$f":"IF('Ek.3-A'!E669=\"\", \"\", IF(VLOOKUP('Ek.3-A'!E669, Veriler!D:E, 2, 0)=0, \"\", VLOOKUP('Ek.3-A'!E669, Veriler!D:E, 2, 0)))","v":""},{"$f":"IF('Ek.3-A'!O669=\"\", \"\", 'Ek.3-A'!O669)","v":""},{"$f":"'Ek.3-A'!R669","v":0},{"$f":"'Ek.3-A'!K669","v":""},{"$f":"'Ek.3-A'!L669","v":""},{"v":0,"d":"%0.00"},"H",{"$f":"IF(O669=\"E\",SUM($N$5:N669),0)","v":{"v":0,"d":"%0.00"}},0]
[{"v":7.70000000000001,"d":"7.70"},"YERLİ KATKI ORANI RAPORU",null,722490380000,0.6,null,243,{"$f":"IF(TRIM('Ek.3-A'!E670)<>\"\",\"var\",\"yok\")","v":"yok"},{"$f":"IF('Ek.3-A'!E670=\"\", \"\", IF(VLOOKUP('Ek.3-A'!E670, Veriler!D:E, 2, 0)=0, \"\", VLOOKUP('Ek.3-A'!E670, Veriler!D:E, 2, 0)))","v":""},{"$f":"IF('Ek.3-A'!O670=\"\", \"\", 'Ek.3-A'!O670)","v":""},{"$f":"'Ek.3-A'!R670","v":0},{"$f":"'Ek.3-A'!K670","v":""},{"$f":"'Ek.3-A'!L670","v":""},{"v":0,"d":"%0.00"},"H",{"$f":"IF(O670=\"E\",SUM($N$5:N670),0)","v":{"v":0,"d":"%0.00"}},0]
[{"v":7.71000000000001,"d":"7.71"},"YERLİ KATKI ORANI RAPORU",null,722490900000,0.6,null,244,{"$f":"IF(TRIM('Ek.3-A'!E671)<>\"\",\"var\",\"yok\")","v":"yok"},{"$f":"IF('Ek.3-A'!E671=\"\", \"\", IF(VLOOKUP('Ek.3-A'!E671, Veriler!D:E, 2, 0)=0, \"\", VLOOKUP('Ek.3-A'!E671, Veriler!D:E, 2, 0)))","v":""},{"$f":"IF('Ek.3-A'!O671=\"\", \"\", 'Ek.3-A'!O671)","v":""},{"$f":"'Ek.3-A'!R671","v":0},{"$f":"'Ek.3-A'!K671","v":""},{"$f":"'Ek.3-A'!L671","v":""},{"v":0,"d":"%0.00"},"H",{"$f":"IF(O671=\"E\",SUM($N$5:N671),0)","v":{"v":0,"d":"%0.00"}},0]
[{"v":7.72000000000001,"d":"7.72"},"YERLİ KATKI ORANI RAPORU",null,730459300000,0.6,null,245,{"$f":"IF(TRIM('Ek.3-A'!E672)<>\"\",\"var\",\"yok\")","v":"yok"},{"$f":"IF('Ek.3-A'!E672=\"\", \"\", IF(VLOOKUP('Ek.3-A'!E672, Veriler!D:E, 2, 0)=0, \"\", VLOOKUP('Ek.3-A'!E672, Veriler!D:E, 2, 0)))","v":""},{"$f":"IF('Ek.3-A'!O672=\"\", \"\", 'Ek.3-A'!O672)","v":""},{"$f":"'Ek.3-A'!R672","v":0},{"$f":"'Ek.3-A'!K672","v":""},{"$f":"'Ek.3-A'!L672","v":""},{"v":0,"d":"%0.00"},"H",{"$f":"IF(O672=\"E\",SUM($N$5:N672),0)","v":{"v":0,"d":"%0.00"}},0]
[{"v":7.73000000000001,"d":"7.73"},"YERLİ KATKI ORANI RAPORU",null,730459821000,0.6,null,246,{"$f":"IF(TRIM('Ek.3-A'!E673)<>\"\",\"var\",\"yok\")","v":"yok"},{"$f":"IF('Ek.3-A'!E673=\"\", \"\", IF(VLOOKUP('Ek.3-A'!E673, Veriler!D:E, 2, 0)=0, \"\", VLOOKUP('Ek.3-A'!E673, Veriler!D:E, 2, 0)))","v":""},{"$f":"IF('Ek.3-A'!O673=\"\", \"\", 'Ek.3-A'!O673)","v":""},{"$f":"'Ek.3-A'!R673","v":0},{"$f":"'Ek.3-A'!K673","v":""},{"$f":"'Ek.3-A'!L673","v":""},{"v":0,"d":"%0.00"},"H",{"$f":"IF(O673=\"E\",SUM($N$5:N673),0)","v":{"v":0,"d":"%0.00"}},0]
[{"v":7.74000000000001,"d":"7.74"},"YERLİ KATKI ORANI RAPORU",null,730459839000,0.6,null,247,{"$f":"IF(TRIM('Ek.3-A'!E674)<>\"\",\"var\",\"yok\")","v":"yok"},{"$f":"IF('Ek.3-A'!E674=\"\", \"\", IF(VLOOKUP('Ek.3-A'!E674, Veriler!D:E, 2, 0)=0, \"\", VLOOKUP('Ek.3-A'!E674, Veriler!D:E, 2, 0)))","v":""},{"$f":"IF('Ek.3-A'!O674=\"\", \"\", 'Ek.3-A'!O674)","v":""},{"$f":"'Ek.3-A'!R674","v":0},{"$f":"'Ek.3-A'!K674","v":""},{"$f":"'Ek.3-A'!L674","v":""},{"v":0,"d":"%0.00"},"H",{"$f":"IF(O674=\"E\",SUM($N$5:N674),0)","v":{"v":0,"d":"%0.00"}},0]
[{"v":7.75000000000001,"d":"7.75"},"YERLİ KATKI ORANI RAPORU",null,730459899000,0.6,null,248,{"$f":"IF(TRIM('Ek.3-A'!E675)<>\"\",\"var\",\"yok\")","v":"yok"},{"$f":"IF('Ek.3-A'!E675=\"\", \"\", IF(VLOOKUP('Ek.3-A'!E675, Veriler!D:E, 2, 0)=0, \"\", VLOOKUP('Ek.3-A'!E675, Veriler!D:E, 2, 0)))","v":""},{"$f":"IF('Ek.3-A'!O675=\"\", \"\", 'Ek.3-A'!O675)","v":""},{"$f":"'Ek.3-A'!R675","v":0},{"$f":"'Ek.3-A'!K675","v":""},{"$f":"'Ek.3-A'!L675","v":""},{"v":0,"d":"%0.00"},"H",{"$f":"IF(O675=\"E\",SUM($N$5:N675),0)","v":{"v":0,"d":"%0.00"}},0]
[{"v":7.76000000000001,"d":"7.76"},"YERLİ KATKI ORANI RAPORU",null,730459829000,0.6,null,249,{"$f":"IF(TRIM('Ek.3-A'!E676)<>\"\",\"var\",\"yok\")","v":"yok"},{"$f":"IF('Ek.3-A'!E676=\"\", \"\", IF(VLOOKUP('Ek.3-A'!E676, Veriler!D:E, 2, 0)=0, \"\", VLOOKUP('Ek.3-A'!E676, Veriler!D:E, 2, 0)))","v":""},{"$f":"IF('Ek.3-A'!O676=\"\", \"\", 'Ek.3-A'!O676)","v":""},{"$f":"'Ek.3-A'!R676","v":0},{"$f":"'Ek.3-A'!K676","v":""},{"$f":"'Ek.3-A'!L676","v":""},{"v":0,"d":"%0.00"},"H",{"$f":"IF(O676=\"E\",SUM($N$5:N676),0)","v":{"v":0,"d":"%0.00"}},0]
[{"v":7.77000000000001,"d":"7.77"},"YERLİ KATKI ORANI RAPORU",null,722880000010,0.6,null,250,{"$f":"IF(TRIM('Ek.3-A'!E677)<>\"\",\"var\",\"yok\")","v":"yok"},{"$f":"IF('Ek.3-A'!E677=\"\", \"\", IF(VLOOKUP('Ek.3-A'!E677, Veriler!D:E, 2, 0)=0, \"\", VLOOKUP('Ek.3-A'!E677, Veriler!D:E, 2, 0)))","v":""},{"$f":"IF('Ek.3-A'!O677=\"\", \"\", 'Ek.3-A'!O677)","v":""},{"$f":"'Ek.3-A'!R677","v":0},{"$f":"'Ek.3-A'!K677","v":""},{"$f":"'Ek.3-A'!L677","v":""},{"v":0,"d":"%0.00"},"H",{"$f":"IF(O677=\"E\",SUM($N$5:N677),0)","v":{"v":0,"d":"%0.00"}},0]
[{"v":7.78000000000001,"d":"7.78"},"YERLİ KATKI ORANI RAPORU",null,722490050000,0.6,null,251,{"$f":"IF(TRIM('Ek.3-A'!E678)<>\"\",\"var\",\"yok\")","v":"yok"},{"$f":"IF('Ek.3-A'!E678=\"\", \"\", IF(VLOOKUP('Ek.3-A'!E678, Veriler!D:E, 2, 0)=0, \"\", VLOOKUP('Ek.3-A'!E678, Veriler!D:E, 2, 0)))","v":""},{"$f":"IF('Ek.3-A'!O678=\"\", \"\", 'Ek.3-A'!O678)","v":""},{"$f":"'Ek.3-A'!R678","v":0},{"$f":"'Ek.3-A'!K678","v":""},{"$f":"'Ek.3-A'!L678","v":""},{"v":0,"d":"%0.00"},"H",{"$f":"IF(O678=\"E\",SUM($N$5:N678),0)","v":{"v":0,"d":"%0.00"}},0]
[{"v":7.79000000000001,"d":"7.79"},"YERLİ KATKI ORANI RAPORU",null,720150900000,0.6,null,252,{"$f":"IF(TRIM('Ek.3-A'!E679)<>\"\",\"var\",\"yok\")","v":"yok"},{"$f":"IF('Ek.3-A'!E679=\"\", \"\", IF(VLOOKUP('Ek.3-A'!E679, Veriler!D:E, 2, 0)=0, \"\", VLOOKUP('Ek.3-A'!E679, Veriler!D:E, 2, 0)))","v":""},{"$f":"IF('Ek.3-A'!O679=\"\", \"\", 'Ek.3-A'!O679)","v":""},{"$f":"'Ek.3-A'!R679","v":0},{"$f":"'Ek.3-A'!K679","v":""},{"$f":"'Ek.3-A'!L679","v":""},{"v":0,"d":"%0.00"},"H",{"$f":"IF(O679=\"E\",SUM($N$5:N679),0)","v":{"v":0,"d":"%0.00"}},0]
[{"v":7.80000000000001,"d":"7.80"},"YERLİ KATKI ORANI RAPORU",null,760519000000,0.6]
[{"v":7.81000000000001,"d":"7.81"},"YERLİ KATKI ORANI RAPORU",null,722880000090,0.6]
[{"v":7.82000000000001,"d":"7.82"},"YERLİ KATKI ORANI RAPORU",null,720110110000,0.6]
[{"v":7.83000000000001,"d":"7.83"},"YERLİ KATKI ORANI RAPORU",null,720110190000,0.6]
[{"v":7.84000000000001,"d":"7.84"},"YERLİ KATKI ORANI RAPORU",null,800300009014,0.6]
[{"v":7.85000000000001,"d":"7.85"},"YERLİ KATKI ORANI RAPORU",null,800700101012,0.6]
[{"v":7.86000000000001,"d":"7.86"},"YERLİ KATKI ORANI RAPORU",null,800300009016,0.6]
[{"v":7.87000000000001,"d":"7.87"},"YERLİ KATKI ORANI RAPORU",null,750511009012,0.6]
[{"v":7.88000000000001,"d":"7.88"},"YERLİ KATKI ORANI RAPORU",null,750511009011,0.6]
[{"v":7.89000000000001,"d":"7.89"},"YERLİ KATKI ORANI RAPORU",null,750711000000,0.6,null,{"$f":"G664+1","v":253},{"$f":"IF(TRIM('Ek.3-A'!E689)<>\"\",\"var\",\"yok\")","v":"yok"},{"$f":"IF('Ek.3-A'!E689=\"\", \"\", IF(VLOOKUP('Ek.3-A'!E689, Veriler!D:E, 2, 0)=0, \"\", VLOOKUP('Ek.3-A'!E689, Veriler!D:E, 2, 0)))","v":""},{"$f":"IF('Ek.3-A'!O689=\"\", \"\", 'Ek.3-A'!O689)","v":""},{"$f":"'Ek.3-A'!R689","v":0},{"$f":"'Ek.3-A'!K689","v":""},{"$f":"'Ek.3-A'!L689","v":""},{"$f":"IF(H689=\"var\",0,IF(M689<=0.005,M689,0))","v":{"v":0,"d":"%0.00"}},{"$f":"IF(M689<=0.005,\"E\",\"H\")","v":"H"},{"$f":"IF(O689=\"E\",SUM($N$5:N689),0)","v":{"v":0,"d":"%0.00"}},{"$f":"IF(P689<=0.1, K689, IF(N689>$F$2, N689*K689, $F$2*K689))","v":0}]
[{"v":7.90000000000001,"d":"7.90"},"YERLİ KATKI ORANI RAPORU",null,750610000000,0.6,null,{"$f":"G689+1","v":254},{"$f":"IF(TRIM('Ek.3-A'!E690)<>\"\",\"var\",\"yok\")","v":"yok"},{"$f":"IF('Ek.3-A'!E690=\"\", \"\", IF(VLOOKUP('Ek.3-A'!E690, Veriler!D:E, 2, 0)=0, \"\", VLOOKUP('Ek.3-A'!E690, Veriler!D:E, 2, 0)))","v":""},{"$f":"IF('Ek.3-A'!O690=\"\", \"\", 'Ek.3-A'!O690)","v":""},{"$f":"'Ek.3-A'!R690","v":0},{"$f":"'Ek.3-A'!K690","v":""},{"$f":"'Ek.3-A'!L690","v":""},{"$f":"IF(H690=\"var\",0,IF(M690<=0.005,M690,0))","v":{"v":0,"d":"%0.00"}},{"$f":"IF(M690<=0.005,\"E\",\"H\")","v":"H"},{"$f":"IF(O690=\"E\",SUM($N$5:N690),0)","v":{"v":0,"d":"%0.00"}},{"$f":"IF(P690<=0.1, K690, IF(N690>$F$2, N690*K690, $F$2*K690))","v":0}]
[{"v":7.91000000000001,"d":"7.91"},"YERLİ KATKI ORANI RAPORU",null,750521000000,0.6,null,{"$f":"G690+1","v":255},{"$f":"IF(TRIM('Ek.3-A'!E691)<>\"\",\"var\",\"yok\")","v":"yok"},{"$f":"IF('Ek.3-A'!E691=\"\", \"\", IF(VLOOKUP('Ek.3-A'!E691, Veriler!D:E, 2, 0)=0, \"\", VLOOKUP('Ek.3-A'!E691, Veriler!D:E, 2, 0)))","v":""},{"$f":"IF('Ek.3-A'!O691=\"\", \"\", 'Ek.3-A'!O691)","v":""},{"$f":"'Ek.3-A'!R691","v":0},{"$f":"'Ek.3-A'!K691","v":""},{"$f":"'Ek.3-A'!L691","v":""},{"v":0,"d":"%0.00"},"H",{"$f":"IF(O691=\"E\",SUM($N$5:N691),0)","v":{"v":0,"d":"%0.00"}},0]
[{"v":7.92000000000001,"d":"7.92"},"YERLİ KATKI ORANI RAPORU",null,350290900000,0.6,null,{"$f":"G691+1","v":256},{"$f":"IF(TRIM('Ek.3-A'!E692)<>\"\",\"var\",\"yok\")","v":"yok"},{"$f":"IF('Ek.3-A'!E692=\"\", \"\", IF(VLOOKUP('Ek.3-A'!E692, Veriler!D:E, 2, 0)=0, \"\", VLOOKUP('Ek.3-A'!E692, Veriler!D:E, 2, 0)))","v":""},{"$f":"IF('Ek.3-A'!O692=\"\", \"\", 'Ek.3-A'!O692)","v":""},{"$f":"'Ek.3-A'!R692","v":0},{"$f":"'Ek.3-A'!K692","v":""},{"$f":"'Ek.3-A'!L692","v":""},{"v":0,"d":"%0.00"},"H",{"$f":"IF(O692=\"E\",SUM($N$5:N692),0)","v":{"v":0,"d":"%0.00"}},0]
[{"v":7.93000000000001,"d":"7.93"},"YERLİ KATKI ORANI RAPORU",null,291249009019,0.6,null,257,{"$f":"IF(TRIM('Ek.3-A'!E693)<>\"\",\"var\",\"yok\")","v":"yok"},{"$f":"IF('Ek.3-A'!E693=\"\", \"\", IF(VLOOKUP('Ek.3-A'!E693, Veriler!D:E, 2, 0)=0, \"\", VLOOKUP('Ek.3-A'!E693, Veriler!D:E, 2, 0)))","v":""},{"$f":"IF('Ek.3-A'!O693=\"\", \"\", 'Ek.3-A'!O693)","v":""},{"$f":"'Ek.3-A'!R693","v":0},{"$f":"'Ek.3-A'!K693","v":""},{"$f":"'Ek.3-A'!L693","v":""},{"v":0,"d":"%0.00"},"H",{"$f":"IF(O693=\"E\",SUM($N$5:N693),0)","v":{"v":0,"d":"%0.00"}},0]
[{"v":7.94000000000001,"d":"7.94"},"YERLİ KATKI ORANI RAPORU",null,291830000013,0.6,null,258,{"$f":"IF(TRIM('Ek.3-A'!E694)<>\"\",\"var\",\"yok\")","v":"yok"},{"$f":"IF('Ek.3-A'!E694=\"\", \"\", IF(VLOOKUP('Ek.3-A'!E694, Veriler!D:E, 2, 0)=0, \"\", VLOOKUP('Ek.3-A'!E694, Veriler!D:E, 2, 0)))","v":""},{"$f":"IF('Ek.3-A'!O694=\"\", \"\", 'Ek.3-A'!O694)","v":""},{"$f":"'Ek.3-A'!R694","v":0},{"$f":"'Ek.3-A'!K694","v":""},{"$f":"'Ek.3-A'!L694","v":""},{"v":0,"d":"%0.00"},"H",{"$f":"IF(O694=\"E\",SUM($N$5:N694),0)","v":{"v":0,"d":"%0.00"}},0]
[{"v":7.95000000000001,"d":"7.95"},"YERLİ KATKI ORANI RAPORU",null,291830000011,0.6,null,259,{"$f":"IF(TRIM('Ek.3-A'!E695)<>\"\",\"var\",\"yok\")","v":"yok"},{"$f":"IF('Ek.3-A'!E695=\"\", \"\", IF(VLOOKUP('Ek.3-A'!E695, Veriler!D:E, 2, 0)=0, \"\", VLOOKUP('Ek.3-A'!E695, Veriler!D:E, 2, 0)))","v":""},{"$f":"IF('Ek.3-A'!O695=\"\", \"\", 'Ek.3-A'!O695)","v":""},{"$f":"'Ek.3-A'!R695","v":0},{"$f":"'Ek.3-A'!K695","v":""},{"$f":"'Ek.3-A'!L695","v":""},{"v":0,"d":"%0.00"},"H",{"$f":"IF(O695=\"E\",SUM($N$5:N695),0)","v":{"v":0,"d":"%0.00"}},0]
[{"v":7.96000000000001,"d":"7.96"},"YERLİ KATKI ORANI RAPORU",null,291250000019,0.6,null,260,{"$f":"IF(TRIM('Ek.3-A'!E696)<>\"\",\"var\",\"yok\")","v":"yok"},{"$f":"IF('Ek.3-A'!E696=\"\", \"\", IF(VLOOKUP('Ek.3-A'!E696, Veriler!D:E, 2, 0)=0, \"\", VLOOKUP('Ek.3-A'!E696, Veriler!D:E, 2, 0)))","v":""},{"$f":"IF('Ek.3-A'!O696=\"\", \"\", 'Ek.3-A'!O696)","v":""},{"$f":"'Ek.3-A'!R696","v":0},{"$f":"'Ek.3-A'!K696","v":""},{"$f":"'Ek.3-A'!L696","v":""},{"v":0,"d":"%0.00"},"H",{"$f":"IF(O696=\"E\",SUM($N$5:N696),0)","v":{"v":0,"d":"%0.00"}},0]
[{"v":7.97000000000001,"d":"7.97"},"YERLİ KATKI ORANI RAPORU",null,291300009019,0.6,null,261,{"$f":"IF(TRIM('Ek.3-A'!E697)<>\"\",\"var\",\"yok\")","v":"yok"},{"$f":"IF('Ek.3-A'!E697=\"\", \"\", IF(VLOOKUP('Ek.3-A'!E697, Veriler!D:E, 2, 0)=0, \"\", VLOOKUP('Ek.3-A'!E697, Veriler!D:E, 2, 0)))","v":""},{"$f":"IF('Ek.3-A'!O697=\"\", \"\", 'Ek.3-A'!O697)","v":""},{"$f":"'Ek.3-A'!R697","v":0},{"$f":"'Ek.3-A'!K697","v":""},{"$f":"'Ek.3-A'!L697","v":""},{"v":0,"d":"%0.00"},"H",{"$f":"IF(O697=\"E\",SUM($N$5:N697),0)","v":{"v":0,"d":"%0.00"}},0]
[{"v":7.98000000000001,"d":"7.98"},"YERLİ KATKI ORANI RAPORU",null,293080000000,0.6,null,262,{"$f":"IF(TRIM('Ek.3-A'!E698)<>\"\",\"var\",\"yok\")","v":"yok"},{"$f":"IF('Ek.3-A'!E698=\"\", \"\", IF(VLOOKUP('Ek.3-A'!E698, Veriler!D:E, 2, 0)=0, \"\", VLOOKUP('Ek.3-A'!E698, Veriler!D:E, 2, 0)))","v":""},{"$f":"IF('Ek.3-A'!O698=\"\", \"\", 'Ek.3-A'!O698)","v":""},{"$f":"'Ek.3-A'!R698","v":0},{"$f":"'Ek.3-A'!K698","v":""},{"$f":"'Ek.3-A'!L698","v":""},{"v":0,"d":"%0.00"},"H",{"$f":"IF(O698=\"E\",SUM($N$5:N698),0)","v":{"v":0,"d":"%0.00"}},0]
[{"v":7.99000000000001,"d":"7.99"},"YERLİ KATKI ORANI RAPORU",null,900290001100,0.6,null,263,{"$f":"IF(TRIM('Ek.3-A'!E699)<>\"\",\"var\",\"yok\")","v":"yok"},{"$f":"IF('Ek.3-A'!E699=\"\", \"\", IF(VLOOKUP('Ek.3-A'!E699, Veriler!D:E, 2, 0)=0, \"\", VLOOKUP('Ek.3-A'!E699, Veriler!D:E, 2, 0)))","v":""},{"$f":"IF('Ek.3-A'!O699=\"\", \"\", 'Ek.3-A'!O699)","v":""},{"$f":"'Ek.3-A'!R699","v":0},{"$f":"'Ek.3-A'!K699","v":""},{"$f":"'Ek.3-A'!L699","v":""},{"v":0,"d":"%0.00"},"H",{"$f":"IF(O699=\"E\",SUM($N$5:N699),0)","v":{"v":0,"d":"%0.00"}},0]
[{"v":8.00000000000001,"d":"8.00"},"YERLİ KATKI ORANI RAPORU",null,900290009100,0.6,null,264,{"$f":"IF(TRIM('Ek.3-A'!E700)<>\"\",\"var\",\"yok\")","v":"yok"},{"$f":"IF('Ek.3-A'!E700=\"\", \"\", IF(VLOOKUP('Ek.3-A'!E700, Veriler!D:E, 2, 0)=0, \"\", VLOOKUP('Ek.3-A'!E700, Veriler!D:E, 2, 0)))","v":""},{"$f":"IF('Ek.3-A'!O700=\"\", \"\", 'Ek.3-A'!O700)","v":""},{"$f":"'Ek.3-A'!R700","v":0},{"$f":"'Ek.3-A'!K700","v":""},{"$f":"'Ek.3-A'!L700","v":""},{"v":0,"d":"%0.00"},"H",{"$f":"IF(O700=\"E\",SUM($N$5:N700),0)","v":{"v":0,"d":"%0.00"}},0]
[{"v":8.01000000000001,"d":"8.01"},"YERLİ KATKI ORANI RAPORU",null,900290001900,0.6,null,265,{"$f":"IF(TRIM('Ek.3-A'!E701)<>\"\",\"var\",\"yok\")","v":"yok"},{"$f":"IF('Ek.3-A'!E701=\"\", \"\", IF(VLOOKUP('Ek.3-A'!E701, Veriler!D:E, 2, 0)=0, \"\", VLOOKUP('Ek.3-A'!E701, Veriler!D:E, 2, 0)))","v":""},{"$f":"IF('Ek.3-A'!O701=\"\", \"\", 'Ek.3-A'!O701)","v":""},{"$f":"'Ek.3-A'!R701","v":0},{"$f":"'Ek.3-A'!K701","v":""},{"$f":"'Ek.3-A'!L701","v":""},{"v":0,"d":"%0.00"},"H",{"$f":"IF(O701=\"E\",SUM($N$5:N701),0)","v":{"v":0,"d":"%0.00"}},0]
[{"v":8.02000000000001,"d":"8.02"},"YERLİ KATKI ORANI RAPORU",null,900290009900,0.6,null,266,{"$f":"IF(TRIM('Ek.3-A'!E702)<>\"\",\"var\",\"yok\")","v":"yok"},{"$f":"IF('Ek.3-A'!E702=\"\", \"\", IF(VLOOKUP('Ek.3-A'!E702, Veriler!D:E, 2, 0)=0, \"\", VLOOKUP('Ek.3-A'!E702, Veriler!D:E, 2, 0)))","v":""},{"$f":"IF('Ek.3-A'!O702=\"\", \"\", 'Ek.3-A'!O702)","v":""},{"$f":"'Ek.3-A'!R702","v":0},{"$f":"'Ek.3-A'!K702","v":""},{"$f":"'Ek.3-A'!L702","v":""},{"v":0,"d":"%0.00"},"H",{"$f":"IF(O702=\"E\",SUM($N$5:N702),0)","v":{"v":0,"d":"%0.00"}},0]
[{"v":8.03000000000001,"d":"8.03"},"YERLİ KATKI ORANI RAPORU",null,900220001000,0.6,{"$nulls":3},""]
[{"v":8.04000000000001,"d":"8.04"},"YERLİ KATKI ORANI RAPORU",null,900220009000,0.6,null,{"$f":"G679+1","v":253},{"$f":"IF(TRIM('Ek.3-A'!E704)<>\"\",\"var\",\"yok\")","v":"yok"},{"$f":"IF('Ek.3-A'!E704=\"\", \"\", IF(VLOOKUP('Ek.3-A'!E704, Veriler!D:E, 2, 0)=0, \"\", VLOOKUP('Ek.3-A'!E704, Veriler!D:E, 2, 0)))","v":""},{"$f":"IF('Ek.3-A'!O704=\"\", \"\", 'Ek.3-A'!O704)","v":""},{"$f":"'Ek.3-A'!R704","v":0},{"$f":"'Ek.3-A'!K704","v":""},{"$f":"'Ek.3-A'!L704","v":""},{"$f":"IF(H704=\"var\",0,IF(M704<=0.005,M704,0))","v":{"v":0,"d":"%0.00"}},{"$f":"IF(M704<=0.005,\"E\",\"H\")","v":"H"},{"$f":"IF(O704=\"E\",SUM($N$5:N704),0)","v":{"v":0,"d":"%0.00"}},{"$f":"IF(P704<=0.1, K704, IF(N704>$F$2, N704*K704, $F$2*K704))","v":0}]
[{"v":8.05000000000001,"d":"8.05"},"YERLİ KATKI ORANI RAPORU",null,831130000000,0.6,null,{"$f":"G704+1","v":254},{"$f":"IF(TRIM('Ek.3-A'!E705)<>\"\",\"var\",\"yok\")","v":"yok"},{"$f":"IF('Ek.3-A'!E705=\"\", \"\", IF(VLOOKUP('Ek.3-A'!E705, Veriler!D:E, 2, 0)=0, \"\", VLOOKUP('Ek.3-A'!E705, Veriler!D:E, 2, 0)))","v":""},{"$f":"IF('Ek.3-A'!O705=\"\", \"\", 'Ek.3-A'!O705)","v":""},{"$f":"'Ek.3-A'!R705","v":0},{"$f":"'Ek.3-A'!K705","v":""},{"$f":"'Ek.3-A'!L705","v":""},{"$f":"IF(H705=\"var\",0,IF(M705<=0.005,M705,0))","v":{"v":0,"d":"%0.00"}},{"$f":"IF(M705<=0.005,\"E\",\"H\")","v":"H"},{"$f":"IF(O705=\"E\",SUM($N$5:N705),0)","v":{"v":0,"d":"%0.00"}},{"$f":"IF(P705<=0.1, K705, IF(N705>$F$2, N705*K705, $F$2*K705))","v":0}]
[{"v":8.06000000000001,"d":"8.06"},"YERLİ KATKI ORANI RAPORU",null,291423000011,0.6,null,{"$f":"G705+1","v":255},{"$f":"IF(TRIM('Ek.3-A'!E706)<>\"\",\"var\",\"yok\")","v":"yok"},{"$f":"IF('Ek.3-A'!E706=\"\", \"\", IF(VLOOKUP('Ek.3-A'!E706, Veriler!D:E, 2, 0)=0, \"\", VLOOKUP('Ek.3-A'!E706, Veriler!D:E, 2, 0)))","v":""},{"$f":"IF('Ek.3-A'!O706=\"\", \"\", 'Ek.3-A'!O706)","v":""},{"$f":"'Ek.3-A'!R706","v":0},{"$f":"'Ek.3-A'!K706","v":""},{"$f":"'Ek.3-A'!L706","v":""},{"v":0,"d":"%0.00"},"H",{"$f":"IF(O706=\"E\",SUM($N$5:N706),0)","v":{"v":0,"d":"%0.00"}},0]
[{"v":8.07000000000001,"d":"8.07"},"YERLİ KATKI ORANI RAPORU",null,290715902011,0.6,null,256,{"$f":"IF(TRIM('Ek.3-A'!E707)<>\"\",\"var\",\"yok\")","v":"yok"},{"$f":"IF('Ek.3-A'!E707=\"\", \"\", IF(VLOOKUP('Ek.3-A'!E707, Veriler!D:E, 2, 0)=0, \"\", VLOOKUP('Ek.3-A'!E707, Veriler!D:E, 2, 0)))","v":""},{"$f":"IF('Ek.3-A'!O707=\"\", \"\", 'Ek.3-A'!O707)","v":""},{"$f":"'Ek.3-A'!R707","v":0},{"$f":"'Ek.3-A'!K707","v":""},{"$f":"'Ek.3-A'!L707","v":""},{"v":0,"d":"%0.00"},"H",{"$f":"IF(O707=\"E\",SUM($N$5:N707),0)","v":{"v":0,"d":"%0.00"}},0]
[{"v":8.08000000000001,"d":"8.08"},"YERLİ KATKI ORANI RAPORU",null,291229001012,0.6,null,257,{"$f":"IF(TRIM('Ek.3-A'!E708)<>\"\",\"var\",\"yok\")","v":"yok"},{"$f":"IF('Ek.3-A'!E708=\"\", \"\", IF(VLOOKUP('Ek.3-A'!E708, Veriler!D:E, 2, 0)=0, \"\", VLOOKUP('Ek.3-A'!E708, Veriler!D:E, 2, 0)))","v":""},{"$f":"IF('Ek.3-A'!O708=\"\", \"\", 'Ek.3-A'!O708)","v":""},{"$f":"'Ek.3-A'!R708","v":0},{"$f":"'Ek.3-A'!K708","v":""},{"$f":"'Ek.3-A'!L708","v":""},{"v":0,"d":"%0.00"},"H",{"$f":"IF(O708=\"E\",SUM($N$5:N708),0)","v":{"v":0,"d":"%0.00"}},0]
[{"v":8.09000000000001,"d":"8.09"},"YERLİ KATKI ORANI RAPORU",null,290410000014,0.6,null,258,{"$f":"IF(TRIM('Ek.3-A'!E709)<>\"\",\"var\",\"yok\")","v":"yok"},{"$f":"IF('Ek.3-A'!E709=\"\", \"\", IF(VLOOKUP('Ek.3-A'!E709, Veriler!D:E, 2, 0)=0, \"\", VLOOKUP('Ek.3-A'!E709, Veriler!D:E, 2, 0)))","v":""},{"$f":"IF('Ek.3-A'!O709=\"\", \"\", 'Ek.3-A'!O709)","v":""},{"$f":"'Ek.3-A'!R709","v":0},{"$f":"'Ek.3-A'!K709","v":""},{"$f":"'Ek.3-A'!L709","v":""},{"v":0,"d":"%0.00"},"H",{"$f":"IF(O709=\"E\",SUM($N$5:N709),0)","v":{"v":0,"d":"%0.00"}},0]
[{"v":8.10000000000001,"d":"8.10"},"YERLİ KATKI ORANI RAPORU",null,293333000039,0.6,null,259,{"$f":"IF(TRIM('Ek.3-A'!E710)<>\"\",\"var\",\"yok\")","v":"yok"},{"$f":"IF('Ek.3-A'!E710=\"\", \"\", IF(VLOOKUP('Ek.3-A'!E710, Veriler!D:E, 2, 0)=0, \"\", VLOOKUP('Ek.3-A'!E710, Veriler!D:E, 2, 0)))","v":""},{"$f":"IF('Ek.3-A'!O710=\"\", \"\", 'Ek.3-A'!O710)","v":""},{"$f":"'Ek.3-A'!R710","v":0},{"$f":"'Ek.3-A'!K710","v":""},{"$f":"'Ek.3-A'!L710","v":""},{"v":0,"d":"%0.00"},"H",{"$f":"IF(O710=\"E\",SUM($N$5:N710),0)","v":{"v":0,"d":"%0.00"}},0]
[{"v":8.11000000000001,"d":"8.11"},"YERLİ KATKI ORANI RAPORU",null,854081000000,0.6,null,260,{"$f":"IF(TRIM('Ek.3-A'!E711)<>\"\",\"var\",\"yok\")","v":"yok"},{"$f":"IF('Ek.3-A'!E711=\"\", \"\", IF(VLOOKUP('Ek.3-A'!E711, Veriler!D:E, 2, 0)=0, \"\", VLOOKUP('Ek.3-A'!E711, Veriler!D:E, 2, 0)))","v":""},{"$f":"IF('Ek.3-A'!O711=\"\", \"\", 'Ek.3-A'!O711)","v":""},{"$f":"'Ek.3-A'!R711","v":0},{"$f":"'Ek.3-A'!K711","v":""},{"$f":"'Ek.3-A'!L711","v":""},{"v":0,"d":"%0.00"},"H",{"$f":"IF(O711=\"E\",SUM($N$5:N711),0)","v":{"v":0,"d":"%0.00"}},0]
[{"v":8.12000000000001,"d":"8.12"},"YERLİ KATKI ORANI RAPORU",null,852560000017,0.6,null,261,{"$f":"IF(TRIM('Ek.3-A'!E712)<>\"\",\"var\",\"yok\")","v":"yok"},{"$f":"IF('Ek.3-A'!E712=\"\", \"\", IF(VLOOKUP('Ek.3-A'!E712, Veriler!D:E, 2, 0)=0, \"\", VLOOKUP('Ek.3-A'!E712, Veriler!D:E, 2, 0)))","v":""},{"$f":"IF('Ek.3-A'!O712=\"\", \"\", 'Ek.3-A'!O712)","v":""},{"$f":"'Ek.3-A'!R712","v":0},{"$f":"'Ek.3-A'!K712","v":""},{"$f":"'Ek.3-A'!L712","v":""},{"v":0,"d":"%0.00"},"H",{"$f":"IF(O712=\"E\",SUM($N$5:N712),0)","v":{"v":0,"d":"%0.00"}},0]
[{"v":8.13000000000001,"d":"8.13"},"YERLİ KATKI ORANI RAPORU",null,852560000015,0.6,null,262,{"$f":"IF(TRIM('Ek.3-A'!E713)<>\"\",\"var\",\"yok\")","v":"yok"},{"$f":"IF('Ek.3-A'!E713=\"\", \"\", IF(VLOOKUP('Ek.3-A'!E713, Veriler!D:E, 2, 0)=0, \"\", VLOOKUP('Ek.3-A'!E713, Veriler!D:E, 2, 0)))","v":""},{"$f":"IF('Ek.3-A'!O713=\"\", \"\", 'Ek.3-A'!O713)","v":""},{"$f":"'Ek.3-A'!R713","v":0},{"$f":"'Ek.3-A'!K713","v":""},{"$f":"'Ek.3-A'!L713","v":""},{"v":0,"d":"%0.00"},"H",{"$f":"IF(O713=\"E\",SUM($N$5:N713),0)","v":{"v":0,"d":"%0.00"}},0]
[{"v":8.14000000000001,"d":"8.14"},"YERLİ KATKI ORANI RAPORU",null,290529100000,0.6,null,263,{"$f":"IF(TRIM('Ek.3-A'!E714)<>\"\",\"var\",\"yok\")","v":"yok"},{"$f":"IF('Ek.3-A'!E714=\"\", \"\", IF(VLOOKUP('Ek.3-A'!E714, Veriler!D:E, 2, 0)=0, \"\", VLOOKUP('Ek.3-A'!E714, Veriler!D:E, 2, 0)))","v":""},{"$f":"IF('Ek.3-A'!O714=\"\", \"\", 'Ek.3-A'!O714)","v":""},{"$f":"'Ek.3-A'!R714","v":0},{"$f":"'Ek.3-A'!K714","v":""},{"$f":"'Ek.3-A'!L714","v":""},{"v":0,"d":"%0.00"},"H",{"$f":"IF(O714=\"E\",SUM($N$5:N714),0)","v":{"v":0,"d":"%0.00"}},0]
[{"v":8.15000000000001,"d":"8.15"},"YERLİ KATKI ORANI RAPORU",null,293090989037,0.6,null,264,{"$f":"IF(TRIM('Ek.3-A'!E715)<>\"\",\"var\",\"yok\")","v":"yok"},{"$f":"IF('Ek.3-A'!E715=\"\", \"\", IF(VLOOKUP('Ek.3-A'!E715, Veriler!D:E, 2, 0)=0, \"\", VLOOKUP('Ek.3-A'!E715, Veriler!D:E, 2, 0)))","v":""},{"$f":"IF('Ek.3-A'!O715=\"\", \"\", 'Ek.3-A'!O715)","v":""},{"$f":"'Ek.3-A'!R715","v":0},{"$f":"'Ek.3-A'!K715","v":""},{"$f":"'Ek.3-A'!L715","v":""},{"v":0,"d":"%0.00"},"H",{"$f":"IF(O715=\"E\",SUM($N$5:N715),0)","v":{"v":0,"d":"%0.00"}},0]
[{"v":8.16000000000001,"d":"8.16"},"YERLİ KATKI ORANI RAPORU",null,293090959037,0.6,null,265,{"$f":"IF(TRIM('Ek.3-A'!E716)<>\"\",\"var\",\"yok\")","v":"yok"},{"$f":"IF('Ek.3-A'!E716=\"\", \"\", IF(VLOOKUP('Ek.3-A'!E716, Veriler!D:E, 2, 0)=0, \"\", VLOOKUP('Ek.3-A'!E716, Veriler!D:E, 2, 0)))","v":""},{"$f":"IF('Ek.3-A'!O716=\"\", \"\", 'Ek.3-A'!O716)","v":""},{"$f":"'Ek.3-A'!R716","v":0},{"$f":"'Ek.3-A'!K716","v":""},{"$f":"'Ek.3-A'!L716","v":""},{"v":0,"d":"%0.00"},"H",{"$f":"IF(O716=\"E\",SUM($N$5:N716),0)","v":{"v":0,"d":"%0.00"}},0]
[{"v":8.17000000000001,"d":"8.17"},"YERLİ KATKI ORANI RAPORU",null,391310000000,0.6,null,266,{"$f":"IF(TRIM('Ek.3-A'!E717)<>\"\",\"var\",\"yok\")","v":"yok"},{"$f":"IF('Ek.3-A'!E717=\"\", \"\", IF(VLOOKUP('Ek.3-A'!E717, Veriler!D:E, 2, 0)=0, \"\", VLOOKUP('Ek.3-A'!E717, Veriler!D:E, 2, 0)))","v":""},{"$f":"IF('Ek.3-A'!O717=\"\", \"\", 'Ek.3-A'!O717)","v":""},{"$f":"'Ek.3-A'!R717","v":0},{"$f":"'Ek.3-A'!K717","v":""},{"$f":"'Ek.3-A'!L717","v":""},{"v":0,"d":"%0.00"},"H",{"$f":"IF(O717=\"E\",SUM($N$5:N717),0)","v":{"v":0,"d":"%0.00"}},0]
[{"v":8.18000000000001,"d":"8.18"},"YERLİ KATKI ORANI RAPORU",null,390750000000,0.6]
[{"v":8.19000000000001,"d":"8.19"},"YERLİ KATKI ORANI RAPORU",null,291819989000,0.6]
[{"v":8.20000000000001,"d":"8.20"},"YERLİ KATKI ORANI RAPORU",null,293339990023,0.6]
[{"v":8.21000000000001,"d":"8.21"},"YERLİ KATKI ORANI RAPORU",null,293391900011,0.6]
[{"v":8.22000000000001,"d":"8.22"},"YERLİ KATKI ORANI RAPORU",null,850162001200,0.6]
[{"v":8.23000000000001,"d":"8.23"},"YERLİ KATKI ORANI RAPORU",null,850164000000,0.6]
[{"v":8.24000000000001,"d":"8.24"},"YERLİ KATKI ORANI RAPORU",null,710811000000,0.6]
[{"v":8.25000000000001,"d":"8.25"},"YERLİ KATKI ORANI RAPORU",null,284330000000,0.6]
[{"v":8.26000000000001,"d":"8.26"},"YERLİ KATKI ORANI RAPORU",null,710900000012,0.6]
[{"v":8.27000000000001,"d":"8.27"},"YERLİ KATKI ORANI RAPORU",null,710900000011,0.6,null,{"$f":"G702+1","v":267},{"$f":"IF(TRIM('Ek.3-A'!E727)<>\"\",\"var\",\"yok\")","v":"yok"},{"$f":"IF('Ek.3-A'!E727=\"\", \"\", IF(VLOOKUP('Ek.3-A'!E727, Veriler!D:E, 2, 0)=0, \"\", VLOOKUP('Ek.3-A'!E727, Veriler!D:E, 2, 0)))","v":""},{"$f":"IF('Ek.3-A'!O727=\"\", \"\", 'Ek.3-A'!O727)","v":""},{"$f":"'Ek.3-A'!R727","v":0},{"$f":"'Ek.3-A'!K727","v":""},{"$f":"'Ek.3-A'!L727","v":""},{"$f":"IF(H727=\"var\",0,IF(M727<=0.005,M727,0))","v":{"v":0,"d":"%0.00"}},{"$f":"IF(M727<=0.005,\"E\",\"H\")","v":"H"},{"$f":"IF(O727=\"E\",SUM($N$5:N727),0)","v":{"v":0,"d":"%0.00"}},{"$f":"IF(P727<=0.1, K727, IF(N727>$F$2, N727*K727, $F$2*K727))","v":0}]
[{"v":8.28000000000001,"d":"8.28"},"YERLİ KATKI ORANI RAPORU",null,853222000000,0.6,null,{"$f":"G727+1","v":268},{"$f":"IF(TRIM('Ek.3-A'!E728)<>\"\",\"var\",\"yok\")","v":"yok"},{"$f":"IF('Ek.3-A'!E728=\"\", \"\", IF(VLOOKUP('Ek.3-A'!E728, Veriler!D:E, 2, 0)=0, \"\", VLOOKUP('Ek.3-A'!E728, Veriler!D:E, 2, 0)))","v":""},{"$f":"IF('Ek.3-A'!O728=\"\", \"\", 'Ek.3-A'!O728)","v":""},{"$f":"'Ek.3-A'!R728","v":0},{"$f":"'Ek.3-A'!K728","v":""},{"$f":"'Ek.3-A'!L728","v":""},{"$f":"IF(H728=\"var\",0,IF(M728<=0.005,M728,0))","v":{"v":0,"d":"%0.00"}},{"$f":"IF(M728<=0.005,\"E\",\"H\")","v":"H"},{"$f":"IF(O728=\"E\",SUM($N$5:N728),0)","v":{"v":0,"d":"%0.00"}},{"$f":"IF(P728<=0.1, K728, IF(N728>$F$2, N728*K728, $F$2*K728))","v":0}]
[{"v":8.29000000000001,"d":"8.29"},"YERLİ KATKI ORANI RAPORU",null,282612000000,0.6,null,{"$f":"G728+1","v":269},{"$f":"IF(TRIM('Ek.3-A'!E729)<>\"\",\"var\",\"yok\")","v":"yok"},{"$f":"IF('Ek.3-A'!E729=\"\", \"\", IF(VLOOKUP('Ek.3-A'!E729, Veriler!D:E, 2, 0)=0, \"\", VLOOKUP('Ek.3-A'!E729, Veriler!D:E, 2, 0)))","v":""},{"$f":"IF('Ek.3-A'!O729=\"\", \"\", 'Ek.3-A'!O729)","v":""},{"$f":"'Ek.3-A'!R729","v":0},{"$f":"'Ek.3-A'!K729","v":""},{"$f":"'Ek.3-A'!L729","v":""},{"v":0,"d":"%0.00"},"H",{"$f":"IF(O729=\"E\",SUM($N$5:N729),0)","v":{"v":0,"d":"%0.00"}},0]
[{"v":8.30000000000001,"d":"8.30"},"YERLİ KATKI ORANI RAPORU",null,290519001013,0.6,null,{"$f":"G729+1","v":270},{"$f":"IF(TRIM('Ek.3-A'!E730)<>\"\",\"var\",\"yok\")","v":"yok"},{"$f":"IF('Ek.3-A'!E730=\"\", \"\", IF(VLOOKUP('Ek.3-A'!E730, Veriler!D:E, 2, 0)=0, \"\", VLOOKUP('Ek.3-A'!E730, Veriler!D:E, 2, 0)))","v":""},{"$f":"IF('Ek.3-A'!O730=\"\", \"\", 'Ek.3-A'!O730)","v":""},{"$f":"'Ek.3-A'!R730","v":0},{"$f":"'Ek.3-A'!K730","v":""},{"$f":"'Ek.3-A'!L730","v":""},{"v":0,"d":"%0.00"},"H",{"$f":"IF(O730=\"E\",SUM($N$5:N730),0)","v":{"v":0,"d":"%0.00"}},0]
[{"v":8.31000000000001,"d":"8.31"},"YERLİ KATKI ORANI RAPORU",null,282732000000,0.6,null,271,{"$f":"IF(TRIM('Ek.3-A'!E731)<>\"\",\"var\",\"yok\")","v":"yok"},{"$f":"IF('Ek.3-A'!E731=\"\", \"\", IF(VLOOKUP('Ek.3-A'!E731, Veriler!D:E, 2, 0)=0, \"\", VLOOKUP('Ek.3-A'!E731, Veriler!D:E, 2, 0)))","v":""},{"$f":"IF('Ek.3-A'!O731=\"\", \"\", 'Ek.3-A'!O731)","v":""},{"$f":"'Ek.3-A'!R731","v":0},{"$f":"'Ek.3-A'!K731","v":""},{"$f":"'Ek.3-A'!L731","v":""},{"v":0,"d":"%0.00"},"H",{"$f":"IF(O731=\"E\",SUM($N$5:N731),0)","v":{"v":0,"d":"%0.00"}},0]
[{"v":8.32000000000001,"d":"8.32"},"YERLİ KATKI ORANI RAPORU",null,283329800012,0.6,null,272,{"$f":"IF(TRIM('Ek.3-A'!E732)<>\"\",\"var\",\"yok\")","v":"yok"},{"$f":"IF('Ek.3-A'!E732=\"\", \"\", IF(VLOOKUP('Ek.3-A'!E732, Veriler!D:E, 2, 0)=0, \"\", VLOOKUP('Ek.3-A'!E732, Veriler!D:E, 2, 0)))","v":""},{"$f":"IF('Ek.3-A'!O732=\"\", \"\", 'Ek.3-A'!O732)","v":""},{"$f":"'Ek.3-A'!R732","v":0},{"$f":"'Ek.3-A'!K732","v":""},{"$f":"'Ek.3-A'!L732","v":""},{"v":0,"d":"%0.00"},"H",{"$f":"IF(O732=\"E\",SUM($N$5:N732),0)","v":{"v":0,"d":"%0.00"}},0]
[{"v":8.33000000000001,"d":"8.33"},"YERLİ KATKI ORANI RAPORU",null,283330002000,0.6,null,273,{"$f":"IF(TRIM('Ek.3-A'!E733)<>\"\",\"var\",\"yok\")","v":"yok"},{"$f":"IF('Ek.3-A'!E733=\"\", \"\", IF(VLOOKUP('Ek.3-A'!E733, Veriler!D:E, 2, 0)=0, \"\", VLOOKUP('Ek.3-A'!E733, Veriler!D:E, 2, 0)))","v":""},{"$f":"IF('Ek.3-A'!O733=\"\", \"\", 'Ek.3-A'!O733)","v":""},{"$f":"'Ek.3-A'!R733","v":0},{"$f":"'Ek.3-A'!K733","v":""},{"$f":"'Ek.3-A'!L733","v":""},{"v":0,"d":"%0.00"},"H",{"$f":"IF(O733=\"E\",SUM($N$5:N733),0)","v":{"v":0,"d":"%0.00"}},0]
[{"v":8.34000000000001,"d":"8.34"},"YERLİ KATKI ORANI RAPORU",null,291570503016,0.6,null,274,{"$f":"IF(TRIM('Ek.3-A'!E734)<>\"\",\"var\",\"yok\")","v":"yok"},{"$f":"IF('Ek.3-A'!E734=\"\", \"\", IF(VLOOKUP('Ek.3-A'!E734, Veriler!D:E, 2, 0)=0, \"\", VLOOKUP('Ek.3-A'!E734, Veriler!D:E, 2, 0)))","v":""},{"$f":"IF('Ek.3-A'!O734=\"\", \"\", 'Ek.3-A'!O734)","v":""},{"$f":"'Ek.3-A'!R734","v":0},{"$f":"'Ek.3-A'!K734","v":""},{"$f":"'Ek.3-A'!L734","v":""},{"v":0,"d":"%0.00"},"H",{"$f":"IF(O734=\"E\",SUM($N$5:N734),0)","v":{"v":0,"d":"%0.00"}},0]
[{"v":8.35000000000001,"d":"8.35"},"YERLİ KATKI ORANI RAPORU",null,283322000000,0.6,null,275,{"$f":"IF(TRIM('Ek.3-A'!E735)<>\"\",\"var\",\"yok\")","v":"yok"},{"$f":"IF('Ek.3-A'!E735=\"\", \"\", IF(VLOOKUP('Ek.3-A'!E735, Veriler!D:E, 2, 0)=0, \"\", VLOOKUP('Ek.3-A'!E735, Veriler!D:E, 2, 0)))","v":""},{"$f":"IF('Ek.3-A'!O735=\"\", \"\", 'Ek.3-A'!O735)","v":""},{"$f":"'Ek.3-A'!R735","v":0},{"$f":"'Ek.3-A'!K735","v":""},{"$f":"'Ek.3-A'!L735","v":""},{"v":0,"d":"%0.00"},"H",{"$f":"IF(O735=\"E\",SUM($N$5:N735),0)","v":{"v":0,"d":"%0.00"}},0]
[{"v":8.36000000000001,"d":"8.36"},"YERLİ KATKI ORANI RAPORU",null,761290200000,0.6,null,276,{"$f":"IF(TRIM('Ek.3-A'!E736)<>\"\",\"var\",\"yok\")","v":"yok"},{"$f":"IF('Ek.3-A'!E736=\"\", \"\", IF(VLOOKUP('Ek.3-A'!E736, Veriler!D:E, 2, 0)=0, \"\", VLOOKUP('Ek.3-A'!E736, Veriler!D:E, 2, 0)))","v":""},{"$f":"IF('Ek.3-A'!O736=\"\", \"\", 'Ek.3-A'!O736)","v":""},{"$f":"'Ek.3-A'!R736","v":0},{"$f":"'Ek.3-A'!K736","v":""},{"$f":"'Ek.3-A'!L736","v":""},{"v":0,"d":"%0.00"},"H",{"$f":"IF(O736=\"E\",SUM($N$5:N736),0)","v":{"v":0,"d":"%0.00"}},0]
[{"v":8.37000000000001,"d":"8.37"},"YERLİ KATKI ORANI RAPORU",null,761410000000,0.6,null,277,{"$f":"IF(TRIM('Ek.3-A'!E737)<>\"\",\"var\",\"yok\")","v":"yok"},{"$f":"IF('Ek.3-A'!E737=\"\", \"\", IF(VLOOKUP('Ek.3-A'!E737, Veriler!D:E, 2, 0)=0, \"\", VLOOKUP('Ek.3-A'!E737, Veriler!D:E, 2, 0)))","v":""},{"$f":"IF('Ek.3-A'!O737=\"\", \"\", 'Ek.3-A'!O737)","v":""},{"$f":"'Ek.3-A'!R737","v":0},{"$f":"'Ek.3-A'!K737","v":""},{"$f":"'Ek.3-A'!L737","v":""},{"v":0,"d":"%0.00"},"H",{"$f":"IF(O737=\"E\",SUM($N$5:N737),0)","v":{"v":0,"d":"%0.00"}},0]
[{"v":8.38000000000001,"d":"8.38"},"YERLİ KATKI ORANI RAPORU",null,761490000000,0.6,null,278,{"$f":"IF(TRIM('Ek.3-A'!E738)<>\"\",\"var\",\"yok\")","v":"yok"},{"$f":"IF('Ek.3-A'!E738=\"\", \"\", IF(VLOOKUP('Ek.3-A'!E738, Veriler!D:E, 2, 0)=0, \"\", VLOOKUP('Ek.3-A'!E738, Veriler!D:E, 2, 0)))","v":""},{"$f":"IF('Ek.3-A'!O738=\"\", \"\", 'Ek.3-A'!O738)","v":""},{"$f":"'Ek.3-A'!R738","v":0},{"$f":"'Ek.3-A'!K738","v":""},{"$f":"'Ek.3-A'!L738","v":""},{"v":0,"d":"%0.00"},"H",{"$f":"IF(O738=\"E\",SUM($N$5:N738),0)","v":{"v":0,"d":"%0.00"}},0]
[{"v":8.39000000000001,"d":"8.39"},"YERLİ KATKI ORANI RAPORU",null,761290800000,0.6,null,279,{"$f":"IF(TRIM('Ek.3-A'!E739)<>\"\",\"var\",\"yok\")","v":"yok"},{"$f":"IF('Ek.3-A'!E739=\"\", \"\", IF(VLOOKUP('Ek.3-A'!E739, Veriler!D:E, 2, 0)=0, \"\", VLOOKUP('Ek.3-A'!E739, Veriler!D:E, 2, 0)))","v":""},{"$f":"IF('Ek.3-A'!O739=\"\", \"\", 'Ek.3-A'!O739)","v":""},{"$f":"'Ek.3-A'!R739","v":0},{"$f":"'Ek.3-A'!K739","v":""},{"$f":"'Ek.3-A'!L739","v":""},{"v":0,"d":"%0.00"},"H",{"$f":"IF(O739=\"E\",SUM($N$5:N739),0)","v":{"v":0,"d":"%0.00"}},0]
[{"v":8.40000000000001,"d":"8.40"},"YERLİ KATKI ORANI RAPORU",null,760200190000,0.6,null,280,{"$f":"IF(TRIM('Ek.3-A'!E740)<>\"\",\"var\",\"yok\")","v":"yok"},{"$f":"IF('Ek.3-A'!E740=\"\", \"\", IF(VLOOKUP('Ek.3-A'!E740, Veriler!D:E, 2, 0)=0, \"\", VLOOKUP('Ek.3-A'!E740, Veriler!D:E, 2, 0)))","v":""},{"$f":"IF('Ek.3-A'!O740=\"\", \"\", 'Ek.3-A'!O740)","v":""},{"$f":"'Ek.3-A'!R740","v":0},{"$f":"'Ek.3-A'!K740","v":""},{"$f":"'Ek.3-A'!L740","v":""},{"v":0,"d":"%0.00"},"H",{"$f":"IF(O740=\"E\",SUM($N$5:N740),0)","v":{"v":0,"d":"%0.00"}},0]
[{"v":8.41000000000001,"d":"8.41"},"YERLİ KATKI ORANI RAPORU",null,761520000015,0.6,{"$nulls":3},""]
[{"v":8.42000000000001,"d":"8.42"},"YERLİ KATKI ORANI RAPORU",null,283330001000,0.6,null,{"$f":"G717+1","v":267},{"$f":"IF(TRIM('Ek.3-A'!E742)<>\"\",\"var\",\"yok\")","v":"yok"},{"$f":"IF('Ek.3-A'!E742=\"\", \"\", IF(VLOOKUP('Ek.3-A'!E742, Veriler!D:E, 2, 0)=0, \"\", VLOOKUP('Ek.3-A'!E742, Veriler!D:E, 2, 0)))","v":""},{"$f":"IF('Ek.3-A'!O742=\"\", \"\", 'Ek.3-A'!O742)","v":""},{"$f":"'Ek.3-A'!R742","v":0},{"$f":"'Ek.3-A'!K742","v":""},{"$f":"'Ek.3-A'!L742","v":""},{"$f":"IF(H742=\"var\",0,IF(M742<=0.005,M742,0))","v":{"v":0,"d":"%0.00"}},{"$f":"IF(M742<=0.005,\"E\",\"H\")","v":"H"},{"$f":"IF(O742=\"E\",SUM($N$5:N742),0)","v":{"v":0,"d":"%0.00"}},{"$f":"IF(P742<=0.1, K742, IF(N742>$F$2, N742*K742, $F$2*K742))","v":0}]
[{"v":8.43000000000001,"d":"8.43"},"YERLİ KATKI ORANI RAPORU",null,284390100000,0.6,null,{"$f":"G742+1","v":268},{"$f":"IF(TRIM('Ek.3-A'!E743)<>\"\",\"var\",\"yok\")","v":"yok"},{"$f":"IF('Ek.3-A'!E743=\"\", \"\", IF(VLOOKUP('Ek.3-A'!E743, Veriler!D:E, 2, 0)=0, \"\", VLOOKUP('Ek.3-A'!E743, Veriler!D:E, 2, 0)))","v":""},{"$f":"IF('Ek.3-A'!O743=\"\", \"\", 'Ek.3-A'!O743)","v":""},{"$f":"'Ek.3-A'!R743","v":0},{"$f":"'Ek.3-A'!K743","v":""},{"$f":"'Ek.3-A'!L743","v":""},{"$f":"IF(H743=\"var\",0,IF(M743<=0.005,M743,0))","v":{"v":0,"d":"%0.00"}},{"$f":"IF(M743<=0.005,\"E\",\"H\")","v":"H"},{"$f":"IF(O743=\"E\",SUM($N$5:N743),0)","v":{"v":0,"d":"%0.00"}},{"$f":"IF(P743<=0.1, K743, IF(N743>$F$2, N743*K743, $F$2*K743))","v":0}]
[{"v":8.44000000000001,"d":"8.44"},"YERLİ KATKI ORANI RAPORU",null,293220909013,0.6,null,{"$f":"G743+1","v":269},{"$f":"IF(TRIM('Ek.3-A'!E744)<>\"\",\"var\",\"yok\")","v":"yok"},{"$f":"IF('Ek.3-A'!E744=\"\", \"\", IF(VLOOKUP('Ek.3-A'!E744, Veriler!D:E, 2, 0)=0, \"\", VLOOKUP('Ek.3-A'!E744, Veriler!D:E, 2, 0)))","v":""},{"$f":"IF('Ek.3-A'!O744=\"\", \"\", 'Ek.3-A'!O744)","v":""},{"$f":"'Ek.3-A'!R744","v":0},{"$f":"'Ek.3-A'!K744","v":""},{"$f":"'Ek.3-A'!L744","v":""},{"v":0,"d":"%0.00"},"H",{"$f":"IF(O744=\"E\",SUM($N$5:N744),0)","v":{"v":0,"d":"%0.00"}},0]
[{"v":8.45000000000001,"d":"8.45"},"YERLİ KATKI ORANI RAPORU",null,292090709000,0.6,null,270,{"$f":"IF(TRIM('Ek.3-A'!E745)<>\"\",\"var\",\"yok\")","v":"yok"},{"$f":"IF('Ek.3-A'!E745=\"\", \"\", IF(VLOOKUP('Ek.3-A'!E745, Veriler!D:E, 2, 0)=0, \"\", VLOOKUP('Ek.3-A'!E745, Veriler!D:E, 2, 0)))","v":""},{"$f":"IF('Ek.3-A'!O745=\"\", \"\", 'Ek.3-A'!O745)","v":""},{"$f":"'Ek.3-A'!R745","v":0},{"$f":"'Ek.3-A'!K745","v":""},{"$f":"'Ek.3-A'!L745","v":""},{"v":0,"d":"%0.00"},"H",{"$f":"IF(O745=\"E\",SUM($N$5:N745),0)","v":{"v":0,"d":"%0.00"}},0]
[{"v":8.46000000000001,"d":"8.46"},"YERLİ KATKI ORANI RAPORU",null,281129909000,0.6,null,271,{"$f":"IF(TRIM('Ek.3-A'!E746)<>\"\",\"var\",\"yok\")","v":"yok"},{"$f":"IF('Ek.3-A'!E746=\"\", \"\", IF(VLOOKUP('Ek.3-A'!E746, Veriler!D:E, 2, 0)=0, \"\", VLOOKUP('Ek.3-A'!E746, Veriler!D:E, 2, 0)))","v":""},{"$f":"IF('Ek.3-A'!O746=\"\", \"\", 'Ek.3-A'!O746)","v":""},{"$f":"'Ek.3-A'!R746","v":0},{"$f":"'Ek.3-A'!K746","v":""},{"$f":"'Ek.3-A'!L746","v":""},{"v":0,"d":"%0.00"},"H",{"$f":"IF(O746=\"E\",SUM($N$5:N746),0)","v":{"v":0,"d":"%0.00"}},0]
[{"v":8.47000000000001,"d":"8.47"},"YERLİ KATKI ORANI RAPORU",null,281290000018,0.6,null,272,{"$f":"IF(TRIM('Ek.3-A'!E747)<>\"\",\"var\",\"yok\")","v":"yok"},{"$f":"IF('Ek.3-A'!E747=\"\", \"\", IF(VLOOKUP('Ek.3-A'!E747, Veriler!D:E, 2, 0)=0, \"\", VLOOKUP('Ek.3-A'!E747, Veriler!D:E, 2, 0)))","v":""},{"$f":"IF('Ek.3-A'!O747=\"\", \"\", 'Ek.3-A'!O747)","v":""},{"$f":"'Ek.3-A'!R747","v":0},{"$f":"'Ek.3-A'!K747","v":""},{"$f":"'Ek.3-A'!L747","v":""},{"v":0,"d":"%0.00"},"H",{"$f":"IF(O747=\"E\",SUM($N$5:N747),0)","v":{"v":0,"d":"%0.00"}},0]
[{"v":8.48000000000001,"d":"8.48"},"YERLİ KATKI ORANI RAPORU",null,292146000029,0.6,null,273,{"$f":"IF(TRIM('Ek.3-A'!E748)<>\"\",\"var\",\"yok\")","v":"yok"},{"$f":"IF('Ek.3-A'!E748=\"\", \"\", IF(VLOOKUP('Ek.3-A'!E748, Veriler!D:E, 2, 0)=0, \"\", VLOOKUP('Ek.3-A'!E748, Veriler!D:E, 2, 0)))","v":""},{"$f":"IF('Ek.3-A'!O748=\"\", \"\", 'Ek.3-A'!O748)","v":""},{"$f":"'Ek.3-A'!R748","v":0},{"$f":"'Ek.3-A'!K748","v":""},{"$f":"'Ek.3-A'!L748","v":""},{"v":0,"d":"%0.00"},"H",{"$f":"IF(O748=\"E\",SUM($N$5:N748),0)","v":{"v":0,"d":"%0.00"}},0]
[{"v":8.49000000000001,"d":"8.49"},"YERLİ KATKI ORANI RAPORU",null,293890909013,0.6,null,274,{"$f":"IF(TRIM('Ek.3-A'!E749)<>\"\",\"var\",\"yok\")","v":"yok"},{"$f":"IF('Ek.3-A'!E749=\"\", \"\", IF(VLOOKUP('Ek.3-A'!E749, Veriler!D:E, 2, 0)=0, \"\", VLOOKUP('Ek.3-A'!E749, Veriler!D:E, 2, 0)))","v":""},{"$f":"IF('Ek.3-A'!O749=\"\", \"\", 'Ek.3-A'!O749)","v":""},{"$f":"'Ek.3-A'!R749","v":0},{"$f":"'Ek.3-A'!K749","v":""},{"$f":"'Ek.3-A'!L749","v":""},{"v":0,"d":"%0.00"},"H",{"$f":"IF(O749=\"E\",SUM($N$5:N749),0)","v":{"v":0,"d":"%0.00"}},0]
[{"v":8.50000000000001,"d":"8.50"},"YERLİ KATKI ORANI RAPORU",null,291560190015,0.6,null,275,{"$f":"IF(TRIM('Ek.3-A'!E750)<>\"\",\"var\",\"yok\")","v":"yok"},{"$f":"IF('Ek.3-A'!E750=\"\", \"\", IF(VLOOKUP('Ek.3-A'!E750, Veriler!D:E, 2, 0)=0, \"\", VLOOKUP('Ek.3-A'!E750, Veriler!D:E, 2, 0)))","v":""},{"$f":"IF('Ek.3-A'!O750=\"\", \"\", 'Ek.3-A'!O750)","v":""},{"$f":"'Ek.3-A'!R750","v":0},{"$f":"'Ek.3-A'!K750","v":""},{"$f":"'Ek.3-A'!L750","v":""},{"v":0,"d":"%0.00"},"H",{"$f":"IF(O750=\"E\",SUM($N$5:N750),0)","v":{"v":0,"d":"%0.00"}},0]
[{"v":8.51000000000001,"d":"8.51"},"YERLİ KATKI ORANI RAPORU",null,291560901000,0.6,null,276,{"$f":"IF(TRIM('Ek.3-A'!E751)<>\"\",\"var\",\"yok\")","v":"yok"},{"$f":"IF('Ek.3-A'!E751=\"\", \"\", IF(VLOOKUP('Ek.3-A'!E751, Veriler!D:E, 2, 0)=0, \"\", VLOOKUP('Ek.3-A'!E751, Veriler!D:E, 2, 0)))","v":""},{"$f":"IF('Ek.3-A'!O751=\"\", \"\", 'Ek.3-A'!O751)","v":""},{"$f":"'Ek.3-A'!R751","v":0},{"$f":"'Ek.3-A'!K751","v":""},{"$f":"'Ek.3-A'!L751","v":""},{"v":0,"d":"%0.00"},"H",{"$f":"IF(O751=\"E\",SUM($N$5:N751),0)","v":{"v":0,"d":"%0.00"}},0]
[{"v":8.52000000000001,"d":"8.52"},"YERLİ KATKI ORANI RAPORU",null,292239000018,0.6,null,277,{"$f":"IF(TRIM('Ek.3-A'!E752)<>\"\",\"var\",\"yok\")","v":"yok"},{"$f":"IF('Ek.3-A'!E752=\"\", \"\", IF(VLOOKUP('Ek.3-A'!E752, Veriler!D:E, 2, 0)=0, \"\", VLOOKUP('Ek.3-A'!E752, Veriler!D:E, 2, 0)))","v":""},{"$f":"IF('Ek.3-A'!O752=\"\", \"\", 'Ek.3-A'!O752)","v":""},{"$f":"'Ek.3-A'!R752","v":0},{"$f":"'Ek.3-A'!K752","v":""},{"$f":"'Ek.3-A'!L752","v":""},{"v":0,"d":"%0.00"},"H",{"$f":"IF(O752=\"E\",SUM($N$5:N752),0)","v":{"v":0,"d":"%0.00"}},0]
[{"v":8.53000000000001,"d":"8.53"},"YERLİ KATKI ORANI RAPORU",null,292229009012,0.6,null,278,{"$f":"IF(TRIM('Ek.3-A'!E753)<>\"\",\"var\",\"yok\")","v":"yok"},{"$f":"IF('Ek.3-A'!E753=\"\", \"\", IF(VLOOKUP('Ek.3-A'!E753, Veriler!D:E, 2, 0)=0, \"\", VLOOKUP('Ek.3-A'!E753, Veriler!D:E, 2, 0)))","v":""},{"$f":"IF('Ek.3-A'!O753=\"\", \"\", 'Ek.3-A'!O753)","v":""},{"$f":"'Ek.3-A'!R753","v":0},{"$f":"'Ek.3-A'!K753","v":""},{"$f":"'Ek.3-A'!L753","v":""},{"v":0,"d":"%0.00"},"H",{"$f":"IF(O753=\"E\",SUM($N$5:N753),0)","v":{"v":0,"d":"%0.00"}},0]
[{"v":8.54000000000001,"d":"8.54"},"YERLİ KATKI ORANI RAPORU",null,392190410000,0.6,null,279,{"$f":"IF(TRIM('Ek.3-A'!E754)<>\"\",\"var\",\"yok\")","v":"yok"},{"$f":"IF('Ek.3-A'!E754=\"\", \"\", IF(VLOOKUP('Ek.3-A'!E754, Veriler!D:E, 2, 0)=0, \"\", VLOOKUP('Ek.3-A'!E754, Veriler!D:E, 2, 0)))","v":""},{"$f":"IF('Ek.3-A'!O754=\"\", \"\", 'Ek.3-A'!O754)","v":""},{"$f":"'Ek.3-A'!R754","v":0},{"$f":"'Ek.3-A'!K754","v":""},{"$f":"'Ek.3-A'!L754","v":""},{"v":0,"d":"%0.00"},"H",{"$f":"IF(O754=\"E\",SUM($N$5:N754),0)","v":{"v":0,"d":"%0.00"}},0]
[{"v":8.55000000000001,"d":"8.55"},"YERLİ KATKI ORANI RAPORU",null,392093000000,0.6,null,280,{"$f":"IF(TRIM('Ek.3-A'!E755)<>\"\",\"var\",\"yok\")","v":"yok"},{"$f":"IF('Ek.3-A'!E755=\"\", \"\", IF(VLOOKUP('Ek.3-A'!E755, Veriler!D:E, 2, 0)=0, \"\", VLOOKUP('Ek.3-A'!E755, Veriler!D:E, 2, 0)))","v":""},{"$f":"IF('Ek.3-A'!O755=\"\", \"\", 'Ek.3-A'!O755)","v":""},{"$f":"'Ek.3-A'!R755","v":0},{"$f":"'Ek.3-A'!K755","v":""},{"$f":"'Ek.3-A'!L755","v":""},{"v":0,"d":"%0.00"},"H",{"$f":"IF(O755=\"E\",SUM($N$5:N755),0)","v":{"v":0,"d":"%0.00"}},0]
[{"v":8.56000000000001,"d":"8.56"},"YERLİ KATKI ORANI RAPORU",null,292700000024,0.6]
[{"v":8.57000000000001,"d":"8.57"},"YERLİ KATKI ORANI RAPORU",null,292239000011,0.6]
[{"v":8.58000000000001,"d":"8.58"},"YERLİ KATKI ORANI RAPORU",null,292229009011,0.6]
[{"v":8.59000000000001,"d":"8.59"},"YERLİ KATKI ORANI RAPORU",null,292221000021,0.6]
[{"v":8.60000000000001,"d":"8.60"},"YERLİ KATKI ORANI RAPORU",null,293491000029,0.6]
[{"v":8.61000000000001,"d":"8.61"},"YERLİ KATKI ORANI RAPORU",null,294110000013,0.6]
[{"v":8.62000000000001,"d":"8.62"},"YERLİ KATKI ORANI RAPORU",null,294110000019,0.6]
[{"v":8.63000000000001,"d":"8.63"},"YERLİ KATKI ORANI RAPORU",null,281420000000,0.6]
[{"v":8.64000000000001,"d":"8.64"},"YERLİ KATKI ORANI RAPORU",null,283699174000,0.6]
[{"v":8.65000000000001,"d":"8.65"},"YERLİ KATKI ORANI RAPORU",null,284020901000,0.6,null,{"$f":"G740+1","v":281},{"$f":"IF(TRIM('Ek.3-A'!E765)<>\"\",\"var\",\"yok\")","v":"yok"},{"$f":"IF('Ek.3-A'!E765=\"\", \"\", IF(VLOOKUP('Ek.3-A'!E765, Veriler!D:E, 2, 0)=0, \"\", VLOOKUP('Ek.3-A'!E765, Veriler!D:E, 2, 0)))","v":""},{"$f":"IF('Ek.3-A'!O765=\"\", \"\", 'Ek.3-A'!O765)","v":""},{"$f":"'Ek.3-A'!R765","v":0},{"$f":"'Ek.3-A'!K765","v":""},{"$f":"'Ek.3-A'!L765","v":""},{"$f":"IF(H765=\"var\",0,IF(M765<=0.005,M765,0))","v":{"v":0,"d":"%0.00"}},{"$f":"IF(M765<=0.005,\"E\",\"H\")","v":"H"},{"$f":"IF(O765=\"E\",SUM($N$5:N765),0)","v":{"v":0,"d":"%0.00"}},{"$f":"IF(P765<=0.1, K765, IF(N765>$F$2, N765*K765, $F$2*K765))","v":0}]
[{"v":8.66000000000001,"d":"8.66"},"YERLİ KATKI ORANI RAPORU",null,283330009014,0.6,null,{"$f":"G765+1","v":282},{"$f":"IF(TRIM('Ek.3-A'!E766)<>\"\",\"var\",\"yok\")","v":"yok"},{"$f":"IF('Ek.3-A'!E766=\"\", \"\", IF(VLOOKUP('Ek.3-A'!E766, Veriler!D:E, 2, 0)=0, \"\", VLOOKUP('Ek.3-A'!E766, Veriler!D:E, 2, 0)))","v":""},{"$f":"IF('Ek.3-A'!O766=\"\", \"\", 'Ek.3-A'!O766)","v":""},{"$f":"'Ek.3-A'!R766","v":0},{"$f":"'Ek.3-A'!K766","v":""},{"$f":"'Ek.3-A'!L766","v":""},{"$f":"IF(H766=\"var\",0,IF(M766<=0.005,M766,0))","v":{"v":0,"d":"%0.00"}},{"$f":"IF(M766<=0.005,\"E\",\"H\")","v":"H"},{"$f":"IF(O766=\"E\",SUM($N$5:N766),0)","v":{"v":0,"d":"%0.00"}},{"$f":"IF(P766<=0.1, K766, IF(N766>$F$2, N766*K766, $F$2*K766))","v":0}]
[{"v":8.67000000000001,"d":"8.67"},"YERLİ KATKI ORANI RAPORU",null,310540000012,0.6,null,{"$f":"G766+1","v":283},{"$f":"IF(TRIM('Ek.3-A'!E767)<>\"\",\"var\",\"yok\")","v":"yok"},{"$f":"IF('Ek.3-A'!E767=\"\", \"\", IF(VLOOKUP('Ek.3-A'!E767, Veriler!D:E, 2, 0)=0, \"\", VLOOKUP('Ek.3-A'!E767, Veriler!D:E, 2, 0)))","v":""},{"$f":"IF('Ek.3-A'!O767=\"\", \"\", 'Ek.3-A'!O767)","v":""},{"$f":"'Ek.3-A'!R767","v":0},{"$f":"'Ek.3-A'!K767","v":""},{"$f":"'Ek.3-A'!L767","v":""},{"v":0,"d":"%0.00"},"H",{"$f":"IF(O767=\"E\",SUM($N$5:N767),0)","v":{"v":0,"d":"%0.00"}},0]
[{"v":8.68000000000001,"d":"8.68"},"YERLİ KATKI ORANI RAPORU",null,282690802000,0.6,null,{"$f":"G767+1","v":284},{"$f":"IF(TRIM('Ek.3-A'!E768)<>\"\",\"var\",\"yok\")","v":"yok"},{"$f":"IF('Ek.3-A'!E768=\"\", \"\", IF(VLOOKUP('Ek.3-A'!E768, Veriler!D:E, 2, 0)=0, \"\", VLOOKUP('Ek.3-A'!E768, Veriler!D:E, 2, 0)))","v":""},{"$f":"IF('Ek.3-A'!O768=\"\", \"\", 'Ek.3-A'!O768)","v":""},{"$f":"'Ek.3-A'!R768","v":0},{"$f":"'Ek.3-A'!K768","v":""},{"$f":"'Ek.3-A'!L768","v":""},{"v":0,"d":"%0.00"},"H",{"$f":"IF(O768=\"E\",SUM($N$5:N768),0)","v":{"v":0,"d":"%0.00"}},0]
[{"v":8.69000000000001,"d":"8.69"},"YERLİ KATKI ORANI RAPORU",null,282619101000,0.6,null,285,{"$f":"IF(TRIM('Ek.3-A'!E769)<>\"\",\"var\",\"yok\")","v":"yok"},{"$f":"IF('Ek.3-A'!E769=\"\", \"\", IF(VLOOKUP('Ek.3-A'!E769, Veriler!D:E, 2, 0)=0, \"\", VLOOKUP('Ek.3-A'!E769, Veriler!D:E, 2, 0)))","v":""},{"$f":"IF('Ek.3-A'!O769=\"\", \"\", 'Ek.3-A'!O769)","v":""},{"$f":"'Ek.3-A'!R769","v":0},{"$f":"'Ek.3-A'!K769","v":""},{"$f":"'Ek.3-A'!L769","v":""},{"v":0,"d":"%0.00"},"H",{"$f":"IF(O769=\"E\",SUM($N$5:N769),0)","v":{"v":0,"d":"%0.00"}},0]
[{"v":8.70000000000001,"d":"8.70"},"YERLİ KATKI ORANI RAPORU",null,291512000011,0.6,null,286,{"$f":"IF(TRIM('Ek.3-A'!E770)<>\"\",\"var\",\"yok\")","v":"yok"},{"$f":"IF('Ek.3-A'!E770=\"\", \"\", IF(VLOOKUP('Ek.3-A'!E770, Veriler!D:E, 2, 0)=0, \"\", VLOOKUP('Ek.3-A'!E770, Veriler!D:E, 2, 0)))","v":""},{"$f":"IF('Ek.3-A'!O770=\"\", \"\", 'Ek.3-A'!O770)","v":""},{"$f":"'Ek.3-A'!R770","v":0},{"$f":"'Ek.3-A'!K770","v":""},{"$f":"'Ek.3-A'!L770","v":""},{"v":0,"d":"%0.00"},"H",{"$f":"IF(O770=\"E\",SUM($N$5:N770),0)","v":{"v":0,"d":"%0.00"}},0]
[{"v":8.71000000000001,"d":"8.71"},"YERLİ KATKI ORANI RAPORU",null,283090859013,0.6,null,287,{"$f":"IF(TRIM('Ek.3-A'!E771)<>\"\",\"var\",\"yok\")","v":"yok"},{"$f":"IF('Ek.3-A'!E771=\"\", \"\", IF(VLOOKUP('Ek.3-A'!E771, Veriler!D:E, 2, 0)=0, \"\", VLOOKUP('Ek.3-A'!E771, Veriler!D:E, 2, 0)))","v":""},{"$f":"IF('Ek.3-A'!O771=\"\", \"\", 'Ek.3-A'!O771)","v":""},{"$f":"'Ek.3-A'!R771","v":0},{"$f":"'Ek.3-A'!K771","v":""},{"$f":"'Ek.3-A'!L771","v":""},{"v":0,"d":"%0.00"},"H",{"$f":"IF(O771=\"E\",SUM($N$5:N771),0)","v":{"v":0,"d":"%0.00"}},0]
[{"v":8.72000000000001,"d":"8.72"},"YERLİ KATKI ORANI RAPORU",null,282710000000,0.6,null,288,{"$f":"IF(TRIM('Ek.3-A'!E772)<>\"\",\"var\",\"yok\")","v":"yok"},{"$f":"IF('Ek.3-A'!E772=\"\", \"\", IF(VLOOKUP('Ek.3-A'!E772, Veriler!D:E, 2, 0)=0, \"\", VLOOKUP('Ek.3-A'!E772, Veriler!D:E, 2, 0)))","v":""},{"$f":"IF('Ek.3-A'!O772=\"\", \"\", 'Ek.3-A'!O772)","v":""},{"$f":"'Ek.3-A'!R772","v":0},{"$f":"'Ek.3-A'!K772","v":""},{"$f":"'Ek.3-A'!L772","v":""},{"v":0,"d":"%0.00"},"H",{"$f":"IF(O772=\"E\",SUM($N$5:N772),0)","v":{"v":0,"d":"%0.00"}},0]
[{"v":8.73000000000001,"d":"8.73"},"YERLİ KATKI ORANI RAPORU",null,283330009013,0.6,null,289,{"$f":"IF(TRIM('Ek.3-A'!E773)<>\"\",\"var\",\"yok\")","v":"yok"},{"$f":"IF('Ek.3-A'!E773=\"\", \"\", IF(VLOOKUP('Ek.3-A'!E773, Veriler!D:E, 2, 0)=0, \"\", VLOOKUP('Ek.3-A'!E773, Veriler!D:E, 2, 0)))","v":""},{"$f":"IF('Ek.3-A'!O773=\"\", \"\", 'Ek.3-A'!O773)","v":""},{"$f":"'Ek.3-A'!R773","v":0},{"$f":"'Ek.3-A'!K773","v":""},{"$f":"'Ek.3-A'!L773","v":""},{"v":0,"d":"%0.00"},"H",{"$f":"IF(O773=\"E\",SUM($N$5:N773),0)","v":{"v":0,"d":"%0.00"}},0]
[{"v":8.74000000000001,"d":"8.74"},"YERLİ KATKI ORANI RAPORU",null,284170001000,0.6,null,290,{"$f":"IF(TRIM('Ek.3-A'!E774)<>\"\",\"var\",\"yok\")","v":"yok"},{"$f":"IF('Ek.3-A'!E774=\"\", \"\", IF(VLOOKUP('Ek.3-A'!E774, Veriler!D:E, 2, 0)=0, \"\", VLOOKUP('Ek.3-A'!E774, Veriler!D:E, 2, 0)))","v":""},{"$f":"IF('Ek.3-A'!O774=\"\", \"\", 'Ek.3-A'!O774)","v":""},{"$f":"'Ek.3-A'!R774","v":0},{"$f":"'Ek.3-A'!K774","v":""},{"$f":"'Ek.3-A'!L774","v":""},{"v":0,"d":"%0.00"},"H",{"$f":"IF(O774=\"E\",SUM($N$5:N774),0)","v":{"v":0,"d":"%0.00"}},0]
[{"v":8.75000000000001,"d":"8.75"},"YERLİ KATKI ORANI RAPORU",null,310230100000,0.6,null,291,{"$f":"IF(TRIM('Ek.3-A'!E775)<>\"\",\"var\",\"yok\")","v":"yok"},{"$f":"IF('Ek.3-A'!E775=\"\", \"\", IF(VLOOKUP('Ek.3-A'!E775, Veriler!D:E, 2, 0)=0, \"\", VLOOKUP('Ek.3-A'!E775, Veriler!D:E, 2, 0)))","v":""},{"$f":"IF('Ek.3-A'!O775=\"\", \"\", 'Ek.3-A'!O775)","v":""},{"$f":"'Ek.3-A'!R775","v":0},{"$f":"'Ek.3-A'!K775","v":""},{"$f":"'Ek.3-A'!L775","v":""},{"v":0,"d":"%0.00"},"H",{"$f":"IF(O775=\"E\",SUM($N$5:N775),0)","v":{"v":0,"d":"%0.00"}},0]
[{"v":8.76000000000001,"d":"8.76"},"YERLİ KATKI ORANI RAPORU",null,310230900000,0.6,null,292,{"$f":"IF(TRIM('Ek.3-A'!E776)<>\"\",\"var\",\"yok\")","v":"yok"},{"$f":"IF('Ek.3-A'!E776=\"\", \"\", IF(VLOOKUP('Ek.3-A'!E776, Veriler!D:E, 2, 0)=0, \"\", VLOOKUP('Ek.3-A'!E776, Veriler!D:E, 2, 0)))","v":""},{"$f":"IF('Ek.3-A'!O776=\"\", \"\", 'Ek.3-A'!O776)","v":""},{"$f":"'Ek.3-A'!R776","v":0},{"$f":"'Ek.3-A'!K776","v":""},{"$f":"'Ek.3-A'!L776","v":""},{"v":0,"d":"%0.00"},"H",{"$f":"IF(O776=\"E\",SUM($N$5:N776),0)","v":{"v":0,"d":"%0.00"}},0]
[{"v":8.77000000000001,"d":"8.77"},"YERLİ KATKI ORANI RAPORU",null,310240100019,0.6,null,293,{"$f":"IF(TRIM('Ek.3-A'!E777)<>\"\",\"var\",\"yok\")","v":"yok"},{"$f":"IF('Ek.3-A'!E777=\"\", \"\", IF(VLOOKUP('Ek.3-A'!E777, Veriler!D:E, 2, 0)=0, \"\", VLOOKUP('Ek.3-A'!E777, Veriler!D:E, 2, 0)))","v":""},{"$f":"IF('Ek.3-A'!O777=\"\", \"\", 'Ek.3-A'!O777)","v":""},{"$f":"'Ek.3-A'!R777","v":0},{"$f":"'Ek.3-A'!K777","v":""},{"$f":"'Ek.3-A'!L777","v":""},{"v":0,"d":"%0.00"},"H",{"$f":"IF(O777=\"E\",SUM($N$5:N777),0)","v":{"v":0,"d":"%0.00"}},0]
[{"v":8.78000000000001,"d":"8.78"},"YERLİ KATKI ORANI RAPORU",null,291711009011,0.6,null,294,{"$f":"IF(TRIM('Ek.3-A'!E778)<>\"\",\"var\",\"yok\")","v":"yok"},{"$f":"IF('Ek.3-A'!E778=\"\", \"\", IF(VLOOKUP('Ek.3-A'!E778, Veriler!D:E, 2, 0)=0, \"\", VLOOKUP('Ek.3-A'!E778, Veriler!D:E, 2, 0)))","v":""},{"$f":"IF('Ek.3-A'!O778=\"\", \"\", 'Ek.3-A'!O778)","v":""},{"$f":"'Ek.3-A'!R778","v":0},{"$f":"'Ek.3-A'!K778","v":""},{"$f":"'Ek.3-A'!L778","v":""},{"v":0,"d":"%0.00"},"H",{"$f":"IF(O778=\"E\",SUM($N$5:N778),0)","v":{"v":0,"d":"%0.00"}},0]
[{"v":8.79000000000001,"d":"8.79"},"YERLİ KATKI ORANI RAPORU",null,282990101000,0.6,{"$nulls":3},""]
[{"v":8.80000000000001,"d":"8.80"},"YERLİ KATKI ORANI RAPORU",null,283340002000,0.6,null,{"$f":"G755+1","v":281},{"$f":"IF(TRIM('Ek.3-A'!E780)<>\"\",\"var\",\"yok\")","v":"yok"},{"$f":"IF('Ek.3-A'!E780=\"\", \"\", IF(VLOOKUP('Ek.3-A'!E780, Veriler!D:E, 2, 0)=0, \"\", VLOOKUP('Ek.3-A'!E780, Veriler!D:E, 2, 0)))","v":""},{"$f":"IF('Ek.3-A'!O780=\"\", \"\", 'Ek.3-A'!O780)","v":""},{"$f":"'Ek.3-A'!R780","v":0},{"$f":"'Ek.3-A'!K780","v":""},{"$f":"'Ek.3-A'!L780","v":""},{"$f":"IF(H780=\"var\",0,IF(M780<=0.005,M780,0))","v":{"v":0,"d":"%0.00"}},{"$f":"IF(M780<=0.005,\"E\",\"H\")","v":"H"},{"$f":"IF(O780=\"E\",SUM($N$5:N780),0)","v":{"v":0,"d":"%0.00"}},{"$f":"IF(P780<=0.1, K780, IF(N780>$F$2, N780*K780, $F$2*K780))","v":0}]
[{"v":8.81000000000001,"d":"8.81"},"YERLİ KATKI ORANI RAPORU",null,310229000019,0.6,null,{"$f":"G780+1","v":282},{"$f":"IF(TRIM('Ek.3-A'!E781)<>\"\",\"var\",\"yok\")","v":"yok"},{"$f":"IF('Ek.3-A'!E781=\"\", \"\", IF(VLOOKUP('Ek.3-A'!E781, Veriler!D:E, 2, 0)=0, \"\", VLOOKUP('Ek.3-A'!E781, Veriler!D:E, 2, 0)))","v":""},{"$f":"IF('Ek.3-A'!O781=\"\", \"\", 'Ek.3-A'!O781)","v":""},{"$f":"'Ek.3-A'!R781","v":0},{"$f":"'Ek.3-A'!K781","v":""},{"$f":"'Ek.3-A'!L781","v":""},{"$f":"IF(H781=\"var\",0,IF(M781<=0.005,M781,0))","v":{"v":0,"d":"%0.00"}},{"$f":"IF(M781<=0.005,\"E\",\"H\")","v":"H"},{"$f":"IF(O781=\"E\",SUM($N$5:N781),0)","v":{"v":0,"d":"%0.00"}},{"$f":"IF(P781<=0.1, K781, IF(N781>$F$2, N781*K781, $F$2*K781))","v":0}]
[{"v":8.82000000000001,"d":"8.82"},"YERLİ KATKI ORANI RAPORU",null,283220001000,0.6,null,{"$f":"G781+1","v":283},{"$f":"IF(TRIM('Ek.3-A'!E782)<>\"\",\"var\",\"yok\")","v":"yok"},{"$f":"IF('Ek.3-A'!E782=\"\", \"\", IF(VLOOKUP('Ek.3-A'!E782, Veriler!D:E, 2, 0)=0, \"\", VLOOKUP('Ek.3-A'!E782, Veriler!D:E, 2, 0)))","v":""},{"$f":"IF('Ek.3-A'!O782=\"\", \"\", 'Ek.3-A'!O782)","v":""},{"$f":"'Ek.3-A'!R782","v":0},{"$f":"'Ek.3-A'!K782","v":""},{"$f":"'Ek.3-A'!L782","v":""},{"v":0,"d":"%0.00"},"H",{"$f":"IF(O782=\"E\",SUM($N$5:N782),0)","v":{"v":0,"d":"%0.00"}},0]
[{"v":8.83000000000001,"d":"8.83"},"YERLİ KATKI ORANI RAPORU",null,310229000011,0.6,null,284,{"$f":"IF(TRIM('Ek.3-A'!E783)<>\"\",\"var\",\"yok\")","v":"yok"},{"$f":"IF('Ek.3-A'!E783=\"\", \"\", IF(VLOOKUP('Ek.3-A'!E783, Veriler!D:E, 2, 0)=0, \"\", VLOOKUP('Ek.3-A'!E783, Veriler!D:E, 2, 0)))","v":""},{"$f":"IF('Ek.3-A'!O783=\"\", \"\", 'Ek.3-A'!O783)","v":""},{"$f":"'Ek.3-A'!R783","v":0},{"$f":"'Ek.3-A'!K783","v":""},{"$f":"'Ek.3-A'!L783","v":""},{"v":0,"d":"%0.00"},"H",{"$f":"IF(O783=\"E\",SUM($N$5:N783),0)","v":{"v":0,"d":"%0.00"}},0]
[{"v":8.84000000000001,"d":"8.84"},"YERLİ KATKI ORANI RAPORU",null,283090859014,0.6,null,285,{"$f":"IF(TRIM('Ek.3-A'!E784)<>\"\",\"var\",\"yok\")","v":"yok"},{"$f":"IF('Ek.3-A'!E784=\"\", \"\", IF(VLOOKUP('Ek.3-A'!E784, Veriler!D:E, 2, 0)=0, \"\", VLOOKUP('Ek.3-A'!E784, Veriler!D:E, 2, 0)))","v":""},{"$f":"IF('Ek.3-A'!O784=\"\", \"\", 'Ek.3-A'!O784)","v":""},{"$f":"'Ek.3-A'!R784","v":0},{"$f":"'Ek.3-A'!K784","v":""},{"$f":"'Ek.3-A'!L784","v":""},{"v":0,"d":"%0.00"},"H",{"$f":"IF(O784=\"E\",SUM($N$5:N784),0)","v":{"v":0,"d":"%0.00"}},0]
[{"v":8.85000000000001,"d":"8.85"},"YERLİ KATKI ORANI RAPORU",null,283230002000,0.6,null,286,{"$f":"IF(TRIM('Ek.3-A'!E785)<>\"\",\"var\",\"yok\")","v":"yok"},{"$f":"IF('Ek.3-A'!E785=\"\", \"\", IF(VLOOKUP('Ek.3-A'!E785, Veriler!D:E, 2, 0)=0, \"\", VLOOKUP('Ek.3-A'!E785, Veriler!D:E, 2, 0)))","v":""},{"$f":"IF('Ek.3-A'!O785=\"\", \"\", 'Ek.3-A'!O785)","v":""},{"$f":"'Ek.3-A'!R785","v":0},{"$f":"'Ek.3-A'!K785","v":""},{"$f":"'Ek.3-A'!L785","v":""},{"v":0,"d":"%0.00"},"H",{"$f":"IF(O785=\"E\",SUM($N$5:N785),0)","v":{"v":0,"d":"%0.00"}},0]
[{"v":8.86000000000001,"d":"8.86"},"YERLİ KATKI ORANI RAPORU",null,283410002019,0.6,null,287,{"$f":"IF(TRIM('Ek.3-A'!E786)<>\"\",\"var\",\"yok\")","v":"yok"},{"$f":"IF('Ek.3-A'!E786=\"\", \"\", IF(VLOOKUP('Ek.3-A'!E786, Veriler!D:E, 2, 0)=0, \"\", VLOOKUP('Ek.3-A'!E786, Veriler!D:E, 2, 0)))","v":""},{"$f":"IF('Ek.3-A'!O786=\"\", \"\", 'Ek.3-A'!O786)","v":""},{"$f":"'Ek.3-A'!R786","v":0},{"$f":"'Ek.3-A'!K786","v":""},{"$f":"'Ek.3-A'!L786","v":""},{"v":0,"d":"%0.00"},"H",{"$f":"IF(O786=\"E\",SUM($N$5:N786),0)","v":{"v":0,"d":"%0.00"}},0]
[{"v":8.87000000000001,"d":"8.87"},"YERLİ KATKI ORANI RAPORU",null,294110000022,0.6,null,288,{"$f":"IF(TRIM('Ek.3-A'!E787)<>\"\",\"var\",\"yok\")","v":"yok"},{"$f":"IF('Ek.3-A'!E787=\"\", \"\", IF(VLOOKUP('Ek.3-A'!E787, Veriler!D:E, 2, 0)=0, \"\", VLOOKUP('Ek.3-A'!E787, Veriler!D:E, 2, 0)))","v":""},{"$f":"IF('Ek.3-A'!O787=\"\", \"\", 'Ek.3-A'!O787)","v":""},{"$f":"'Ek.3-A'!R787","v":0},{"$f":"'Ek.3-A'!K787","v":""},{"$f":"'Ek.3-A'!L787","v":""},{"v":0,"d":"%0.00"},"H",{"$f":"IF(O787=\"E\",SUM($N$5:N787),0)","v":{"v":0,"d":"%0.00"}},0]
[{"v":8.88000000000001,"d":"8.88"},"YERLİ KATKI ORANI RAPORU",null,294110000023,0.6,null,289,{"$f":"IF(TRIM('Ek.3-A'!E788)<>\"\",\"var\",\"yok\")","v":"yok"},{"$f":"IF('Ek.3-A'!E788=\"\", \"\", IF(VLOOKUP('Ek.3-A'!E788, Veriler!D:E, 2, 0)=0, \"\", VLOOKUP('Ek.3-A'!E788, Veriler!D:E, 2, 0)))","v":""},{"$f":"IF('Ek.3-A'!O788=\"\", \"\", 'Ek.3-A'!O788)","v":""},{"$f":"'Ek.3-A'!R788","v":0},{"$f":"'Ek.3-A'!K788","v":""},{"$f":"'Ek.3-A'!L788","v":""},{"v":0,"d":"%0.00"},"H",{"$f":"IF(O788=\"E\",SUM($N$5:N788),0)","v":{"v":0,"d":"%0.00"}},0]
[{"v":8.89000000000001,"d":"8.89"},"YERLİ KATKI ORANI RAPORU",null,294110000021,0.6,null,290,{"$f":"IF(TRIM('Ek.3-A'!E789)<>\"\",\"var\",\"yok\")","v":"yok"},{"$f":"IF('Ek.3-A'!E789=\"\", \"\", IF(VLOOKUP('Ek.3-A'!E789, Veriler!D:E, 2, 0)=0, \"\", VLOOKUP('Ek.3-A'!E789, Veriler!D:E, 2, 0)))","v":""},{"$f":"IF('Ek.3-A'!O789=\"\", \"\", 'Ek.3-A'!O789)","v":""},{"$f":"'Ek.3-A'!R789","v":0},{"$f":"'Ek.3-A'!K789","v":""},{"$f":"'Ek.3-A'!L789","v":""},{"v":0,"d":"%0.00"},"H",{"$f":"IF(O789=\"E\",SUM($N$5:N789),0)","v":{"v":0,"d":"%0.00"}},0]
[{"v":8.90000000000001,"d":"8.90"},"YERLİ KATKI ORANI RAPORU",null,294110000025,0.6,null,291,{"$f":"IF(TRIM('Ek.3-A'!E790)<>\"\",\"var\",\"yok\")","v":"yok"},{"$f":"IF('Ek.3-A'!E790=\"\", \"\", IF(VLOOKUP('Ek.3-A'!E790, Veriler!D:E, 2, 0)=0, \"\", VLOOKUP('Ek.3-A'!E790, Veriler!D:E, 2, 0)))","v":""},{"$f":"IF('Ek.3-A'!O790=\"\", \"\", 'Ek.3-A'!O790)","v":""},{"$f":"'Ek.3-A'!R790","v":0},{"$f":"'Ek.3-A'!K790","v":""},{"$f":"'Ek.3-A'!L790","v":""},{"v":0,"d":"%0.00"},"H",{"$f":"IF(O790=\"E\",SUM($N$5:N790),0)","v":{"v":0,"d":"%0.00"}},0]
[{"v":8.91000000000001,"d":"8.91"},"YERLİ KATKI ORANI RAPORU",null,853990100000,0.6,null,292,{"$f":"IF(TRIM('Ek.3-A'!E791)<>\"\",\"var\",\"yok\")","v":"yok"},{"$f":"IF('Ek.3-A'!E791=\"\", \"\", IF(VLOOKUP('Ek.3-A'!E791, Veriler!D:E, 2, 0)=0, \"\", VLOOKUP('Ek.3-A'!E791, Veriler!D:E, 2, 0)))","v":""},{"$f":"IF('Ek.3-A'!O791=\"\", \"\", 'Ek.3-A'!O791)","v":""},{"$f":"'Ek.3-A'!R791","v":0},{"$f":"'Ek.3-A'!K791","v":""},{"$f":"'Ek.3-A'!L791","v":""},{"v":0,"d":"%0.00"},"H",{"$f":"IF(O791=\"E\",SUM($N$5:N791),0)","v":{"v":0,"d":"%0.00"}},0]
[{"v":8.92000000000001,"d":"8.92"},"YERLİ KATKI ORANI RAPORU",null,853661900000,0.6,null,293,{"$f":"IF(TRIM('Ek.3-A'!E792)<>\"\",\"var\",\"yok\")","v":"yok"},{"$f":"IF('Ek.3-A'!E792=\"\", \"\", IF(VLOOKUP('Ek.3-A'!E792, Veriler!D:E, 2, 0)=0, \"\", VLOOKUP('Ek.3-A'!E792, Veriler!D:E, 2, 0)))","v":""},{"$f":"IF('Ek.3-A'!O792=\"\", \"\", 'Ek.3-A'!O792)","v":""},{"$f":"'Ek.3-A'!R792","v":0},{"$f":"'Ek.3-A'!K792","v":""},{"$f":"'Ek.3-A'!L792","v":""},{"v":0,"d":"%0.00"},"H",{"$f":"IF(O792=\"E\",SUM($N$5:N792),0)","v":{"v":0,"d":"%0.00"}},0]
[{"v":8.93000000000001,"d":"8.93"},"YERLİ KATKI ORANI RAPORU",null,853990909011,0.6,null,294,{"$f":"IF(TRIM('Ek.3-A'!E793)<>\"\",\"var\",\"yok\")","v":"yok"},{"$f":"IF('Ek.3-A'!E793=\"\", \"\", IF(VLOOKUP('Ek.3-A'!E793, Veriler!D:E, 2, 0)=0, \"\", VLOOKUP('Ek.3-A'!E793, Veriler!D:E, 2, 0)))","v":""},{"$f":"IF('Ek.3-A'!O793=\"\", \"\", 'Ek.3-A'!O793)","v":""},{"$f":"'Ek.3-A'!R793","v":0},{"$f":"'Ek.3-A'!K793","v":""},{"$f":"'Ek.3-A'!L793","v":""},{"v":0,"d":"%0.00"},"H",{"$f":"IF(O793=\"E\",SUM($N$5:N793),0)","v":{"v":0,"d":"%0.00"}},0]
[{"v":8.94000000000001,"d":"8.94"},"YERLİ KATKI ORANI RAPORU",null,681140000000,0.6]
[{"v":8.95000000000001,"d":"8.95"},"YERLİ KATKI ORANI RAPORU",null,681189000000,0.6]
[{"v":8.96000000000001,"d":"8.96"},"YERLİ KATKI ORANI RAPORU",null,681182000000,0.6]
[{"v":8.97000000000001,"d":"8.97"},"YERLİ KATKI ORANI RAPORU",null,681181000000,0.6]
[{"v":8.98000000000001,"d":"8.98"},"YERLİ KATKI ORANI RAPORU",null,290930901000,0.6]
[{"v":8.99000000000001,"d":"8.99"},"YERLİ KATKI ORANI RAPORU",null,291899900011,0.6]
[{"v":9.00000000000001,"d":"9.00"},"YERLİ KATKI ORANI RAPORU",null,292146000011,0.6]
[{"v":9.01000000000001,"d":"9.01"},"YERLİ KATKI ORANI RAPORU",null,284011000000,0.6]
[{"v":9.02000000000001,"d":"9.02"},"YERLİ KATKI ORANI RAPORU",null,370120000000,0.6]
[{"v":9.03000000000001,"d":"9.03"},"YERLİ KATKI ORANI RAPORU",null,292141000011,0.6,null,{"$f":"G778+1","v":295},{"$f":"IF(TRIM('Ek.3-A'!E803)<>\"\",\"var\",\"yok\")","v":"yok"},{"$f":"IF('Ek.3-A'!E803=\"\", \"\", IF(VLOOKUP('Ek.3-A'!E803, Veriler!D:E, 2, 0)=0, \"\", VLOOKUP('Ek.3-A'!E803, Veriler!D:E, 2, 0)))","v":""},{"$f":"IF('Ek.3-A'!O803=\"\", \"\", 'Ek.3-A'!O803)","v":""},{"$f":"'Ek.3-A'!R803","v":0},{"$f":"'Ek.3-A'!K803","v":""},{"$f":"'Ek.3-A'!L803","v":""},{"$f":"IF(H803=\"var\",0,IF(M803<=0.005,M803,0))","v":{"v":0,"d":"%0.00"}},{"$f":"IF(M803<=0.005,\"E\",\"H\")","v":"H"},{"$f":"IF(O803=\"E\",SUM($N$5:N803),0)","v":{"v":0,"d":"%0.00"}},{"$f":"IF(P803<=0.1, K803, IF(N803>$F$2, N803*K803, $F$2*K803))","v":0}]
[{"v":9.04000000000001,"d":"9.04"},"YERLİ KATKI ORANI RAPORU",null,292142000029,0.6,null,{"$f":"G803+1","v":296},{"$f":"IF(TRIM('Ek.3-A'!E804)<>\"\",\"var\",\"yok\")","v":"yok"},{"$f":"IF('Ek.3-A'!E804=\"\", \"\", IF(VLOOKUP('Ek.3-A'!E804, Veriler!D:E, 2, 0)=0, \"\", VLOOKUP('Ek.3-A'!E804, Veriler!D:E, 2, 0)))","v":""},{"$f":"IF('Ek.3-A'!O804=\"\", \"\", 'Ek.3-A'!O804)","v":""},{"$f":"'Ek.3-A'!R804","v":0},{"$f":"'Ek.3-A'!K804","v":""},{"$f":"'Ek.3-A'!L804","v":""},{"$f":"IF(H804=\"var\",0,IF(M804<=0.005,M804,0))","v":{"v":0,"d":"%0.00"}},{"$f":"IF(M804<=0.005,\"E\",\"H\")","v":"H"},{"$f":"IF(O804=\"E\",SUM($N$5:N804),0)","v":{"v":0,"d":"%0.00"}},{"$f":"IF(P804<=0.1, K804, IF(N804>$F$2, N804*K804, $F$2*K804))","v":0}]
[{"v":9.05000000000001,"d":"9.05"},"YERLİ KATKI ORANI RAPORU",null,292141000012,0.6,null,{"$f":"G804+1","v":297},{"$f":"IF(TRIM('Ek.3-A'!E805)<>\"\",\"var\",\"yok\")","v":"yok"},{"$f":"IF('Ek.3-A'!E805=\"\", \"\", IF(VLOOKUP('Ek.3-A'!E805, Veriler!D:E, 2, 0)=0, \"\", VLOOKUP('Ek.3-A'!E805, Veriler!D:E, 2, 0)))","v":""},{"$f":"IF('Ek.3-A'!O805=\"\", \"\", 'Ek.3-A'!O805)","v":""},{"$f":"'Ek.3-A'!R805","v":0},{"$f":"'Ek.3-A'!K805","v":""},{"$f":"'Ek.3-A'!L805","v":""},{"v":0,"d":"%0.00"},"H",{"$f":"IF(O805=\"E\",SUM($N$5:N805),0)","v":{"v":0,"d":"%0.00"}},0]
[{"v":9.06000000000001,"d":"9.06"},"YERLİ KATKI ORANI RAPORU",null,292141000019,0.6,null,{"$f":"G805+1","v":298},{"$f":"IF(TRIM('Ek.3-A'!E806)<>\"\",\"var\",\"yok\")","v":"yok"},{"$f":"IF('Ek.3-A'!E806=\"\", \"\", IF(VLOOKUP('Ek.3-A'!E806, Veriler!D:E, 2, 0)=0, \"\", VLOOKUP('Ek.3-A'!E806, Veriler!D:E, 2, 0)))","v":""},{"$f":"IF('Ek.3-A'!O806=\"\", \"\", 'Ek.3-A'!O806)","v":""},{"$f":"'Ek.3-A'!R806","v":0},{"$f":"'Ek.3-A'!K806","v":""},{"$f":"'Ek.3-A'!L806","v":""},{"v":0,"d":"%0.00"},"H",{"$f":"IF(O806=\"E\",SUM($N$5:N806),0)","v":{"v":0,"d":"%0.00"}},0]
[{"v":9.07000000000001,"d":"9.07"},"YERLİ KATKI ORANI RAPORU",null,292142000019,0.6,null,299,{"$f":"IF(TRIM('Ek.3-A'!E807)<>\"\",\"var\",\"yok\")","v":"yok"},{"$f":"IF('Ek.3-A'!E807=\"\", \"\", IF(VLOOKUP('Ek.3-A'!E807, Veriler!D:E, 2, 0)=0, \"\", VLOOKUP('Ek.3-A'!E807, Veriler!D:E, 2, 0)))","v":""},{"$f":"IF('Ek.3-A'!O807=\"\", \"\", 'Ek.3-A'!O807)","v":""},{"$f":"'Ek.3-A'!R807","v":0},{"$f":"'Ek.3-A'!K807","v":""},{"$f":"'Ek.3-A'!L807","v":""},{"v":0,"d":"%0.00"},"H",{"$f":"IF(O807=\"E\",SUM($N$5:N807),0)","v":{"v":0,"d":"%0.00"}},0]
[{"v":9.08000000000001,"d":"9.08"},"YERLİ KATKI ORANI RAPORU",null,291249001012,0.6,null,300,{"$f":"IF(TRIM('Ek.3-A'!E808)<>\"\",\"var\",\"yok\")","v":"yok"},{"$f":"IF('Ek.3-A'!E808=\"\", \"\", IF(VLOOKUP('Ek.3-A'!E808, Veriler!D:E, 2, 0)=0, \"\", VLOOKUP('Ek.3-A'!E808, Veriler!D:E, 2, 0)))","v":""},{"$f":"IF('Ek.3-A'!O808=\"\", \"\", 'Ek.3-A'!O808)","v":""},{"$f":"'Ek.3-A'!R808","v":0},{"$f":"'Ek.3-A'!K808","v":""},{"$f":"'Ek.3-A'!L808","v":""},{"v":0,"d":"%0.00"},"H",{"$f":"IF(O808=\"E\",SUM($N$5:N808),0)","v":{"v":0,"d":"%0.00"}},0]
[{"v":9.09000000000001,"d":"9.09"},"YERLİ KATKI ORANI RAPORU",null,290949801000,0.6,null,301,{"$f":"IF(TRIM('Ek.3-A'!E809)<>\"\",\"var\",\"yok\")","v":"yok"},{"$f":"IF('Ek.3-A'!E809=\"\", \"\", IF(VLOOKUP('Ek.3-A'!E809, Veriler!D:E, 2, 0)=0, \"\", VLOOKUP('Ek.3-A'!E809, Veriler!D:E, 2, 0)))","v":""},{"$f":"IF('Ek.3-A'!O809=\"\", \"\", 'Ek.3-A'!O809)","v":""},{"$f":"'Ek.3-A'!R809","v":0},{"$f":"'Ek.3-A'!K809","v":""},{"$f":"'Ek.3-A'!L809","v":""},{"v":0,"d":"%0.00"},"H",{"$f":"IF(O809=\"E\",SUM($N$5:N809),0)","v":{"v":0,"d":"%0.00"}},0]
[{"v":9.10000000000001,"d":"9.10"},"YERLİ KATKI ORANI RAPORU",null,290930909012,0.6,null,302,{"$f":"IF(TRIM('Ek.3-A'!E810)<>\"\",\"var\",\"yok\")","v":"yok"},{"$f":"IF('Ek.3-A'!E810=\"\", \"\", IF(VLOOKUP('Ek.3-A'!E810, Veriler!D:E, 2, 0)=0, \"\", VLOOKUP('Ek.3-A'!E810, Veriler!D:E, 2, 0)))","v":""},{"$f":"IF('Ek.3-A'!O810=\"\", \"\", 'Ek.3-A'!O810)","v":""},{"$f":"'Ek.3-A'!R810","v":0},{"$f":"'Ek.3-A'!K810","v":""},{"$f":"'Ek.3-A'!L810","v":""},{"v":0,"d":"%0.00"},"H",{"$f":"IF(O810=\"E\",SUM($N$5:N810),0)","v":{"v":0,"d":"%0.00"}},0]
[{"v":9.11000000000001,"d":"9.11"},"YERLİ KATKI ORANI RAPORU",null,292229001014,0.6,null,303,{"$f":"IF(TRIM('Ek.3-A'!E811)<>\"\",\"var\",\"yok\")","v":"yok"},{"$f":"IF('Ek.3-A'!E811=\"\", \"\", IF(VLOOKUP('Ek.3-A'!E811, Veriler!D:E, 2, 0)=0, \"\", VLOOKUP('Ek.3-A'!E811, Veriler!D:E, 2, 0)))","v":""},{"$f":"IF('Ek.3-A'!O811=\"\", \"\", 'Ek.3-A'!O811)","v":""},{"$f":"'Ek.3-A'!R811","v":0},{"$f":"'Ek.3-A'!K811","v":""},{"$f":"'Ek.3-A'!L811","v":""},{"v":0,"d":"%0.00"},"H",{"$f":"IF(O811=\"E\",SUM($N$5:N811),0)","v":{"v":0,"d":"%0.00"}},0]
[{"v":9.12000000000001,"d":"9.12"},"YERLİ KATKI ORANI RAPORU",null,292229001011,0.6,null,304,{"$f":"IF(TRIM('Ek.3-A'!E812)<>\"\",\"var\",\"yok\")","v":"yok"},{"$f":"IF('Ek.3-A'!E812=\"\", \"\", IF(VLOOKUP('Ek.3-A'!E812, Veriler!D:E, 2, 0)=0, \"\", VLOOKUP('Ek.3-A'!E812, Veriler!D:E, 2, 0)))","v":""},{"$f":"IF('Ek.3-A'!O812=\"\", \"\", 'Ek.3-A'!O812)","v":""},{"$f":"'Ek.3-A'!R812","v":0},{"$f":"'Ek.3-A'!K812","v":""},{"$f":"'Ek.3-A'!L812","v":""},{"v":0,"d":"%0.00"},"H",{"$f":"IF(O812=\"E\",SUM($N$5:N812),0)","v":{"v":0,"d":"%0.00"}},0]
[{"v":9.13000000000001,"d":"9.13"},"YERLİ KATKI ORANI RAPORU",null,811020000000,0.6,null,305,{"$f":"IF(TRIM('Ek.3-A'!E813)<>\"\",\"var\",\"yok\")","v":"yok"},{"$f":"IF('Ek.3-A'!E813=\"\", \"\", IF(VLOOKUP('Ek.3-A'!E813, Veriler!D:E, 2, 0)=0, \"\", VLOOKUP('Ek.3-A'!E813, Veriler!D:E, 2, 0)))","v":""},{"$f":"IF('Ek.3-A'!O813=\"\", \"\", 'Ek.3-A'!O813)","v":""},{"$f":"'Ek.3-A'!R813","v":0},{"$f":"'Ek.3-A'!K813","v":""},{"$f":"'Ek.3-A'!L813","v":""},{"v":0,"d":"%0.00"},"H",{"$f":"IF(O813=\"E\",SUM($N$5:N813),0)","v":{"v":0,"d":"%0.00"}},0]
[{"v":9.14000000000001,"d":"9.14"},"YERLİ KATKI ORANI RAPORU",null,282739853000,0.6,null,306,{"$f":"IF(TRIM('Ek.3-A'!E814)<>\"\",\"var\",\"yok\")","v":"yok"},{"$f":"IF('Ek.3-A'!E814=\"\", \"\", IF(VLOOKUP('Ek.3-A'!E814, Veriler!D:E, 2, 0)=0, \"\", VLOOKUP('Ek.3-A'!E814, Veriler!D:E, 2, 0)))","v":""},{"$f":"IF('Ek.3-A'!O814=\"\", \"\", 'Ek.3-A'!O814)","v":""},{"$f":"'Ek.3-A'!R814","v":0},{"$f":"'Ek.3-A'!K814","v":""},{"$f":"'Ek.3-A'!L814","v":""},{"v":0,"d":"%0.00"},"H",{"$f":"IF(O814=\"E\",SUM($N$5:N814),0)","v":{"v":0,"d":"%0.00"}},0]
[{"v":9.15000000000001,"d":"9.15"},"YERLİ KATKI ORANI RAPORU",null,282580000000,0.6,null,307,{"$f":"IF(TRIM('Ek.3-A'!E815)<>\"\",\"var\",\"yok\")","v":"yok"},{"$f":"IF('Ek.3-A'!E815=\"\", \"\", IF(VLOOKUP('Ek.3-A'!E815, Veriler!D:E, 2, 0)=0, \"\", VLOOKUP('Ek.3-A'!E815, Veriler!D:E, 2, 0)))","v":""},{"$f":"IF('Ek.3-A'!O815=\"\", \"\", 'Ek.3-A'!O815)","v":""},{"$f":"'Ek.3-A'!R815","v":0},{"$f":"'Ek.3-A'!K815","v":""},{"$f":"'Ek.3-A'!L815","v":""},{"v":0,"d":"%0.00"},"H",{"$f":"IF(O815=\"E\",SUM($N$5:N815),0)","v":{"v":0,"d":"%0.00"}},0]
[{"v":9.16000000000001,"d":"9.16"},"YERLİ KATKI ORANI RAPORU",null,284190851000,0.6,null,308,{"$f":"IF(TRIM('Ek.3-A'!E816)<>\"\",\"var\",\"yok\")","v":"yok"},{"$f":"IF('Ek.3-A'!E816=\"\", \"\", IF(VLOOKUP('Ek.3-A'!E816, Veriler!D:E, 2, 0)=0, \"\", VLOOKUP('Ek.3-A'!E816, Veriler!D:E, 2, 0)))","v":""},{"$f":"IF('Ek.3-A'!O816=\"\", \"\", 'Ek.3-A'!O816)","v":""},{"$f":"'Ek.3-A'!R816","v":0},{"$f":"'Ek.3-A'!K816","v":""},{"$f":"'Ek.3-A'!L816","v":""},{"v":0,"d":"%0.00"},"H",{"$f":"IF(O816=\"E\",SUM($N$5:N816),0)","v":{"v":0,"d":"%0.00"}},0]
[{"v":9.17000000000001,"d":"9.17"},"YERLİ KATKI ORANI RAPORU",null,291461000000,0.6,{"$nulls":3},""]
[{"v":9.18000000000001,"d":"9.18"},"YERLİ KATKI ORANI RAPORU",null,292243000000,0.6,null,{"$f":"G793+1","v":295},{"$f":"IF(TRIM('Ek.3-A'!E818)<>\"\",\"var\",\"yok\")","v":"yok"},{"$f":"IF('Ek.3-A'!E818=\"\", \"\", IF(VLOOKUP('Ek.3-A'!E818, Veriler!D:E, 2, 0)=0, \"\", VLOOKUP('Ek.3-A'!E818, Veriler!D:E, 2, 0)))","v":""},{"$f":"IF('Ek.3-A'!O818=\"\", \"\", 'Ek.3-A'!O818)","v":""},{"$f":"'Ek.3-A'!R818","v":0},{"$f":"'Ek.3-A'!K818","v":""},{"$f":"'Ek.3-A'!L818","v":""},{"$f":"IF(H818=\"var\",0,IF(M818<=0.005,M818,0))","v":{"v":0,"d":"%0.00"}},{"$f":"IF(M818<=0.005,\"E\",\"H\")","v":"H"},{"$f":"IF(O818=\"E\",SUM($N$5:N818),0)","v":{"v":0,"d":"%0.00"}},{"$f":"IF(P818<=0.1, K818, IF(N818>$F$2, N818*K818, $F$2*K818))","v":0}]
[{"v":9.19000000000001,"d":"9.19"},"YERLİ KATKI ORANI RAPORU",null,290290001200,0.6,null,{"$f":"G818+1","v":296},{"$f":"IF(TRIM('Ek.3-A'!E819)<>\"\",\"var\",\"yok\")","v":"yok"},{"$f":"IF('Ek.3-A'!E819=\"\", \"\", IF(VLOOKUP('Ek.3-A'!E819, Veriler!D:E, 2, 0)=0, \"\", VLOOKUP('Ek.3-A'!E819, Veriler!D:E, 2, 0)))","v":""},{"$f":"IF('Ek.3-A'!O819=\"\", \"\", 'Ek.3-A'!O819)","v":""},{"$f":"'Ek.3-A'!R819","v":0},{"$f":"'Ek.3-A'!K819","v":""},{"$f":"'Ek.3-A'!L819","v":""},{"$f":"IF(H819=\"var\",0,IF(M819<=0.005,M819,0))","v":{"v":0,"d":"%0.00"}},{"$f":"IF(M819<=0.005,\"E\",\"H\")","v":"H"},{"$f":"IF(O819=\"E\",SUM($N$5:N819),0)","v":{"v":0,"d":"%0.00"}},{"$f":"IF(P819<=0.1, K819, IF(N819>$F$2, N819*K819, $F$2*K819))","v":0}]
[{"v":9.20000000000001,"d":"9.20"},"YERLİ KATKI ORANI RAPORU",null,251010009012,0.6,null,{"$f":"G819+1","v":297},{"$f":"IF(TRIM('Ek.3-A'!E820)<>\"\",\"var\",\"yok\")","v":"yok"},{"$f":"IF('Ek.3-A'!E820=\"\", \"\", IF(VLOOKUP('Ek.3-A'!E820, Veriler!D:E, 2, 0)=0, \"\", VLOOKUP('Ek.3-A'!E820, Veriler!D:E, 2, 0)))","v":""},{"$f":"IF('Ek.3-A'!O820=\"\", \"\", 'Ek.3-A'!O820)","v":""},{"$f":"'Ek.3-A'!R820","v":0},{"$f":"'Ek.3-A'!K820","v":""},{"$f":"'Ek.3-A'!L820","v":""},{"v":0,"d":"%0.00"},"H",{"$f":"IF(O820=\"E\",SUM($N$5:N820),0)","v":{"v":0,"d":"%0.00"}},0]
[{"v":9.21000000000001,"d":"9.21"},"YERLİ KATKI ORANI RAPORU",null,293919000014,0.6,null,298,{"$f":"IF(TRIM('Ek.3-A'!E821)<>\"\",\"var\",\"yok\")","v":"yok"},{"$f":"IF('Ek.3-A'!E821=\"\", \"\", IF(VLOOKUP('Ek.3-A'!E821, Veriler!D:E, 2, 0)=0, \"\", VLOOKUP('Ek.3-A'!E821, Veriler!D:E, 2, 0)))","v":""},{"$f":"IF('Ek.3-A'!O821=\"\", \"\", 'Ek.3-A'!O821)","v":""},{"$f":"'Ek.3-A'!R821","v":0},{"$f":"'Ek.3-A'!K821","v":""},{"$f":"'Ek.3-A'!L821","v":""},{"v":0,"d":"%0.00"},"H",{"$f":"IF(O821=\"E\",SUM($N$5:N821),0)","v":{"v":0,"d":"%0.00"}},0]
[{"v":9.22000000000001,"d":"9.22"},"YERLİ KATKI ORANI RAPORU",null,293890909012,0.6,null,299,{"$f":"IF(TRIM('Ek.3-A'!E822)<>\"\",\"var\",\"yok\")","v":"yok"},{"$f":"IF('Ek.3-A'!E822=\"\", \"\", IF(VLOOKUP('Ek.3-A'!E822, Veriler!D:E, 2, 0)=0, \"\", VLOOKUP('Ek.3-A'!E822, Veriler!D:E, 2, 0)))","v":""},{"$f":"IF('Ek.3-A'!O822=\"\", \"\", 'Ek.3-A'!O822)","v":""},{"$f":"'Ek.3-A'!R822","v":0},{"$f":"'Ek.3-A'!K822","v":""},{"$f":"'Ek.3-A'!L822","v":""},{"v":0,"d":"%0.00"},"H",{"$f":"IF(O822=\"E\",SUM($N$5:N822),0)","v":{"v":0,"d":"%0.00"}},0]
[{"v":9.23000000000001,"d":"9.23"},"YERLİ KATKI ORANI RAPORU",null,292219000014,0.6,null,300,{"$f":"IF(TRIM('Ek.3-A'!E823)<>\"\",\"var\",\"yok\")","v":"yok"},{"$f":"IF('Ek.3-A'!E823=\"\", \"\", IF(VLOOKUP('Ek.3-A'!E823, Veriler!D:E, 2, 0)=0, \"\", VLOOKUP('Ek.3-A'!E823, Veriler!D:E, 2, 0)))","v":""},{"$f":"IF('Ek.3-A'!O823=\"\", \"\", 'Ek.3-A'!O823)","v":""},{"$f":"'Ek.3-A'!R823","v":0},{"$f":"'Ek.3-A'!K823","v":""},{"$f":"'Ek.3-A'!L823","v":""},{"v":0,"d":"%0.00"},"H",{"$f":"IF(O823=\"E\",SUM($N$5:N823),0)","v":{"v":0,"d":"%0.00"}},0]
[{"v":9.24000000000001,"d":"9.24"},"YERLİ KATKI ORANI RAPORU",null,853941000000,0.6,null,301,{"$f":"IF(TRIM('Ek.3-A'!E824)<>\"\",\"var\",\"yok\")","v":"yok"},{"$f":"IF('Ek.3-A'!E824=\"\", \"\", IF(VLOOKUP('Ek.3-A'!E824, Veriler!D:E, 2, 0)=0, \"\", VLOOKUP('Ek.3-A'!E824, Veriler!D:E, 2, 0)))","v":""},{"$f":"IF('Ek.3-A'!O824=\"\", \"\", 'Ek.3-A'!O824)","v":""},{"$f":"'Ek.3-A'!R824","v":0},{"$f":"'Ek.3-A'!K824","v":""},{"$f":"'Ek.3-A'!L824","v":""},{"v":0,"d":"%0.00"},"H",{"$f":"IF(O824=\"E\",SUM($N$5:N824),0)","v":{"v":0,"d":"%0.00"}},0]
[{"v":9.25000000000001,"d":"9.25"},"YERLİ KATKI ORANI RAPORU",null,290930909018,0.6,null,302,{"$f":"IF(TRIM('Ek.3-A'!E825)<>\"\",\"var\",\"yok\")","v":"yok"},{"$f":"IF('Ek.3-A'!E825=\"\", \"\", IF(VLOOKUP('Ek.3-A'!E825, Veriler!D:E, 2, 0)=0, \"\", VLOOKUP('Ek.3-A'!E825, Veriler!D:E, 2, 0)))","v":""},{"$f":"IF('Ek.3-A'!O825=\"\", \"\", 'Ek.3-A'!O825)","v":""},{"$f":"'Ek.3-A'!R825","v":0},{"$f":"'Ek.3-A'!K825","v":""},{"$f":"'Ek.3-A'!L825","v":""},{"v":0,"d":"%0.00"},"H",{"$f":"IF(O825=\"E\",SUM($N$5:N825),0)","v":{"v":0,"d":"%0.00"}},0]
[{"v":9.26000000000001,"d":"9.26"},"YERLİ KATKI ORANI RAPORU",null,290399800029,0.6,null,303,{"$f":"IF(TRIM('Ek.3-A'!E826)<>\"\",\"var\",\"yok\")","v":"yok"},{"$f":"IF('Ek.3-A'!E826=\"\", \"\", IF(VLOOKUP('Ek.3-A'!E826, Veriler!D:E, 2, 0)=0, \"\", VLOOKUP('Ek.3-A'!E826, Veriler!D:E, 2, 0)))","v":""},{"$f":"IF('Ek.3-A'!O826=\"\", \"\", 'Ek.3-A'!O826)","v":""},{"$f":"'Ek.3-A'!R826","v":0},{"$f":"'Ek.3-A'!K826","v":""},{"$f":"'Ek.3-A'!L826","v":""},{"v":0,"d":"%0.00"},"H",{"$f":"IF(O826=\"E\",SUM($N$5:N826),0)","v":{"v":0,"d":"%0.00"}},0]
[{"v":9.27000000000001,"d":"9.27"},"YERLİ KATKI ORANI RAPORU",null,291639909019,0.6,null,304,{"$f":"IF(TRIM('Ek.3-A'!E827)<>\"\",\"var\",\"yok\")","v":"yok"},{"$f":"IF('Ek.3-A'!E827=\"\", \"\", IF(VLOOKUP('Ek.3-A'!E827, Veriler!D:E, 2, 0)=0, \"\", VLOOKUP('Ek.3-A'!E827, Veriler!D:E, 2, 0)))","v":""},{"$f":"IF('Ek.3-A'!O827=\"\", \"\", 'Ek.3-A'!O827)","v":""},{"$f":"'Ek.3-A'!R827","v":0},{"$f":"'Ek.3-A'!K827","v":""},{"$f":"'Ek.3-A'!L827","v":""},{"v":0,"d":"%0.00"},"H",{"$f":"IF(O827=\"E\",SUM($N$5:N827),0)","v":{"v":0,"d":"%0.00"}},0]
[{"v":9.28000000000001,"d":"9.28"},"YERLİ KATKI ORANI RAPORU",null,280480000000,0.6,null,305,{"$f":"IF(TRIM('Ek.3-A'!E828)<>\"\",\"var\",\"yok\")","v":"yok"},{"$f":"IF('Ek.3-A'!E828=\"\", \"\", IF(VLOOKUP('Ek.3-A'!E828, Veriler!D:E, 2, 0)=0, \"\", VLOOKUP('Ek.3-A'!E828, Veriler!D:E, 2, 0)))","v":""},{"$f":"IF('Ek.3-A'!O828=\"\", \"\", 'Ek.3-A'!O828)","v":""},{"$f":"'Ek.3-A'!R828","v":0},{"$f":"'Ek.3-A'!K828","v":""},{"$f":"'Ek.3-A'!L828","v":""},{"v":0,"d":"%0.00"},"H",{"$f":"IF(O828=\"E\",SUM($N$5:N828),0)","v":{"v":0,"d":"%0.00"}},0]
[{"v":9.29000000000001,"d":"9.29"},"YERLİ KATKI ORANI RAPORU",null,281119801000,0.6,null,306,{"$f":"IF(TRIM('Ek.3-A'!E829)<>\"\",\"var\",\"yok\")","v":"yok"},{"$f":"IF('Ek.3-A'!E829=\"\", \"\", IF(VLOOKUP('Ek.3-A'!E829, Veriler!D:E, 2, 0)=0, \"\", VLOOKUP('Ek.3-A'!E829, Veriler!D:E, 2, 0)))","v":""},{"$f":"IF('Ek.3-A'!O829=\"\", \"\", 'Ek.3-A'!O829)","v":""},{"$f":"'Ek.3-A'!R829","v":0},{"$f":"'Ek.3-A'!K829","v":""},{"$f":"'Ek.3-A'!L829","v":""},{"v":0,"d":"%0.00"},"H",{"$f":"IF(O829=\"E\",SUM($N$5:N829),0)","v":{"v":0,"d":"%0.00"}},0]
[{"v":9.30000000000001,"d":"9.30"},"YERLİ KATKI ORANI RAPORU",null,281290000014,0.6,null,307,{"$f":"IF(TRIM('Ek.3-A'!E830)<>\"\",\"var\",\"yok\")","v":"yok"},{"$f":"IF('Ek.3-A'!E830=\"\", \"\", IF(VLOOKUP('Ek.3-A'!E830, Veriler!D:E, 2, 0)=0, \"\", VLOOKUP('Ek.3-A'!E830, Veriler!D:E, 2, 0)))","v":""},{"$f":"IF('Ek.3-A'!O830=\"\", \"\", 'Ek.3-A'!O830)","v":""},{"$f":"'Ek.3-A'!R830","v":0},{"$f":"'Ek.3-A'!K830","v":""},{"$f":"'Ek.3-A'!L830","v":""},{"v":0,"d":"%0.00"},"H",{"$f":"IF(O830=\"E\",SUM($N$5:N830),0)","v":{"v":0,"d":"%0.00"}},0]
[{"v":9.31000000000001,"d":"9.31"},"YERLİ KATKI ORANI RAPORU",null,281129901000,0.6,null,308,{"$f":"IF(TRIM('Ek.3-A'!E831)<>\"\",\"var\",\"yok\")","v":"yok"},{"$f":"IF('Ek.3-A'!E831=\"\", \"\", IF(VLOOKUP('Ek.3-A'!E831, Veriler!D:E, 2, 0)=0, \"\", VLOOKUP('Ek.3-A'!E831, Veriler!D:E, 2, 0)))","v":""},{"$f":"IF('Ek.3-A'!O831=\"\", \"\", 'Ek.3-A'!O831)","v":""},{"$f":"'Ek.3-A'!R831","v":0},{"$f":"'Ek.3-A'!K831","v":""},{"$f":"'Ek.3-A'!L831","v":""},{"v":0,"d":"%0.00"},"H",{"$f":"IF(O831=\"E\",SUM($N$5:N831),0)","v":{"v":0,"d":"%0.00"}},0]
[{"v":9.32000000000001,"d":"9.32"},"YERLİ KATKI ORANI RAPORU",null,293190001000,0.6]
[{"v":9.33000000000001,"d":"9.33"},"YERLİ KATKI ORANI RAPORU",null,293499909014,0.6]
[{"v":9.34000000000001,"d":"9.34"},"YERLİ KATKI ORANI RAPORU",null,290960100000,0.6]
[{"v":9.35000000000001,"d":"9.35"},"YERLİ KATKI ORANI RAPORU",null,292419000011,0.6]
[{"v":9.36000000000001,"d":"9.36"},"YERLİ KATKI ORANI RAPORU",null,292429700021,0.6]
[{"v":9.37000000000001,"d":"9.37"},"YERLİ KATKI ORANI RAPORU",null,291524000000,0.6]
[{"v":9.38000000000001,"d":"9.38"},"YERLİ KATKI ORANI RAPORU",null,291539009919,0.6]
[{"v":9.39000000000001,"d":"9.39"},"YERLİ KATKI ORANI RAPORU",null,291529009019,0.6]
[{"v":9.40000000000001,"d":"9.40"},"YERLİ KATKI ORANI RAPORU",null,291590700031,0.6]
[{"v":9.41000000000001,"d":"9.41"},"YERLİ KATKI ORANI RAPORU",null,291419900012,0.6,null,{"$f":"G816+1","v":309},{"$f":"IF(TRIM('Ek.3-A'!E841)<>\"\",\"var\",\"yok\")","v":"yok"},{"$f":"IF('Ek.3-A'!E841=\"\", \"\", IF(VLOOKUP('Ek.3-A'!E841, Veriler!D:E, 2, 0)=0, \"\", VLOOKUP('Ek.3-A'!E841, Veriler!D:E, 2, 0)))","v":""},{"$f":"IF('Ek.3-A'!O841=\"\", \"\", 'Ek.3-A'!O841)","v":""},{"$f":"'Ek.3-A'!R841","v":0},{"$f":"'Ek.3-A'!K841","v":""},{"$f":"'Ek.3-A'!L841","v":""},{"$f":"IF(H841=\"var\",0,IF(M841<=0.005,M841,0))","v":{"v":0,"d":"%0.00"}},{"$f":"IF(M841<=0.005,\"E\",\"H\")","v":"H"},{"$f":"IF(O841=\"E\",SUM($N$5:N841),0)","v":{"v":0,"d":"%0.00"}},{"$f":"IF(P841<=0.1, K841, IF(N841>$F$2, N841*K841, $F$2*K841))","v":0}]
[{"v":9.42000000000001,"d":"9.42"},"YERLİ KATKI ORANI RAPORU",null,290129009012,0.6,null,{"$f":"G841+1","v":310},{"$f":"IF(TRIM('Ek.3-A'!E842)<>\"\",\"var\",\"yok\")","v":"yok"},{"$f":"IF('Ek.3-A'!E842=\"\", \"\", IF(VLOOKUP('Ek.3-A'!E842, Veriler!D:E, 2, 0)=0, \"\", VLOOKUP('Ek.3-A'!E842, Veriler!D:E, 2, 0)))","v":""},{"$f":"IF('Ek.3-A'!O842=\"\", \"\", 'Ek.3-A'!O842)","v":""},{"$f":"'Ek.3-A'!R842","v":0},{"$f":"'Ek.3-A'!K842","v":""},{"$f":"'Ek.3-A'!L842","v":""},{"$f":"IF(H842=\"var\",0,IF(M842<=0.005,M842,0))","v":{"v":0,"d":"%0.00"}},{"$f":"IF(M842<=0.005,\"E\",\"H\")","v":"H"},{"$f":"IF(O842=\"E\",SUM($N$5:N842),0)","v":{"v":0,"d":"%0.00"}},{"$f":"IF(P842<=0.1, K842, IF(N842>$F$2, N842*K842, $F$2*K842))","v":0}]
[{"v":9.43000000000001,"d":"9.43"},"YERLİ KATKI ORANI RAPORU",null,291822009021,0.6,null,{"$f":"G842+1","v":311},{"$f":"IF(TRIM('Ek.3-A'!E843)<>\"\",\"var\",\"yok\")","v":"yok"},{"$f":"IF('Ek.3-A'!E843=\"\", \"\", IF(VLOOKUP('Ek.3-A'!E843, Veriler!D:E, 2, 0)=0, \"\", VLOOKUP('Ek.3-A'!E843, Veriler!D:E, 2, 0)))","v":""},{"$f":"IF('Ek.3-A'!O843=\"\", \"\", 'Ek.3-A'!O843)","v":""},{"$f":"'Ek.3-A'!R843","v":0},{"$f":"'Ek.3-A'!K843","v":""},{"$f":"'Ek.3-A'!L843","v":""},{"v":0,"d":"%0.00"},"H",{"$f":"IF(O843=\"E\",SUM($N$5:N843),0)","v":{"v":0,"d":"%0.00"}},0]
[{"v":9.44000000000001,"d":"9.44"},"YERLİ KATKI ORANI RAPORU",null,291822009011,0.6,null,{"$f":"G843+1","v":312},{"$f":"IF(TRIM('Ek.3-A'!E844)<>\"\",\"var\",\"yok\")","v":"yok"},{"$f":"IF('Ek.3-A'!E844=\"\", \"\", IF(VLOOKUP('Ek.3-A'!E844, Veriler!D:E, 2, 0)=0, \"\", VLOOKUP('Ek.3-A'!E844, Veriler!D:E, 2, 0)))","v":""},{"$f":"IF('Ek.3-A'!O844=\"\", \"\", 'Ek.3-A'!O844)","v":""},{"$f":"'Ek.3-A'!R844","v":0},{"$f":"'Ek.3-A'!K844","v":""},{"$f":"'Ek.3-A'!L844","v":""},{"v":0,"d":"%0.00"},"H",{"$f":"IF(O844=\"E\",SUM($N$5:N844),0)","v":{"v":0,"d":"%0.00"}},0]
[{"v":9.45000000000001,"d":"9.45"},"YERLİ KATKI ORANI RAPORU",null,291822009019,0.6,null,313,{"$f":"IF(TRIM('Ek.3-A'!E845)<>\"\",\"var\",\"yok\")","v":"yok"},{"$f":"IF('Ek.3-A'!E845=\"\", \"\", IF(VLOOKUP('Ek.3-A'!E845, Veriler!D:E, 2, 0)=0, \"\", VLOOKUP('Ek.3-A'!E845, Veriler!D:E, 2, 0)))","v":""},{"$f":"IF('Ek.3-A'!O845=\"\", \"\", 'Ek.3-A'!O845)","v":""},{"$f":"'Ek.3-A'!R845","v":0},{"$f":"'Ek.3-A'!K845","v":""},{"$f":"'Ek.3-A'!L845","v":""},{"v":0,"d":"%0.00"},"H",{"$f":"IF(O845=\"E\",SUM($N$5:N845),0)","v":{"v":0,"d":"%0.00"}},0]
[{"v":9.46000000000001,"d":"9.46"},"YERLİ KATKI ORANI RAPORU",null,292429700024,0.6,null,314,{"$f":"IF(TRIM('Ek.3-A'!E846)<>\"\",\"var\",\"yok\")","v":"yok"},{"$f":"IF('Ek.3-A'!E846=\"\", \"\", IF(VLOOKUP('Ek.3-A'!E846, Veriler!D:E, 2, 0)=0, \"\", VLOOKUP('Ek.3-A'!E846, Veriler!D:E, 2, 0)))","v":""},{"$f":"IF('Ek.3-A'!O846=\"\", \"\", 'Ek.3-A'!O846)","v":""},{"$f":"'Ek.3-A'!R846","v":0},{"$f":"'Ek.3-A'!K846","v":""},{"$f":"'Ek.3-A'!L846","v":""},{"v":0,"d":"%0.00"},"H",{"$f":"IF(O846=\"E\",SUM($N$5:N846),0)","v":{"v":0,"d":"%0.00"}},0]
[{"v":9.47000000000001,"d":"9.47"},"YERLİ KATKI ORANI RAPORU",null,291439000012,0.6,null,315,{"$f":"IF(TRIM('Ek.3-A'!E847)<>\"\",\"var\",\"yok\")","v":"yok"},{"$f":"IF('Ek.3-A'!E847=\"\", \"\", IF(VLOOKUP('Ek.3-A'!E847, Veriler!D:E, 2, 0)=0, \"\", VLOOKUP('Ek.3-A'!E847, Veriler!D:E, 2, 0)))","v":""},{"$f":"IF('Ek.3-A'!O847=\"\", \"\", 'Ek.3-A'!O847)","v":""},{"$f":"'Ek.3-A'!R847","v":0},{"$f":"'Ek.3-A'!K847","v":""},{"$f":"'Ek.3-A'!L847","v":""},{"v":0,"d":"%0.00"},"H",{"$f":"IF(O847=\"E\",SUM($N$5:N847),0)","v":{"v":0,"d":"%0.00"}},0]
[{"v":9.48000000000001,"d":"9.48"},"YERLİ KATKI ORANI RAPORU",null,291419900013,0.6,null,316,{"$f":"IF(TRIM('Ek.3-A'!E848)<>\"\",\"var\",\"yok\")","v":"yok"},{"$f":"IF('Ek.3-A'!E848=\"\", \"\", IF(VLOOKUP('Ek.3-A'!E848, Veriler!D:E, 2, 0)=0, \"\", VLOOKUP('Ek.3-A'!E848, Veriler!D:E, 2, 0)))","v":""},{"$f":"IF('Ek.3-A'!O848=\"\", \"\", 'Ek.3-A'!O848)","v":""},{"$f":"'Ek.3-A'!R848","v":0},{"$f":"'Ek.3-A'!K848","v":""},{"$f":"'Ek.3-A'!L848","v":""},{"v":0,"d":"%0.00"},"H",{"$f":"IF(O848=\"E\",SUM($N$5:N848),0)","v":{"v":0,"d":"%0.00"}},0]
[{"v":9.49000000000001,"d":"9.49"},"YERLİ KATKI ORANI RAPORU",null,292690700011,0.6,null,317,{"$f":"IF(TRIM('Ek.3-A'!E849)<>\"\",\"var\",\"yok\")","v":"yok"},{"$f":"IF('Ek.3-A'!E849=\"\", \"\", IF(VLOOKUP('Ek.3-A'!E849, Veriler!D:E, 2, 0)=0, \"\", VLOOKUP('Ek.3-A'!E849, Veriler!D:E, 2, 0)))","v":""},{"$f":"IF('Ek.3-A'!O849=\"\", \"\", 'Ek.3-A'!O849)","v":""},{"$f":"'Ek.3-A'!R849","v":0},{"$f":"'Ek.3-A'!K849","v":""},{"$f":"'Ek.3-A'!L849","v":""},{"v":0,"d":"%0.00"},"H",{"$f":"IF(O849=\"E\",SUM($N$5:N849),0)","v":{"v":0,"d":"%0.00"}},0]
[{"v":9.50000000000001,"d":"9.50"},"YERLİ KATKI ORANI RAPORU",null,290559989099,0.6,null,318,{"$f":"IF(TRIM('Ek.3-A'!E850)<>\"\",\"var\",\"yok\")","v":"yok"},{"$f":"IF('Ek.3-A'!E850=\"\", \"\", IF(VLOOKUP('Ek.3-A'!E850, Veriler!D:E, 2, 0)=0, \"\", VLOOKUP('Ek.3-A'!E850, Veriler!D:E, 2, 0)))","v":""},{"$f":"IF('Ek.3-A'!O850=\"\", \"\", 'Ek.3-A'!O850)","v":""},{"$f":"'Ek.3-A'!R850","v":0},{"$f":"'Ek.3-A'!K850","v":""},{"$f":"'Ek.3-A'!L850","v":""},{"v":0,"d":"%0.00"},"H",{"$f":"IF(O850=\"E\",SUM($N$5:N850),0)","v":{"v":0,"d":"%0.00"}},0]
[{"v":9.51000000000001,"d":"9.51"},"YERLİ KATKI ORANI RAPORU",null,290369190019,0.6,null,319,{"$f":"IF(TRIM('Ek.3-A'!E851)<>\"\",\"var\",\"yok\")","v":"yok"},{"$f":"IF('Ek.3-A'!E851=\"\", \"\", IF(VLOOKUP('Ek.3-A'!E851, Veriler!D:E, 2, 0)=0, \"\", VLOOKUP('Ek.3-A'!E851, Veriler!D:E, 2, 0)))","v":""},{"$f":"IF('Ek.3-A'!O851=\"\", \"\", 'Ek.3-A'!O851)","v":""},{"$f":"'Ek.3-A'!R851","v":0},{"$f":"'Ek.3-A'!K851","v":""},{"$f":"'Ek.3-A'!L851","v":""},{"v":0,"d":"%0.00"},"H",{"$f":"IF(O851=\"E\",SUM($N$5:N851),0)","v":{"v":0,"d":"%0.00"}},0]
[{"v":9.52000000000001,"d":"9.52"},"YERLİ KATKI ORANI RAPORU",null,290359000000,0.6,null,320,{"$f":"IF(TRIM('Ek.3-A'!E852)<>\"\",\"var\",\"yok\")","v":"yok"},{"$f":"IF('Ek.3-A'!E852=\"\", \"\", IF(VLOOKUP('Ek.3-A'!E852, Veriler!D:E, 2, 0)=0, \"\", VLOOKUP('Ek.3-A'!E852, Veriler!D:E, 2, 0)))","v":""},{"$f":"IF('Ek.3-A'!O852=\"\", \"\", 'Ek.3-A'!O852)","v":""},{"$f":"'Ek.3-A'!R852","v":0},{"$f":"'Ek.3-A'!K852","v":""},{"$f":"'Ek.3-A'!L852","v":""},{"v":0,"d":"%0.00"},"H",{"$f":"IF(O852=\"E\",SUM($N$5:N852),0)","v":{"v":0,"d":"%0.00"}},0]
[{"v":9.53000000000001,"d":"9.53"},"YERLİ KATKI ORANI RAPORU",null,290329000000,0.6,null,321,{"$f":"IF(TRIM('Ek.3-A'!E853)<>\"\",\"var\",\"yok\")","v":"yok"},{"$f":"IF('Ek.3-A'!E853=\"\", \"\", IF(VLOOKUP('Ek.3-A'!E853, Veriler!D:E, 2, 0)=0, \"\", VLOOKUP('Ek.3-A'!E853, Veriler!D:E, 2, 0)))","v":""},{"$f":"IF('Ek.3-A'!O853=\"\", \"\", 'Ek.3-A'!O853)","v":""},{"$f":"'Ek.3-A'!R853","v":0},{"$f":"'Ek.3-A'!K853","v":""},{"$f":"'Ek.3-A'!L853","v":""},{"v":0,"d":"%0.00"},"H",{"$f":"IF(O853=\"E\",SUM($N$5:N853),0)","v":{"v":0,"d":"%0.00"}},0]
[{"v":9.54000000000001,"d":"9.54"},"YERLİ KATKI ORANI RAPORU",null,290349900000,0.6,null,322,{"$f":"IF(TRIM('Ek.3-A'!E854)<>\"\",\"var\",\"yok\")","v":"yok"},{"$f":"IF('Ek.3-A'!E854=\"\", \"\", IF(VLOOKUP('Ek.3-A'!E854, Veriler!D:E, 2, 0)=0, \"\", VLOOKUP('Ek.3-A'!E854, Veriler!D:E, 2, 0)))","v":""},{"$f":"IF('Ek.3-A'!O854=\"\", \"\", 'Ek.3-A'!O854)","v":""},{"$f":"'Ek.3-A'!R854","v":0},{"$f":"'Ek.3-A'!K854","v":""},{"$f":"'Ek.3-A'!L854","v":""},{"v":0,"d":"%0.00"},"H",{"$f":"IF(O854=\"E\",SUM($N$5:N854),0)","v":{"v":0,"d":"%0.00"}},0]
[{"v":9.55000000000001,"d":"9.55"},"YERLİ KATKI ORANI RAPORU",null,290319000019,0.6,{"$nulls":3},""]
[{"v":9.56000000000001,"d":"9.56"},"YERLİ KATKI ORANI RAPORU",null,290349300019,0.6,null,{"$f":"G831+1","v":309},{"$f":"IF(TRIM('Ek.3-A'!E856)<>\"\",\"var\",\"yok\")","v":"yok"},{"$f":"IF('Ek.3-A'!E856=\"\", \"\", IF(VLOOKUP('Ek.3-A'!E856, Veriler!D:E, 2, 0)=0, \"\", VLOOKUP('Ek.3-A'!E856, Veriler!D:E, 2, 0)))","v":""},{"$f":"IF('Ek.3-A'!O856=\"\", \"\", 'Ek.3-A'!O856)","v":""},{"$f":"'Ek.3-A'!R856","v":0},{"$f":"'Ek.3-A'!K856","v":""},{"$f":"'Ek.3-A'!L856","v":""},{"$f":"IF(H856=\"var\",0,IF(M856<=0.005,M856,0))","v":{"v":0,"d":"%0.00"}},{"$f":"IF(M856<=0.005,\"E\",\"H\")","v":"H"},{"$f":"IF(O856=\"E\",SUM($N$5:N856),0)","v":{"v":0,"d":"%0.00"}},{"$f":"IF(P856<=0.1, K856, IF(N856>$F$2, N856*K856, $F$2*K856))","v":0}]
[{"v":9.57000000000001,"d":"9.57"},"YERLİ KATKI ORANI RAPORU",null,290369800018,0.6,null,{"$f":"G856+1","v":310},{"$f":"IF(TRIM('Ek.3-A'!E857)<>\"\",\"var\",\"yok\")","v":"yok"},{"$f":"IF('Ek.3-A'!E857=\"\", \"\", IF(VLOOKUP('Ek.3-A'!E857, Veriler!D:E, 2, 0)=0, \"\", VLOOKUP('Ek.3-A'!E857, Veriler!D:E, 2, 0)))","v":""},{"$f":"IF('Ek.3-A'!O857=\"\", \"\", 'Ek.3-A'!O857)","v":""},{"$f":"'Ek.3-A'!R857","v":0},{"$f":"'Ek.3-A'!K857","v":""},{"$f":"'Ek.3-A'!L857","v":""},{"$f":"IF(H857=\"var\",0,IF(M857<=0.005,M857,0))","v":{"v":0,"d":"%0.00"}},{"$f":"IF(M857<=0.005,\"E\",\"H\")","v":"H"},{"$f":"IF(O857=\"E\",SUM($N$5:N857),0)","v":{"v":0,"d":"%0.00"}},{"$f":"IF(P857<=0.1, K857, IF(N857>$F$2, N857*K857, $F$2*K857))","v":0}]
[{"v":9.58000000000001,"d":"9.58"},"YERLİ KATKI ORANI RAPORU",null,290522000029,0.6,null,{"$f":"G857+1","v":311},{"$f":"IF(TRIM('Ek.3-A'!E858)<>\"\",\"var\",\"yok\")","v":"yok"},{"$f":"IF('Ek.3-A'!E858=\"\", \"\", IF(VLOOKUP('Ek.3-A'!E858, Veriler!D:E, 2, 0)=0, \"\", VLOOKUP('Ek.3-A'!E858, Veriler!D:E, 2, 0)))","v":""},{"$f":"IF('Ek.3-A'!O858=\"\", \"\", 'Ek.3-A'!O858)","v":""},{"$f":"'Ek.3-A'!R858","v":0},{"$f":"'Ek.3-A'!K858","v":""},{"$f":"'Ek.3-A'!L858","v":""},{"v":0,"d":"%0.00"},"H",{"$f":"IF(O858=\"E\",SUM($N$5:N858),0)","v":{"v":0,"d":"%0.00"}},0]
[{"v":9.59000000000001,"d":"9.59"},"YERLİ KATKI ORANI RAPORU",null,320412000011,0.6,null,312,{"$f":"IF(TRIM('Ek.3-A'!E859)<>\"\",\"var\",\"yok\")","v":"yok"},{"$f":"IF('Ek.3-A'!E859=\"\", \"\", IF(VLOOKUP('Ek.3-A'!E859, Veriler!D:E, 2, 0)=0, \"\", VLOOKUP('Ek.3-A'!E859, Veriler!D:E, 2, 0)))","v":""},{"$f":"IF('Ek.3-A'!O859=\"\", \"\", 'Ek.3-A'!O859)","v":""},{"$f":"'Ek.3-A'!R859","v":0},{"$f":"'Ek.3-A'!K859","v":""},{"$f":"'Ek.3-A'!L859","v":""},{"v":0,"d":"%0.00"},"H",{"$f":"IF(O859=\"E\",SUM($N$5:N859),0)","v":{"v":0,"d":"%0.00"}},0]
[{"v":9.60000000000001,"d":"9.60"},"YERLİ KATKI ORANI RAPORU",null,292419000012,0.6,null,313,{"$f":"IF(TRIM('Ek.3-A'!E860)<>\"\",\"var\",\"yok\")","v":"yok"},{"$f":"IF('Ek.3-A'!E860=\"\", \"\", IF(VLOOKUP('Ek.3-A'!E860, Veriler!D:E, 2, 0)=0, \"\", VLOOKUP('Ek.3-A'!E860, Veriler!D:E, 2, 0)))","v":""},{"$f":"IF('Ek.3-A'!O860=\"\", \"\", 'Ek.3-A'!O860)","v":""},{"$f":"'Ek.3-A'!R860","v":0},{"$f":"'Ek.3-A'!K860","v":""},{"$f":"'Ek.3-A'!L860","v":""},{"v":0,"d":"%0.00"},"H",{"$f":"IF(O860=\"E\",SUM($N$5:N860),0)","v":{"v":0,"d":"%0.00"}},0]
[{"v":9.61000000000001,"d":"9.61"},"YERLİ KATKI ORANI RAPORU",null,292419000013,0.6,null,314,{"$f":"IF(TRIM('Ek.3-A'!E861)<>\"\",\"var\",\"yok\")","v":"yok"},{"$f":"IF('Ek.3-A'!E861=\"\", \"\", IF(VLOOKUP('Ek.3-A'!E861, Veriler!D:E, 2, 0)=0, \"\", VLOOKUP('Ek.3-A'!E861, Veriler!D:E, 2, 0)))","v":""},{"$f":"IF('Ek.3-A'!O861=\"\", \"\", 'Ek.3-A'!O861)","v":""},{"$f":"'Ek.3-A'!R861","v":0},{"$f":"'Ek.3-A'!K861","v":""},{"$f":"'Ek.3-A'!L861","v":""},{"v":0,"d":"%0.00"},"H",{"$f":"IF(O861=\"E\",SUM($N$5:N861),0)","v":{"v":0,"d":"%0.00"}},0]
[{"v":9.62000000000001,"d":"9.62"},"YERLİ KATKI ORANI RAPORU",null,292429700032,0.6,null,315,{"$f":"IF(TRIM('Ek.3-A'!E862)<>\"\",\"var\",\"yok\")","v":"yok"},{"$f":"IF('Ek.3-A'!E862=\"\", \"\", IF(VLOOKUP('Ek.3-A'!E862, Veriler!D:E, 2, 0)=0, \"\", VLOOKUP('Ek.3-A'!E862, Veriler!D:E, 2, 0)))","v":""},{"$f":"IF('Ek.3-A'!O862=\"\", \"\", 'Ek.3-A'!O862)","v":""},{"$f":"'Ek.3-A'!R862","v":0},{"$f":"'Ek.3-A'!K862","v":""},{"$f":"'Ek.3-A'!L862","v":""},{"v":0,"d":"%0.00"},"H",{"$f":"IF(O862=\"E\",SUM($N$5:N862),0)","v":{"v":0,"d":"%0.00"}},0]
[{"v":9.63000000000001,"d":"9.63"},"YERLİ KATKI ORANI RAPORU",null,292249859021,0.6,null,316,{"$f":"IF(TRIM('Ek.3-A'!E863)<>\"\",\"var\",\"yok\")","v":"yok"},{"$f":"IF('Ek.3-A'!E863=\"\", \"\", IF(VLOOKUP('Ek.3-A'!E863, Veriler!D:E, 2, 0)=0, \"\", VLOOKUP('Ek.3-A'!E863, Veriler!D:E, 2, 0)))","v":""},{"$f":"IF('Ek.3-A'!O863=\"\", \"\", 'Ek.3-A'!O863)","v":""},{"$f":"'Ek.3-A'!R863","v":0},{"$f":"'Ek.3-A'!K863","v":""},{"$f":"'Ek.3-A'!L863","v":""},{"v":0,"d":"%0.00"},"H",{"$f":"IF(O863=\"E\",SUM($N$5:N863),0)","v":{"v":0,"d":"%0.00"}},0]
[{"v":9.64000000000001,"d":"9.64"},"YERLİ KATKI ORANI RAPORU",null,360690900019,0.6,null,317,{"$f":"IF(TRIM('Ek.3-A'!E864)<>\"\",\"var\",\"yok\")","v":"yok"},{"$f":"IF('Ek.3-A'!E864=\"\", \"\", IF(VLOOKUP('Ek.3-A'!E864, Veriler!D:E, 2, 0)=0, \"\", VLOOKUP('Ek.3-A'!E864, Veriler!D:E, 2, 0)))","v":""},{"$f":"IF('Ek.3-A'!O864=\"\", \"\", 'Ek.3-A'!O864)","v":""},{"$f":"'Ek.3-A'!R864","v":0},{"$f":"'Ek.3-A'!K864","v":""},{"$f":"'Ek.3-A'!L864","v":""},{"v":0,"d":"%0.00"},"H",{"$f":"IF(O864=\"E\",SUM($N$5:N864),0)","v":{"v":0,"d":"%0.00"}},0]
[{"v":9.65000000000001,"d":"9.65"},"YERLİ KATKI ORANI RAPORU",null,250830000000,0.6,null,318,{"$f":"IF(TRIM('Ek.3-A'!E865)<>\"\",\"var\",\"yok\")","v":"yok"},{"$f":"IF('Ek.3-A'!E865=\"\", \"\", IF(VLOOKUP('Ek.3-A'!E865, Veriler!D:E, 2, 0)=0, \"\", VLOOKUP('Ek.3-A'!E865, Veriler!D:E, 2, 0)))","v":""},{"$f":"IF('Ek.3-A'!O865=\"\", \"\", 'Ek.3-A'!O865)","v":""},{"$f":"'Ek.3-A'!R865","v":0},{"$f":"'Ek.3-A'!K865","v":""},{"$f":"'Ek.3-A'!L865","v":""},{"v":0,"d":"%0.00"},"H",{"$f":"IF(O865=\"E\",SUM($N$5:N865),0)","v":{"v":0,"d":"%0.00"}},0]
[{"v":9.66000000000001,"d":"9.66"},"YERLİ KATKI ORANI RAPORU",null,690320109000,0.6,null,319,{"$f":"IF(TRIM('Ek.3-A'!E866)<>\"\",\"var\",\"yok\")","v":"yok"},{"$f":"IF('Ek.3-A'!E866=\"\", \"\", IF(VLOOKUP('Ek.3-A'!E866, Veriler!D:E, 2, 0)=0, \"\", VLOOKUP('Ek.3-A'!E866, Veriler!D:E, 2, 0)))","v":""},{"$f":"IF('Ek.3-A'!O866=\"\", \"\", 'Ek.3-A'!O866)","v":""},{"$f":"'Ek.3-A'!R866","v":0},{"$f":"'Ek.3-A'!K866","v":""},{"$f":"'Ek.3-A'!L866","v":""},{"v":0,"d":"%0.00"},"H",{"$f":"IF(O866=\"E\",SUM($N$5:N866),0)","v":{"v":0,"d":"%0.00"}},0]
[{"v":9.67000000000001,"d":"9.67"},"YERLİ KATKI ORANI RAPORU",null,690390100000,0.6,null,320,{"$f":"IF(TRIM('Ek.3-A'!E867)<>\"\",\"var\",\"yok\")","v":"yok"},{"$f":"IF('Ek.3-A'!E867=\"\", \"\", IF(VLOOKUP('Ek.3-A'!E867, Veriler!D:E, 2, 0)=0, \"\", VLOOKUP('Ek.3-A'!E867, Veriler!D:E, 2, 0)))","v":""},{"$f":"IF('Ek.3-A'!O867=\"\", \"\", 'Ek.3-A'!O867)","v":""},{"$f":"'Ek.3-A'!R867","v":0},{"$f":"'Ek.3-A'!K867","v":""},{"$f":"'Ek.3-A'!L867","v":""},{"v":0,"d":"%0.00"},"H",{"$f":"IF(O867=\"E\",SUM($N$5:N867),0)","v":{"v":0,"d":"%0.00"}},0]
[{"v":9.68000000000001,"d":"9.68"},"YERLİ KATKI ORANI RAPORU",null,690390909019,0.6,null,321,{"$f":"IF(TRIM('Ek.3-A'!E868)<>\"\",\"var\",\"yok\")","v":"yok"},{"$f":"IF('Ek.3-A'!E868=\"\", \"\", IF(VLOOKUP('Ek.3-A'!E868, Veriler!D:E, 2, 0)=0, \"\", VLOOKUP('Ek.3-A'!E868, Veriler!D:E, 2, 0)))","v":""},{"$f":"IF('Ek.3-A'!O868=\"\", \"\", 'Ek.3-A'!O868)","v":""},{"$f":"'Ek.3-A'!R868","v":0},{"$f":"'Ek.3-A'!K868","v":""},{"$f":"'Ek.3-A'!L868","v":""},{"v":0,"d":"%0.00"},"H",{"$f":"IF(O868=\"E\",SUM($N$5:N868),0)","v":{"v":0,"d":"%0.00"}},0]
[{"v":9.69000000000001,"d":"9.69"},"YERLİ KATKI ORANI RAPORU",null,690310000011,0.6,null,322,{"$f":"IF(TRIM('Ek.3-A'!E869)<>\"\",\"var\",\"yok\")","v":"yok"},{"$f":"IF('Ek.3-A'!E869=\"\", \"\", IF(VLOOKUP('Ek.3-A'!E869, Veriler!D:E, 2, 0)=0, \"\", VLOOKUP('Ek.3-A'!E869, Veriler!D:E, 2, 0)))","v":""},{"$f":"IF('Ek.3-A'!O869=\"\", \"\", 'Ek.3-A'!O869)","v":""},{"$f":"'Ek.3-A'!R869","v":0},{"$f":"'Ek.3-A'!K869","v":""},{"$f":"'Ek.3-A'!L869","v":""},{"v":0,"d":"%0.00"},"H",{"$f":"IF(O869=\"E\",SUM($N$5:N869),0)","v":{"v":0,"d":"%0.00"}},0]
[{"v":9.70000000000001,"d":"9.70"},"YERLİ KATKI ORANI RAPORU",null,690310000019,0.6]
[{"v":9.71000000000001,"d":"9.71"},"YERLİ KATKI ORANI RAPORU",null,851110001000,0.6]
[{"v":9.72000000000001,"d":"9.72"},"YERLİ KATKI ORANI RAPORU",null,851120001000,0.6]
[{"v":9.73000000000001,"d":"9.73"},"YERLİ KATKI ORANI RAPORU",null,851120009000,0.6]
[{"v":9.74000000000001,"d":"9.74"},"YERLİ KATKI ORANI RAPORU",null,271091000000,0.6]
[{"v":9.75000000000001,"d":"9.75"},"YERLİ KATKI ORANI RAPORU",null,293369109011,0.6]
[{"v":9.76000000000001,"d":"9.76"},"YERLİ KATKI ORANI RAPORU",null,293979909012,0.6]
[{"v":9.77000000000001,"d":"9.77"},"YERLİ KATKI ORANI RAPORU",null,847141009000,0.6]
[{"v":9.78000000000001,"d":"9.78"},"YERLİ KATKI ORANI RAPORU",null,851822000000,0.6]
[{"v":9.79000000000001,"d":"9.79"},"YERLİ KATKI ORANI RAPORU",null,291713900011,0.6,null,{"$f":"G854+1","v":323},{"$f":"IF(TRIM('Ek.3-A'!E879)<>\"\",\"var\",\"yok\")","v":"yok"},{"$f":"IF('Ek.3-A'!E879=\"\", \"\", IF(VLOOKUP('Ek.3-A'!E879, Veriler!D:E, 2, 0)=0, \"\", VLOOKUP('Ek.3-A'!E879, Veriler!D:E, 2, 0)))","v":""},{"$f":"IF('Ek.3-A'!O879=\"\", \"\", 'Ek.3-A'!O879)","v":""},{"$f":"'Ek.3-A'!R879","v":0},{"$f":"'Ek.3-A'!K879","v":""},{"$f":"'Ek.3-A'!L879","v":""},{"$f":"IF(H879=\"var\",0,IF(M879<=0.005,M879,0))","v":{"v":0,"d":"%0.00"}},{"$f":"IF(M879<=0.005,\"E\",\"H\")","v":"H"},{"$f":"IF(O879=\"E\",SUM($N$5:N879),0)","v":{"v":0,"d":"%0.00"}},{"$f":"IF(P879<=0.1, K879, IF(N879>$F$2, N879*K879, $F$2*K879))","v":0}]
[{"v":9.80000000000001,"d":"9.80"},"YERLİ KATKI ORANI RAPORU",null,291713900013,0.6,null,{"$f":"G879+1","v":324},{"$f":"IF(TRIM('Ek.3-A'!E880)<>\"\",\"var\",\"yok\")","v":"yok"},{"$f":"IF('Ek.3-A'!E880=\"\", \"\", IF(VLOOKUP('Ek.3-A'!E880, Veriler!D:E, 2, 0)=0, \"\", VLOOKUP('Ek.3-A'!E880, Veriler!D:E, 2, 0)))","v":""},{"$f":"IF('Ek.3-A'!O880=\"\", \"\", 'Ek.3-A'!O880)","v":""},{"$f":"'Ek.3-A'!R880","v":0},{"$f":"'Ek.3-A'!K880","v":""},{"$f":"'Ek.3-A'!L880","v":""},{"$f":"IF(H880=\"var\",0,IF(M880<=0.005,M880,0))","v":{"v":0,"d":"%0.00"}},{"$f":"IF(M880<=0.005,\"E\",\"H\")","v":"H"},{"$f":"IF(O880=\"E\",SUM($N$5:N880),0)","v":{"v":0,"d":"%0.00"}},{"$f":"IF(P880<=0.1, K880, IF(N880>$F$2, N880*K880, $F$2*K880))","v":0}]
[{"v":9.81000000000001,"d":"9.81"},"YERLİ KATKI ORANI RAPORU",null,293392000000,0.6,null,{"$f":"G880+1","v":325},{"$f":"IF(TRIM('Ek.3-A'!E881)<>\"\",\"var\",\"yok\")","v":"yok"},{"$f":"IF('Ek.3-A'!E881=\"\", \"\", IF(VLOOKUP('Ek.3-A'!E881, Veriler!D:E, 2, 0)=0, \"\", VLOOKUP('Ek.3-A'!E881, Veriler!D:E, 2, 0)))","v":""},{"$f":"IF('Ek.3-A'!O881=\"\", \"\", 'Ek.3-A'!O881)","v":""},{"$f":"'Ek.3-A'!R881","v":0},{"$f":"'Ek.3-A'!K881","v":""},{"$f":"'Ek.3-A'!L881","v":""},{"v":0,"d":"%0.00"},"H",{"$f":"IF(O881=\"E\",SUM($N$5:N881),0)","v":{"v":0,"d":"%0.00"}},0]
[{"v":9.82000000000001,"d":"9.82"},"YERLİ KATKI ORANI RAPORU",null,293399809036,0.6,null,{"$f":"G881+1","v":326},{"$f":"IF(TRIM('Ek.3-A'!E882)<>\"\",\"var\",\"yok\")","v":"yok"},{"$f":"IF('Ek.3-A'!E882=\"\", \"\", IF(VLOOKUP('Ek.3-A'!E882, Veriler!D:E, 2, 0)=0, \"\", VLOOKUP('Ek.3-A'!E882, Veriler!D:E, 2, 0)))","v":""},{"$f":"IF('Ek.3-A'!O882=\"\", \"\", 'Ek.3-A'!O882)","v":""},{"$f":"'Ek.3-A'!R882","v":0},{"$f":"'Ek.3-A'!K882","v":""},{"$f":"'Ek.3-A'!L882","v":""},{"v":0,"d":"%0.00"},"H",{"$f":"IF(O882=\"E\",SUM($N$5:N882),0)","v":{"v":0,"d":"%0.00"}},0]
[{"v":9.83000000000001,"d":"9.83"},"YERLİ KATKI ORANI RAPORU",null,292700000021,0.6,null,327,{"$f":"IF(TRIM('Ek.3-A'!E883)<>\"\",\"var\",\"yok\")","v":"yok"},{"$f":"IF('Ek.3-A'!E883=\"\", \"\", IF(VLOOKUP('Ek.3-A'!E883, Veriler!D:E, 2, 0)=0, \"\", VLOOKUP('Ek.3-A'!E883, Veriler!D:E, 2, 0)))","v":""},{"$f":"IF('Ek.3-A'!O883=\"\", \"\", 'Ek.3-A'!O883)","v":""},{"$f":"'Ek.3-A'!R883","v":0},{"$f":"'Ek.3-A'!K883","v":""},{"$f":"'Ek.3-A'!L883","v":""},{"v":0,"d":"%0.00"},"H",{"$f":"IF(O883=\"E\",SUM($N$5:N883),0)","v":{"v":0,"d":"%0.00"}},0]
[{"v":9.84000000000001,"d":"9.84"},"YERLİ KATKI ORANI RAPORU",null,292700000031,0.6,null,328,{"$f":"IF(TRIM('Ek.3-A'!E884)<>\"\",\"var\",\"yok\")","v":"yok"},{"$f":"IF('Ek.3-A'!E884=\"\", \"\", IF(VLOOKUP('Ek.3-A'!E884, Veriler!D:E, 2, 0)=0, \"\", VLOOKUP('Ek.3-A'!E884, Veriler!D:E, 2, 0)))","v":""},{"$f":"IF('Ek.3-A'!O884=\"\", \"\", 'Ek.3-A'!O884)","v":""},{"$f":"'Ek.3-A'!R884","v":0},{"$f":"'Ek.3-A'!K884","v":""},{"$f":"'Ek.3-A'!L884","v":""},{"v":0,"d":"%0.00"},"H",{"$f":"IF(O884=\"E\",SUM($N$5:N884),0)","v":{"v":0,"d":"%0.00"}},0]
[{"v":9.85000000000001,"d":"9.85"},"YERLİ KATKI ORANI RAPORU",null,293399809025,0.6,null,329,{"$f":"IF(TRIM('Ek.3-A'!E885)<>\"\",\"var\",\"yok\")","v":"yok"},{"$f":"IF('Ek.3-A'!E885=\"\", \"\", IF(VLOOKUP('Ek.3-A'!E885, Veriler!D:E, 2, 0)=0, \"\", VLOOKUP('Ek.3-A'!E885, Veriler!D:E, 2, 0)))","v":""},{"$f":"IF('Ek.3-A'!O885=\"\", \"\", 'Ek.3-A'!O885)","v":""},{"$f":"'Ek.3-A'!R885","v":0},{"$f":"'Ek.3-A'!K885","v":""},{"$f":"'Ek.3-A'!L885","v":""},{"v":0,"d":"%0.00"},"H",{"$f":"IF(O885=\"E\",SUM($N$5:N885),0)","v":{"v":0,"d":"%0.00"}},0]
[{"v":9.86000000000001,"d":"9.86"},"YERLİ KATKI ORANI RAPORU",null,281129300011,0.6,null,330,{"$f":"IF(TRIM('Ek.3-A'!E886)<>\"\",\"var\",\"yok\")","v":"yok"},{"$f":"IF('Ek.3-A'!E886=\"\", \"\", IF(VLOOKUP('Ek.3-A'!E886, Veriler!D:E, 2, 0)=0, \"\", VLOOKUP('Ek.3-A'!E886, Veriler!D:E, 2, 0)))","v":""},{"$f":"IF('Ek.3-A'!O886=\"\", \"\", 'Ek.3-A'!O886)","v":""},{"$f":"'Ek.3-A'!R886","v":0},{"$f":"'Ek.3-A'!K886","v":""},{"$f":"'Ek.3-A'!L886","v":""},{"v":0,"d":"%0.00"},"H",{"$f":"IF(O886=\"E\",SUM($N$5:N886),0)","v":{"v":0,"d":"%0.00"}},0]
[{"v":9.87000000000001,"d":"9.87"},"YERLİ KATKI ORANI RAPORU",null,292700000022,0.6,null,331,{"$f":"IF(TRIM('Ek.3-A'!E887)<>\"\",\"var\",\"yok\")","v":"yok"},{"$f":"IF('Ek.3-A'!E887=\"\", \"\", IF(VLOOKUP('Ek.3-A'!E887, Veriler!D:E, 2, 0)=0, \"\", VLOOKUP('Ek.3-A'!E887, Veriler!D:E, 2, 0)))","v":""},{"$f":"IF('Ek.3-A'!O887=\"\", \"\", 'Ek.3-A'!O887)","v":""},{"$f":"'Ek.3-A'!R887","v":0},{"$f":"'Ek.3-A'!K887","v":""},{"$f":"'Ek.3-A'!L887","v":""},{"v":0,"d":"%0.00"},"H",{"$f":"IF(O887=\"E\",SUM($N$5:N887),0)","v":{"v":0,"d":"%0.00"}},0]
[{"v":9.88000000000001,"d":"9.88"},"YERLİ KATKI ORANI RAPORU",null,740821000000,0.6,null,332,{"$f":"IF(TRIM('Ek.3-A'!E888)<>\"\",\"var\",\"yok\")","v":"yok"},{"$f":"IF('Ek.3-A'!E888=\"\", \"\", IF(VLOOKUP('Ek.3-A'!E888, Veriler!D:E, 2, 0)=0, \"\", VLOOKUP('Ek.3-A'!E888, Veriler!D:E, 2, 0)))","v":""},{"$f":"IF('Ek.3-A'!O888=\"\", \"\", 'Ek.3-A'!O888)","v":""},{"$f":"'Ek.3-A'!R888","v":0},{"$f":"'Ek.3-A'!K888","v":""},{"$f":"'Ek.3-A'!L888","v":""},{"v":0,"d":"%0.00"},"H",{"$f":"IF(O888=\"E\",SUM($N$5:N888),0)","v":{"v":0,"d":"%0.00"}},0]
[{"v":9.89000000000001,"d":"9.89"},"YERLİ KATKI ORANI RAPORU",null,740822000000,0.6,null,333,{"$f":"IF(TRIM('Ek.3-A'!E889)<>\"\",\"var\",\"yok\")","v":"yok"},{"$f":"IF('Ek.3-A'!E889=\"\", \"\", IF(VLOOKUP('Ek.3-A'!E889, Veriler!D:E, 2, 0)=0, \"\", VLOOKUP('Ek.3-A'!E889, Veriler!D:E, 2, 0)))","v":""},{"$f":"IF('Ek.3-A'!O889=\"\", \"\", 'Ek.3-A'!O889)","v":""},{"$f":"'Ek.3-A'!R889","v":0},{"$f":"'Ek.3-A'!K889","v":""},{"$f":"'Ek.3-A'!L889","v":""},{"v":0,"d":"%0.00"},"H",{"$f":"IF(O889=\"E\",SUM($N$5:N889),0)","v":{"v":0,"d":"%0.00"}},0]
[{"v":9.90000000000001,"d":"9.90"},"YERLİ KATKI ORANI RAPORU",null,741022000000,0.6,null,334,{"$f":"IF(TRIM('Ek.3-A'!E890)<>\"\",\"var\",\"yok\")","v":"yok"},{"$f":"IF('Ek.3-A'!E890=\"\", \"\", IF(VLOOKUP('Ek.3-A'!E890, Veriler!D:E, 2, 0)=0, \"\", VLOOKUP('Ek.3-A'!E890, Veriler!D:E, 2, 0)))","v":""},{"$f":"IF('Ek.3-A'!O890=\"\", \"\", 'Ek.3-A'!O890)","v":""},{"$f":"'Ek.3-A'!R890","v":0},{"$f":"'Ek.3-A'!K890","v":""},{"$f":"'Ek.3-A'!L890","v":""},{"v":0,"d":"%0.00"},"H",{"$f":"IF(O890=\"E\",SUM($N$5:N890),0)","v":{"v":0,"d":"%0.00"}},0]
[{"v":9.91000000000001,"d":"9.91"},"YERLİ KATKI ORANI RAPORU",null,741012000000,0.6,null,335,{"$f":"IF(TRIM('Ek.3-A'!E891)<>\"\",\"var\",\"yok\")","v":"yok"},{"$f":"IF('Ek.3-A'!E891=\"\", \"\", IF(VLOOKUP('Ek.3-A'!E891, Veriler!D:E, 2, 0)=0, \"\", VLOOKUP('Ek.3-A'!E891, Veriler!D:E, 2, 0)))","v":""},{"$f":"IF('Ek.3-A'!O891=\"\", \"\", 'Ek.3-A'!O891)","v":""},{"$f":"'Ek.3-A'!R891","v":0},{"$f":"'Ek.3-A'!K891","v":""},{"$f":"'Ek.3-A'!L891","v":""},{"v":0,"d":"%0.00"},"H",{"$f":"IF(O891=\"E\",SUM($N$5:N891),0)","v":{"v":0,"d":"%0.00"}},0]
[{"v":9.92000000000001,"d":"9.92"},"YERLİ KATKI ORANI RAPORU",null,294200000021,0.6,null,336,{"$f":"IF(TRIM('Ek.3-A'!E892)<>\"\",\"var\",\"yok\")","v":"yok"},{"$f":"IF('Ek.3-A'!E892=\"\", \"\", IF(VLOOKUP('Ek.3-A'!E892, Veriler!D:E, 2, 0)=0, \"\", VLOOKUP('Ek.3-A'!E892, Veriler!D:E, 2, 0)))","v":""},{"$f":"IF('Ek.3-A'!O892=\"\", \"\", 'Ek.3-A'!O892)","v":""},{"$f":"'Ek.3-A'!R892","v":0},{"$f":"'Ek.3-A'!K892","v":""},{"$f":"'Ek.3-A'!L892","v":""},{"v":0,"d":"%0.00"},"H",{"$f":"IF(O892=\"E\",SUM($N$5:N892),0)","v":{"v":0,"d":"%0.00"}},0]
[{"v":9.93000000000001,"d":"9.93"},"YERLİ KATKI ORANI RAPORU",null,260300000000,0.6,{"$nulls":3},""]
[{"v":9.94000000000001,"d":"9.94"},"YERLİ KATKI ORANI RAPORU",null,285390903000,0.6,null,{"$f":"G869+1","v":323},{"$f":"IF(TRIM('Ek.3-A'!E894)<>\"\",\"var\",\"yok\")","v":"yok"},{"$f":"IF('Ek.3-A'!E894=\"\", \"\", IF(VLOOKUP('Ek.3-A'!E894, Veriler!D:E, 2, 0)=0, \"\", VLOOKUP('Ek.3-A'!E894, Veriler!D:E, 2, 0)))","v":""},{"$f":"IF('Ek.3-A'!O894=\"\", \"\", 'Ek.3-A'!O894)","v":""},{"$f":"'Ek.3-A'!R894","v":0},{"$f":"'Ek.3-A'!K894","v":""},{"$f":"'Ek.3-A'!L894","v":""},{"$f":"IF(H894=\"var\",0,IF(M894<=0.005,M894,0))","v":{"v":0,"d":"%0.00"}},{"$f":"IF(M894<=0.005,\"E\",\"H\")","v":"H"},{"$f":"IF(O894=\"E\",SUM($N$5:N894),0)","v":{"v":0,"d":"%0.00"}},{"$f":"IF(P894<=0.1, K894, IF(N894>$F$2, N894*K894, $F$2*K894))","v":0}]
[{"v":9.95000000000001,"d":"9.95"},"YERLİ KATKI ORANI RAPORU",null,282741002000,0.6,null,{"$f":"G894+1","v":324},{"$f":"IF(TRIM('Ek.3-A'!E895)<>\"\",\"var\",\"yok\")","v":"yok"},{"$f":"IF('Ek.3-A'!E895=\"\", \"\", IF(VLOOKUP('Ek.3-A'!E895, Veriler!D:E, 2, 0)=0, \"\", VLOOKUP('Ek.3-A'!E895, Veriler!D:E, 2, 0)))","v":""},{"$f":"IF('Ek.3-A'!O895=\"\", \"\", 'Ek.3-A'!O895)","v":""},{"$f":"'Ek.3-A'!R895","v":0},{"$f":"'Ek.3-A'!K895","v":""},{"$f":"'Ek.3-A'!L895","v":""},{"$f":"IF(H895=\"var\",0,IF(M895<=0.005,M895,0))","v":{"v":0,"d":"%0.00"}},{"$f":"IF(M895<=0.005,\"E\",\"H\")","v":"H"},{"$f":"IF(O895=\"E\",SUM($N$5:N895),0)","v":{"v":0,"d":"%0.00"}},{"$f":"IF(P895<=0.1, K895, IF(N895>$F$2, N895*K895, $F$2*K895))","v":0}]
[{"v":9.96000000000001,"d":"9.96"},"YERLİ KATKI ORANI RAPORU",null,282550000013,0.6,null,{"$f":"G895+1","v":325},{"$f":"IF(TRIM('Ek.3-A'!E896)<>\"\",\"var\",\"yok\")","v":"yok"},{"$f":"IF('Ek.3-A'!E896=\"\", \"\", IF(VLOOKUP('Ek.3-A'!E896, Veriler!D:E, 2, 0)=0, \"\", VLOOKUP('Ek.3-A'!E896, Veriler!D:E, 2, 0)))","v":""},{"$f":"IF('Ek.3-A'!O896=\"\", \"\", 'Ek.3-A'!O896)","v":""},{"$f":"'Ek.3-A'!R896","v":0},{"$f":"'Ek.3-A'!K896","v":""},{"$f":"'Ek.3-A'!L896","v":""},{"v":0,"d":"%0.00"},"H",{"$f":"IF(O896=\"E\",SUM($N$5:N896),0)","v":{"v":0,"d":"%0.00"}},0]
[{"v":9.97000000000001,"d":"9.97"},"YERLİ KATKI ORANI RAPORU",null,282550000011,0.6,null,326,{"$f":"IF(TRIM('Ek.3-A'!E897)<>\"\",\"var\",\"yok\")","v":"yok"},{"$f":"IF('Ek.3-A'!E897=\"\", \"\", IF(VLOOKUP('Ek.3-A'!E897, Veriler!D:E, 2, 0)=0, \"\", VLOOKUP('Ek.3-A'!E897, Veriler!D:E, 2, 0)))","v":""},{"$f":"IF('Ek.3-A'!O897=\"\", \"\", 'Ek.3-A'!O897)","v":""},{"$f":"'Ek.3-A'!R897","v":0},{"$f":"'Ek.3-A'!K897","v":""},{"$f":"'Ek.3-A'!L897","v":""},{"v":0,"d":"%0.00"},"H",{"$f":"IF(O897=\"E\",SUM($N$5:N897),0)","v":{"v":0,"d":"%0.00"}},0]
[{"v":9.98000000000001,"d":"9.98"},"YERLİ KATKI ORANI RAPORU",null,283325001000,0.6,null,327,{"$f":"IF(TRIM('Ek.3-A'!E898)<>\"\",\"var\",\"yok\")","v":"yok"},{"$f":"IF('Ek.3-A'!E898=\"\", \"\", IF(VLOOKUP('Ek.3-A'!E898, Veriler!D:E, 2, 0)=0, \"\", VLOOKUP('Ek.3-A'!E898, Veriler!D:E, 2, 0)))","v":""},{"$f":"IF('Ek.3-A'!O898=\"\", \"\", 'Ek.3-A'!O898)","v":""},{"$f":"'Ek.3-A'!R898","v":0},{"$f":"'Ek.3-A'!K898","v":""},{"$f":"'Ek.3-A'!L898","v":""},{"v":0,"d":"%0.00"},"H",{"$f":"IF(O898=\"E\",SUM($N$5:N898),0)","v":{"v":0,"d":"%0.00"}},0]
[{"v":9.99000000000001,"d":"9.99"},"YERLİ KATKI ORANI RAPORU",null,282550000012,0.6,null,328,{"$f":"IF(TRIM('Ek.3-A'!E899)<>\"\",\"var\",\"yok\")","v":"yok"},{"$f":"IF('Ek.3-A'!E899=\"\", \"\", IF(VLOOKUP('Ek.3-A'!E899, Veriler!D:E, 2, 0)=0, \"\", VLOOKUP('Ek.3-A'!E899, Veriler!D:E, 2, 0)))","v":""},{"$f":"IF('Ek.3-A'!O899=\"\", \"\", 'Ek.3-A'!O899)","v":""},{"$f":"'Ek.3-A'!R899","v":0},{"$f":"'Ek.3-A'!K899","v":""},{"$f":"'Ek.3-A'!L899","v":""},{"v":0,"d":"%0.00"},"H",{"$f":"IF(O899=\"E\",SUM($N$5:N899),0)","v":{"v":0,"d":"%0.00"}},0]
[{"v":10,"d":"10.00"},"YERLİ KATKI ORANI RAPORU",null,283325002000,0.6,null,329,{"$f":"IF(TRIM('Ek.3-A'!E900)<>\"\",\"var\",\"yok\")","v":"yok"},{"$f":"IF('Ek.3-A'!E900=\"\", \"\", IF(VLOOKUP('Ek.3-A'!E900, Veriler!D:E, 2, 0)=0, \"\", VLOOKUP('Ek.3-A'!E900, Veriler!D:E, 2, 0)))","v":""},{"$f":"IF('Ek.3-A'!O900=\"\", \"\", 'Ek.3-A'!O900)","v":""},{"$f":"'Ek.3-A'!R900","v":0},{"$f":"'Ek.3-A'!K900","v":""},{"$f":"'Ek.3-A'!L900","v":""},{"v":0,"d":"%0.00"},"H",{"$f":"IF(O900=\"E\",SUM($N$5:N900),0)","v":{"v":0,"d":"%0.00"}},0]
[10.01,"YERLİ KATKI ORANI RAPORU",null,283699112000,0.6,null,330,{"$f":"IF(TRIM('Ek.3-A'!E901)<>\"\",\"var\",\"yok\")","v":"yok"},{"$f":"IF('Ek.3-A'!E901=\"\", \"\", IF(VLOOKUP('Ek.3-A'!E901, Veriler!D:E, 2, 0)=0, \"\", VLOOKUP('Ek.3-A'!E901, Veriler!D:E, 2, 0)))","v":""},{"$f":"IF('Ek.3-A'!O901=\"\", \"\", 'Ek.3-A'!O901)","v":""},{"$f":"'Ek.3-A'!R901","v":0},{"$f":"'Ek.3-A'!K901","v":""},{"$f":"'Ek.3-A'!L901","v":""},{"v":0,"d":"%0.00"},"H",{"$f":"IF(O901=\"E\",SUM($N$5:N901),0)","v":{"v":0,"d":"%0.00"}},0]
[10.02,"YERLİ KATKI ORANI RAPORU",null,282739852013,0.6,null,331,{"$f":"IF(TRIM('Ek.3-A'!E902)<>\"\",\"var\",\"yok\")","v":"yok"},{"$f":"IF('Ek.3-A'!E902=\"\", \"\", IF(VLOOKUP('Ek.3-A'!E902, Veriler!D:E, 2, 0)=0, \"\", VLOOKUP('Ek.3-A'!E902, Veriler!D:E, 2, 0)))","v":""},{"$f":"IF('Ek.3-A'!O902=\"\", \"\", 'Ek.3-A'!O902)","v":""},{"$f":"'Ek.3-A'!R902","v":0},{"$f":"'Ek.3-A'!K902","v":""},{"$f":"'Ek.3-A'!L902","v":""},{"v":0,"d":"%0.00"},"H",{"$f":"IF(O902=\"E\",SUM($N$5:N902),0)","v":{"v":0,"d":"%0.00"}},0]
[10.03,"YERLİ KATKI ORANI RAPORU",null,740100000000,0.6,null,332,{"$f":"IF(TRIM('Ek.3-A'!E903)<>\"\",\"var\",\"yok\")","v":"yok"},{"$f":"IF('Ek.3-A'!E903=\"\", \"\", IF(VLOOKUP('Ek.3-A'!E903, Veriler!D:E, 2, 0)=0, \"\", VLOOKUP('Ek.3-A'!E903, Veriler!D:E, 2, 0)))","v":""},{"$f":"IF('Ek.3-A'!O903=\"\", \"\", 'Ek.3-A'!O903)","v":""},{"$f":"'Ek.3-A'!R903","v":0},{"$f":"'Ek.3-A'!K903","v":""},{"$f":"'Ek.3-A'!L903","v":""},{"v":0,"d":"%0.00"},"H",{"$f":"IF(O903=\"E\",SUM($N$5:N903),0)","v":{"v":0,"d":"%0.00"}},0]
[10.04,"YERLİ KATKI ORANI RAPORU",null,283429400000,0.6,null,333,{"$f":"IF(TRIM('Ek.3-A'!E904)<>\"\",\"var\",\"yok\")","v":"yok"},{"$f":"IF('Ek.3-A'!E904=\"\", \"\", IF(VLOOKUP('Ek.3-A'!E904, Veriler!D:E, 2, 0)=0, \"\", VLOOKUP('Ek.3-A'!E904, Veriler!D:E, 2, 0)))","v":""},{"$f":"IF('Ek.3-A'!O904=\"\", \"\", 'Ek.3-A'!O904)","v":""},{"$f":"'Ek.3-A'!R904","v":0},{"$f":"'Ek.3-A'!K904","v":""},{"$f":"'Ek.3-A'!L904","v":""},{"v":0,"d":"%0.00"},"H",{"$f":"IF(O904=\"E\",SUM($N$5:N904),0)","v":{"v":0,"d":"%0.00"}},0]
[10.05,"YERLİ KATKI ORANI RAPORU",null,282741001000,0.6,null,334,{"$f":"IF(TRIM('Ek.3-A'!E905)<>\"\",\"var\",\"yok\")","v":"yok"},{"$f":"IF('Ek.3-A'!E905=\"\", \"\", IF(VLOOKUP('Ek.3-A'!E905, Veriler!D:E, 2, 0)=0, \"\", VLOOKUP('Ek.3-A'!E905, Veriler!D:E, 2, 0)))","v":""},{"$f":"IF('Ek.3-A'!O905=\"\", \"\", 'Ek.3-A'!O905)","v":""},{"$f":"'Ek.3-A'!R905","v":0},{"$f":"'Ek.3-A'!K905","v":""},{"$f":"'Ek.3-A'!L905","v":""},{"v":0,"d":"%0.00"},"H",{"$f":"IF(O905=\"E\",SUM($N$5:N905),0)","v":{"v":0,"d":"%0.00"}},0]
[10.06,"YERLİ KATKI ORANI RAPORU",null,283719009012,0.6,null,335,{"$f":"IF(TRIM('Ek.3-A'!E906)<>\"\",\"var\",\"yok\")","v":"yok"},{"$f":"IF('Ek.3-A'!E906=\"\", \"\", IF(VLOOKUP('Ek.3-A'!E906, Veriler!D:E, 2, 0)=0, \"\", VLOOKUP('Ek.3-A'!E906, Veriler!D:E, 2, 0)))","v":""},{"$f":"IF('Ek.3-A'!O906=\"\", \"\", 'Ek.3-A'!O906)","v":""},{"$f":"'Ek.3-A'!R906","v":0},{"$f":"'Ek.3-A'!K906","v":""},{"$f":"'Ek.3-A'!L906","v":""},{"v":0,"d":"%0.00"},"H",{"$f":"IF(O906=\"E\",SUM($N$5:N906),0)","v":{"v":0,"d":"%0.00"}},0]
[10.07,"YERLİ KATKI ORANI RAPORU",null,740620000011,0.6,null,336,{"$f":"IF(TRIM('Ek.3-A'!E907)<>\"\",\"var\",\"yok\")","v":"yok"},{"$f":"IF('Ek.3-A'!E907=\"\", \"\", IF(VLOOKUP('Ek.3-A'!E907, Veriler!D:E, 2, 0)=0, \"\", VLOOKUP('Ek.3-A'!E907, Veriler!D:E, 2, 0)))","v":""},{"$f":"IF('Ek.3-A'!O907=\"\", \"\", 'Ek.3-A'!O907)","v":""},{"$f":"'Ek.3-A'!R907","v":0},{"$f":"'Ek.3-A'!K907","v":""},{"$f":"'Ek.3-A'!L907","v":""},{"v":0,"d":"%0.00"},"H",{"$f":"IF(O907=\"E\",SUM($N$5:N907),0)","v":{"v":0,"d":"%0.00"}},0]
[10.08,"YERLİ KATKI ORANI RAPORU",null,740610000000,0.6]
[10.09,"YERLİ KATKI ORANI RAPORU",null,291529009012,0.6]
[{"v":10.1,"d":"10.10"},"YERLİ KATKI ORANI RAPORU",null,741529000019,0.6]
[10.11,"YERLİ KATKI ORANI RAPORU",null,741300000000,0.6]
[10.12,"YERLİ KATKI ORANI RAPORU",null,740620000012,0.6]
[10.13,"YERLİ KATKI ORANI RAPORU",null,741539000000,0.6]
[10.14,"YERLİ KATKI ORANI RAPORU",null,741529000011,0.6]
[10.15,"YERLİ KATKI ORANI RAPORU",null,741521000000,0.6]
[10.16,"YERLİ KATKI ORANI RAPORU",null,741820000011,0.6]
[10.17,"YERLİ KATKI ORANI RAPORU",null,741820000015,0.6,null,{"$f":"G892+1","v":337},{"$f":"IF(TRIM('Ek.3-A'!E917)<>\"\",\"var\",\"yok\")","v":"yok"},{"$f":"IF('Ek.3-A'!E917=\"\", \"\", IF(VLOOKUP('Ek.3-A'!E917, Veriler!D:E, 2, 0)=0, \"\", VLOOKUP('Ek.3-A'!E917, Veriler!D:E, 2, 0)))","v":""},{"$f":"IF('Ek.3-A'!O917=\"\", \"\", 'Ek.3-A'!O917)","v":""},{"$f":"'Ek.3-A'!R917","v":0},{"$f":"'Ek.3-A'!K917","v":""},{"$f":"'Ek.3-A'!L917","v":""},{"$f":"IF(H917=\"var\",0,IF(M917<=0.005,M917,0))","v":{"v":0,"d":"%0.00"}},{"$f":"IF(M917<=0.005,\"E\",\"H\")","v":"H"},{"$f":"IF(O917=\"E\",SUM($N$5:N917),0)","v":{"v":0,"d":"%0.00"}},{"$f":"IF(P917<=0.1, K917, IF(N917>$F$2, N917*K917, $F$2*K917))","v":0}]
[10.18,"YERLİ KATKI ORANI RAPORU",null,400130000000,0.6,null,{"$f":"G917+1","v":338},{"$f":"IF(TRIM('Ek.3-A'!E918)<>\"\",\"var\",\"yok\")","v":"yok"},{"$f":"IF('Ek.3-A'!E918=\"\", \"\", IF(VLOOKUP('Ek.3-A'!E918, Veriler!D:E, 2, 0)=0, \"\", VLOOKUP('Ek.3-A'!E918, Veriler!D:E, 2, 0)))","v":""},{"$f":"IF('Ek.3-A'!O918=\"\", \"\", 'Ek.3-A'!O918)","v":""},{"$f":"'Ek.3-A'!R918","v":0},{"$f":"'Ek.3-A'!K918","v":""},{"$f":"'Ek.3-A'!L918","v":""},{"$f":"IF(H918=\"var\",0,IF(M918<=0.005,M918,0))","v":{"v":0,"d":"%0.00"}},{"$f":"IF(M918<=0.005,\"E\",\"H\")","v":"H"},{"$f":"IF(O918=\"E\",SUM($N$5:N918),0)","v":{"v":0,"d":"%0.00"}},{"$f":"IF(P918<=0.1, K918, IF(N918>$F$2, N918*K918, $F$2*K918))","v":0}]
[10.19,"YERLİ KATKI ORANI RAPORU",null,440921009000,0.6,null,{"$f":"G918+1","v":339},{"$f":"IF(TRIM('Ek.3-A'!E919)<>\"\",\"var\",\"yok\")","v":"yok"},{"$f":"IF('Ek.3-A'!E919=\"\", \"\", IF(VLOOKUP('Ek.3-A'!E919, Veriler!D:E, 2, 0)=0, \"\", VLOOKUP('Ek.3-A'!E919, Veriler!D:E, 2, 0)))","v":""},{"$f":"IF('Ek.3-A'!O919=\"\", \"\", 'Ek.3-A'!O919)","v":""},{"$f":"'Ek.3-A'!R919","v":0},{"$f":"'Ek.3-A'!K919","v":""},{"$f":"'Ek.3-A'!L919","v":""},{"v":0,"d":"%0.00"},"H",{"$f":"IF(O919=\"E\",SUM($N$5:N919),0)","v":{"v":0,"d":"%0.00"}},0]
[{"v":10.2,"d":"10.20"},"YERLİ KATKI ORANI RAPORU",null,440921002000,0.6,null,{"$f":"G919+1","v":340},{"$f":"IF(TRIM('Ek.3-A'!E920)<>\"\",\"var\",\"yok\")","v":"yok"},{"$f":"IF('Ek.3-A'!E920=\"\", \"\", IF(VLOOKUP('Ek.3-A'!E920, Veriler!D:E, 2, 0)=0, \"\", VLOOKUP('Ek.3-A'!E920, Veriler!D:E, 2, 0)))","v":""},{"$f":"IF('Ek.3-A'!O920=\"\", \"\", 'Ek.3-A'!O920)","v":""},{"$f":"'Ek.3-A'!R920","v":0},{"$f":"'Ek.3-A'!K920","v":""},{"$f":"'Ek.3-A'!L920","v":""},{"v":0,"d":"%0.00"},"H",{"$f":"IF(O920=\"E\",SUM($N$5:N920),0)","v":{"v":0,"d":"%0.00"}},0]
[10.21,"YERLİ KATKI ORANI RAPORU",null,282619909012,0.6,null,341,{"$f":"IF(TRIM('Ek.3-A'!E921)<>\"\",\"var\",\"yok\")","v":"yok"},{"$f":"IF('Ek.3-A'!E921=\"\", \"\", IF(VLOOKUP('Ek.3-A'!E921, Veriler!D:E, 2, 0)=0, \"\", VLOOKUP('Ek.3-A'!E921, Veriler!D:E, 2, 0)))","v":""},{"$f":"IF('Ek.3-A'!O921=\"\", \"\", 'Ek.3-A'!O921)","v":""},{"$f":"'Ek.3-A'!R921","v":0},{"$f":"'Ek.3-A'!K921","v":""},{"$f":"'Ek.3-A'!L921","v":""},{"v":0,"d":"%0.00"},"H",{"$f":"IF(O921=\"E\",SUM($N$5:N921),0)","v":{"v":0,"d":"%0.00"}},0]
[10.22,"YERLİ KATKI ORANI RAPORU",null,282760002013,0.6,null,342,{"$f":"IF(TRIM('Ek.3-A'!E922)<>\"\",\"var\",\"yok\")","v":"yok"},{"$f":"IF('Ek.3-A'!E922=\"\", \"\", IF(VLOOKUP('Ek.3-A'!E922, Veriler!D:E, 2, 0)=0, \"\", VLOOKUP('Ek.3-A'!E922, Veriler!D:E, 2, 0)))","v":""},{"$f":"IF('Ek.3-A'!O922=\"\", \"\", 'Ek.3-A'!O922)","v":""},{"$f":"'Ek.3-A'!R922","v":0},{"$f":"'Ek.3-A'!K922","v":""},{"$f":"'Ek.3-A'!L922","v":""},{"v":0,"d":"%0.00"},"H",{"$f":"IF(O922=\"E\",SUM($N$5:N922),0)","v":{"v":0,"d":"%0.00"}},0]
[10.23,"YERLİ KATKI ORANI RAPORU",null,283660000000,0.6,null,343,{"$f":"IF(TRIM('Ek.3-A'!E923)<>\"\",\"var\",\"yok\")","v":"yok"},{"$f":"IF('Ek.3-A'!E923=\"\", \"\", IF(VLOOKUP('Ek.3-A'!E923, Veriler!D:E, 2, 0)=0, \"\", VLOOKUP('Ek.3-A'!E923, Veriler!D:E, 2, 0)))","v":""},{"$f":"IF('Ek.3-A'!O923=\"\", \"\", 'Ek.3-A'!O923)","v":""},{"$f":"'Ek.3-A'!R923","v":0},{"$f":"'Ek.3-A'!K923","v":""},{"$f":"'Ek.3-A'!L923","v":""},{"v":0,"d":"%0.00"},"H",{"$f":"IF(O923=\"E\",SUM($N$5:N923),0)","v":{"v":0,"d":"%0.00"}},0]
[10.24,"YERLİ KATKI ORANI RAPORU",null,282739854000,0.6,null,344,{"$f":"IF(TRIM('Ek.3-A'!E924)<>\"\",\"var\",\"yok\")","v":"yok"},{"$f":"IF('Ek.3-A'!E924=\"\", \"\", IF(VLOOKUP('Ek.3-A'!E924, Veriler!D:E, 2, 0)=0, \"\", VLOOKUP('Ek.3-A'!E924, Veriler!D:E, 2, 0)))","v":""},{"$f":"IF('Ek.3-A'!O924=\"\", \"\", 'Ek.3-A'!O924)","v":""},{"$f":"'Ek.3-A'!R924","v":0},{"$f":"'Ek.3-A'!K924","v":""},{"$f":"'Ek.3-A'!L924","v":""},{"v":0,"d":"%0.00"},"H",{"$f":"IF(O924=\"E\",SUM($N$5:N924),0)","v":{"v":0,"d":"%0.00"}},0]
[10.25,"YERLİ KATKI ORANI RAPORU",null,284150009014,0.6,null,345,{"$f":"IF(TRIM('Ek.3-A'!E925)<>\"\",\"var\",\"yok\")","v":"yok"},{"$f":"IF('Ek.3-A'!E925=\"\", \"\", IF(VLOOKUP('Ek.3-A'!E925, Veriler!D:E, 2, 0)=0, \"\", VLOOKUP('Ek.3-A'!E925, Veriler!D:E, 2, 0)))","v":""},{"$f":"IF('Ek.3-A'!O925=\"\", \"\", 'Ek.3-A'!O925)","v":""},{"$f":"'Ek.3-A'!R925","v":0},{"$f":"'Ek.3-A'!K925","v":""},{"$f":"'Ek.3-A'!L925","v":""},{"v":0,"d":"%0.00"},"H",{"$f":"IF(O925=\"E\",SUM($N$5:N925),0)","v":{"v":0,"d":"%0.00"}},0]
[10.26,"YERLİ KATKI ORANI RAPORU",null,320620000011,0.6,null,346,{"$f":"IF(TRIM('Ek.3-A'!E926)<>\"\",\"var\",\"yok\")","v":"yok"},{"$f":"IF('Ek.3-A'!E926=\"\", \"\", IF(VLOOKUP('Ek.3-A'!E926, Veriler!D:E, 2, 0)=0, \"\", VLOOKUP('Ek.3-A'!E926, Veriler!D:E, 2, 0)))","v":""},{"$f":"IF('Ek.3-A'!O926=\"\", \"\", 'Ek.3-A'!O926)","v":""},{"$f":"'Ek.3-A'!R926","v":0},{"$f":"'Ek.3-A'!K926","v":""},{"$f":"'Ek.3-A'!L926","v":""},{"v":0,"d":"%0.00"},"H",{"$f":"IF(O926=\"E\",SUM($N$5:N926),0)","v":{"v":0,"d":"%0.00"}},0]
[10.27,"YERLİ KATKI ORANI RAPORU",null,283429201000,0.6,null,347,{"$f":"IF(TRIM('Ek.3-A'!E927)<>\"\",\"var\",\"yok\")","v":"yok"},{"$f":"IF('Ek.3-A'!E927=\"\", \"\", IF(VLOOKUP('Ek.3-A'!E927, Veriler!D:E, 2, 0)=0, \"\", VLOOKUP('Ek.3-A'!E927, Veriler!D:E, 2, 0)))","v":""},{"$f":"IF('Ek.3-A'!O927=\"\", \"\", 'Ek.3-A'!O927)","v":""},{"$f":"'Ek.3-A'!R927","v":0},{"$f":"'Ek.3-A'!K927","v":""},{"$f":"'Ek.3-A'!L927","v":""},{"v":0,"d":"%0.00"},"H",{"$f":"IF(O927=\"E\",SUM($N$5:N927),0)","v":{"v":0,"d":"%0.00"}},0]
[10.28,"YERLİ KATKI ORANI RAPORU",null,283327000000,0.6,null,348,{"$f":"IF(TRIM('Ek.3-A'!E928)<>\"\",\"var\",\"yok\")","v":"yok"},{"$f":"IF('Ek.3-A'!E928=\"\", \"\", IF(VLOOKUP('Ek.3-A'!E928, Veriler!D:E, 2, 0)=0, \"\", VLOOKUP('Ek.3-A'!E928, Veriler!D:E, 2, 0)))","v":""},{"$f":"IF('Ek.3-A'!O928=\"\", \"\", 'Ek.3-A'!O928)","v":""},{"$f":"'Ek.3-A'!R928","v":0},{"$f":"'Ek.3-A'!K928","v":""},{"$f":"'Ek.3-A'!L928","v":""},{"v":0,"d":"%0.00"},"H",{"$f":"IF(O928=\"E\",SUM($N$5:N928),0)","v":{"v":0,"d":"%0.00"}},0]
[10.29,"YERLİ KATKI ORANI RAPORU",null,283090859011,0.6,null,349,{"$f":"IF(TRIM('Ek.3-A'!E929)<>\"\",\"var\",\"yok\")","v":"yok"},{"$f":"IF('Ek.3-A'!E929=\"\", \"\", IF(VLOOKUP('Ek.3-A'!E929, Veriler!D:E, 2, 0)=0, \"\", VLOOKUP('Ek.3-A'!E929, Veriler!D:E, 2, 0)))","v":""},{"$f":"IF('Ek.3-A'!O929=\"\", \"\", 'Ek.3-A'!O929)","v":""},{"$f":"'Ek.3-A'!R929","v":0},{"$f":"'Ek.3-A'!K929","v":""},{"$f":"'Ek.3-A'!L929","v":""},{"v":0,"d":"%0.00"},"H",{"$f":"IF(O929=\"E\",SUM($N$5:N929),0)","v":{"v":0,"d":"%0.00"}},0]
[{"v":10.3,"d":"10.30"},"YERLİ KATKI ORANI RAPORU",null,903220009019,0.6,null,350,{"$f":"IF(TRIM('Ek.3-A'!E930)<>\"\",\"var\",\"yok\")","v":"yok"},{"$f":"IF('Ek.3-A'!E930=\"\", \"\", IF(VLOOKUP('Ek.3-A'!E930, Veriler!D:E, 2, 0)=0, \"\", VLOOKUP('Ek.3-A'!E930, Veriler!D:E, 2, 0)))","v":""},{"$f":"IF('Ek.3-A'!O930=\"\", \"\", 'Ek.3-A'!O930)","v":""},{"$f":"'Ek.3-A'!R930","v":0},{"$f":"'Ek.3-A'!K930","v":""},{"$f":"'Ek.3-A'!L930","v":""},{"v":0,"d":"%0.00"},"H",{"$f":"IF(O930=\"E\",SUM($N$5:N930),0)","v":{"v":0,"d":"%0.00"}},0]
[10.31,"YERLİ KATKI ORANI RAPORU",null,903220001000,0.6,{"$nulls":3},""]
[10.32,"YERLİ KATKI ORANI RAPORU",null,294190000012,0.6,null,{"$f":"G907+1","v":337},{"$f":"IF(TRIM('Ek.3-A'!E932)<>\"\",\"var\",\"yok\")","v":"yok"},{"$f":"IF('Ek.3-A'!E932=\"\", \"\", IF(VLOOKUP('Ek.3-A'!E932, Veriler!D:E, 2, 0)=0, \"\", VLOOKUP('Ek.3-A'!E932, Veriler!D:E, 2, 0)))","v":""},{"$f":"IF('Ek.3-A'!O932=\"\", \"\", 'Ek.3-A'!O932)","v":""},{"$f":"'Ek.3-A'!R932","v":0},{"$f":"'Ek.3-A'!K932","v":""},{"$f":"'Ek.3-A'!L932","v":""},{"$f":"IF(H932=\"var\",0,IF(M932<=0.005,M932,0))","v":{"v":0,"d":"%0.00"}},{"$f":"IF(M932<=0.005,\"E\",\"H\")","v":"H"},{"$f":"IF(O932=\"E\",SUM($N$5:N932),0)","v":{"v":0,"d":"%0.00"}},{"$f":"IF(P932<=0.1, K932, IF(N932>$F$2, N932*K932, $F$2*K932))","v":0}]
[10.33,"YERLİ KATKI ORANI RAPORU",null,480255151000,0.6,null,{"$f":"G932+1","v":338},{"$f":"IF(TRIM('Ek.3-A'!E933)<>\"\",\"var\",\"yok\")","v":"yok"},{"$f":"IF('Ek.3-A'!E933=\"\", \"\", IF(VLOOKUP('Ek.3-A'!E933, Veriler!D:E, 2, 0)=0, \"\", VLOOKUP('Ek.3-A'!E933, Veriler!D:E, 2, 0)))","v":""},{"$f":"IF('Ek.3-A'!O933=\"\", \"\", 'Ek.3-A'!O933)","v":""},{"$f":"'Ek.3-A'!R933","v":0},{"$f":"'Ek.3-A'!K933","v":""},{"$f":"'Ek.3-A'!L933","v":""},{"$f":"IF(H933=\"var\",0,IF(M933<=0.005,M933,0))","v":{"v":0,"d":"%0.00"}},{"$f":"IF(M933<=0.005,\"E\",\"H\")","v":"H"},{"$f":"IF(O933=\"E\",SUM($N$5:N933),0)","v":{"v":0,"d":"%0.00"}},{"$f":"IF(P933<=0.1, K933, IF(N933>$F$2, N933*K933, $F$2*K933))","v":0}]
[10.34,"YERLİ KATKI ORANI RAPORU",null,480255301000,0.6,null,{"$f":"G933+1","v":339},{"$f":"IF(TRIM('Ek.3-A'!E934)<>\"\",\"var\",\"yok\")","v":"yok"},{"$f":"IF('Ek.3-A'!E934=\"\", \"\", IF(VLOOKUP('Ek.3-A'!E934, Veriler!D:E, 2, 0)=0, \"\", VLOOKUP('Ek.3-A'!E934, Veriler!D:E, 2, 0)))","v":""},{"$f":"IF('Ek.3-A'!O934=\"\", \"\", 'Ek.3-A'!O934)","v":""},{"$f":"'Ek.3-A'!R934","v":0},{"$f":"'Ek.3-A'!K934","v":""},{"$f":"'Ek.3-A'!L934","v":""},{"v":0,"d":"%0.00"},"H",{"$f":"IF(O934=\"E\",SUM($N$5:N934),0)","v":{"v":0,"d":"%0.00"}},0]
[10.35,"YERLİ KATKI ORANI RAPORU",null,844331000000,0.6,null,340,{"$f":"IF(TRIM('Ek.3-A'!E935)<>\"\",\"var\",\"yok\")","v":"yok"},{"$f":"IF('Ek.3-A'!E935=\"\", \"\", IF(VLOOKUP('Ek.3-A'!E935, Veriler!D:E, 2, 0)=0, \"\", VLOOKUP('Ek.3-A'!E935, Veriler!D:E, 2, 0)))","v":""},{"$f":"IF('Ek.3-A'!O935=\"\", \"\", 'Ek.3-A'!O935)","v":""},{"$f":"'Ek.3-A'!R935","v":0},{"$f":"'Ek.3-A'!K935","v":""},{"$f":"'Ek.3-A'!L935","v":""},{"v":0,"d":"%0.00"},"H",{"$f":"IF(O935=\"E\",SUM($N$5:N935),0)","v":{"v":0,"d":"%0.00"}},0]
[10.36,"YERLİ KATKI ORANI RAPORU",null,842490200000,0.6,null,341,{"$f":"IF(TRIM('Ek.3-A'!E936)<>\"\",\"var\",\"yok\")","v":"yok"},{"$f":"IF('Ek.3-A'!E936=\"\", \"\", IF(VLOOKUP('Ek.3-A'!E936, Veriler!D:E, 2, 0)=0, \"\", VLOOKUP('Ek.3-A'!E936, Veriler!D:E, 2, 0)))","v":""},{"$f":"IF('Ek.3-A'!O936=\"\", \"\", 'Ek.3-A'!O936)","v":""},{"$f":"'Ek.3-A'!R936","v":0},{"$f":"'Ek.3-A'!K936","v":""},{"$f":"'Ek.3-A'!L936","v":""},{"v":0,"d":"%0.00"},"H",{"$f":"IF(O936=\"E\",SUM($N$5:N936),0)","v":{"v":0,"d":"%0.00"}},0]
[10.37,"YERLİ KATKI ORANI RAPORU",null,853650110000,0.6,null,342,{"$f":"IF(TRIM('Ek.3-A'!E937)<>\"\",\"var\",\"yok\")","v":"yok"},{"$f":"IF('Ek.3-A'!E937=\"\", \"\", IF(VLOOKUP('Ek.3-A'!E937, Veriler!D:E, 2, 0)=0, \"\", VLOOKUP('Ek.3-A'!E937, Veriler!D:E, 2, 0)))","v":""},{"$f":"IF('Ek.3-A'!O937=\"\", \"\", 'Ek.3-A'!O937)","v":""},{"$f":"'Ek.3-A'!R937","v":0},{"$f":"'Ek.3-A'!K937","v":""},{"$f":"'Ek.3-A'!L937","v":""},{"v":0,"d":"%0.00"},"H",{"$f":"IF(O937=\"E\",SUM($N$5:N937),0)","v":{"v":0,"d":"%0.00"}},0]
[10.38,"YERLİ KATKI ORANI RAPORU",null,291899900019,0.6,null,343,{"$f":"IF(TRIM('Ek.3-A'!E938)<>\"\",\"var\",\"yok\")","v":"yok"},{"$f":"IF('Ek.3-A'!E938=\"\", \"\", IF(VLOOKUP('Ek.3-A'!E938, Veriler!D:E, 2, 0)=0, \"\", VLOOKUP('Ek.3-A'!E938, Veriler!D:E, 2, 0)))","v":""},{"$f":"IF('Ek.3-A'!O938=\"\", \"\", 'Ek.3-A'!O938)","v":""},{"$f":"'Ek.3-A'!R938","v":0},{"$f":"'Ek.3-A'!K938","v":""},{"$f":"'Ek.3-A'!L938","v":""},{"v":0,"d":"%0.00"},"H",{"$f":"IF(O938=\"E\",SUM($N$5:N938),0)","v":{"v":0,"d":"%0.00"}},0]
[10.39,"YERLİ KATKI ORANI RAPORU",null,291439000019,0.6,null,344,{"$f":"IF(TRIM('Ek.3-A'!E939)<>\"\",\"var\",\"yok\")","v":"yok"},{"$f":"IF('Ek.3-A'!E939=\"\", \"\", IF(VLOOKUP('Ek.3-A'!E939, Veriler!D:E, 2, 0)=0, \"\", VLOOKUP('Ek.3-A'!E939, Veriler!D:E, 2, 0)))","v":""},{"$f":"IF('Ek.3-A'!O939=\"\", \"\", 'Ek.3-A'!O939)","v":""},{"$f":"'Ek.3-A'!R939","v":0},{"$f":"'Ek.3-A'!K939","v":""},{"$f":"'Ek.3-A'!L939","v":""},{"v":0,"d":"%0.00"},"H",{"$f":"IF(O939=\"E\",SUM($N$5:N939),0)","v":{"v":0,"d":"%0.00"}},0]
[{"v":10.4,"d":"10.40"},"YERLİ KATKI ORANI RAPORU",null,291419900019,0.6,null,345,{"$f":"IF(TRIM('Ek.3-A'!E940)<>\"\",\"var\",\"yok\")","v":"yok"},{"$f":"IF('Ek.3-A'!E940=\"\", \"\", IF(VLOOKUP('Ek.3-A'!E940, Veriler!D:E, 2, 0)=0, \"\", VLOOKUP('Ek.3-A'!E940, Veriler!D:E, 2, 0)))","v":""},{"$f":"IF('Ek.3-A'!O940=\"\", \"\", 'Ek.3-A'!O940)","v":""},{"$f":"'Ek.3-A'!R940","v":0},{"$f":"'Ek.3-A'!K940","v":""},{"$f":"'Ek.3-A'!L940","v":""},{"v":0,"d":"%0.00"},"H",{"$f":"IF(O940=\"E\",SUM($N$5:N940),0)","v":{"v":0,"d":"%0.00"}},0]
[10.41,"YERLİ KATKI ORANI RAPORU",null,291229009019,0.6,null,346,{"$f":"IF(TRIM('Ek.3-A'!E941)<>\"\",\"var\",\"yok\")","v":"yok"},{"$f":"IF('Ek.3-A'!E941=\"\", \"\", IF(VLOOKUP('Ek.3-A'!E941, Veriler!D:E, 2, 0)=0, \"\", VLOOKUP('Ek.3-A'!E941, Veriler!D:E, 2, 0)))","v":""},{"$f":"IF('Ek.3-A'!O941=\"\", \"\", 'Ek.3-A'!O941)","v":""},{"$f":"'Ek.3-A'!R941","v":0},{"$f":"'Ek.3-A'!K941","v":""},{"$f":"'Ek.3-A'!L941","v":""},{"v":0,"d":"%0.00"},"H",{"$f":"IF(O941=\"E\",SUM($N$5:N941),0)","v":{"v":0,"d":"%0.00"}},0]
[10.42,"YERLİ KATKI ORANI RAPORU",null,291429000019,0.6,null,347,{"$f":"IF(TRIM('Ek.3-A'!E942)<>\"\",\"var\",\"yok\")","v":"yok"},{"$f":"IF('Ek.3-A'!E942=\"\", \"\", IF(VLOOKUP('Ek.3-A'!E942, Veriler!D:E, 2, 0)=0, \"\", VLOOKUP('Ek.3-A'!E942, Veriler!D:E, 2, 0)))","v":""},{"$f":"IF('Ek.3-A'!O942=\"\", \"\", 'Ek.3-A'!O942)","v":""},{"$f":"'Ek.3-A'!R942","v":0},{"$f":"'Ek.3-A'!K942","v":""},{"$f":"'Ek.3-A'!L942","v":""},{"v":0,"d":"%0.00"},"H",{"$f":"IF(O942=\"E\",SUM($N$5:N942),0)","v":{"v":0,"d":"%0.00"}},0]
[10.43,"YERLİ KATKI ORANI RAPORU",null,151800310000,0.6,null,348,{"$f":"IF(TRIM('Ek.3-A'!E943)<>\"\",\"var\",\"yok\")","v":"yok"},{"$f":"IF('Ek.3-A'!E943=\"\", \"\", IF(VLOOKUP('Ek.3-A'!E943, Veriler!D:E, 2, 0)=0, \"\", VLOOKUP('Ek.3-A'!E943, Veriler!D:E, 2, 0)))","v":""},{"$f":"IF('Ek.3-A'!O943=\"\", \"\", 'Ek.3-A'!O943)","v":""},{"$f":"'Ek.3-A'!R943","v":0},{"$f":"'Ek.3-A'!K943","v":""},{"$f":"'Ek.3-A'!L943","v":""},{"v":0,"d":"%0.00"},"H",{"$f":"IF(O943=\"E\",SUM($N$5:N943),0)","v":{"v":0,"d":"%0.00"}},0]
[10.44,"YERLİ KATKI ORANI RAPORU",null,151800390000,0.6,null,349,{"$f":"IF(TRIM('Ek.3-A'!E944)<>\"\",\"var\",\"yok\")","v":"yok"},{"$f":"IF('Ek.3-A'!E944=\"\", \"\", IF(VLOOKUP('Ek.3-A'!E944, Veriler!D:E, 2, 0)=0, \"\", VLOOKUP('Ek.3-A'!E944, Veriler!D:E, 2, 0)))","v":""},{"$f":"IF('Ek.3-A'!O944=\"\", \"\", 'Ek.3-A'!O944)","v":""},{"$f":"'Ek.3-A'!R944","v":0},{"$f":"'Ek.3-A'!K944","v":""},{"$f":"'Ek.3-A'!L944","v":""},{"v":0,"d":"%0.00"},"H",{"$f":"IF(O944=\"E\",SUM($N$5:N944),0)","v":{"v":0,"d":"%0.00"}},0]
[10.45,"YERLİ KATKI ORANI RAPORU",null,151800910000,0.6,null,350,{"$f":"IF(TRIM('Ek.3-A'!E945)<>\"\",\"var\",\"yok\")","v":"yok"},{"$f":"IF('Ek.3-A'!E945=\"\", \"\", IF(VLOOKUP('Ek.3-A'!E945, Veriler!D:E, 2, 0)=0, \"\", VLOOKUP('Ek.3-A'!E945, Veriler!D:E, 2, 0)))","v":""},{"$f":"IF('Ek.3-A'!O945=\"\", \"\", 'Ek.3-A'!O945)","v":""},{"$f":"'Ek.3-A'!R945","v":0},{"$f":"'Ek.3-A'!K945","v":""},{"$f":"'Ek.3-A'!L945","v":""},{"v":0,"d":"%0.00"},"H",{"$f":"IF(O945=\"E\",SUM($N$5:N945),0)","v":{"v":0,"d":"%0.00"}},0]
[10.46,"YERLİ KATKI ORANI RAPORU",null,282590859000,0.6]
[10.47,"YERLİ KATKI ORANI RAPORU",null,650700000019,0.6]
[10.48,"YERLİ KATKI ORANI RAPORU",null,291829008113,0.6]
[10.49,"YERLİ KATKI ORANI RAPORU",null,283429804000,0.6]
[{"v":10.5,"d":"10.50"},"YERLİ KATKI ORANI RAPORU",null,320413000000,0.6]
[10.51,"YERLİ KATKI ORANI RAPORU",null,285210001600,0.6]
[10.52,"YERLİ KATKI ORANI RAPORU",null,285210001700,0.6]
[10.53,"YERLİ KATKI ORANI RAPORU",null,910700000011,0.6]
[10.54,"YERLİ KATKI ORANI RAPORU",null,910700000019,0.6]
[10.55,"YERLİ KATKI ORANI RAPORU",null,290399800012,0.6]
[10.56,"YERLİ KATKI ORANI RAPORU",null,291221000000,0.6]
[10.57,"YERLİ KATKI ORANI RAPORU",null,290220000000,0.6]
[10.58,"YERLİ KATKI ORANI RAPORU",null,293149900031,0.6]
[10.59,"YERLİ KATKI ORANI RAPORU",null,293149800031,0.6]
[{"v":10.6,"d":"10.60"},"YERLİ KATKI ORANI RAPORU",null,292700000011,0.6]
[10.61,"YERLİ KATKI ORANI RAPORU",null,290410000011,0.6]
[10.62,"YERLİ KATKI ORANI RAPORU",null,293399809043,0.6]
[10.63,"YERLİ KATKI ORANI RAPORU",null,293399809044,0.6]
[10.64,"YERLİ KATKI ORANI RAPORU",null,292159900011,0.6]
[10.65,"YERLİ KATKI ORANI RAPORU",null,290621000000,0.6]
[10.66,"YERLİ KATKI ORANI RAPORU",null,291539005111,0.6]
[10.67,"YERLİ KATKI ORANI RAPORU",null,291631009013,0.6]
[10.68,"YERLİ KATKI ORANI RAPORU",null,291560190016,0.6]
[10.69,"YERLİ KATKI ORANI RAPORU",null,290399800011,0.6]
[{"v":10.7,"d":"10.70"},"YERLİ KATKI ORANI RAPORU",null,291513001000,0.6]
[10.71,"YERLİ KATKI ORANI RAPORU",null,293399801000,0.6]
[10.72,"YERLİ KATKI ORANI RAPORU",null,291439000014,0.6]
[10.73,"YERLİ KATKI ORANI RAPORU",null,291631009011,0.6]
[10.74,"YERLİ KATKI ORANI RAPORU",null,291631009019,0.6]
[10.75,"YERLİ KATKI ORANI RAPORU",null,291632002000,0.6]
[10.76,"YERLİ KATKI ORANI RAPORU",null,291632001000,0.6]
[10.77,"YERLİ KATKI ORANI RAPORU",null,292690700012,0.6]
[10.78,"YERLİ KATKI ORANI RAPORU",null,811219000019,0.6]
[10.79,"YERLİ KATKI ORANI RAPORU",null,811219000012,0.6]
[{"v":10.8,"d":"10.80"},"YERLİ KATKI ORANI RAPORU",null,292249200000,0.6]
[10.81,"YERLİ KATKI ORANI RAPORU",null,291423000012,0.6]
[10.82,"YERLİ KATKI ORANI RAPORU",null,290715901000,0.6]
[10.83,"YERLİ KATKI ORANI RAPORU",null,290715902012,0.6]
[10.84,"YERLİ KATKI ORANI RAPORU",null,292390001012,0.6]
[10.85,"YERLİ KATKI ORANI RAPORU",null,292390001013,0.6]
[10.86,"YERLİ KATKI ORANI RAPORU",null,292390001019,0.6]
[10.87,"YERLİ KATKI ORANI RAPORU",null,290410000015,0.6]
[10.88,"YERLİ KATKI ORANI RAPORU",null,441840000000,0.6]
[10.89,"YERLİ KATKI ORANI RAPORU",null,440839300000,0.6]
[{"v":10.9,"d":"10.90"},"YERLİ KATKI ORANI RAPORU",null,440839159000,0.6]
[10.91,"YERLİ KATKI ORANI RAPORU",null,271019850000,0.6]
[10.92,"YERLİ KATKI ORANI RAPORU",null,520811100000,0.6]
[10.93,"YERLİ KATKI ORANI RAPORU",null,520821100000,0.6]
[10.94,"YERLİ KATKI ORANI RAPORU",null,500720210000,0.6]
[10.95,"YERLİ KATKI ORANI RAPORU",null,821194000000,0.6]
[10.96,"YERLİ KATKI ORANI RAPORU",null,821195000000,0.6]
[10.97,"YERLİ KATKI ORANI RAPORU",null,560721000019,0.6]
[10.98,"YERLİ KATKI ORANI RAPORU",null,560721000011,0.6]
[10.99,"YERLİ KATKI ORANI RAPORU",null,680422900000,0.6]
[{"v":11,"d":"11.00"},"YERLİ KATKI ORANI RAPORU",null,680422500000,0.6]
[11.01,"YERLİ KATKI ORANI RAPORU",null,680422120000,0.6]
[11.02,"YERLİ KATKI ORANI RAPORU",null,680422180000,0.6]
[11.03,"YERLİ KATKI ORANI RAPORU",null,902212000000,0.6]
[11.04,"YERLİ KATKI ORANI RAPORU",null,750210009011,0.6]
[11.05,"YERLİ KATKI ORANI RAPORU",null,960860000000,0.6]
[11.06,"YERLİ KATKI ORANI RAPORU",null,848340301000,0.6]
[11.07,"YERLİ KATKI ORANI RAPORU",null,848299000019,0.6]
[11.08,"YERLİ KATKI ORANI RAPORU",null,848291100000,0.6]
[11.09,"YERLİ KATKI ORANI RAPORU",null,848340302000,0.6]
[{"v":11.1,"d":"11.10"},"YERLİ KATKI ORANI RAPORU",null,701690400000,0.6]
[11.11,"YERLİ KATKI ORANI RAPORU",null,291616000000,0.6]
[11.12,"YERLİ KATKI ORANI RAPORU",null,870710100000,0.6]
[11.13,"YERLİ KATKI ORANI RAPORU",null,870710900000,0.6]
[11.14,"YERLİ KATKI ORANI RAPORU",null,392099520000,0.6]
[11.15,"YERLİ KATKI ORANI RAPORU",null,293339990028,0.6]
[11.16,"YERLİ KATKI ORANI RAPORU",null,901841000012,0.6]
[11.17,"YERLİ KATKI ORANI RAPORU",null,854142000000,0.6]
[11.18,"YERLİ KATKI ORANI RAPORU",null,841582001000,0.6]
[11.19,"YERLİ KATKI ORANI RAPORU",null,841581001000,0.6]
[{"v":11.2,"d":"11.20"},"YERLİ KATKI ORANI RAPORU",null,480442000000,0.6]
[11.21,"YERLİ KATKI ORANI RAPORU",null,480449000000,0.6]
[11.22,"YERLİ KATKI ORANI RAPORU",null,480441980000,0.6]
[11.23,"YERLİ KATKI ORANI RAPORU",null,480451000000,0.6]
[11.24,"YERLİ KATKI ORANI RAPORU",null,480459100000,0.6]
[11.25,"YERLİ KATKI ORANI RAPORU",null,480459900000,0.6]
[11.26,"YERLİ KATKI ORANI RAPORU",null,480452000000,0.6]
[11.27,"YERLİ KATKI ORANI RAPORU",null,480431510000,0.6]
[11.28,"YERLİ KATKI ORANI RAPORU",null,481032100000,0.6]
[11.29,"YERLİ KATKI ORANI RAPORU",null,481031000000,0.6]
[{"v":11.3,"d":"11.30"},"YERLİ KATKI ORANI RAPORU",null,481032900000,0.6]
[11.31,"YERLİ KATKI ORANI RAPORU",null,480419900000,0.6]
[11.32,"YERLİ KATKI ORANI RAPORU",null,480419300000,0.6]
[11.33,"YERLİ KATKI ORANI RAPORU",null,480411900012,0.6]
[11.34,"YERLİ KATKI ORANI RAPORU",null,480411900011,0.6]
[11.35,"YERLİ KATKI ORANI RAPORU",null,480411900013,0.6]
[11.36,"YERLİ KATKI ORANI RAPORU",null,480419120000,0.6]
[11.37,"YERLİ KATKI ORANI RAPORU",null,480419190000,0.6]
[11.38,"YERLİ KATKI ORANI RAPORU",null,480411150000,0.6]
[11.39,"YERLİ KATKI ORANI RAPORU",null,441875000000,0.6]
[{"v":11.4,"d":"11.40"},"YERLİ KATKI ORANI RAPORU",null,441873900000,0.6]
[11.41,"YERLİ KATKI ORANI RAPORU",null,441879000000,0.6]
[11.42,"YERLİ KATKI ORANI RAPORU",null,291100009011,0.6]
[11.43,"YERLİ KATKI ORANI RAPORU",null,390721000000,0.6]
[11.44,"YERLİ KATKI ORANI RAPORU",null,851210000000,0.6]
[11.45,"YERLİ KATKI ORANI RAPORU",null,401320000000,0.6]
[11.46,"YERLİ KATKI ORANI RAPORU",null,401150000000,0.6]
[11.47,"YERLİ KATKI ORANI RAPORU",null,871491300000,0.6]
[11.48,"YERLİ KATKI ORANI RAPORU",null,280300002000,0.6]
[11.49,"YERLİ KATKI ORANI RAPORU",null,293979909029,0.6]
[{"v":11.5,"d":"11.50"},"YERLİ KATKI ORANI RAPORU",null,320300109000,0.6]
[11.51,"YERLİ KATKI ORANI RAPORU",null,152110001000,0.6]
[11.52,"YERLİ KATKI ORANI RAPORU",null,152110009000,0.6]
[11.53,"YERLİ KATKI ORANI RAPORU",null,380700909011,0.6]
[11.54,"YERLİ KATKI ORANI RAPORU",null,854919200000,0.6]
[11.55,"YERLİ KATKI ORANI RAPORU",null,854914200000,0.6]
[11.56,"YERLİ KATKI ORANI RAPORU",null,854913200000,0.6]
[11.57,"YERLİ KATKI ORANI RAPORU",null,854912200000,0.6]
[11.58,"YERLİ KATKI ORANI RAPORU",null,854911100000,0.6]
[11.59,"YERLİ KATKI ORANI RAPORU",null,854914100000,0.6]
[{"v":11.6,"d":"11.60"},"YERLİ KATKI ORANI RAPORU",null,854913100000,0.6]
[11.61,"YERLİ KATKI ORANI RAPORU",null,854912100000,0.6]
[11.62,"YERLİ KATKI ORANI RAPORU",null,271500000000,0.6]
[11.63,"YERLİ KATKI ORANI RAPORU",null,271410000000,0.6]
[11.64,"YERLİ KATKI ORANI RAPORU",null,840991000017,0.6]
[11.65,"YERLİ KATKI ORANI RAPORU",null,283699173000,0.6]
[11.66,"YERLİ KATKI ORANI RAPORU",null,282739852011,0.6]
[11.67,"YERLİ KATKI ORANI RAPORU",null,283429805000,0.6]
[11.68,"YERLİ KATKI ORANI RAPORU",null,283410004019,0.6]
[11.69,"YERLİ KATKI ORANI RAPORU",null,740200000011,0.6]
[{"v":11.7,"d":"11.70"},"YERLİ KATKI ORANI RAPORU",null,720690000012,0.6]
[11.71,"YERLİ KATKI ORANI RAPORU",null,271320000012,0.6]
[11.72,"YERLİ KATKI ORANI RAPORU",null,280450100000,0.6]
[11.73,"YERLİ KATKI ORANI RAPORU",null,284990100000,0.6]
[11.74,"YERLİ KATKI ORANI RAPORU",null,281290000011,0.6]
[11.75,"YERLİ KATKI ORANI RAPORU",null,290619002011,0.6]
[11.76,"YERLİ KATKI ORANI RAPORU",null,291539009113,0.6]
[11.77,"YERLİ KATKI ORANI RAPORU",null,284520000000,0.6]
[11.78,"YERLİ KATKI ORANI RAPORU",null,730729800000,0.6]
[11.79,"YERLİ KATKI ORANI RAPORU",null,400912009000,0.6]
[{"v":11.8,"d":"11.80"},"YERLİ KATKI ORANI RAPORU",null,848180990029,0.6]
[11.81,"YERLİ KATKI ORANI RAPORU",null,848180870000,0.6]
[11.82,"YERLİ KATKI ORANI RAPORU",null,285000900000,0.6]
[11.83,"YERLİ KATKI ORANI RAPORU",null,960340900000,0.6]
[11.84,"YERLİ KATKI ORANI RAPORU",null,960340100000,0.6]
[11.85,"YERLİ KATKI ORANI RAPORU",null,320500009000,0.6]
[11.86,"YERLİ KATKI ORANI RAPORU",null,901890300011,0.6]
[11.87,"YERLİ KATKI ORANI RAPORU",null,480255305011,0.6]
[11.88,"YERLİ KATKI ORANI RAPORU",null,480255905011,0.6]
[11.89,"YERLİ KATKI ORANI RAPORU",null,480258105011,0.6]
[{"v":11.9,"d":"11.90"},"YERLİ KATKI ORANI RAPORU",null,480256805011,0.6]
[11.91,"YERLİ KATKI ORANI RAPORU",null,480258905011,0.6]
[11.92,"YERLİ KATKI ORANI RAPORU",null,280130900000,0.6]
[11.93,"YERLİ KATKI ORANI RAPORU",null,390390200000,0.6]
[11.94,"YERLİ KATKI ORANI RAPORU",null,291590700045,0.6]
[11.95,"YERLİ KATKI ORANI RAPORU",null,290369190015,0.6]
[11.96,"YERLİ KATKI ORANI RAPORU",null,903180809019,0.6]
[11.97,"YERLİ KATKI ORANI RAPORU",null,293491000012,0.6]
[11.98,"YERLİ KATKI ORANI RAPORU",null,903180801000,0.6]
[11.99,"YERLİ KATKI ORANI RAPORU",null,903180809000,0.6]
[{"v":12,"d":"12.00"},"YERLİ KATKI ORANI RAPORU",null,903149900000,0.6]
[12.01,"YERLİ KATKI ORANI RAPORU",null,110811001000,0.6]
[12.02,"YERLİ KATKI ORANI RAPORU",null,110811009000,0.6]
[12.03,"YERLİ KATKI ORANI RAPORU",null,840420000000,0.6]
[12.04,"YERLİ KATKI ORANI RAPORU",null,840410009019,0.6]
[12.05,"YERLİ KATKI ORANI RAPORU",null,840410009012,0.6]
[12.06,"YERLİ KATKI ORANI RAPORU",null,840410009014,0.6]
[12.07,"YERLİ KATKI ORANI RAPORU",null,840410009011,0.6]
[12.08,"YERLİ KATKI ORANI RAPORU",null,840682000000,0.6]
[12.09,"YERLİ KATKI ORANI RAPORU",null,840681000000,0.6]
[{"v":12.1,"d":"12.10"},"YERLİ KATKI ORANI RAPORU",null,840690900000,0.6]
[12.11,"YERLİ KATKI ORANI RAPORU",null,840690100000,0.6]
[12.12,"YERLİ KATKI ORANI RAPORU",null,293911000017,0.6]
[12.13,"YERLİ KATKI ORANI RAPORU",null,500710000019,0.6]
[12.14,"YERLİ KATKI ORANI RAPORU",null,293359950034,0.6]
[12.15,"YERLİ KATKI ORANI RAPORU",null,290513000000,0.6]
[12.16,"YERLİ KATKI ORANI RAPORU",null,291412000000,0.6]
[12.17,"YERLİ KATKI ORANI RAPORU",null,291811000022,0.6]
[12.18,"YERLİ KATKI ORANI RAPORU",null,291614000013,0.6]
[12.19,"YERLİ KATKI ORANI RAPORU",null,291560190011,0.6]
[{"v":12.2,"d":"12.20"},"YERLİ KATKI ORANI RAPORU",null,841899900000,0.6]
[12.21,"YERLİ KATKI ORANI RAPORU",null,700312991000,0.6]
[12.22,"YERLİ KATKI ORANI RAPORU",null,700312911000,0.6]
[12.23,"YERLİ KATKI ORANI RAPORU",null,290539200000,0.6]
[12.24,"YERLİ KATKI ORANI RAPORU",null,290539260000,0.6]
[12.25,"YERLİ KATKI ORANI RAPORU",null,271113910000,0.6]
[12.26,"YERLİ KATKI ORANI RAPORU",null,271129000012,0.6]
[12.27,"YERLİ KATKI ORANI RAPORU",null,271113970000,0.6]
[12.28,"YERLİ KATKI ORANI RAPORU",null,290539280000,0.6]
[12.29,"YERLİ KATKI ORANI RAPORU",null,290110001011,0.6]
[{"v":12.3,"d":"12.30"},"YERLİ KATKI ORANI RAPORU",null,290123000000,0.6]
[12.31,"YERLİ KATKI ORANI RAPORU",null,290960900011,0.6]
[12.32,"YERLİ KATKI ORANI RAPORU",null,291550000014,0.6]
[12.33,"YERLİ KATKI ORANI RAPORU",null,291570501013,0.6]
[12.34,"YERLİ KATKI ORANI RAPORU",null,293359950023,0.6]
[12.35,"YERLİ KATKI ORANI RAPORU",null,700100100000,0.6]
[12.36,"YERLİ KATKI ORANI RAPORU",null,701820000000,0.6]
[12.37,"YERLİ KATKI ORANI RAPORU",null,701990003000,0.6]
[12.38,"YERLİ KATKI ORANI RAPORU",null,701919000000,0.6]
[12.39,"YERLİ KATKI ORANI RAPORU",null,701913000000,0.6]
[{"v":12.4,"d":"12.40"},"YERLİ KATKI ORANI RAPORU",null,701911000000,0.6]
[12.41,"YERLİ KATKI ORANI RAPORU",null,701690700000,0.6]
[12.42,"YERLİ KATKI ORANI RAPORU",null,701810110000,0.6]
[12.43,"YERLİ KATKI ORANI RAPORU",null,701090210019,0.6]
[12.44,"YERLİ KATKI ORANI RAPORU",null,701090210011,0.6]
[12.45,"YERLİ KATKI ORANI RAPORU",null,700231000000,0.6]
[12.46,"YERLİ KATKI ORANI RAPORU",null,700239000000,0.6]
[12.47,"YERLİ KATKI ORANI RAPORU",null,900190001100,0.6]
[12.48,"YERLİ KATKI ORANI RAPORU",null,900190009100,0.6]
[12.49,"YERLİ KATKI ORANI RAPORU",null,854610000000,0.6]
[{"v":12.5,"d":"12.50"},"YERLİ KATKI ORANI RAPORU",null,701890100012,0.6]
[12.51,"YERLİ KATKI ORANI RAPORU",null,701890100011,0.6]
[12.52,"YERLİ KATKI ORANI RAPORU",null,900140200000,0.6]
[12.53,"YERLİ KATKI ORANI RAPORU",null,900140490000,0.6]
[12.54,"YERLİ KATKI ORANI RAPORU",null,700210000000,0.6]
[12.55,"YERLİ KATKI ORANI RAPORU",null,900211001000,0.6]
[12.56,"YERLİ KATKI ORANI RAPORU",null,900219001000,0.6]
[12.57,"YERLİ KATKI ORANI RAPORU",null,900110909100,0.6]
[12.58,"YERLİ KATKI ORANI RAPORU",null,911012000000,0.6]
[12.59,"YERLİ KATKI ORANI RAPORU",null,911011100000,0.6]
[{"v":12.6,"d":"12.60"},"YERLİ KATKI ORANI RAPORU",null,911019000000,0.6]
[12.61,"YERLİ KATKI ORANI RAPORU",null,901832900000,0.6]
[12.62,"YERLİ KATKI ORANI RAPORU",null,300610100000,0.6]
[12.63,"YERLİ KATKI ORANI RAPORU",null,293399809037,0.6]
[12.64,"YERLİ KATKI ORANI RAPORU",null,293979909024,0.6]
[12.65,"YERLİ KATKI ORANI RAPORU",null,294130000016,0.6]
[12.66,"YERLİ KATKI ORANI RAPORU",null,294130000017,0.6]
[12.67,"YERLİ KATKI ORANI RAPORU",null,293499909015,0.6]
[12.68,"YERLİ KATKI ORANI RAPORU",null,252490000015,0.6]
[12.69,"YERLİ KATKI ORANI RAPORU",null,280540100000,0.6]
[{"v":12.7,"d":"12.70"},"YERLİ KATKI ORANI RAPORU",null,280540900000,0.6]
[12.71,"YERLİ KATKI ORANI RAPORU",null,844010900019,0.6]
[12.72,"YERLİ KATKI ORANI RAPORU",null,285210001211,0.6]
[12.73,"YERLİ KATKI ORANI RAPORU",null,285210001212,0.6]
[12.74,"YERLİ KATKI ORANI RAPORU",null,285210003600,0.6]
[12.75,"YERLİ KATKI ORANI RAPORU",null,285210002400,0.6]
[12.76,"YERLİ KATKI ORANI RAPORU",null,285210009911,0.6]
[12.77,"YERLİ KATKI ORANI RAPORU",null,285210001400,0.6]
[12.78,"YERLİ KATKI ORANI RAPORU",null,285210001800,0.6]
[12.79,"YERLİ KATKI ORANI RAPORU",null,285210001100,0.6]
[{"v":12.8,"d":"12.80"},"YERLİ KATKI ORANI RAPORU",null,285210001500,0.6]
[12.81,"YERLİ KATKI ORANI RAPORU",null,853932200000,0.6]
[12.82,"YERLİ KATKI ORANI RAPORU",null,285210003800,0.6]
[12.83,"YERLİ KATKI ORANI RAPORU",null,285290000000,0.6]
[12.84,"YERLİ KATKI ORANI RAPORU",null,293391900013,0.6]
[12.85,"YERLİ KATKI ORANI RAPORU",null,262040000000,0.6]
[12.86,"YERLİ KATKI ORANI RAPORU",null,262030000000,0.6]
[12.87,"YERLİ KATKI ORANI RAPORU",null,262019000000,0.6]
[12.88,"YERLİ KATKI ORANI RAPORU",null,262029000000,0.6]
[12.89,"YERLİ KATKI ORANI RAPORU",null,262099100000,0.6]
[{"v":12.9,"d":"12.90"},"YERLİ KATKI ORANI RAPORU",null,292690700021,0.6]
[12.91,"YERLİ KATKI ORANI RAPORU",null,961390000011,0.6]
[12.92,"YERLİ KATKI ORANI RAPORU",null,961390000019,0.6]
[12.93,"YERLİ KATKI ORANI RAPORU",null,380510300000,0.6]
[12.94,"YERLİ KATKI ORANI RAPORU",null,380590100000,0.6]
[12.95,"YERLİ KATKI ORANI RAPORU",null,293969000019,0.6]
[12.96,"YERLİ KATKI ORANI RAPORU",null,700420991000,0.6]
[12.97,"YERLİ KATKI ORANI RAPORU",null,700420999013,0.6]
[12.98,"YERLİ KATKI ORANI RAPORU",null,700420999011,0.6]
[12.99,"YERLİ KATKI ORANI RAPORU",null,700420999014,0.6]
[{"v":13,"d":"13.00"},"YERLİ KATKI ORANI RAPORU",null,700490809000,0.6]
[13.01,"YERLİ KATKI ORANI RAPORU",null,700420910000,0.6]
[13.02,"YERLİ KATKI ORANI RAPORU",null,700420100000,0.6]
[13.03,"YERLİ KATKI ORANI RAPORU",null,700490100000,0.6]
[13.04,"YERLİ KATKI ORANI RAPORU",null,282760002017,0.6]
[13.05,"YERLİ KATKI ORANI RAPORU",null,282739855000,0.6]
[13.06,"YERLİ KATKI ORANI RAPORU",null,320620000012,0.6]
[13.07,"YERLİ KATKI ORANI RAPORU",null,283719009011,0.6]
[13.08,"YERLİ KATKI ORANI RAPORU",null,291570503015,0.6]
[13.09,"YERLİ KATKI ORANI RAPORU",null,283329203000,0.6]
[{"v":13.1,"d":"13.10"},"YERLİ KATKI ORANI RAPORU",null,291619100013,0.6]
[13.11,"YERLİ KATKI ORANI RAPORU",null,284290801419,0.6]
[13.12,"YERLİ KATKI ORANI RAPORU",null,790390000011,0.6]
[13.13,"YERLİ KATKI ORANI RAPORU",null,790390000012,0.6]
[13.14,"YERLİ KATKI ORANI RAPORU",null,790310000000,0.6]
[13.15,"YERLİ KATKI ORANI RAPORU",null,293020000012,0.6]
[13.16,"YERLİ KATKI ORANI RAPORU",null,850660000000,0.6]
[13.17,"YERLİ KATKI ORANI RAPORU",null,901710101000,0.6]
[13.18,"YERLİ KATKI ORANI RAPORU",null,850153500000,0.6]
[13.19,"YERLİ KATKI ORANI RAPORU",null,850151009000,0.6]
[{"v":13.2,"d":"13.20"},"YERLİ KATKI ORANI RAPORU",null,850153819000,0.6]
[13.21,"YERLİ KATKI ORANI RAPORU",null,850153940000,0.6]
[13.22,"YERLİ KATKI ORANI RAPORU",null,850152309000,0.6]
[13.23,"YERLİ KATKI ORANI RAPORU",null,850153990000,0.6]
[13.24,"YERLİ KATKI ORANI RAPORU",null,841480191000,0.6]
[13.25,"YERLİ KATKI ORANI RAPORU",null,551012000000,0.6]
[13.26,"YERLİ KATKI ORANI RAPORU",null,854232110000,0.6]
[13.27,"YERLİ KATKI ORANI RAPORU",null,854233100000,0.6]
[13.28,"YERLİ KATKI ORANI RAPORU",null,600590900000,0.6]
[13.29,"YERLİ KATKI ORANI RAPORU",null,600521000000,0.6]
[{"v":13.3,"d":"13.30"},"YERLİ KATKI ORANI RAPORU",null,600524000000,0.6]
[13.31,"YERLİ KATKI ORANI RAPORU",null,600522000000,0.6]
[13.32,"YERLİ KATKI ORANI RAPORU",null,600523000000,0.6]
[13.33,"YERLİ KATKI ORANI RAPORU",null,600535000000,0.6]
[13.34,"YERLİ KATKI ORANI RAPORU",null,600536000000,0.6]
[13.35,"YERLİ KATKI ORANI RAPORU",null,600539000000,0.6]
[13.36,"YERLİ KATKI ORANI RAPORU",null,600537000000,0.6]
[13.37,"YERLİ KATKI ORANI RAPORU",null,600538000000,0.6]
[13.38,"YERLİ KATKI ORANI RAPORU",null,600541000000,0.6]
[13.39,"YERLİ KATKI ORANI RAPORU",null,600544000000,0.6]
[{"v":13.4,"d":"13.40"},"YERLİ KATKI ORANI RAPORU",null,600542000000,0.6]
[13.41,"YERLİ KATKI ORANI RAPORU",null,600543000000,0.6]
[13.42,"YERLİ KATKI ORANI RAPORU",null,600590100000,0.6]
[13.43,"YERLİ KATKI ORANI RAPORU",null,470200000000,0.6]
[13.44,"YERLİ KATKI ORANI RAPORU",null,290544110000,0.6]
[13.45,"YERLİ KATKI ORANI RAPORU",null,290544910000,0.6]
[13.46,"YERLİ KATKI ORANI RAPORU",null,290544190000,0.6]
[13.47,"YERLİ KATKI ORANI RAPORU",null,290544990000,0.6]
[13.48,"YERLİ KATKI ORANI RAPORU",null,850519900000,0.6]
[13.49,"YERLİ KATKI ORANI RAPORU",null,961210200000,0.6]
[{"v":13.5,"d":"13.50"},"YERLİ KATKI ORANI RAPORU",null,853540000013,0.6]
[13.51,"YERLİ KATKI ORANI RAPORU",null,285390100000,0.6]
[13.52,"YERLİ KATKI ORANI RAPORU",null,293190009054,0.6]
[13.53,"YERLİ KATKI ORANI RAPORU",null,850132001900,0.6]
[13.54,"YERLİ KATKI ORANI RAPORU",null,320290000011,0.6]
[13.55,"YERLİ KATKI ORANI RAPORU",null,320190901000,0.6]
[13.56,"YERLİ KATKI ORANI RAPORU",null,320190909000,0.6]
[13.57,"YERLİ KATKI ORANI RAPORU",null,320190200012,0.6]
[13.58,"YERLİ KATKI ORANI RAPORU",null,320290000012,0.6]
[13.59,"YERLİ KATKI ORANI RAPORU",null,320190200019,0.6]
[{"v":13.6,"d":"13.60"},"YERLİ KATKI ORANI RAPORU",null,320290000013,0.6]
[13.61,"YERLİ KATKI ORANI RAPORU",null,320210000000,0.6]
[13.62,"YERLİ KATKI ORANI RAPORU",null,320190200011,0.6]
[13.63,"YERLİ KATKI ORANI RAPORU",null,320190902000,0.6]
[13.64,"YERLİ KATKI ORANI RAPORU",null,902610811000,0.6]
[13.65,"YERLİ KATKI ORANI RAPORU",null,680410000011,0.6]
[13.66,"YERLİ KATKI ORANI RAPORU",null,853230000000,0.6]
[13.67,"YERLİ KATKI ORANI RAPORU",null,820420000000,0.6]
[13.68,"YERLİ KATKI ORANI RAPORU",null,480255159912,0.6]
[13.69,"YERLİ KATKI ORANI RAPORU",null,480255259912,0.6]
[{"v":13.7,"d":"13.70"},"YERLİ KATKI ORANI RAPORU",null,480255309912,0.6]
[13.71,"YERLİ KATKI ORANI RAPORU",null,391390001000,0.6]
[13.72,"YERLİ KATKI ORANI RAPORU",null,350510100000,0.6]
[13.73,"YERLİ KATKI ORANI RAPORU",null,293349300000,0.6]
[13.74,"YERLİ KATKI ORANI RAPORU",null,820750900000,0.6]
[13.75,"YERLİ KATKI ORANI RAPORU",null,820750100000,0.6]
[13.76,"YERLİ KATKI ORANI RAPORU",null,730419100011,0.6]
[13.77,"YERLİ KATKI ORANI RAPORU",null,730419100012,0.6]
[13.78,"YERLİ KATKI ORANI RAPORU",null,730423001000,0.6]
[13.79,"YERLİ KATKI ORANI RAPORU",null,730423009000,0.6]
[{"v":13.8,"d":"13.80"},"YERLİ KATKI ORANI RAPORU",null,730419300011,0.6]
[13.81,"YERLİ KATKI ORANI RAPORU",null,730419900000,0.6]
[13.82,"YERLİ KATKI ORANI RAPORU",null,730429309000,0.6]
[13.83,"YERLİ KATKI ORANI RAPORU",null,730429909000,0.6]
[13.84,"YERLİ KATKI ORANI RAPORU",null,730429109000,0.6]
[13.85,"YERLİ KATKI ORANI RAPORU",null,284290809100,0.6]
[13.86,"YERLİ KATKI ORANI RAPORU",null,848390819019,0.6]
[13.87,"YERLİ KATKI ORANI RAPORU",null,848390811000,0.6]
[13.88,"YERLİ KATKI ORANI RAPORU",null,848390819011,0.6]
[13.89,"YERLİ KATKI ORANI RAPORU",null,730719100000,0.6]
[{"v":13.9,"d":"13.90"},"YERLİ KATKI ORANI RAPORU",null,730300100011,0.6]
[13.91,"YERLİ KATKI ORANI RAPORU",null,730300100012,0.6]
[13.92,"YERLİ KATKI ORANI RAPORU",null,730300900019,0.6]
[13.93,"YERLİ KATKI ORANI RAPORU",null,730300900014,0.6]
[13.94,"YERLİ KATKI ORANI RAPORU",null,730300900016,0.6]
[13.95,"YERLİ KATKI ORANI RAPORU",null,283529901000,0.6]
[13.96,"YERLİ KATKI ORANI RAPORU",null,282110001012,0.6]
[13.97,"YERLİ KATKI ORANI RAPORU",null,282110009012,0.6]
[13.98,"YERLİ KATKI ORANI RAPORU",null,282739200011,0.6]
[13.99,"YERLİ KATKI ORANI RAPORU",null,282739200012,0.6]
[{"v":14,"d":"14.00"},"YERLİ KATKI ORANI RAPORU",null,283330009015,0.6]
[14.01,"YERLİ KATKI ORANI RAPORU",null,282760002016,0.6]
[14.02,"YERLİ KATKI ORANI RAPORU",null,293190009012,0.6]
[14.03,"YERLİ KATKI ORANI RAPORU",null,282110001011,0.6]
[14.04,"YERLİ KATKI ORANI RAPORU",null,282110009011,0.6]
[14.05,"YERLİ KATKI ORANI RAPORU",null,260120000000,0.6]
[14.06,"YERLİ KATKI ORANI RAPORU",null,291815001012,0.6]
[14.07,"YERLİ KATKI ORANI RAPORU",null,283090111000,0.6]
[14.08,"YERLİ KATKI ORANI RAPORU",null,261800000000,0.6]
[14.09,"YERLİ KATKI ORANI RAPORU",null,720441910000,0.6]
[{"v":14.1,"d":"14.10"},"YERLİ KATKI ORANI RAPORU",null,721410000000,0.6]
[14.11,"YERLİ KATKI ORANI RAPORU",null,721190202111,0.6]
[14.12,"YERLİ KATKI ORANI RAPORU",null,721190201900,0.6]
[14.13,"YERLİ KATKI ORANI RAPORU",null,720890202012,0.6]
[14.14,"YERLİ KATKI ORANI RAPORU",null,720720809090,0.6]
[14.15,"YERLİ KATKI ORANI RAPORU",null,720720801090,0.6]
[14.16,"YERLİ KATKI ORANI RAPORU",null,720719800090,0.6]
[14.17,"YERLİ KATKI ORANI RAPORU",null,721070809019,0.6]
[14.18,"YERLİ KATKI ORANI RAPORU",null,721070801019,0.6]
[14.19,"YERLİ KATKI ORANI RAPORU",null,721090309019,0.6]
[{"v":14.2,"d":"14.20"},"YERLİ KATKI ORANI RAPORU",null,721190802112,0.6]
[14.21,"YERLİ KATKI ORANI RAPORU",null,721190802113,0.6]
[14.22,"YERLİ KATKI ORANI RAPORU",null,721090409011,0.6]
[14.23,"YERLİ KATKI ORANI RAPORU",null,721090309011,0.6]
[14.24,"YERLİ KATKI ORANI RAPORU",null,721090301011,0.6]
[14.25,"YERLİ KATKI ORANI RAPORU",null,721190801100,0.6]
[14.26,"YERLİ KATKI ORANI RAPORU",null,720851201019,0.6]
[14.27,"YERLİ KATKI ORANI RAPORU",null,720890802012,0.6]
[14.28,"YERLİ KATKI ORANI RAPORU",null,720890801012,0.6]
[14.29,"YERLİ KATKI ORANI RAPORU",null,721633109000,0.6]
[{"v":14.3,"d":"14.30"},"YERLİ KATKI ORANI RAPORU",null,721633101000,0.6]
[14.31,"YERLİ KATKI ORANI RAPORU",null,721633901000,0.6]
[14.32,"YERLİ KATKI ORANI RAPORU",null,721119001000,0.6]
[14.33,"YERLİ KATKI ORANI RAPORU",null,721114001000,0.6]
[14.34,"YERLİ KATKI ORANI RAPORU",null,721119005000,0.6]
[14.35,"YERLİ KATKI ORANI RAPORU",null,721114005000,0.6]
[14.36,"YERLİ KATKI ORANI RAPORU",null,721114002911,0.6]
[14.37,"YERLİ KATKI ORANI RAPORU",null,721114002912,0.6]
[14.38,"YERLİ KATKI ORANI RAPORU",null,721114002112,0.6]
[14.39,"YERLİ KATKI ORANI RAPORU",null,721119002900,0.6]
[{"v":14.4,"d":"14.40"},"YERLİ KATKI ORANI RAPORU",null,721114003900,0.6]
[14.41,"YERLİ KATKI ORANI RAPORU",null,721119002100,0.6]
[14.42,"YERLİ KATKI ORANI RAPORU",null,721119003900,0.6]
[14.43,"YERLİ KATKI ORANI RAPORU",null,721114004900,0.6]
[14.44,"YERLİ KATKI ORANI RAPORU",null,721210100019,0.6]
[14.45,"YERLİ KATKI ORANI RAPORU",null,720610009000,0.6]
[14.46,"YERLİ KATKI ORANI RAPORU",null,721123209012,0.6]
[14.47,"YERLİ KATKI ORANI RAPORU",null,721123202000,0.6]
[14.48,"YERLİ KATKI ORANI RAPORU",null,721260002911,0.6]
[14.49,"YERLİ KATKI ORANI RAPORU",null,721260002912,0.6]
[{"v":14.5,"d":"14.50"},"YERLİ KATKI ORANI RAPORU",null,721260001929,0.6]
[14.51,"YERLİ KATKI ORANI RAPORU",null,721260001129,0.6]
[14.52,"YERLİ KATKI ORANI RAPORU",null,721260001911,0.6]
[14.53,"YERLİ KATKI ORANI RAPORU",null,721260001921,0.6]
[14.54,"YERLİ KATKI ORANI RAPORU",null,720719800011,0.6]
[14.55,"YERLİ KATKI ORANI RAPORU",null,721399901019,0.6]
[14.56,"YERLİ KATKI ORANI RAPORU",null,721399100019,0.6]
[14.57,"YERLİ KATKI ORANI RAPORU",null,721399909000,0.6]
[14.58,"YERLİ KATKI ORANI RAPORU",null,721399901011,0.6]
[14.59,"YERLİ KATKI ORANI RAPORU",null,721399100011,0.6]
[{"v":14.6,"d":"14.60"},"YERLİ KATKI ORANI RAPORU",null,720719190000,0.6]
[14.61,"YERLİ KATKI ORANI RAPORU",null,720836001000,0.6]
[14.62,"YERLİ KATKI ORANI RAPORU",null,720810009000,0.6]
[14.63,"YERLİ KATKI ORANI RAPORU",null,720810001000,0.6]
[14.64,"YERLİ KATKI ORANI RAPORU",null,720851911000,0.6]
[14.65,"YERLİ KATKI ORANI RAPORU",null,720852911000,0.6]
[14.66,"YERLİ KATKI ORANI RAPORU",null,730661999000,0.6]
[14.67,"YERLİ KATKI ORANI RAPORU",null,730669909000,0.6]
[14.68,"YERLİ KATKI ORANI RAPORU",null,730110000012,0.6]
[14.69,"YERLİ KATKI ORANI RAPORU",null,730110000011,0.6]
[{"v":14.7,"d":"14.70"},"YERLİ KATKI ORANI RAPORU",null,731581000000,0.6]
[14.71,"YERLİ KATKI ORANI RAPORU",null,731589000000,0.6]
[14.72,"YERLİ KATKI ORANI RAPORU",null,731813000000,0.6]
[14.73,"YERLİ KATKI ORANI RAPORU",null,731512000011,0.6]
[14.74,"YERLİ KATKI ORANI RAPORU",null,731512000019,0.6]
[14.75,"YERLİ KATKI ORANI RAPORU",null,731511900019,0.6]
[14.76,"YERLİ KATKI ORANI RAPORU",null,731511100000,0.6]
[14.77,"YERLİ KATKI ORANI RAPORU",null,731511900011,0.6]
[14.78,"YERLİ KATKI ORANI RAPORU",null,731519000000,0.6]
[14.79,"YERLİ KATKI ORANI RAPORU",null,731450000000,0.6]
[{"v":14.8,"d":"14.80"},"YERLİ KATKI ORANI RAPORU",null,731520000000,0.6]
[14.81,"YERLİ KATKI ORANI RAPORU",null,731210490000,0.6]
[14.82,"YERLİ KATKI ORANI RAPORU",null,731210690000,0.6]
[14.83,"YERLİ KATKI ORANI RAPORU",null,731210650000,0.6]
[14.84,"YERLİ KATKI ORANI RAPORU",null,731210610000,0.6]
[14.85,"YERLİ KATKI ORANI RAPORU",null,731814990000,0.6]
[14.86,"YERLİ KATKI ORANI RAPORU",null,731814910000,0.6]
[14.87,"YERLİ KATKI ORANI RAPORU",null,731210980000,0.6]
[14.88,"YERLİ KATKI ORANI RAPORU",null,731210830000,0.6]
[14.89,"YERLİ KATKI ORANI RAPORU",null,731210850000,0.6]
[{"v":14.9,"d":"14.90"},"YERLİ KATKI ORANI RAPORU",null,731210810000,0.6]
[14.91,"YERLİ KATKI ORANI RAPORU",null,731210890000,0.6]
[14.92,"YERLİ KATKI ORANI RAPORU",null,261900200000,0.6]
[14.93,"YERLİ KATKI ORANI RAPORU",null,721250699019,0.6]
[14.94,"YERLİ KATKI ORANI RAPORU",null,721250699011,0.6]
[14.95,"YERLİ KATKI ORANI RAPORU",null,721250619019,0.6]
[14.96,"YERLİ KATKI ORANI RAPORU",null,721250611019,0.6]
[14.97,"YERLİ KATKI ORANI RAPORU",null,721250611011,0.6]
[14.98,"YERLİ KATKI ORANI RAPORU",null,720890201011,0.6]
[14.99,"YERLİ KATKI ORANI RAPORU",null,721012200099,0.6]
[{"v":15,"d":"15.00"},"YERLİ KATKI ORANI RAPORU",null,721240202911,0.6]
[15.01,"YERLİ KATKI ORANI RAPORU",null,721240202111,0.6]
[15.02,"YERLİ KATKI ORANI RAPORU",null,721012809011,0.6]
[15.03,"YERLİ KATKI ORANI RAPORU",null,721070801011,0.6]
[15.04,"YERLİ KATKI ORANI RAPORU",null,721050009011,0.6]
[15.05,"YERLİ KATKI ORANI RAPORU",null,721050001011,0.6]
[15.06,"YERLİ KATKI ORANI RAPORU",null,721030009019,0.6]
[15.07,"YERLİ KATKI ORANI RAPORU",null,721030001019,0.6]
[15.08,"YERLİ KATKI ORANI RAPORU",null,721012809019,0.6]
[15.09,"YERLİ KATKI ORANI RAPORU",null,721011009019,0.6]
[{"v":15.1,"d":"15.10"},"YERLİ KATKI ORANI RAPORU",null,721050009019,0.6]
[15.11,"YERLİ KATKI ORANI RAPORU",null,721050001019,0.6]
[15.12,"YERLİ KATKI ORANI RAPORU",null,720837001019,0.6]
[15.13,"YERLİ KATKI ORANI RAPORU",null,720839001019,0.6]
[15.14,"YERLİ KATKI ORANI RAPORU",null,720838001019,0.6]
[15.15,"YERLİ KATKI ORANI RAPORU",null,720890802011,0.6]
[15.16,"YERLİ KATKI ORANI RAPORU",null,720890801011,0.6]
[15.17,"YERLİ KATKI ORANI RAPORU",null,721012200029,0.6]
[15.18,"YERLİ KATKI ORANI RAPORU",null,721210100011,0.6]
[15.19,"YERLİ KATKI ORANI RAPORU",null,730630729000,0.6]
[{"v":15.2,"d":"15.20"},"YERLİ KATKI ORANI RAPORU",null,730630809000,0.6]
[15.21,"YERLİ KATKI ORANI RAPORU",null,730630779000,0.6]
[15.22,"YERLİ KATKI ORANI RAPORU",null,730630419000,0.6]
[15.23,"YERLİ KATKI ORANI RAPORU",null,730630499000,0.6]
[15.24,"YERLİ KATKI ORANI RAPORU",null,730630491000,0.6]
[15.25,"YERLİ KATKI ORANI RAPORU",null,730431201000,0.6]
[15.26,"YERLİ KATKI ORANI RAPORU",null,721240202929,0.6]
[15.27,"YERLİ KATKI ORANI RAPORU",null,721240202121,0.6]
[15.28,"YERLİ KATKI ORANI RAPORU",null,721240201929,0.6]
[15.29,"YERLİ KATKI ORANI RAPORU",null,721240201121,0.6]
[{"v":15.3,"d":"15.30"},"YERLİ KATKI ORANI RAPORU",null,721240201129,0.6]
[15.31,"YERLİ KATKI ORANI RAPORU",null,720917100019,0.6]
[15.32,"YERLİ KATKI ORANI RAPORU",null,720916100019,0.6]
[15.33,"YERLİ KATKI ORANI RAPORU",null,721260001121,0.6]
[15.34,"YERLİ KATKI ORANI RAPORU",null,721113001900,0.6]
[15.35,"YERLİ KATKI ORANI RAPORU",null,721391100000,0.6]
[15.36,"YERLİ KATKI ORANI RAPORU",null,721391410011,0.6]
[15.37,"YERLİ KATKI ORANI RAPORU",null,721391490011,0.6]
[15.38,"YERLİ KATKI ORANI RAPORU",null,721391490012,0.6]
[15.39,"YERLİ KATKI ORANI RAPORU",null,721391410012,0.6]
[{"v":15.4,"d":"15.40"},"YERLİ KATKI ORANI RAPORU",null,721391490019,0.6]
[15.41,"YERLİ KATKI ORANI RAPORU",null,721391701019,0.6]
[15.42,"YERLİ KATKI ORANI RAPORU",null,721391709000,0.6]
[15.43,"YERLİ KATKI ORANI RAPORU",null,721391410019,0.6]
[15.44,"YERLİ KATKI ORANI RAPORU",null,721391900000,0.6]
[15.45,"YERLİ KATKI ORANI RAPORU",null,721391701013,0.6]
[15.46,"YERLİ KATKI ORANI RAPORU",null,721310000000,0.6]
[15.47,"YERLİ KATKI ORANI RAPORU",null,721240201911,0.6]
[15.48,"YERLİ KATKI ORANI RAPORU",null,721240201111,0.6]
[15.49,"YERLİ KATKI ORANI RAPORU",null,721070100029,0.6]
[{"v":15.5,"d":"15.50"},"YERLİ KATKI ORANI RAPORU",null,721070100011,0.6]
[15.51,"YERLİ KATKI ORANI RAPORU",null,721011009011,0.6]
[15.52,"YERLİ KATKI ORANI RAPORU",null,721011001011,0.6]
[15.53,"YERLİ KATKI ORANI RAPORU",null,721030009011,0.6]
[15.54,"YERLİ KATKI ORANI RAPORU",null,721030001011,0.6]
[15.55,"YERLİ KATKI ORANI RAPORU",null,720825009000,0.6]
[15.56,"YERLİ KATKI ORANI RAPORU",null,720825001000,0.6]
[15.57,"YERLİ KATKI ORANI RAPORU",null,720852991000,0.6]
[15.58,"YERLİ KATKI ORANI RAPORU",null,720851209011,0.6]
[15.59,"YERLİ KATKI ORANI RAPORU",null,720826001000,0.6]
[{"v":15.6,"d":"15.60"},"YERLİ KATKI ORANI RAPORU",null,720838001011,0.6]
[15.61,"YERLİ KATKI ORANI RAPORU",null,720839001011,0.6]
[15.62,"YERLİ KATKI ORANI RAPORU",null,720827001000,0.6]
[15.63,"YERLİ KATKI ORANI RAPORU",null,720851989000,0.6]
[15.64,"YERLİ KATKI ORANI RAPORU",null,720851981000,0.6]
[15.65,"YERLİ KATKI ORANI RAPORU",null,720852109000,0.6]
[15.66,"YERLİ KATKI ORANI RAPORU",null,721499951012,0.6]
[15.67,"YERLİ KATKI ORANI RAPORU",null,721491100000,0.6]
[15.68,"YERLİ KATKI ORANI RAPORU",null,721491900000,0.6]
[15.69,"YERLİ KATKI ORANI RAPORU",null,721499959019,0.6]
[{"v":15.7,"d":"15.70"},"YERLİ KATKI ORANI RAPORU",null,721499500019,0.6]
[15.71,"YERLİ KATKI ORANI RAPORU",null,721499951019,0.6]
[15.72,"YERLİ KATKI ORANI RAPORU",null,721499500011,0.6]
[15.73,"YERLİ KATKI ORANI RAPORU",null,721499390014,0.6]
[15.74,"YERLİ KATKI ORANI RAPORU",null,721499790014,0.6]
[15.75,"YERLİ KATKI ORANI RAPORU",null,721499310000,0.6]
[15.76,"YERLİ KATKI ORANI RAPORU",null,721499710000,0.6]
[15.77,"YERLİ KATKI ORANI RAPORU",null,721499390013,0.6]
[15.78,"YERLİ KATKI ORANI RAPORU",null,721499390011,0.6]
[15.79,"YERLİ KATKI ORANI RAPORU",null,721499390012,0.6]
[{"v":15.8,"d":"15.80"},"YERLİ KATKI ORANI RAPORU",null,721499790011,0.6]
[15.81,"YERLİ KATKI ORANI RAPORU",null,721499790012,0.6]
[15.82,"YERLİ KATKI ORANI RAPORU",null,721499790013,0.6]
[15.83,"YERLİ KATKI ORANI RAPORU",null,730490009000,0.6]
[15.84,"YERLİ KATKI ORANI RAPORU",null,730490001000,0.6]
[15.85,"YERLİ KATKI ORANI RAPORU",null,730629000000,0.6]
[15.86,"YERLİ KATKI ORANI RAPORU",null,730669901000,0.6]
[15.87,"YERLİ KATKI ORANI RAPORU",null,731029100000,0.6]
[15.88,"YERLİ KATKI ORANI RAPORU",null,730539009000,0.6]
[15.89,"YERLİ KATKI ORANI RAPORU",null,730531009000,0.6]
[{"v":15.9,"d":"15.90"},"YERLİ KATKI ORANI RAPORU",null,732010190000,0.6]
[15.91,"YERLİ KATKI ORANI RAPORU",null,732090300000,0.6]
[15.92,"YERLİ KATKI ORANI RAPORU",null,730519000000,0.6]
[15.93,"YERLİ KATKI ORANI RAPORU",null,730512000000,0.6]
[15.94,"YERLİ KATKI ORANI RAPORU",null,730511000000,0.6]
[15.95,"YERLİ KATKI ORANI RAPORU",null,730520000000,0.6]
[15.96,"YERLİ KATKI ORANI RAPORU",null,731021110000,0.6]
[15.97,"YERLİ KATKI ORANI RAPORU",null,730531001000,0.6]
[15.98,"YERLİ KATKI ORANI RAPORU",null,731021190000,0.6]
[15.99,"YERLİ KATKI ORANI RAPORU",null,731290000000,0.6]
[{"v":16,"d":"16.00"},"YERLİ KATKI ORANI RAPORU",null,732010900000,0.6]
[16.01,"YERLİ KATKI ORANI RAPORU",null,730439889100,0.6]
[16.02,"YERLİ KATKI ORANI RAPORU",null,730439509000,0.6]
[16.03,"YERLİ KATKI ORANI RAPORU",null,730439831000,0.6]
[16.04,"YERLİ KATKI ORANI RAPORU",null,730439821000,0.6]
[16.05,"YERLİ KATKI ORANI RAPORU",null,730439889900,0.6]
[16.06,"YERLİ KATKI ORANI RAPORU",null,730439501000,0.6]
[16.07,"YERLİ KATKI ORANI RAPORU",null,731815820000,0.6]
[16.08,"YERLİ KATKI ORANI RAPORU",null,731815880000,0.6]
[16.09,"YERLİ KATKI ORANI RAPORU",null,840890210000,0.6]
[{"v":16.1,"d":"16.10"},"YERLİ KATKI ORANI RAPORU",null,853010000000,0.6]
[16.11,"YERLİ KATKI ORANI RAPORU",null,251990300011,0.6]
[16.12,"YERLİ KATKI ORANI RAPORU",null,840810410000,0.6]
[16.13,"YERLİ KATKI ORANI RAPORU",null,840810510000,0.6]
[16.14,"YERLİ KATKI ORANI RAPORU",null,840810610000,0.6]
[16.15,"YERLİ KATKI ORANI RAPORU",null,840810710000,0.6]
[16.16,"YERLİ KATKI ORANI RAPORU",null,840810310000,0.6]
[16.17,"YERLİ KATKI ORANI RAPORU",null,840810230000,0.6]
[16.18,"YERLİ KATKI ORANI RAPORU",null,840810910000,0.6]
[16.19,"YERLİ KATKI ORANI RAPORU",null,840729000000,0.6]
[{"v":16.2,"d":"16.20"},"YERLİ KATKI ORANI RAPORU",null,840810110000,0.6]
[16.21,"YERLİ KATKI ORANI RAPORU",null,840810270000,0.6]
[16.22,"YERLİ KATKI ORANI RAPORU",null,840810490000,0.6]
[16.23,"YERLİ KATKI ORANI RAPORU",null,840810590000,0.6]
[16.24,"YERLİ KATKI ORANI RAPORU",null,840810690000,0.6]
[16.25,"YERLİ KATKI ORANI RAPORU",null,840810790000,0.6]
[16.26,"YERLİ KATKI ORANI RAPORU",null,840810390000,0.6]
[16.27,"YERLİ KATKI ORANI RAPORU",null,840810990000,0.6]
[16.28,"YERLİ KATKI ORANI RAPORU",null,411510000000,0.6]
[16.29,"YERLİ KATKI ORANI RAPORU",null,411520000000,0.6]
[{"v":16.3,"d":"16.30"},"YERLİ KATKI ORANI RAPORU",null,290519009011,0.6]
[16.31,"YERLİ KATKI ORANI RAPORU",null,850410801000,0.6]
[16.32,"YERLİ KATKI ORANI RAPORU",null,850410809000,0.6]
[16.33,"YERLİ KATKI ORANI RAPORU",null,902990000000,0.6]
[16.34,"YERLİ KATKI ORANI RAPORU",null,853530900011,0.6]
[16.35,"YERLİ KATKI ORANI RAPORU",null,293420200011,0.6]
[16.36,"YERLİ KATKI ORANI RAPORU",null,292151190022,0.6]
[16.37,"YERLİ KATKI ORANI RAPORU",null,292151190023,0.6]
[16.38,"YERLİ KATKI ORANI RAPORU",null,292229001012,0.6]
[16.39,"YERLİ KATKI ORANI RAPORU",null,281129102000,0.6]
[{"v":16.4,"d":"16.40"},"YERLİ KATKI ORANI RAPORU",null,291419900011,0.6]
[16.41,"YERLİ KATKI ORANI RAPORU",null,251200000012,0.6]
[16.42,"YERLİ KATKI ORANI RAPORU",null,293391900016,0.6]
[16.43,"YERLİ KATKI ORANI RAPORU",null,293399809015,0.6]
[16.44,"YERLİ KATKI ORANI RAPORU",null,293359100000,0.6]
[16.45,"YERLİ KATKI ORANI RAPORU",null,292700000012,0.6]
[16.46,"YERLİ KATKI ORANI RAPORU",null,290930909011,0.6]
[16.47,"YERLİ KATKI ORANI RAPORU",null,281000100000,0.6]
[16.48,"YERLİ KATKI ORANI RAPORU",null,290369110000,0.6]
[16.49,"YERLİ KATKI ORANI RAPORU",null,290919900012,0.6]
[{"v":16.5,"d":"16.50"},"YERLİ KATKI ORANI RAPORU",null,292212000011,0.6]
[16.51,"YERLİ KATKI ORANI RAPORU",null,292212000012,0.6]
[16.52,"YERLİ KATKI ORANI RAPORU",null,292212000019,0.6]
[16.53,"YERLİ KATKI ORANI RAPORU",null,291100001013,0.6]
[16.54,"YERLİ KATKI ORANI RAPORU",null,290911000000,0.6]
[16.55,"YERLİ KATKI ORANI RAPORU",null,292022000000,0.6]
[16.56,"YERLİ KATKI ORANI RAPORU",null,292090101911,0.6]
[16.57,"YERLİ KATKI ORANI RAPORU",null,291719100013,0.6]
[16.58,"YERLİ KATKI ORANI RAPORU",null,291711009022,0.6]
[16.59,"YERLİ KATKI ORANI RAPORU",null,292090101113,0.6]
[{"v":16.6,"d":"16.60"},"YERLİ KATKI ORANI RAPORU",null,292119500000,0.6]
[16.61,"YERLİ KATKI ORANI RAPORU",null,292421000022,0.6]
[16.62,"YERLİ KATKI ORANI RAPORU",null,290944000011,0.6]
[16.63,"YERLİ KATKI ORANI RAPORU",null,290943000012,0.6]
[16.64,"YERLİ KATKI ORANI RAPORU",null,290290002100,0.6]
[16.65,"YERLİ KATKI ORANI RAPORU",null,290930100000,0.6]
[16.66,"YERLİ KATKI ORANI RAPORU",null,293090989015,0.6]
[16.67,"YERLİ KATKI ORANI RAPORU",null,293090959015,0.6]
[16.68,"YERLİ KATKI ORANI RAPORU",null,293090989012,0.6]
[16.69,"YERLİ KATKI ORANI RAPORU",null,293090959012,0.6]
[{"v":16.7,"d":"16.70"},"YERLİ KATKI ORANI RAPORU",null,292144001000,0.6]
[16.71,"YERLİ KATKI ORANI RAPORU",null,292144009012,0.6]
[16.72,"YERLİ KATKI ORANI RAPORU",null,292144009019,0.6]
[16.73,"YERLİ KATKI ORANI RAPORU",null,292529000015,0.6]
[16.74,"YERLİ KATKI ORANI RAPORU",null,292800902012,0.6]
[16.75,"YERLİ KATKI ORANI RAPORU",null,290290009100,0.6]
[16.76,"YERLİ KATKI ORANI RAPORU",null,290629009011,0.6]
[16.77,"YERLİ KATKI ORANI RAPORU",null,290342000000,0.6]
[16.78,"YERLİ KATKI ORANI RAPORU",null,841410811000,0.6]
[16.79,"YERLİ KATKI ORANI RAPORU",null,841410819000,0.6]
[{"v":16.8,"d":"16.80"},"YERLİ KATKI ORANI RAPORU",null,290381000019,0.6]
[16.81,"YERLİ KATKI ORANI RAPORU",null,701190000000,0.6]
[16.82,"YERLİ KATKI ORANI RAPORU",null,271019460029,0.6]
[16.83,"YERLİ KATKI ORANI RAPORU",null,271019430029,0.6]
[16.84,"YERLİ KATKI ORANI RAPORU",null,271019470019,0.6]
[16.85,"YERLİ KATKI ORANI RAPORU",null,722699300019,0.6]
[16.86,"YERLİ KATKI ORANI RAPORU",null,722699300011,0.6]
[16.87,"YERLİ KATKI ORANI RAPORU",null,722592000090,0.6]
[16.88,"YERLİ KATKI ORANI RAPORU",null,722830410000,0.6]
[16.89,"YERLİ KATKI ORANI RAPORU",null,722860800019,0.6]
[{"v":16.9,"d":"16.90"},"YERLİ KATKI ORANI RAPORU",null,722860800011,0.6]
[16.91,"YERLİ KATKI ORANI RAPORU",null,722830490000,0.6]
[16.92,"YERLİ KATKI ORANI RAPORU",null,722850400000,0.6]
[16.93,"YERLİ KATKI ORANI RAPORU",null,722870900019,0.6]
[16.94,"YERLİ KATKI ORANI RAPORU",null,722699700011,0.6]
[16.95,"YERLİ KATKI ORANI RAPORU",null,722699700019,0.6]
[16.96,"YERLİ KATKI ORANI RAPORU",null,722599000090,0.6]
[16.97,"YERLİ KATKI ORANI RAPORU",null,722540900000,0.6]
[16.98,"YERLİ KATKI ORANI RAPORU",null,722550800011,0.6]
[16.99,"YERLİ KATKI ORANI RAPORU",null,722699100019,0.6]
[{"v":17,"d":"17.00"},"YERLİ KATKI ORANI RAPORU",null,722591000090,0.6]
[17.01,"YERLİ KATKI ORANI RAPORU",null,722591000010,0.6]
[17.02,"YERLİ KATKI ORANI RAPORU",null,730451811000,0.6]
[17.03,"YERLİ KATKI ORANI RAPORU",null,730451819000,0.6]
[17.04,"YERLİ KATKI ORANI RAPORU",null,730650809000,0.6]
[17.05,"YERLİ KATKI ORANI RAPORU",null,730650801000,0.6]
[17.06,"YERLİ KATKI ORANI RAPORU",null,722870100000,0.6]
[17.07,"YERLİ KATKI ORANI RAPORU",null,722870900011,0.6]
[17.08,"YERLİ KATKI ORANI RAPORU",null,722790950000,0.6]
[17.09,"YERLİ KATKI ORANI RAPORU",null,722691990000,0.6]
[{"v":17.1,"d":"17.10"},"YERLİ KATKI ORANI RAPORU",null,722691910000,0.6]
[17.11,"YERLİ KATKI ORANI RAPORU",null,750210009019,0.6]
[17.12,"YERLİ KATKI ORANI RAPORU",null,350290700000,0.6]
[17.13,"YERLİ KATKI ORANI RAPORU",null,350290200000,0.6]
[17.14,"YERLİ KATKI ORANI RAPORU",null,291249003019,0.6]
[17.15,"YERLİ KATKI ORANI RAPORU",null,280519900019,0.6]
[17.16,"YERLİ KATKI ORANI RAPORU",null,293980000000,0.6]
[17.17,"YERLİ KATKI ORANI RAPORU",null,290129009011,0.6]
[17.18,"YERLİ KATKI ORANI RAPORU",null,290129009019,0.6]
[17.19,"YERLİ KATKI ORANI RAPORU",null,290960900019,0.6]
[{"v":17.2,"d":"17.20"},"YERLİ KATKI ORANI RAPORU",null,284190853019,0.6]
[17.21,"YERLİ KATKI ORANI RAPORU",null,150110900000,0.6]
[17.22,"YERLİ KATKI ORANI RAPORU",null,401390000019,0.6]
[17.23,"YERLİ KATKI ORANI RAPORU",null,292221000019,0.6]
[17.24,"YERLİ KATKI ORANI RAPORU",null,390939000000,0.6]
[17.25,"YERLİ KATKI ORANI RAPORU",null,292229009019,0.6]
[17.26,"YERLİ KATKI ORANI RAPORU",null,283699175000,0.6]
[17.27,"YERLİ KATKI ORANI RAPORU",null,294110000029,0.6]
[17.28,"YERLİ KATKI ORANI RAPORU",null,852910699018,0.6]
[17.29,"YERLİ KATKI ORANI RAPORU",null,270750000019,0.6]
[{"v":17.3,"d":"17.30"},"YERLİ KATKI ORANI RAPORU",null,292149000039,0.6]
[17.31,"YERLİ KATKI ORANI RAPORU",null,292159900019,0.6]
[17.32,"YERLİ KATKI ORANI RAPORU",null,290629009019,0.6]
[17.33,"YERLİ KATKI ORANI RAPORU",null,284290801600,0.6]
[17.34,"YERLİ KATKI ORANI RAPORU",null,280429900019,0.6]
[17.35,"YERLİ KATKI ORANI RAPORU",null,291100009019,0.6]
[17.36,"YERLİ KATKI ORANI RAPORU",null,292419000029,0.6]
[17.37,"YERLİ KATKI ORANI RAPORU",null,290919900049,0.6]
[17.38,"YERLİ KATKI ORANI RAPORU",null,290110001019,0.6]
[17.39,"YERLİ KATKI ORANI RAPORU",null,292119990059,0.6]
[{"v":17.4,"d":"17.40"},"YERLİ KATKI ORANI RAPORU",null,292129000000,0.6]
[17.41,"YERLİ KATKI ORANI RAPORU",null,291719800019,0.6]
[17.42,"YERLİ KATKI ORANI RAPORU",null,251320000019,0.6]
[17.43,"YERLİ KATKI ORANI RAPORU",null,901420209100,0.6]
[17.44,"YERLİ KATKI ORANI RAPORU",null,271099000000,0.6]
[17.45,"YERLİ KATKI ORANI RAPORU",null,903289000000,0.6]
[17.46,"YERLİ KATKI ORANI RAPORU",null,292700000029,0.6]
[17.47,"YERLİ KATKI ORANI RAPORU",null,292990000029,0.6]
[17.48,"YERLİ KATKI ORANI RAPORU",null,292990900029,0.6]
[17.49,"YERLİ KATKI ORANI RAPORU",null,281129300019,0.6]
[{"v":17.5,"d":"17.50"},"YERLİ KATKI ORANI RAPORU",null,285000601019,0.6]
[17.51,"YERLİ KATKI ORANI RAPORU",null,740829000000,0.6]
[17.52,"YERLİ KATKI ORANI RAPORU",null,844399909000,0.6]
[17.53,"YERLİ KATKI ORANI RAPORU",null,500720310000,0.6]
[17.54,"YERLİ KATKI ORANI RAPORU",null,680423000019,0.6]
[17.55,"YERLİ KATKI ORANI RAPORU",null,130219701000,0.6]
[17.56,"YERLİ KATKI ORANI RAPORU",null,130219709990,0.6]
[17.57,"YERLİ KATKI ORANI RAPORU",null,130239001000,0.6]
[17.58,"YERLİ KATKI ORANI RAPORU",null,130239009000,0.6]
[17.59,"YERLİ KATKI ORANI RAPORU",null,530500009919,0.6]
[{"v":17.6,"d":"17.60"},"YERLİ KATKI ORANI RAPORU",null,281000909029,0.6]
[17.61,"YERLİ KATKI ORANI RAPORU",null,284020909000,0.6]
[17.62,"YERLİ KATKI ORANI RAPORU",null,281000909019,0.6]
[17.63,"YERLİ KATKI ORANI RAPORU",null,400941009000,0.6]
[17.64,"YERLİ KATKI ORANI RAPORU",null,901890300019,0.6]
[17.65,"YERLİ KATKI ORANI RAPORU",null,282990801019,0.6]
[17.66,"YERLİ KATKI ORANI RAPORU",null,282759002000,0.6]
[17.67,"YERLİ KATKI ORANI RAPORU",null,842539000090,0.6]
[17.68,"YERLİ KATKI ORANI RAPORU",null,291560190019,0.6]
[17.69,"YERLİ KATKI ORANI RAPORU",null,701990009000,0.6]
[{"v":17.7,"d":"17.70"},"YERLİ KATKI ORANI RAPORU",null,700220900000,0.6]
[17.71,"YERLİ KATKI ORANI RAPORU",null,701400009029,0.6]
[17.72,"YERLİ KATKI ORANI RAPORU",null,701400009019,0.6]
[17.73,"YERLİ KATKI ORANI RAPORU",null,701400009011,0.6]
[17.74,"YERLİ KATKI ORANI RAPORU",null,262190009000,0.6]
[17.75,"YERLİ KATKI ORANI RAPORU",null,722410900000,0.6]
[17.76,"YERLİ KATKI ORANI RAPORU",null,850133004300,0.6]
[17.77,"YERLİ KATKI ORANI RAPORU",null,850133004200,0.6]
[17.78,"YERLİ KATKI ORANI RAPORU",null,850132009000,0.6]
[17.79,"YERLİ KATKI ORANI RAPORU",null,853340100000,0.6]
[{"v":17.8,"d":"17.80"},"YERLİ KATKI ORANI RAPORU",null,853340900000,0.6]
[17.81,"YERLİ KATKI ORANI RAPORU",null,853939800000,0.6]
[17.82,"YERLİ KATKI ORANI RAPORU",null,292700000019,0.6]
[17.83,"YERLİ KATKI ORANI RAPORU",null,293890100019,0.6]
[17.84,"YERLİ KATKI ORANI RAPORU",null,284150009029,0.6]
[17.85,"YERLİ KATKI ORANI RAPORU",null,290899009017,0.6]
[17.86,"YERLİ KATKI ORANI RAPORU",null,293020000018,0.6]
[17.87,"YERLİ KATKI ORANI RAPORU",null,283190000000,0.6]
[17.88,"YERLİ KATKI ORANI RAPORU",null,850134003000,0.6]
[17.89,"YERLİ KATKI ORANI RAPORU",null,850133003100,0.6]
[{"v":17.9,"d":"17.90"},"YERLİ KATKI ORANI RAPORU",null,850131001011,0.6]
[17.91,"YERLİ KATKI ORANI RAPORU",null,850131009011,0.6]
[17.92,"YERLİ KATKI ORANI RAPORU",null,850134001000,0.6]
[17.93,"YERLİ KATKI ORANI RAPORU",null,850132001100,0.6]
[17.94,"YERLİ KATKI ORANI RAPORU",null,850133001000,0.6]
[17.95,"YERLİ KATKI ORANI RAPORU",null,291619959000,0.6]
[17.96,"YERLİ KATKI ORANI RAPORU",null,290110009019,0.6]
[17.97,"YERLİ KATKI ORANI RAPORU",null,290519009018,0.6]
[17.98,"YERLİ KATKI ORANI RAPORU",null,590500700019,0.6]
[17.99,"YERLİ KATKI ORANI RAPORU",null,293949000019,0.6]
[{"v":18,"d":"18.00"},"YERLİ KATKI ORANI RAPORU",null,850780000000,0.6]
[18.01,"YERLİ KATKI ORANI RAPORU",null,853650800018,0.6]
[18.02,"YERLİ KATKI ORANI RAPORU",null,853650190000,0.6]
[18.03,"YERLİ KATKI ORANI RAPORU",null,850239801100,0.6]
[18.04,"YERLİ KATKI ORANI RAPORU",null,850239801300,0.6]
[18.05,"YERLİ KATKI ORANI RAPORU",null,854519000000,0.6]
[18.06,"YERLİ KATKI ORANI RAPORU",null,854939000000,0.6]
[18.07,"YERLİ KATKI ORANI RAPORU",null,902590002119,0.6]
[18.08,"YERLİ KATKI ORANI RAPORU",null,902590002113,0.6]
[18.09,"YERLİ KATKI ORANI RAPORU",null,854239190000,0.6]
[{"v":18.1,"d":"18.10"},"YERLİ KATKI ORANI RAPORU",null,854232190000,0.6]
[18.11,"YERLİ KATKI ORANI RAPORU",null,710229000000,0.6]
[18.12,"YERLİ KATKI ORANI RAPORU",null,251990900019,0.6]
[18.13,"YERLİ KATKI ORANI RAPORU",null,290950009000,0.6]
[18.14,"YERLİ KATKI ORANI RAPORU",null,720299800000,0.6]
[18.15,"YERLİ KATKI ORANI RAPORU",null,720229900000,0.6]
[18.16,"YERLİ KATKI ORANI RAPORU",null,370239000000,0.6]
[18.17,"YERLİ KATKI ORANI RAPORU",null,853669900018,0.6]
[18.18,"YERLİ KATKI ORANI RAPORU",null,853929300000,0.6]
[18.19,"YERLİ KATKI ORANI RAPORU",null,853929980000,0.6]
[{"v":18.2,"d":"18.20"},"YERLİ KATKI ORANI RAPORU",null,853929920000,0.6]
[18.21,"YERLİ KATKI ORANI RAPORU",null,700529350000,0.6]
[18.22,"YERLİ KATKI ORANI RAPORU",null,700529250000,0.6]
[18.23,"YERLİ KATKI ORANI RAPORU",null,700529800000,0.6]
[18.24,"YERLİ KATKI ORANI RAPORU",null,390469800000,0.6]
[18.25,"YERLİ KATKI ORANI RAPORU",null,282690809019,0.6]
[18.26,"YERLİ KATKI ORANI RAPORU",null,282619909019,0.6]
[18.27,"YERLİ KATKI ORANI RAPORU",null,283529909000,0.6]
[18.28,"YERLİ KATKI ORANI RAPORU",null,292029000000,0.6]
[18.29,"YERLİ KATKI ORANI RAPORU",null,283510009000,0.6]
[{"v":18.3,"d":"18.30"},"YERLİ KATKI ORANI RAPORU",null,292320009000,0.6]
[18.31,"YERLİ KATKI ORANI RAPORU",null,291990009029,0.6]
[18.32,"YERLİ KATKI ORANI RAPORU",null,285390906000,0.6]
[18.33,"YERLİ KATKI ORANI RAPORU",null,271019620039,0.6]
[18.34,"YERLİ KATKI ORANI RAPORU",null,271020110019,0.6]
[18.35,"YERLİ KATKI ORANI RAPORU",null,841199001000,0.6]
[18.36,"YERLİ KATKI ORANI RAPORU",null,841182609000,0.6]
[18.37,"YERLİ KATKI ORANI RAPORU",null,841182209000,0.6]
[18.38,"YERLİ KATKI ORANI RAPORU",null,841182201000,0.6]
[18.39,"YERLİ KATKI ORANI RAPORU",null,842139351000,0.6]
[{"v":18.4,"d":"18.40"},"YERLİ KATKI ORANI RAPORU",null,842139359000,0.6]
[18.41,"YERLİ KATKI ORANI RAPORU",null,293890909019,0.6]
[18.42,"YERLİ KATKI ORANI RAPORU",null,284329002000,0.6]
[18.43,"YERLİ KATKI ORANI RAPORU",null,284329001019,0.6]
[18.44,"YERLİ KATKI ORANI RAPORU",null,842091100019,0.6]
[18.45,"YERLİ KATKI ORANI RAPORU",null,842091800019,0.6]
[18.46,"YERLİ KATKI ORANI RAPORU",null,481022009000,0.6]
[18.47,"YERLİ KATKI ORANI RAPORU",null,271012900019,0.6]
[18.48,"YERLİ KATKI ORANI RAPORU",null,271012150019,0.6]
[18.49,"YERLİ KATKI ORANI RAPORU",null,293299005019,0.6]
[{"v":18.5,"d":"18.50"},"YERLİ KATKI ORANI RAPORU",null,293149900039,0.6]
[18.51,"YERLİ KATKI ORANI RAPORU",null,293149800039,0.6]
[18.52,"YERLİ KATKI ORANI RAPORU",null,293159900029,0.6]
[18.53,"YERLİ KATKI ORANI RAPORU",null,840710009012,0.6]
[18.54,"YERLİ KATKI ORANI RAPORU",null,840910009000,0.6]
[18.55,"YERLİ KATKI ORANI RAPORU",null,411390000000,0.6]
[18.56,"YERLİ KATKI ORANI RAPORU",null,410692000000,0.6]
[18.57,"YERLİ KATKI ORANI RAPORU",null,410390000019,0.6]
[18.58,"YERLİ KATKI ORANI RAPORU",null,410390000012,0.6]
[18.59,"YERLİ KATKI ORANI RAPORU",null,410390000013,0.6]
[{"v":18.6,"d":"18.60"},"YERLİ KATKI ORANI RAPORU",null,410390000011,0.6]
[18.61,"YERLİ KATKI ORANI RAPORU",null,150600000019,0.6]
[18.62,"YERLİ KATKI ORANI RAPORU",null,284700009019,0.6]
[18.63,"YERLİ KATKI ORANI RAPORU",null,271129000029,0.6]
[18.64,"YERLİ KATKI ORANI RAPORU",null,841229891000,0.6]
[18.65,"YERLİ KATKI ORANI RAPORU",null,902580801000,0.6]
[18.66,"YERLİ KATKI ORANI RAPORU",null,902580809000,0.6]
[18.67,"YERLİ KATKI ORANI RAPORU",null,902590002900,0.6]
[18.68,"YERLİ KATKI ORANI RAPORU",null,293790000000,0.6]
[18.69,"YERLİ KATKI ORANI RAPORU",null,292519950019,0.6]
[{"v":18.7,"d":"18.70"},"YERLİ KATKI ORANI RAPORU",null,292529000019,0.6]
[18.71,"YERLİ KATKI ORANI RAPORU",null,510820100019,0.6]
[18.72,"YERLİ KATKI ORANI RAPORU",null,510820900019,0.6]
[18.73,"YERLİ KATKI ORANI RAPORU",null,281119809019,0.6]
[18.74,"YERLİ KATKI ORANI RAPORU",null,285390909000,0.6]
[18.75,"YERLİ KATKI ORANI RAPORU",null,560490909019,0.6]
[18.76,"YERLİ KATKI ORANI RAPORU",null,500300000029,0.6]
[18.77,"YERLİ KATKI ORANI RAPORU",null,500400100019,0.6]
[18.78,"YERLİ KATKI ORANI RAPORU",null,500400900019,0.6]
[18.79,"YERLİ KATKI ORANI RAPORU",null,500790100000,0.6]
[{"v":18.8,"d":"18.80"},"YERLİ KATKI ORANI RAPORU",null,500790900000,0.6]
[18.81,"YERLİ KATKI ORANI RAPORU",null,500790300000,0.6]
[18.82,"YERLİ KATKI ORANI RAPORU",null,500790500000,0.6]
[18.83,"YERLİ KATKI ORANI RAPORU",null,560790901000,0.6]
[18.84,"YERLİ KATKI ORANI RAPORU",null,550969000000,0.6]
[18.85,"YERLİ KATKI ORANI RAPORU",null,550959000000,0.6]
[18.86,"YERLİ KATKI ORANI RAPORU",null,550999000000,0.6]
[18.87,"YERLİ KATKI ORANI RAPORU",null,551090000000,0.6]
[18.88,"YERLİ KATKI ORANI RAPORU",null,282990803011,0.6]
[18.89,"YERLİ KATKI ORANI RAPORU",null,282760009010,0.6]
[{"v":18.9,"d":"18.90"},"YERLİ KATKI ORANI RAPORU",null,382499150019,0.6]
[18.91,"YERLİ KATKI ORANI RAPORU",null,480255159919,0.6]
[18.92,"YERLİ KATKI ORANI RAPORU",null,480255259919,0.6]
[18.93,"YERLİ KATKI ORANI RAPORU",null,480255309919,0.6]
[18.94,"YERLİ KATKI ORANI RAPORU",null,480258109900,0.6]
[18.95,"YERLİ KATKI ORANI RAPORU",null,480256209900,0.6]
[18.96,"YERLİ KATKI ORANI RAPORU",null,480258909900,0.6]
[18.97,"YERLİ KATKI ORANI RAPORU",null,480256809919,0.6]
[18.98,"YERLİ KATKI ORANI RAPORU",null,680292000000,0.6]
[18.99,"YERLİ KATKI ORANI RAPORU",null,680229001000,0.6]
[{"v":19,"d":"19.00"},"YERLİ KATKI ORANI RAPORU",null,283526000000,0.6]
[19.01,"YERLİ KATKI ORANI RAPORU",null,282590190019,0.6]
[19.02,"YERLİ KATKI ORANI RAPORU",null,840820510000,0.6]
[19.03,"YERLİ KATKI ORANI RAPORU",null,283699179019,0.6]
[19.04,"YERLİ KATKI ORANI RAPORU",null,292090101919,0.6]
[19.05,"YERLİ KATKI ORANI RAPORU",null,284990900000,0.6]
[19.06,"YERLİ KATKI ORANI RAPORU",null,480255255019,0.6]
[19.07,"YERLİ KATKI ORANI RAPORU",null,480255155019,0.6]
[19.08,"YERLİ KATKI ORANI RAPORU",null,480255305019,0.6]
[19.09,"YERLİ KATKI ORANI RAPORU",null,480255905019,0.6]
[{"v":19.1,"d":"19.10"},"YERLİ KATKI ORANI RAPORU",null,480258105019,0.6]
[19.11,"YERLİ KATKI ORANI RAPORU",null,480256805019,0.6]
[19.12,"YERLİ KATKI ORANI RAPORU",null,480258905019,0.6]
[19.13,"YERLİ KATKI ORANI RAPORU",null,392099590000,0.6]
[19.14,"YERLİ KATKI ORANI RAPORU",null,854060000000,0.6]
[19.15,"YERLİ KATKI ORANI RAPORU",null,350110900000,0.6]
[19.16,"YERLİ KATKI ORANI RAPORU",null,650100009019,0.6]
[19.17,"YERLİ KATKI ORANI RAPORU",null,410622900000,0.6]
[19.18,"YERLİ KATKI ORANI RAPORU",null,294200000019,0.6]
[19.19,"YERLİ KATKI ORANI RAPORU",null,711590000029,0.6]
[{"v":19.2,"d":"19.20"},"YERLİ KATKI ORANI RAPORU",null,711299009000,0.6]
[19.21,"YERLİ KATKI ORANI RAPORU",null,710310000019,0.6]
[19.22,"YERLİ KATKI ORANI RAPORU",null,710399000019,0.6]
[19.23,"YERLİ KATKI ORANI RAPORU",null,291469800019,0.6]
[19.24,"YERLİ KATKI ORANI RAPORU",null,282919000019,0.6]
[19.25,"YERLİ KATKI ORANI RAPORU",null,281219900000,0.6]
[19.26,"YERLİ KATKI ORANI RAPORU",null,282739859000,0.6]
[19.27,"YERLİ KATKI ORANI RAPORU",null,391220110019,0.6]
[19.28,"YERLİ KATKI ORANI RAPORU",null,283720009000,0.6]
[19.29,"YERLİ KATKI ORANI RAPORU",null,392099280000,0.6]
[{"v":19.3,"d":"19.30"},"YERLİ KATKI ORANI RAPORU",null,500720190000,0.6]
[19.31,"YERLİ KATKI ORANI RAPORU",null,284150009019,0.6]
[19.32,"YERLİ KATKI ORANI RAPORU",null,282490000019,0.6]
[19.33,"YERLİ KATKI ORANI RAPORU",null,250610000018,0.6]
[19.34,"YERLİ KATKI ORANI RAPORU",null,250300900018,0.6]
[19.35,"YERLİ KATKI ORANI RAPORU",null,700100999000,0.6]
[19.36,"YERLİ KATKI ORANI RAPORU",null,293220909019,0.6]
[19.37,"YERLİ KATKI ORANI RAPORU",null,844230009019,0.6]
[19.38,"YERLİ KATKI ORANI RAPORU",null,900190001900,0.6]
[19.39,"YERLİ KATKI ORANI RAPORU",null,900150200000,0.6]
[{"v":19.4,"d":"19.40"},"YERLİ KATKI ORANI RAPORU",null,900150490000,0.6]
[19.41,"YERLİ KATKI ORANI RAPORU",null,900211009000,0.6]
[19.42,"YERLİ KATKI ORANI RAPORU",null,900219009000,0.6]
[19.43,"YERLİ KATKI ORANI RAPORU",null,500720510000,0.6]
[19.44,"YERLİ KATKI ORANI RAPORU",null,500720710000,0.6]
[19.45,"YERLİ KATKI ORANI RAPORU",null,500720590000,0.6]
[19.46,"YERLİ KATKI ORANI RAPORU",null,290519001019,0.6]
[19.47,"YERLİ KATKI ORANI RAPORU",null,848390891000,0.6]
[19.48,"YERLİ KATKI ORANI RAPORU",null,848390899011,0.6]
[19.49,"YERLİ KATKI ORANI RAPORU",null,854079000000,0.6]
[{"v":19.5,"d":"19.50"},"YERLİ KATKI ORANI RAPORU",null,284170009019,0.6]
[19.51,"YERLİ KATKI ORANI RAPORU",null,852859000000,0.6]
[19.52,"YERLİ KATKI ORANI RAPORU",null,852852100000,0.6]
[19.53,"YERLİ KATKI ORANI RAPORU",null,290719909019,0.6]
[19.54,"YERLİ KATKI ORANI RAPORU",null,841280809019,0.6]
[19.55,"YERLİ KATKI ORANI RAPORU",null,321590700019,0.6]
[19.56,"YERLİ KATKI ORANI RAPORU",null,340490001900,0.6]
[19.57,"YERLİ KATKI ORANI RAPORU",null,292151900013,0.6]
[19.58,"YERLİ KATKI ORANI RAPORU",null,284690900000,0.6]
[19.59,"YERLİ KATKI ORANI RAPORU",null,550319000000,0.6]
[{"v":19.6,"d":"19.60"},"YERLİ KATKI ORANI RAPORU",null,540219000000,0.6]
[19.61,"YERLİ KATKI ORANI RAPORU",null,110819901000,0.6]
[19.62,"YERLİ KATKI ORANI RAPORU",null,110819909000,0.6]
[19.63,"YERLİ KATKI ORANI RAPORU",null,283429809000,0.6]
[19.64,"YERLİ KATKI ORANI RAPORU",null,283410009000,0.6]
[19.65,"YERLİ KATKI ORANI RAPORU",null,292151190029,0.6]
[19.66,"YERLİ KATKI ORANI RAPORU",null,293159900019,0.6]
[19.67,"YERLİ KATKI ORANI RAPORU",null,441090009000,0.6]
[19.68,"YERLİ KATKI ORANI RAPORU",null,282749909000,0.6]
[19.69,"YERLİ KATKI ORANI RAPORU",null,903141000000,0.6]
[{"v":19.7,"d":"19.70"},"YERLİ KATKI ORANI RAPORU",null,901380800000,0.6]
[19.71,"YERLİ KATKI ORANI RAPORU",null,294200000029,0.6]
[19.72,"YERLİ KATKI ORANI RAPORU",null,847150009000,0.6]
[19.73,"YERLİ KATKI ORANI RAPORU",null,680410000019,0.6]
[19.74,"YERLİ KATKI ORANI RAPORU",null,600690000000,0.6]
[19.75,"YERLİ KATKI ORANI RAPORU",null,600621000000,0.6]
[19.76,"YERLİ KATKI ORANI RAPORU",null,600624000000,0.6]
[19.77,"YERLİ KATKI ORANI RAPORU",null,600622000000,0.6]
[19.78,"YERLİ KATKI ORANI RAPORU",null,600623000000,0.6]
[19.79,"YERLİ KATKI ORANI RAPORU",null,600631000000,0.6]
[{"v":19.8,"d":"19.80"},"YERLİ KATKI ORANI RAPORU",null,600634000000,0.6]
[19.81,"YERLİ KATKI ORANI RAPORU",null,600632000000,0.6]
[19.82,"YERLİ KATKI ORANI RAPORU",null,600633000000,0.6]
[19.83,"YERLİ KATKI ORANI RAPORU",null,600641000000,0.6]
[19.84,"YERLİ KATKI ORANI RAPORU",null,600644000000,0.6]
[19.85,"YERLİ KATKI ORANI RAPORU",null,600642000000,0.6]
[19.86,"YERLİ KATKI ORANI RAPORU",null,600643000000,0.6]
[19.87,"YERLİ KATKI ORANI RAPORU",null,600610000000,0.6]
[19.88,"YERLİ KATKI ORANI RAPORU",null,520210000019,0.6]
[19.89,"YERLİ KATKI ORANI RAPORU",null,853400900000,0.6]
[{"v":19.9,"d":"19.90"},"YERLİ KATKI ORANI RAPORU",null,294110000039,0.6]
[19.91,"YERLİ KATKI ORANI RAPORU",null,290349100000,0.6]
[19.92,"YERLİ KATKI ORANI RAPORU",null,291560909019,0.6]
[19.93,"YERLİ KATKI ORANI RAPORU",null,350400900019,0.6]
[19.94,"YERLİ KATKI ORANI RAPORU",null,293550000000,0.6]
[19.95,"YERLİ KATKI ORANI RAPORU",null,282990803012,0.6]
[19.96,"YERLİ KATKI ORANI RAPORU",null,283699909000,0.6]
[19.97,"YERLİ KATKI ORANI RAPORU",null,282990102019,0.6]
[19.98,"YERLİ KATKI ORANI RAPORU",null,284169000019,0.6]
[19.99,"YERLİ KATKI ORANI RAPORU",null,271320000019,0.6]
[{"v":20,"d":"20.00"},"YERLİ KATKI ORANI RAPORU",null,360490000019,0.6]
[20.01,"YERLİ KATKI ORANI RAPORU",null,392099909000,0.6]
[20.02,"YERLİ KATKI ORANI RAPORU",null,391729003000,0.6]
[20.03,"YERLİ KATKI ORANI RAPORU",null,392119009000,0.6]
[20.04,"YERLİ KATKI ORANI RAPORU",null,391729002000,0.6]
[20.05,"YERLİ KATKI ORANI RAPORU",null,391729001000,0.6]
[20.06,"YERLİ KATKI ORANI RAPORU",null,841239001000,0.6]
[20.07,"YERLİ KATKI ORANI RAPORU",null,390791900000,0.6]
[20.08,"YERLİ KATKI ORANI RAPORU",null,390791100000,0.6]
[20.09,"YERLİ KATKI ORANI RAPORU",null,390110900019,0.6]
[{"v":20.1,"d":"20.10"},"YERLİ KATKI ORANI RAPORU",null,290729008019,0.6]
[20.11,"YERLİ KATKI ORANI RAPORU",null,283539009000,0.6]
[20.12,"YERLİ KATKI ORANI RAPORU",null,290549009090,0.6]
[20.13,"YERLİ KATKI ORANI RAPORU",null,283090859029,0.6]
[20.14,"YERLİ KATKI ORANI RAPORU",null,391190990000,0.6]
[20.15,"YERLİ KATKI ORANI RAPORU",null,390950900000,0.6]
[20.16,"YERLİ KATKI ORANI RAPORU",null,852610000019,0.6]
[20.17,"YERLİ KATKI ORANI RAPORU",null,284443809019,0.6]
[20.18,"YERLİ KATKI ORANI RAPORU",null,853649000029,0.6]
[20.19,"YERLİ KATKI ORANI RAPORU",null,370298000012,0.6]
[{"v":20.2,"d":"20.20"},"YERLİ KATKI ORANI RAPORU",null,370297900000,0.6]
[20.21,"YERLİ KATKI ORANI RAPORU",null,370298000011,0.6]
[20.22,"YERLİ KATKI ORANI RAPORU",null,853329000000,0.6]
[20.23,"YERLİ KATKI ORANI RAPORU",null,853229000000,0.6]
[20.24,"YERLİ KATKI ORANI RAPORU",null,842119701000,0.6]
[20.25,"YERLİ KATKI ORANI RAPORU",null,842119709000,0.6]
[20.26,"YERLİ KATKI ORANI RAPORU",null,392079900000,0.6]
[20.27,"YERLİ KATKI ORANI RAPORU",null,391290900000,0.6]
[20.28,"YERLİ KATKI ORANI RAPORU",null,550190000000,0.6]
[20.29,"YERLİ KATKI ORANI RAPORU",null,901490009100,0.6]
[{"v":20.3,"d":"20.30"},"YERLİ KATKI ORANI RAPORU",null,382370009000,0.6]
[20.31,"YERLİ KATKI ORANI RAPORU",null,560790909000,0.6]
[20.32,"YERLİ KATKI ORANI RAPORU",null,291620000018,0.6]
[20.33,"YERLİ KATKI ORANI RAPORU",null,292130990019,0.6]
[20.34,"YERLİ KATKI ORANI RAPORU",null,290619009000,0.6]
[20.35,"YERLİ KATKI ORANI RAPORU",null,290219000019,0.6]
[20.36,"YERLİ KATKI ORANI RAPORU",null,360100000019,0.6]
[20.37,"YERLİ KATKI ORANI RAPORU",null,283990009015,0.6]
[20.38,"YERLİ KATKI ORANI RAPORU",null,391000000019,0.6]
[20.39,"YERLİ KATKI ORANI RAPORU",null,283719009019,0.6]
[{"v":20.4,"d":"20.40"},"YERLİ KATKI ORANI RAPORU",null,292242000019,0.6]
[20.41,"YERLİ KATKI ORANI RAPORU",null,271012900011,0.6]
[20.42,"YERLİ KATKI ORANI RAPORU",null,850440959019,0.6]
[20.43,"YERLİ KATKI ORANI RAPORU",null,390390900000,0.6]
[20.44,"YERLİ KATKI ORANI RAPORU",null,294120800000,0.6]
[20.45,"YERLİ KATKI ORANI RAPORU",null,550490000019,0.6]
[20.46,"YERLİ KATKI ORANI RAPORU",null,540339000000,0.6]
[20.47,"YERLİ KATKI ORANI RAPORU",null,292090101119,0.6]
[20.48,"YERLİ KATKI ORANI RAPORU",null,283220009019,0.6]
[20.49,"YERLİ KATKI ORANI RAPORU",null,283090859019,0.6]
[{"v":20.5,"d":"20.50"},"YERLİ KATKI ORANI RAPORU",null,283330009019,0.6]
[20.51,"YERLİ KATKI ORANI RAPORU",null,400219900000,0.6]
[20.52,"YERLİ KATKI ORANI RAPORU",null,840890619000,0.6]
[20.53,"YERLİ KATKI ORANI RAPORU",null,840890859000,0.6]
[20.54,"YERLİ KATKI ORANI RAPORU",null,840890439000,0.6]
[20.55,"YERLİ KATKI ORANI RAPORU",null,840890659000,0.6]
[20.56,"YERLİ KATKI ORANI RAPORU",null,840890459000,0.6]
[20.57,"YERLİ KATKI ORANI RAPORU",null,840890679000,0.6]
[20.58,"YERLİ KATKI ORANI RAPORU",null,840890479000,0.6]
[20.59,"YERLİ KATKI ORANI RAPORU",null,840890819000,0.6]
[{"v":20.6,"d":"20.60"},"YERLİ KATKI ORANI RAPORU",null,840890419000,0.6]
[20.61,"YERLİ KATKI ORANI RAPORU",null,840890899000,0.6]
[20.62,"YERLİ KATKI ORANI RAPORU",null,270119000000,0.6]
[20.63,"YERLİ KATKI ORANI RAPORU",null,680299900000,0.6]
[20.64,"YERLİ KATKI ORANI RAPORU",null,680299100000,0.6]
[20.65,"YERLİ KATKI ORANI RAPORU",null,680229009000,0.6]
[20.66,"YERLİ KATKI ORANI RAPORU",null,852589000000,0.6]
[20.67,"YERLİ KATKI ORANI RAPORU",null,902519001900,0.6]
[20.68,"YERLİ KATKI ORANI RAPORU",null,294130000019,0.6]
[20.69,"YERLİ KATKI ORANI RAPORU",null,292019000019,0.6]
[{"v":20.7,"d":"20.70"},"YERLİ KATKI ORANI RAPORU",null,283230009000,0.6]
[20.71,"YERLİ KATKI ORANI RAPORU",null,290410000022,0.6]
[20.72,"YERLİ KATKI ORANI RAPORU",null,401039000000,0.6]
[20.73,"YERLİ KATKI ORANI RAPORU",null,440729980000,0.6]
[20.74,"YERLİ KATKI ORANI RAPORU",null,440839700000,0.6]
[20.75,"YERLİ KATKI ORANI RAPORU",null,440839950000,0.6]
[20.76,"YERLİ KATKI ORANI RAPORU",null,440839850000,0.6]
[20.77,"YERLİ KATKI ORANI RAPORU",null,440839550000,0.6]
[20.78,"YERLİ KATKI ORANI RAPORU",null,270300000019,0.6]
[20.79,"YERLİ KATKI ORANI RAPORU",null,350691909019,0.6]
[{"v":20.8,"d":"20.80"},"YERLİ KATKI ORANI RAPORU",null,350520309000,0.6]
[20.81,"YERLİ KATKI ORANI RAPORU",null,350520509000,0.6]
[20.82,"YERLİ KATKI ORANI RAPORU",null,350520909000,0.6]
[20.83,"YERLİ KATKI ORANI RAPORU",null,350520109000,0.6]
[20.84,"YERLİ KATKI ORANI RAPORU",null,401130009000,0.6]
[20.85,"YERLİ KATKI ORANI RAPORU",null,292421000029,0.6]
[20.86,"YERLİ KATKI ORANI RAPORU",null,292419000019,0.6]
[20.87,"YERLİ KATKI ORANI RAPORU",null,701090990012,0.6]
[20.88,"YERLİ KATKI ORANI RAPORU",null,701090990011,0.6]
[20.89,"YERLİ KATKI ORANI RAPORU",null,701090910012,0.6]
[{"v":20.9,"d":"20.90"},"YERLİ KATKI ORANI RAPORU",null,701090910011,0.6]
[20.91,"YERLİ KATKI ORANI RAPORU",null,841410891000,0.6]
[20.92,"YERLİ KATKI ORANI RAPORU",null,841410899000,0.6]
[20.93,"YERLİ KATKI ORANI RAPORU",null,841410899019,0.6]
[20.94,"YERLİ KATKI ORANI RAPORU",null,854089000000,0.6]
[20.95,"YERLİ KATKI ORANI RAPORU",null,321000100012,0.6]
[20.96,"YERLİ KATKI ORANI RAPORU",null,852190000000,0.6]
[20.97,"YERLİ KATKI ORANI RAPORU",null,390599900000,0.6]
[20.98,"YERLİ KATKI ORANI RAPORU",null,390440000000,0.6]
[20.99,"YERLİ KATKI ORANI RAPORU",null,390490000000,0.6]
[{"v":21,"d":"21.00"},"YERLİ KATKI ORANI RAPORU",null,390450900000,0.6]
[21.01,"YERLİ KATKI ORANI RAPORU",null,510119009000,0.6]
[21.02,"YERLİ KATKI ORANI RAPORU",null,284443200019,0.6]
[21.03,"YERLİ KATKI ORANI RAPORU",null,711019800000,0.6]
[21.04,"YERLİ KATKI ORANI RAPORU",null,848291900019,0.6]
[21.05,"YERLİ KATKI ORANI RAPORU",null,841459259000,0.6]
[21.06,"YERLİ KATKI ORANI RAPORU",null,841459359000,0.6]
[21.07,"YERLİ KATKI ORANI RAPORU",null,853540000019,0.6]
[21.08,"YERLİ KATKI ORANI RAPORU",null,510510000019,0.6]
[21.09,"YERLİ KATKI ORANI RAPORU",null,290729008013,0.6]
[{"v":21.1,"d":"21.10"},"YERLİ KATKI ORANI RAPORU",null,290729008014,0.6]
[21.11,"YERLİ KATKI ORANI RAPORU",null,294120300000,0.6]
[21.12,"YERLİ KATKI ORANI RAPORU",null,293911000018,0.6]
[21.13,"YERLİ KATKI ORANI RAPORU",null,293349100011,0.6]
[21.14,"YERLİ KATKI ORANI RAPORU",null,290919900011,0.6]
[21.15,"YERLİ KATKI ORANI RAPORU",null,844720200014,0.6]
[21.16,"YERLİ KATKI ORANI RAPORU",null,540110140000,0.6]
[21.17,"YERLİ KATKI ORANI RAPORU",null,540110120000,0.6]
[21.18,"YERLİ KATKI ORANI RAPORU",null,540110160000,0.6]
[21.19,"YERLİ KATKI ORANI RAPORU",null,845230000000,0.6]
[{"v":21.2,"d":"21.20"},"YERLİ KATKI ORANI RAPORU",null,845290009000,0.6]
[21.21,"YERLİ KATKI ORANI RAPORU",null,845229000011,0.6]
[21.22,"YERLİ KATKI ORANI RAPORU",null,291540000012,0.6]
[21.23,"YERLİ KATKI ORANI RAPORU",null,292142000012,0.6]
[21.24,"YERLİ KATKI ORANI RAPORU",null,290919900043,0.6]
[21.25,"YERLİ KATKI ORANI RAPORU",null,290312000000,0.6]
[21.26,"YERLİ KATKI ORANI RAPORU",null,290960900013,0.6]
[21.27,"YERLİ KATKI ORANI RAPORU",null,293959000012,0.6]
[21.28,"YERLİ KATKI ORANI RAPORU",null,291100001012,0.6]
[21.29,"YERLİ KATKI ORANI RAPORU",null,293311900012,0.6]
[{"v":21.3,"d":"21.30"},"YERLİ KATKI ORANI RAPORU",null,292090101112,0.6]
[21.31,"YERLİ KATKI ORANI RAPORU",null,293090989043,0.6]
[21.32,"YERLİ KATKI ORANI RAPORU",null,293090959043,0.6]
[21.33,"YERLİ KATKI ORANI RAPORU",null,293090989014,0.6]
[21.34,"YERLİ KATKI ORANI RAPORU",null,293090959014,0.6]
[21.35,"YERLİ KATKI ORANI RAPORU",null,292111000012,0.6]
[21.36,"YERLİ KATKI ORANI RAPORU",null,292111000022,0.6]
[21.37,"YERLİ KATKI ORANI RAPORU",null,292800902011,0.6]
[21.38,"YERLİ KATKI ORANI RAPORU",null,854232390000,0.6]
[21.39,"YERLİ KATKI ORANI RAPORU",null,290420000013,0.6]
[{"v":21.4,"d":"21.40"},"YERLİ KATKI ORANI RAPORU",null,291733000000,0.6]
[21.41,"YERLİ KATKI ORANI RAPORU",null,291536000000,0.6]
[21.42,"YERLİ KATKI ORANI RAPORU",null,290891000000,0.6]
[21.43,"YERLİ KATKI ORANI RAPORU",null,290899009016,0.6]
[21.44,"YERLİ KATKI ORANI RAPORU",null,290219000013,0.6]
[21.45,"YERLİ KATKI ORANI RAPORU",null,293333000016,0.6]
[21.46,"YERLİ KATKI ORANI RAPORU",null,282690100000,0.6]
[21.47,"YERLİ KATKI ORANI RAPORU",null,320414000000,0.6]
[21.48,"YERLİ KATKI ORANI RAPORU",null,903033201000,0.6]
[21.49,"YERLİ KATKI ORANI RAPORU",null,903033209000,0.6]
[{"v":21.5,"d":"21.50"},"YERLİ KATKI ORANI RAPORU",null,292620000000,0.6]
[21.51,"YERLİ KATKI ORANI RAPORU",null,283522000012,0.6]
[21.52,"YERLİ KATKI ORANI RAPORU",null,284019100000,0.6]
[21.53,"YERLİ KATKI ORANI RAPORU",null,284019900000,0.6]
[21.54,"YERLİ KATKI ORANI RAPORU",null,391000000012,0.6]
[21.55,"YERLİ KATKI ORANI RAPORU",null,901841000011,0.6]
[21.56,"YERLİ KATKI ORANI RAPORU",null,901849100000,0.6]
[21.57,"YERLİ KATKI ORANI RAPORU",null,901890300013,0.6]
[21.58,"YERLİ KATKI ORANI RAPORU",null,293090300000,0.6]
[21.59,"YERLİ KATKI ORANI RAPORU",null,290517001000,0.6]
[{"v":21.6,"d":"21.60"},"YERLİ KATKI ORANI RAPORU",null,850131001012,0.6]
[21.61,"YERLİ KATKI ORANI RAPORU",null,850131009012,0.6]
[21.62,"YERLİ KATKI ORANI RAPORU",null,701990001000,0.6]
[21.63,"YERLİ KATKI ORANI RAPORU",null,531100905900,0.6]
[21.64,"YERLİ KATKI ORANI RAPORU",null,530890900000,0.6]
[21.65,"YERLİ KATKI ORANI RAPORU",null,590900909019,0.6]
[21.66,"YERLİ KATKI ORANI RAPORU",null,560129000000,0.6]
[21.67,"YERLİ KATKI ORANI RAPORU",null,590900909011,0.6]
[21.68,"YERLİ KATKI ORANI RAPORU",null,844832000000,0.6]
[21.69,"YERLİ KATKI ORANI RAPORU",null,844391991000,0.6]
[{"v":21.7,"d":"21.70"},"YERLİ KATKI ORANI RAPORU",null,844391911000,0.6]
[21.71,"YERLİ KATKI ORANI RAPORU",null,844399902000,0.6]
[21.72,"YERLİ KATKI ORANI RAPORU",null,560410000000,0.6]
[21.73,"YERLİ KATKI ORANI RAPORU",null,560490909013,0.6]
[21.74,"YERLİ KATKI ORANI RAPORU",null,560122100019,0.6]
[21.75,"YERLİ KATKI ORANI RAPORU",null,580190100000,0.6]
[21.76,"YERLİ KATKI ORANI RAPORU",null,480441910000,0.6]
[21.77,"YERLİ KATKI ORANI RAPORU",null,381600100000,0.6]
[21.78,"YERLİ KATKI ORANI RAPORU",null,251820000019,0.6]
[21.79,"YERLİ KATKI ORANI RAPORU",null,251820000011,0.6]
[{"v":21.8,"d":"21.80"},"YERLİ KATKI ORANI RAPORU",null,410632000000,0.6]
[21.81,"YERLİ KATKI ORANI RAPORU",null,290529909000,0.6]
[21.82,"YERLİ KATKI ORANI RAPORU",null,700330000000,0.6]
[21.83,"YERLİ KATKI ORANI RAPORU",null,700312999000,0.6]
[21.84,"YERLİ KATKI ORANI RAPORU",null,700312919000,0.6]
[21.85,"YERLİ KATKI ORANI RAPORU",null,700600900012,0.6]
[21.86,"YERLİ KATKI ORANI RAPORU",null,700600100000,0.6]
[21.87,"YERLİ KATKI ORANI RAPORU",null,700319901011,0.6]
[21.88,"YERLİ KATKI ORANI RAPORU",null,700319901012,0.6]
[21.89,"YERLİ KATKI ORANI RAPORU",null,700320001000,0.6]
[{"v":21.9,"d":"21.90"},"YERLİ KATKI ORANI RAPORU",null,700319901019,0.6]
[21.91,"YERLİ KATKI ORANI RAPORU",null,700320009000,0.6]
[21.92,"YERLİ KATKI ORANI RAPORU",null,700319909000,0.6]
[21.93,"YERLİ KATKI ORANI RAPORU",null,700312100000,0.6]
[21.94,"YERLİ KATKI ORANI RAPORU",null,700319100000,0.6]
[21.95,"YERLİ KATKI ORANI RAPORU",null,848030100000,0.6]
[21.96,"YERLİ KATKI ORANI RAPORU",null,382410009019,0.6]
[21.97,"YERLİ KATKI ORANI RAPORU",null,382410009011,0.6]
[21.98,"YERLİ KATKI ORANI RAPORU",null,382410001000,0.6]
[21.99,"YERLİ KATKI ORANI RAPORU",null,450190000000,0.6]
[{"v":22,"d":"22.00"},"YERLİ KATKI ORANI RAPORU",null,841360319011,0.6]
[22.01,"YERLİ KATKI ORANI RAPORU",null,841480789000,0.6]
[22.02,"YERLİ KATKI ORANI RAPORU",null,841410251000,0.6]
[22.03,"YERLİ KATKI ORANI RAPORU",null,841410259000,0.6]
[22.04,"YERLİ KATKI ORANI RAPORU",null,284590100011,0.6]
[22.05,"YERLİ KATKI ORANI RAPORU",null,284590100019,0.6]
[22.06,"YERLİ KATKI ORANI RAPORU",null,730711100000,0.6]
[22.07,"YERLİ KATKI ORANI RAPORU",null,730711900000,0.6]
[22.08,"YERLİ KATKI ORANI RAPORU",null,480240909000,0.6]
[22.09,"YERLİ KATKI ORANI RAPORU",null,480240901000,0.6]
[{"v":22.1,"d":"22.10"},"YERLİ KATKI ORANI RAPORU",null,480240100000,0.6]
[22.11,"YERLİ KATKI ORANI RAPORU",null,590500903900,0.6]
[22.12,"YERLİ KATKI ORANI RAPORU",null,590500905000,0.6]
[22.13,"YERLİ KATKI ORANI RAPORU",null,590500100000,0.6]
[22.14,"YERLİ KATKI ORANI RAPORU",null,590500901011,0.6]
[22.15,"YERLİ KATKI ORANI RAPORU",null,590500500000,0.6]
[22.16,"YERLİ KATKI ORANI RAPORU",null,590500903100,0.6]
[22.17,"YERLİ KATKI ORANI RAPORU",null,590500904000,0.6]
[22.18,"YERLİ KATKI ORANI RAPORU",null,590500300000,0.6]
[22.19,"YERLİ KATKI ORANI RAPORU",null,590500902000,0.6]
[{"v":22.2,"d":"22.20"},"YERLİ KATKI ORANI RAPORU",null,590500700011,0.6]
[22.21,"YERLİ KATKI ORANI RAPORU",null,590500700012,0.6]
[22.22,"YERLİ KATKI ORANI RAPORU",null,590500700013,0.6]
[22.23,"YERLİ KATKI ORANI RAPORU",null,590500700015,0.6]
[22.24,"YERLİ KATKI ORANI RAPORU",null,590500700014,0.6]
[22.25,"YERLİ KATKI ORANI RAPORU",null,590500901012,0.6]
[22.26,"YERLİ KATKI ORANI RAPORU",null,820750300000,0.6]
[22.27,"YERLİ KATKI ORANI RAPORU",null,960630000000,0.6]
[22.28,"YERLİ KATKI ORANI RAPORU",null,844720200012,0.6]
[22.29,"YERLİ KATKI ORANI RAPORU",null,853939200000,0.6]
[{"v":22.3,"d":"22.30"},"YERLİ KATKI ORANI RAPORU",null,820291000000,0.6]
[22.31,"YERLİ KATKI ORANI RAPORU",null,701090710000,0.6]
[22.32,"YERLİ KATKI ORANI RAPORU",null,701090790000,0.6]
[22.33,"YERLİ KATKI ORANI RAPORU",null,853661100000,0.6]
[22.34,"YERLİ KATKI ORANI RAPORU",null,293941000011,0.6]
[22.35,"YERLİ KATKI ORANI RAPORU",null,293941000012,0.6]
[22.36,"YERLİ KATKI ORANI RAPORU",null,293941000019,0.6]
[22.37,"YERLİ KATKI ORANI RAPORU",null,293972000021,0.6]
[22.38,"YERLİ KATKI ORANI RAPORU",null,846799001900,0.6]
[22.39,"YERLİ KATKI ORANI RAPORU",null,846799001100,0.6]
[{"v":22.4,"d":"22.40"},"YERLİ KATKI ORANI RAPORU",null,846799002000,0.6]
[22.41,"YERLİ KATKI ORANI RAPORU",null,846791001000,0.6]
[22.42,"YERLİ KATKI ORANI RAPORU",null,846791009000,0.6]
[22.43,"YERLİ KATKI ORANI RAPORU",null,846799009000,0.6]
[22.44,"YERLİ KATKI ORANI RAPORU",null,846792000000,0.6]
[22.45,"YERLİ KATKI ORANI RAPORU",null,540411000000,0.6]
[22.46,"YERLİ KATKI ORANI RAPORU",null,853710980019,0.6]
[22.47,"YERLİ KATKI ORANI RAPORU",null,853690010000,0.6]
[22.48,"YERLİ KATKI ORANI RAPORU",null,853630300000,0.6]
[22.49,"YERLİ KATKI ORANI RAPORU",null,853630900000,0.6]
[{"v":22.5,"d":"22.50"},"YERLİ KATKI ORANI RAPORU",null,271019930000,0.6]
[22.51,"YERLİ KATKI ORANI RAPORU",null,902890100011,0.6]
[22.52,"YERLİ KATKI ORANI RAPORU",null,902890100019,0.6]
[22.53,"YERLİ KATKI ORANI RAPORU",null,382499200000,0.6]
[22.54,"YERLİ KATKI ORANI RAPORU",null,847510000000,0.6]
[22.55,"YERLİ KATKI ORANI RAPORU",null,851519900000,0.6]
[22.56,"YERLİ KATKI ORANI RAPORU",null,851511000000,0.6]
[22.57,"YERLİ KATKI ORANI RAPORU",null,851840000000,0.6]
[22.58,"YERLİ KATKI ORANI RAPORU",null,854232610000,0.6]
[22.59,"YERLİ KATKI ORANI RAPORU",null,854232690000,0.6]
[{"v":22.6,"d":"22.60"},"YERLİ KATKI ORANI RAPORU",null,831120000000,0.6]
[22.61,"YERLİ KATKI ORANI RAPORU",null,831110001000,0.6]
[22.62,"YERLİ KATKI ORANI RAPORU",null,701110000000,0.6]
[22.63,"YERLİ KATKI ORANI RAPORU",null,854511000019,0.6]
[22.64,"YERLİ KATKI ORANI RAPORU",null,902580802000,0.6]
[22.65,"YERLİ KATKI ORANI RAPORU",null,851680800019,0.6]
[22.66,"YERLİ KATKI ORANI RAPORU",null,854710000000,0.6]
[22.67,"YERLİ KATKI ORANI RAPORU",null,903031009012,0.6]
[22.68,"YERLİ KATKI ORANI RAPORU",null,940550000000,0.6]
[22.69,"YERLİ KATKI ORANI RAPORU",null,851090002000,0.6]
[{"v":22.7,"d":"22.70"},"YERLİ KATKI ORANI RAPORU",null,851090001000,0.6]
[22.71,"YERLİ KATKI ORANI RAPORU",null,901420201100,0.6]
[22.72,"YERLİ KATKI ORANI RAPORU",null,901420201900,0.6]
[22.73,"YERLİ KATKI ORANI RAPORU",null,902590001100,0.6]
[22.74,"YERLİ KATKI ORANI RAPORU",null,850590290000,0.6]
[22.75,"YERLİ KATKI ORANI RAPORU",null,901819900011,0.6]
[22.76,"YERLİ KATKI ORANI RAPORU",null,845630110000,0.6]
[22.77,"YERLİ KATKI ORANI RAPORU",null,740200000012,0.6]
[22.78,"YERLİ KATKI ORANI RAPORU",null,850520000000,0.6]
[22.79,"YERLİ KATKI ORANI RAPORU",null,850590500000,0.6]
[{"v":22.8,"d":"22.80"},"YERLİ KATKI ORANI RAPORU",null,901819900014,0.6]
[22.81,"YERLİ KATKI ORANI RAPORU",null,903220009011,0.6]
[22.82,"YERLİ KATKI ORANI RAPORU",null,902610219000,0.6]
[22.83,"YERLİ KATKI ORANI RAPORU",null,903210209000,0.6]
[22.84,"YERLİ KATKI ORANI RAPORU",null,854232900000,0.6]
[22.85,"YERLİ KATKI ORANI RAPORU",null,854233900000,0.6]
[22.86,"YERLİ KATKI ORANI RAPORU",null,902580401000,0.6]
[22.87,"YERLİ KATKI ORANI RAPORU",null,902580409000,0.6]
[22.88,"YERLİ KATKI ORANI RAPORU",null,903210809000,0.6]
[22.89,"YERLİ KATKI ORANI RAPORU",null,901890100011,0.6]
[{"v":22.9,"d":"22.90"},"YERLİ KATKI ORANI RAPORU",null,903210201000,0.6]
[22.91,"YERLİ KATKI ORANI RAPORU",null,902910002000,0.6]
[22.92,"YERLİ KATKI ORANI RAPORU",null,380130000000,0.6]
[22.93,"YERLİ KATKI ORANI RAPORU",null,710221000000,0.6]
[22.94,"YERLİ KATKI ORANI RAPORU",null,710510000019,0.6]
[22.95,"YERLİ KATKI ORANI RAPORU",null,710510000011,0.6]
[22.96,"YERLİ KATKI ORANI RAPORU",null,390410000011,0.6]
[22.97,"YERLİ KATKI ORANI RAPORU",null,850410201000,0.6]
[22.98,"YERLİ KATKI ORANI RAPORU",null,850410209000,0.6]
[22.99,"YERLİ KATKI ORANI RAPORU",null,871420000000,0.6]
[{"v":23,"d":"23.00"},"YERLİ KATKI ORANI RAPORU",null,840991000016,0.6]
[23.01,"YERLİ KATKI ORANI RAPORU",null,293712001000,0.6]
[23.02,"YERLİ KATKI ORANI RAPORU",null,293712002000,0.6]
[23.03,"YERLİ KATKI ORANI RAPORU",null,293371000000,0.6]
[23.04,"YERLİ KATKI ORANI RAPORU",null,253020000012,0.6]
[23.05,"YERLİ KATKI ORANI RAPORU",null,293961000000,0.6]
[23.06,"YERLİ KATKI ORANI RAPORU",null,293962000000,0.6]
[23.07,"YERLİ KATKI ORANI RAPORU",null,294150000011,0.6]
[23.08,"YERLİ KATKI ORANI RAPORU",null,294150000019,0.6]
[23.09,"YERLİ KATKI ORANI RAPORU",null,380690001000,0.6]
[{"v":23.1,"d":"23.10"},"YERLİ KATKI ORANI RAPORU",null,853610500012,0.6]
[23.11,"YERLİ KATKI ORANI RAPORU",null,853610100012,0.6]
[23.12,"YERLİ KATKI ORANI RAPORU",null,853610500011,0.6]
[23.13,"YERLİ KATKI ORANI RAPORU",null,853610100011,0.6]
[23.14,"YERLİ KATKI ORANI RAPORU",null,853610500013,0.6]
[23.15,"YERLİ KATKI ORANI RAPORU",null,853610100013,0.6]
[23.16,"YERLİ KATKI ORANI RAPORU",null,853610500019,0.6]
[23.17,"YERLİ KATKI ORANI RAPORU",null,853610100019,0.6]
[23.18,"YERLİ KATKI ORANI RAPORU",null,853610900019,0.6]
[23.19,"YERLİ KATKI ORANI RAPORU",null,853610500014,0.6]
[{"v":23.2,"d":"23.20"},"YERLİ KATKI ORANI RAPORU",null,853610100014,0.6]
[23.21,"YERLİ KATKI ORANI RAPORU",null,853610900014,0.6]
[23.22,"YERLİ KATKI ORANI RAPORU",null,853610500015,0.6]
[23.23,"YERLİ KATKI ORANI RAPORU",null,853610100015,0.6]
[23.24,"YERLİ KATKI ORANI RAPORU",null,382499920039,0.6]
[23.25,"YERLİ KATKI ORANI RAPORU",null,320412000019,0.6]
[23.26,"YERLİ KATKI ORANI RAPORU",null,381119000000,0.6]
[23.27,"YERLİ KATKI ORANI RAPORU",null,381111900000,0.6]
[23.28,"YERLİ KATKI ORANI RAPORU",null,320620000019,0.6]
[23.29,"YERLİ KATKI ORANI RAPORU",null,381111100000,0.6]
[{"v":23.3,"d":"23.30"},"YERLİ KATKI ORANI RAPORU",null,320641009000,0.6]
[23.31,"YERLİ KATKI ORANI RAPORU",null,380630001000,0.6]
[23.32,"YERLİ KATKI ORANI RAPORU",null,380630009000,0.6]
[23.33,"YERLİ KATKI ORANI RAPORU",null,842839201000,0.6]
[23.34,"YERLİ KATKI ORANI RAPORU",null,291719200000,0.6]
[23.35,"YERLİ KATKI ORANI RAPORU",null,291612000012,0.6]
[23.36,"YERLİ KATKI ORANI RAPORU",null,220720001014,0.6]
[23.37,"YERLİ KATKI ORANI RAPORU",null,220720009014,0.6]
[23.38,"YERLİ KATKI ORANI RAPORU",null,220720009013,0.6]
[23.39,"YERLİ KATKI ORANI RAPORU",null,220720001001,0.6]
[{"v":23.4,"d":"23.40"},"YERLİ KATKI ORANI RAPORU",null,220720001009,0.6]
[23.41,"YERLİ KATKI ORANI RAPORU",null,291830000016,0.6]
[23.42,"YERLİ KATKI ORANI RAPORU",null,290369190014,0.6]
[23.43,"YERLİ KATKI ORANI RAPORU",null,291560190014,0.6]
[23.44,"YERLİ KATKI ORANI RAPORU",null,291513009012,0.6]
[23.45,"YERLİ KATKI ORANI RAPORU",null,290369800012,0.6]
[23.46,"YERLİ KATKI ORANI RAPORU",null,291811000021,0.6]
[23.47,"YERLİ KATKI ORANI RAPORU",null,293090989031,0.6]
[23.48,"YERLİ KATKI ORANI RAPORU",null,293090959031,0.6]
[23.49,"YERLİ KATKI ORANI RAPORU",null,291614000012,0.6]
[{"v":23.5,"d":"23.50"},"YERLİ KATKI ORANI RAPORU",null,291829003022,0.6]
[23.51,"YERLİ KATKI ORANI RAPORU",null,291570501011,0.6]
[23.52,"YERLİ KATKI ORANI RAPORU",null,291813009021,0.6]
[23.53,"YERLİ KATKI ORANI RAPORU",null,291242000000,0.6]
[23.54,"YERLİ KATKI ORANI RAPORU",null,291823001000,0.6]
[23.55,"YERLİ KATKI ORANI RAPORU",null,290260000000,0.6]
[23.56,"YERLİ KATKI ORANI RAPORU",null,291590700042,0.6]
[23.57,"YERLİ KATKI ORANI RAPORU",null,290362000000,0.6]
[23.58,"YERLİ KATKI ORANI RAPORU",null,290315000000,0.6]
[23.59,"YERLİ KATKI ORANI RAPORU",null,290944000012,0.6]
[{"v":23.6,"d":"23.60"},"YERLİ KATKI ORANI RAPORU",null,290944000019,0.6]
[23.61,"YERLİ KATKI ORANI RAPORU",null,290943000011,0.6]
[23.62,"YERLİ KATKI ORANI RAPORU",null,390190800011,0.6]
[23.63,"YERLİ KATKI ORANI RAPORU",null,290121000011,0.6]
[23.64,"YERLİ KATKI ORANI RAPORU",null,290121000019,0.6]
[23.65,"YERLİ KATKI ORANI RAPORU",null,292121000011,0.6]
[23.66,"YERLİ KATKI ORANI RAPORU",null,292121000012,0.6]
[23.67,"YERLİ KATKI ORANI RAPORU",null,292249859032,0.6]
[23.68,"YERLİ KATKI ORANI RAPORU",null,292249859033,0.6]
[23.69,"YERLİ KATKI ORANI RAPORU",null,390190300000,0.6]
[{"v":23.7,"d":"23.70"},"YERLİ KATKI ORANI RAPORU",null,292419000016,0.6]
[23.71,"YERLİ KATKI ORANI RAPORU",null,293220909015,0.6]
[23.72,"YERLİ KATKI ORANI RAPORU",null,293149300000,0.6]
[23.73,"YERLİ KATKI ORANI RAPORU",null,293329900013,0.6]
[23.74,"YERLİ KATKI ORANI RAPORU",null,853620900011,0.6]
[23.75,"YERLİ KATKI ORANI RAPORU",null,280530390000,0.6]
[23.76,"YERLİ KATKI ORANI RAPORU",null,284690700000,0.6]
[23.77,"YERLİ KATKI ORANI RAPORU",null,841459150000,0.6]
[23.78,"YERLİ KATKI ORANI RAPORU",null,252910000013,0.6]
[23.79,"YERLİ KATKI ORANI RAPORU",null,293311900011,0.6]
[{"v":23.8,"d":"23.80"},"YERLİ KATKI ORANI RAPORU",null,293311900019,0.6]
[23.81,"YERLİ KATKI ORANI RAPORU",null,292229001013,0.6]
[23.82,"YERLİ KATKI ORANI RAPORU",null,292249859015,0.6]
[23.83,"YERLİ KATKI ORANI RAPORU",null,291819981013,0.6]
[23.84,"YERLİ KATKI ORANI RAPORU",null,291819981014,0.6]
[23.85,"YERLİ KATKI ORANI RAPORU",null,292249859025,0.6]
[23.86,"YERLİ KATKI ORANI RAPORU",null,293090989036,0.6]
[23.87,"YERLİ KATKI ORANI RAPORU",null,293090959036,0.6]
[23.88,"YERLİ KATKI ORANI RAPORU",null,291539005114,0.6]
[23.89,"YERLİ KATKI ORANI RAPORU",null,291823009012,0.6]
[{"v":23.9,"d":"23.90"},"YERLİ KATKI ORANI RAPORU",null,291229001013,0.6]
[23.91,"YERLİ KATKI ORANI RAPORU",null,292429700025,0.6]
[23.92,"YERLİ KATKI ORANI RAPORU",null,291634000000,0.6]
[23.93,"YERLİ KATKI ORANI RAPORU",null,291639100000,0.6]
[23.94,"YERLİ KATKI ORANI RAPORU",null,293319100000,0.6]
[23.95,"YERLİ KATKI ORANI RAPORU",null,290629001011,0.6]
[23.96,"YERLİ KATKI ORANI RAPORU",null,292800901011,0.6]
[23.97,"YERLİ KATKI ORANI RAPORU",null,292910000021,0.6]
[23.98,"YERLİ KATKI ORANI RAPORU",null,290629001012,0.6]
[23.99,"YERLİ KATKI ORANI RAPORU",null,291429000011,0.6]
[{"v":24,"d":"24.00"},"YERLİ KATKI ORANI RAPORU",null,293353100011,0.6]
[24.01,"YERLİ KATKI ORANI RAPORU",null,293353100019,0.6]
[24.02,"YERLİ KATKI ORANI RAPORU",null,291829008919,0.6]
[24.03,"YERLİ KATKI ORANI RAPORU",null,290711002000,0.6]
[24.04,"YERLİ KATKI ORANI RAPORU",null,293220100000,0.6]
[24.05,"YERLİ KATKI ORANI RAPORU",null,390940000019,0.6]
[24.06,"YERLİ KATKI ORANI RAPORU",null,392190300000,0.6]
[24.07,"YERLİ KATKI ORANI RAPORU",null,392094000000,0.6]
[24.08,"YERLİ KATKI ORANI RAPORU",null,290899009029,0.6]
[24.09,"YERLİ KATKI ORANI RAPORU",null,290819009019,0.6]
[{"v":24.1,"d":"24.10"},"YERLİ KATKI ORANI RAPORU",null,293333000018,0.6]
[24.11,"YERLİ KATKI ORANI RAPORU",null,293190009055,0.6]
[24.12,"YERLİ KATKI ORANI RAPORU",null,293190009056,0.6]
[24.13,"YERLİ KATKI ORANI RAPORU",null,292690700022,0.6]
[24.14,"YERLİ KATKI ORANI RAPORU",null,850431809011,0.6]
[24.15,"YERLİ KATKI ORANI RAPORU",null,720299101000,0.6]
[24.16,"YERLİ KATKI ORANI RAPORU",null,720249500000,0.6]
[24.17,"YERLİ KATKI ORANI RAPORU",null,720249900000,0.6]
[24.18,"YERLİ KATKI ORANI RAPORU",null,720241100000,0.6]
[24.19,"YERLİ KATKI ORANI RAPORU",null,720249100000,0.6]
[{"v":24.2,"d":"24.20"},"YERLİ KATKI ORANI RAPORU",null,720241900011,0.6]
[24.21,"YERLİ KATKI ORANI RAPORU",null,720219000011,0.6]
[24.22,"YERLİ KATKI ORANI RAPORU",null,720211200000,0.6]
[24.23,"YERLİ KATKI ORANI RAPORU",null,720260000000,0.6]
[24.24,"YERLİ KATKI ORANI RAPORU",null,360690109000,0.6]
[24.25,"YERLİ KATKI ORANI RAPORU",null,720250000000,0.6]
[24.26,"YERLİ KATKI ORANI RAPORU",null,720299300000,0.6]
[24.27,"YERLİ KATKI ORANI RAPORU",null,720229100000,0.6]
[24.28,"YERLİ KATKI ORANI RAPORU",null,720221000012,0.6]
[24.29,"YERLİ KATKI ORANI RAPORU",null,720291000000,0.6]
[{"v":24.3,"d":"24.30"},"YERLİ KATKI ORANI RAPORU",null,720280000000,0.6]
[24.31,"YERLİ KATKI ORANI RAPORU",null,720292000000,0.6]
[24.32,"YERLİ KATKI ORANI RAPORU",null,854470000000,0.6]
[24.33,"YERLİ KATKI ORANI RAPORU",null,901819900012,0.6]
[24.34,"YERLİ KATKI ORANI RAPORU",null,481200001000,0.6]
[24.35,"YERLİ KATKI ORANI RAPORU",null,480540000000,0.6]
[24.36,"YERLİ KATKI ORANI RAPORU",null,482320000000,0.6]
[24.37,"YERLİ KATKI ORANI RAPORU",null,290522000021,0.6]
[24.38,"YERLİ KATKI ORANI RAPORU",null,902750000000,0.6]
[24.39,"YERLİ KATKI ORANI RAPORU",null,900699009000,0.6]
[{"v":24.4,"d":"24.40"},"YERLİ KATKI ORANI RAPORU",null,700510250000,0.6]
[24.41,"YERLİ KATKI ORANI RAPORU",null,700510800000,0.6]
[24.42,"YERLİ KATKI ORANI RAPORU",null,700530000000,0.6]
[24.43,"YERLİ KATKI ORANI RAPORU",null,700510050000,0.6]
[24.44,"YERLİ KATKI ORANI RAPORU",null,292412000000,0.6]
[24.45,"YERLİ KATKI ORANI RAPORU",null,290729001014,0.6]
[24.46,"YERLİ KATKI ORANI RAPORU",null,252922000000,0.6]
[24.47,"YERLİ KATKI ORANI RAPORU",null,252921000000,0.6]
[24.48,"YERLİ KATKI ORANI RAPORU",null,293391900022,0.6]
[24.49,"YERLİ KATKI ORANI RAPORU",null,390469200000,0.6]
[{"v":24.5,"d":"24.50"},"YERLİ KATKI ORANI RAPORU",null,292219000024,0.6]
[24.51,"YERLİ KATKI ORANI RAPORU",null,320420000000,0.6]
[24.52,"YERLİ KATKI ORANI RAPORU",null,901819900013,0.6]
[24.53,"YERLİ KATKI ORANI RAPORU",null,291511000000,0.6]
[24.54,"YERLİ KATKI ORANI RAPORU",null,291513009019,0.6]
[24.55,"YERLİ KATKI ORANI RAPORU",null,291512000019,0.6]
[24.56,"YERLİ KATKI ORANI RAPORU",null,291419900015,0.6]
[24.57,"YERLİ KATKI ORANI RAPORU",null,310390000000,0.6]
[24.58,"YERLİ KATKI ORANI RAPORU",null,251020009000,0.6]
[24.59,"YERLİ KATKI ORANI RAPORU",null,293149900033,0.6]
[{"v":24.6,"d":"24.60"},"YERLİ KATKI ORANI RAPORU",null,293149800033,0.6]
[24.61,"YERLİ KATKI ORANI RAPORU",null,281212000000,0.6]
[24.62,"YERLİ KATKI ORANI RAPORU",null,281214000000,0.6]
[24.63,"YERLİ KATKI ORANI RAPORU",null,280910000000,0.6]
[24.64,"YERLİ KATKI ORANI RAPORU",null,281390100000,0.6]
[24.65,"YERLİ KATKI ORANI RAPORU",null,281290000012,0.6]
[24.66,"YERLİ KATKI ORANI RAPORU",null,281213000000,0.6]
[24.67,"YERLİ KATKI ORANI RAPORU",null,281219100000,0.6]
[24.68,"YERLİ KATKI ORANI RAPORU",null,281211000000,0.6]
[24.69,"YERLİ KATKI ORANI RAPORU",null,900890009000,0.6]
[{"v":24.7,"d":"24.70"},"YERLİ KATKI ORANI RAPORU",null,370242000000,0.6]
[24.71,"YERLİ KATKI ORANI RAPORU",null,370244000000,0.6]
[24.72,"YERLİ KATKI ORANI RAPORU",null,370243000000,0.6]
[24.73,"YERLİ KATKI ORANI RAPORU",null,900691000000,0.6]
[24.74,"YERLİ KATKI ORANI RAPORU",null,370710000000,0.6]
[24.75,"YERLİ KATKI ORANI RAPORU",null,900669009000,0.6]
[24.76,"YERLİ KATKI ORANI RAPORU",null,900699001000,0.6]
[24.77,"YERLİ KATKI ORANI RAPORU",null,900661000000,0.6]
[24.78,"YERLİ KATKI ORANI RAPORU",null,370790200000,0.6]
[24.79,"YERLİ KATKI ORANI RAPORU",null,370790900000,0.6]
[{"v":24.8,"d":"24.80"},"YERLİ KATKI ORANI RAPORU",null,370199000000,0.6]
[24.81,"YERLİ KATKI ORANI RAPORU",null,900669001000,0.6]
[24.82,"YERLİ KATKI ORANI RAPORU",null,370310000019,0.6]
[24.83,"YERLİ KATKI ORANI RAPORU",null,370320000000,0.6]
[24.84,"YERLİ KATKI ORANI RAPORU",null,370310000011,0.6]
[24.85,"YERLİ KATKI ORANI RAPORU",null,370390000000,0.6]
[24.86,"YERLİ KATKI ORANI RAPORU",null,901120900011,0.6]
[24.87,"YERLİ KATKI ORANI RAPORU",null,901120100000,0.6]
[24.88,"YERLİ KATKI ORANI RAPORU",null,292519950013,0.6]
[24.89,"YERLİ KATKI ORANI RAPORU",null,271019660011,0.6]
[{"v":24.9,"d":"24.90"},"YERLİ KATKI ORANI RAPORU",null,271019620011,0.6]
[24.91,"YERLİ KATKI ORANI RAPORU",null,271019550000,0.6]
[24.92,"YERLİ KATKI ORANI RAPORU",null,293499609000,0.6]
[24.93,"YERLİ KATKI ORANI RAPORU",null,293213000011,0.6]
[24.94,"YERLİ KATKI ORANI RAPORU",null,284290809200,0.6]
[24.95,"YERLİ KATKI ORANI RAPORU",null,292249859036,0.6]
[24.96,"YERLİ KATKI ORANI RAPORU",null,280530310000,0.6]
[24.97,"YERLİ KATKI ORANI RAPORU",null,284690600000,0.6]
[24.98,"YERLİ KATKI ORANI RAPORU",null,291829008111,0.6]
[24.99,"YERLİ KATKI ORANI RAPORU",null,291829008129,0.6]
[{"v":25,"d":"25.00"},"YERLİ KATKI ORANI RAPORU",null,291829008119,0.6]
[25.01,"YERLİ KATKI ORANI RAPORU",null,262011000000,0.6]
[25.02,"YERLİ KATKI ORANI RAPORU",null,811299700000,0.6]
[25.03,"YERLİ KATKI ORANI RAPORU",null,293220200000,0.6]
[25.04,"YERLİ KATKI ORANI RAPORU",null,290950003000,0.6]
[25.05,"YERLİ KATKI ORANI RAPORU",null,840510000011,0.6]
[25.06,"YERLİ KATKI ORANI RAPORU",null,580300909000,0.6]
[25.07,"YERLİ KATKI ORANI RAPORU",null,580300902000,0.6]
[25.08,"YERLİ KATKI ORANI RAPORU",null,580300100000,0.6]
[25.09,"YERLİ KATKI ORANI RAPORU",null,580300901000,0.6]
[{"v":25.1,"d":"25.10"},"YERLİ KATKI ORANI RAPORU",null,271019350000,0.6]
[25.11,"YERLİ KATKI ORANI RAPORU",null,271020160000,0.6]
[25.12,"YERLİ KATKI ORANI RAPORU",null,271020190000,0.6]
[25.13,"YERLİ KATKI ORANI RAPORU",null,902710100000,0.6]
[25.14,"YERLİ KATKI ORANI RAPORU",null,840590000000,0.6]
[25.15,"YERLİ KATKI ORANI RAPORU",null,480100001000,0.6]
[25.16,"YERLİ KATKI ORANI RAPORU",null,842139851000,0.6]
[25.17,"YERLİ KATKI ORANI RAPORU",null,842139859000,0.6]
[25.18,"YERLİ KATKI ORANI RAPORU",null,842139150000,0.6]
[25.19,"YERLİ KATKI ORANI RAPORU",null,848710100000,0.6]
[{"v":25.2,"d":"25.20"},"YERLİ KATKI ORANI RAPORU",null,401694000000,0.6]
[25.21,"YERLİ KATKI ORANI RAPORU",null,470429000000,0.6]
[25.22,"YERLİ KATKI ORANI RAPORU",null,680620100000,0.6]
[25.23,"YERLİ KATKI ORANI RAPORU",null,680620900012,0.6]
[25.24,"YERLİ KATKI ORANI RAPORU",null,294190000022,0.6]
[25.25,"YERLİ KATKI ORANI RAPORU",null,294190000023,0.6]
[25.26,"YERLİ KATKI ORANI RAPORU",null,294190000029,0.6]
[25.27,"YERLİ KATKI ORANI RAPORU",null,903180209000,0.6]
[25.28,"YERLİ KATKI ORANI RAPORU",null,290522000011,0.6]
[25.29,"YERLİ KATKI ORANI RAPORU",null,853540000012,0.6]
[{"v":25.3,"d":"25.30"},"YERLİ KATKI ORANI RAPORU",null,903033701000,0.6]
[25.31,"YERLİ KATKI ORANI RAPORU",null,903033709000,0.6]
[25.32,"YERLİ KATKI ORANI RAPORU",null,282560000011,0.6]
[25.33,"YERLİ KATKI ORANI RAPORU",null,291819983000,0.6]
[25.34,"YERLİ KATKI ORANI RAPORU",null,844190101100,0.6]
[25.35,"YERLİ KATKI ORANI RAPORU",null,844190101900,0.6]
[25.36,"YERLİ KATKI ORANI RAPORU",null,291570501014,0.6]
[25.37,"YERLİ KATKI ORANI RAPORU",null,291539003014,0.6]
[25.38,"YERLİ KATKI ORANI RAPORU",null,291990009011,0.6]
[25.39,"YERLİ KATKI ORANI RAPORU",null,290950002000,0.6]
[{"v":25.4,"d":"25.40"},"YERLİ KATKI ORANI RAPORU",null,293890300000,0.6]
[25.41,"YERLİ KATKI ORANI RAPORU",null,292249851000,0.6]
[25.42,"YERLİ KATKI ORANI RAPORU",null,291816000011,0.6]
[25.43,"YERLİ KATKI ORANI RAPORU",null,291816000021,0.6]
[25.44,"YERLİ KATKI ORANI RAPORU",null,291816000019,0.6]
[25.45,"YERLİ KATKI ORANI RAPORU",null,292242000029,0.6]
[25.46,"YERLİ KATKI ORANI RAPORU",null,292242000011,0.6]
[25.47,"YERLİ KATKI ORANI RAPORU",null,292419000017,0.6]
[25.48,"YERLİ KATKI ORANI RAPORU",null,291719800013,0.6]
[25.49,"YERLİ KATKI ORANI RAPORU",null,900140800000,0.6]
[{"v":25.5,"d":"25.50"},"YERLİ KATKI ORANI RAPORU",null,900150800000,0.6]
[25.51,"YERLİ KATKI ORANI RAPORU",null,900110100000,0.6]
[25.52,"YERLİ KATKI ORANI RAPORU",null,854020800000,0.6]
[25.53,"YERLİ KATKI ORANI RAPORU",null,900110101000,0.6]
[25.54,"YERLİ KATKI ORANI RAPORU",null,900110109000,0.6]
[25.55,"YERLİ KATKI ORANI RAPORU",null,901850900000,0.6]
[25.56,"YERLİ KATKI ORANI RAPORU",null,901850100000,0.6]
[25.57,"YERLİ KATKI ORANI RAPORU",null,400821100000,0.6]
[25.58,"YERLİ KATKI ORANI RAPORU",null,900390000000,0.6]
[25.59,"YERLİ KATKI ORANI RAPORU",null,380190009000,0.6]
[{"v":25.6,"d":"25.60"},"YERLİ KATKI ORANI RAPORU",null,251611000000,0.6]
[25.61,"YERLİ KATKI ORANI RAPORU",null,251620000000,0.6]
[25.62,"YERLİ KATKI ORANI RAPORU",null,292529000011,0.6]
[25.63,"YERLİ KATKI ORANI RAPORU",null,292529000013,0.6]
[25.64,"YERLİ KATKI ORANI RAPORU",null,292529000014,0.6]
[25.65,"YERLİ KATKI ORANI RAPORU",null,411410900000,0.6]
[25.66,"YERLİ KATKI ORANI RAPORU",null,411410100000,0.6]
[25.67,"YERLİ KATKI ORANI RAPORU",null,710692000000,0.6]
[25.68,"YERLİ KATKI ORANI RAPORU",null,261610000000,0.6]
[25.69,"YERLİ KATKI ORANI RAPORU",null,370232850000,0.6]
[{"v":25.7,"d":"25.70"},"YERLİ KATKI ORANI RAPORU",null,370232200000,0.6]
[25.71,"YERLİ KATKI ORANI RAPORU",null,284321000000,0.6]
[25.72,"YERLİ KATKI ORANI RAPORU",null,284329001011,0.6]
[25.73,"YERLİ KATKI ORANI RAPORU",null,854460100011,0.6]
[25.74,"YERLİ KATKI ORANI RAPORU",null,711590000022,0.6]
[25.75,"YERLİ KATKI ORANI RAPORU",null,381190001012,0.6]
[25.76,"YERLİ KATKI ORANI RAPORU",null,293299001000,0.6]
[25.77,"YERLİ KATKI ORANI RAPORU",null,450410990012,0.6]
[25.78,"YERLİ KATKI ORANI RAPORU",null,380590909011,0.6]
[25.79,"YERLİ KATKI ORANI RAPORU",null,250610000011,0.6]
[{"v":25.8,"d":"25.80"},"YERLİ KATKI ORANI RAPORU",null,252510000000,0.6]
[25.81,"YERLİ KATKI ORANI RAPORU",null,842612001000,0.6]
[25.82,"YERLİ KATKI ORANI RAPORU",null,852792000000,0.6]
[25.83,"YERLİ KATKI ORANI RAPORU",null,940191100000,0.6]
[25.84,"YERLİ KATKI ORANI RAPORU",null,901420809000,0.6]
[25.85,"YERLİ KATKI ORANI RAPORU",null,901420801000,0.6]
[25.86,"YERLİ KATKI ORANI RAPORU",null,842139259000,0.6]
[25.87,"YERLİ KATKI ORANI RAPORU",null,230800900000,0.6]
[25.88,"YERLİ KATKI ORANI RAPORU",null,230800400000,0.6]
[25.89,"YERLİ KATKI ORANI RAPORU",null,151800959000,0.6]
[{"v":25.9,"d":"25.90"},"YERLİ KATKI ORANI RAPORU",null,151800951000,0.6]
[25.91,"YERLİ KATKI ORANI RAPORU",null,380290001000,0.6]
[25.92,"YERLİ KATKI ORANI RAPORU",null,320300900000,0.6]
[25.93,"YERLİ KATKI ORANI RAPORU",null,560819110000,0.6]
[25.94,"YERLİ KATKI ORANI RAPORU",null,292390009011,0.6]
[25.95,"YERLİ KATKI ORANI RAPORU",null,290319000011,0.6]
[25.96,"YERLİ KATKI ORANI RAPORU",null,292910000022,0.6]
[25.97,"YERLİ KATKI ORANI RAPORU",null,292122000012,0.6]
[25.98,"YERLİ KATKI ORANI RAPORU",null,290110009011,0.6]
[25.99,"YERLİ KATKI ORANI RAPORU",null,290539959011,0.6]
[{"v":26,"d":"26.00"},"YERLİ KATKI ORANI RAPORU",null,290729001012,0.6]
[26.01,"YERLİ KATKI ORANI RAPORU",null,280429100000,0.6]
[26.02,"YERLİ KATKI ORANI RAPORU",null,290110009012,0.6]
[26.03,"YERLİ KATKI ORANI RAPORU",null,851771000000,0.6]
[26.04,"YERLİ KATKI ORANI RAPORU",null,293321000012,0.6]
[26.05,"YERLİ KATKI ORANI RAPORU",null,282510000011,0.6]
[26.06,"YERLİ KATKI ORANI RAPORU",null,292800901019,0.6]
[26.07,"YERLİ KATKI ORANI RAPORU",null,560121100000,0.6]
[26.08,"YERLİ KATKI ORANI RAPORU",null,280410000000,0.6]
[26.09,"YERLİ KATKI ORANI RAPORU",null,281119100000,0.6]
[{"v":26.1,"d":"26.10"},"YERLİ KATKI ORANI RAPORU",null,281111000000,0.6]
[26.11,"YERLİ KATKI ORANI RAPORU",null,281112000000,0.6]
[26.12,"YERLİ KATKI ORANI RAPORU",null,271119000019,0.6]
[26.13,"YERLİ KATKI ORANI RAPORU",null,290420000028,0.6]
[26.14,"YERLİ KATKI ORANI RAPORU",null,290410000029,0.6]
[26.15,"YERLİ KATKI ORANI RAPORU",null,290499000019,0.6]
[26.16,"YERLİ KATKI ORANI RAPORU",null,290499000039,0.6]
[26.17,"YERLİ KATKI ORANI RAPORU",null,290722001000,0.6]
[26.18,"YERLİ KATKI ORANI RAPORU",null,290722009000,0.6]
[26.19,"YERLİ KATKI ORANI RAPORU",null,293721000012,0.6]
[{"v":26.2,"d":"26.20"},"YERLİ KATKI ORANI RAPORU",null,282510000012,0.6]
[26.21,"YERLİ KATKI ORANI RAPORU",null,292800902019,0.6]
[26.22,"YERLİ KATKI ORANI RAPORU",null,291829001012,0.6]
[26.23,"YERLİ KATKI ORANI RAPORU",null,291249002000,0.6]
[26.24,"YERLİ KATKI ORANI RAPORU",null,903281009019,0.6]
[26.25,"YERLİ KATKI ORANI RAPORU",null,841229811000,0.6]
[26.26,"YERLİ KATKI ORANI RAPORU",null,841229819000,0.6]
[26.27,"YERLİ KATKI ORANI RAPORU",null,271019830000,0.6]
[26.28,"YERLİ KATKI ORANI RAPORU",null,901580200019,0.6]
[26.29,"YERLİ KATKI ORANI RAPORU",null,285000200000,0.6]
[{"v":26.3,"d":"26.30"},"YERLİ KATKI ORANI RAPORU",null,530810000000,0.6]
[26.31,"YERLİ KATKI ORANI RAPORU",null,530500002019,0.6]
[26.32,"YERLİ KATKI ORANI RAPORU",null,410622100000,0.6]
[26.33,"YERLİ KATKI ORANI RAPORU",null,151530900000,0.6]
[26.34,"YERLİ KATKI ORANI RAPORU",null,151530100000,0.6]
[26.35,"YERLİ KATKI ORANI RAPORU",null,293719000012,0.6]
[26.36,"YERLİ KATKI ORANI RAPORU",null,293719000011,0.6]
[26.37,"YERLİ KATKI ORANI RAPORU",null,280920000011,0.6]
[26.38,"YERLİ KATKI ORANI RAPORU",null,293979909017,0.6]
[26.39,"YERLİ KATKI ORANI RAPORU",null,293979909015,0.6]
[{"v":26.4,"d":"26.40"},"YERLİ KATKI ORANI RAPORU",null,293979909013,0.6]
[26.41,"YERLİ KATKI ORANI RAPORU",null,851829009000,0.6]
[26.42,"YERLİ KATKI ORANI RAPORU",null,851890005000,0.6]
[26.43,"YERLİ KATKI ORANI RAPORU",null,300339000000,0.6]
[26.44,"YERLİ KATKI ORANI RAPORU",null,300259000000,0.6]
[26.45,"YERLİ KATKI ORANI RAPORU",null,300251000000,0.6]
[26.46,"YERLİ KATKI ORANI RAPORU",null,271019430013,0.6]
[26.47,"YERLİ KATKI ORANI RAPORU",null,293911000022,0.6]
[26.48,"YERLİ KATKI ORANI RAPORU",null,293090989049,0.6]
[26.49,"YERLİ KATKI ORANI RAPORU",null,293090959049,0.6]
[{"v":26.5,"d":"26.50"},"YERLİ KATKI ORANI RAPORU",null,293911000023,0.6]
[26.51,"YERLİ KATKI ORANI RAPORU",null,841950200000,0.6]
[26.52,"YERLİ KATKI ORANI RAPORU",null,841950800000,0.6]
[26.53,"YERLİ KATKI ORANI RAPORU",null,841370301000,0.6]
[26.54,"YERLİ KATKI ORANI RAPORU",null,841370309000,0.6]
[26.55,"YERLİ KATKI ORANI RAPORU",null,700232000000,0.6]
[26.56,"YERLİ KATKI ORANI RAPORU",null,701342000000,0.6]
[26.57,"YERLİ KATKI ORANI RAPORU",null,321210000000,0.6]
[26.58,"YERLİ KATKI ORANI RAPORU",null,961220000000,0.6]
[26.59,"YERLİ KATKI ORANI RAPORU",null,480220000000,0.6]
[{"v":26.6,"d":"26.60"},"YERLİ KATKI ORANI RAPORU",null,840130000000,0.6]
[26.61,"YERLİ KATKI ORANI RAPORU",null,330210210000,0.6]
[26.62,"YERLİ KATKI ORANI RAPORU",null,330210100000,0.6]
[26.63,"YERLİ KATKI ORANI RAPORU",null,330210409000,0.6]
[26.64,"YERLİ KATKI ORANI RAPORU",null,842132000000,0.6]
[26.65,"YERLİ KATKI ORANI RAPORU",null,841330209000,0.6]
[26.66,"YERLİ KATKI ORANI RAPORU",null,841330809012,0.6]
[26.67,"YERLİ KATKI ORANI RAPORU",null,841330809011,0.6]
[26.68,"YERLİ KATKI ORANI RAPORU",null,841330809019,0.6]
[26.69,"YERLİ KATKI ORANI RAPORU",null,841330801000,0.6]
[{"v":26.7,"d":"26.70"},"YERLİ KATKI ORANI RAPORU",null,470311000000,0.6]
[26.71,"YERLİ KATKI ORANI RAPORU",null,470411000000,0.6]
[26.72,"YERLİ KATKI ORANI RAPORU",null,470421000000,0.6]
[26.73,"YERLİ KATKI ORANI RAPORU",null,440692000000,0.6]
[26.74,"YERLİ KATKI ORANI RAPORU",null,901780109011,0.6]
[26.75,"YERLİ KATKI ORANI RAPORU",null,293399209013,0.6]
[26.76,"YERLİ KATKI ORANI RAPORU",null,293399209019,0.6]
[26.77,"YERLİ KATKI ORANI RAPORU",null,510539000019,0.6]
[26.78,"YERLİ KATKI ORANI RAPORU",null,293399201011,0.6]
[26.79,"YERLİ KATKI ORANI RAPORU",null,293399809021,0.6]
[{"v":26.8,"d":"26.80"},"YERLİ KATKI ORANI RAPORU",null,293399809022,0.6]
[26.81,"YERLİ KATKI ORANI RAPORU",null,284290809919,0.6]
[26.82,"YERLİ KATKI ORANI RAPORU",null,290613900000,0.6]
[26.83,"YERLİ KATKI ORANI RAPORU",null,291990009015,0.6]
[26.84,"YERLİ KATKI ORANI RAPORU",null,300290100000,0.6]
[26.85,"YERLİ KATKI ORANI RAPORU",null,852871150000,0.6]
[26.86,"YERLİ KATKI ORANI RAPORU",null,850440869011,0.6]
[26.87,"YERLİ KATKI ORANI RAPORU",null,110820000000,0.6]
[26.88,"YERLİ KATKI ORANI RAPORU",null,850440859000,0.6]
[26.89,"YERLİ KATKI ORANI RAPORU",null,850440869012,0.6]
[{"v":26.9,"d":"26.90"},"YERLİ KATKI ORANI RAPORU",null,850440869000,0.6]
[26.91,"YERLİ KATKI ORANI RAPORU",null,500500100019,0.6]
[26.92,"YERLİ KATKI ORANI RAPORU",null,500500900019,0.6]
[26.93,"YERLİ KATKI ORANI RAPORU",null,560490909011,0.6]
[26.94,"YERLİ KATKI ORANI RAPORU",null,500200000000,0.6]
[26.95,"YERLİ KATKI ORANI RAPORU",null,551030000000,0.6]
[26.96,"YERLİ KATKI ORANI RAPORU",null,551020000000,0.6]
[26.97,"YERLİ KATKI ORANI RAPORU",null,711041000000,0.6]
[26.98,"YERLİ KATKI ORANI RAPORU",null,711049000000,0.6]
[26.99,"YERLİ KATKI ORANI RAPORU",null,820790500000,0.6]
[{"v":27,"d":"27.00"},"YERLİ KATKI ORANI RAPORU",null,820790300000,0.6]
[27.01,"YERLİ KATKI ORANI RAPORU",null,820231000000,0.6]
[27.02,"YERLİ KATKI ORANI RAPORU",null,760110900000,0.6]
[27.03,"YERLİ KATKI ORANI RAPORU",null,780199900000,0.6]
[27.04,"YERLİ KATKI ORANI RAPORU",null,710700000011,0.6]
[27.05,"YERLİ KATKI ORANI RAPORU",null,800120000000,0.6]
[27.06,"YERLİ KATKI ORANI RAPORU",null,811221900011,0.6]
[27.07,"YERLİ KATKI ORANI RAPORU",null,810419000000,0.6]
[27.08,"YERLİ KATKI ORANI RAPORU",null,810411000000,0.6]
[27.09,"YERLİ KATKI ORANI RAPORU",null,810294000000,0.6]
[{"v":27.1,"d":"27.10"},"YERLİ KATKI ORANI RAPORU",null,811300200000,0.6]
[27.11,"YERLİ KATKI ORANI RAPORU",null,810194000000,0.6]
[27.12,"YERLİ KATKI ORANI RAPORU",null,681490000000,0.6]
[27.13,"YERLİ KATKI ORANI RAPORU",null,290369800014,0.6]
[27.14,"YERLİ KATKI ORANI RAPORU",null,392099530000,0.6]
[27.15,"YERLİ KATKI ORANI RAPORU",null,382499150011,0.6]
[27.16,"YERLİ KATKI ORANI RAPORU",null,903010001000,0.6]
[27.17,"YERLİ KATKI ORANI RAPORU",null,903010009000,0.6]
[27.18,"YERLİ KATKI ORANI RAPORU",null,280120009000,0.6]
[27.19,"YERLİ KATKI ORANI RAPORU",null,293379000011,0.6]
[{"v":27.2,"d":"27.20"},"YERLİ KATKI ORANI RAPORU",null,293220909012,0.6]
[27.21,"YERLİ KATKI ORANI RAPORU",null,290619002012,0.6]
[27.22,"YERLİ KATKI ORANI RAPORU",null,291539009116,0.6]
[27.23,"YERLİ KATKI ORANI RAPORU",null,293349900014,0.6]
[27.24,"YERLİ KATKI ORANI RAPORU",null,291560190012,0.6]
[27.25,"YERLİ KATKI ORANI RAPORU",null,400231000000,0.6]
[27.26,"YERLİ KATKI ORANI RAPORU",null,290514900011,0.6]
[27.27,"YERLİ KATKI ORANI RAPORU",null,291539009200,0.6]
[27.28,"YERLİ KATKI ORANI RAPORU",null,292690200000,0.6]
[27.29,"YERLİ KATKI ORANI RAPORU",null,293349900012,0.6]
[{"v":27.3,"d":"27.30"},"YERLİ KATKI ORANI RAPORU",null,702000070000,0.6]
[27.31,"YERLİ KATKI ORANI RAPORU",null,702000080000,0.6]
[27.32,"YERLİ KATKI ORANI RAPORU",null,854460900000,0.6]
[27.33,"YERLİ KATKI ORANI RAPORU",null,854449950000,0.6]
[27.34,"YERLİ KATKI ORANI RAPORU",null,294000000014,0.6]
[27.35,"YERLİ KATKI ORANI RAPORU",null,292990000011,0.6]
[27.36,"YERLİ KATKI ORANI RAPORU",null,292990900011,0.6]
[27.37,"YERLİ KATKI ORANI RAPORU",null,290519009014,0.6]
[27.38,"YERLİ KATKI ORANI RAPORU",null,290516850011,0.6]
[27.39,"YERLİ KATKI ORANI RAPORU",null,291539003013,0.6]
[{"v":27.4,"d":"27.40"},"YERLİ KATKI ORANI RAPORU",null,291570409014,0.6]
[27.41,"YERLİ KATKI ORANI RAPORU",null,291570501012,0.6]
[27.42,"YERLİ KATKI ORANI RAPORU",null,292119990021,0.6]
[27.43,"YERLİ KATKI ORANI RAPORU",null,292119990029,0.6]
[27.44,"YERLİ KATKI ORANI RAPORU",null,293349900015,0.6]
[27.45,"YERLİ KATKI ORANI RAPORU",null,292421000011,0.6]
[27.46,"YERLİ KATKI ORANI RAPORU",null,840120009015,0.6]
[27.47,"YERLİ KATKI ORANI RAPORU",null,291560909012,0.6]
[27.48,"YERLİ KATKI ORANI RAPORU",null,291429000013,0.6]
[27.49,"YERLİ KATKI ORANI RAPORU",null,851539180000,0.6]
[{"v":27.5,"d":"27.50"},"YERLİ KATKI ORANI RAPORU",null,901580401011,0.6]
[27.51,"YERLİ KATKI ORANI RAPORU",null,901580200012,0.6]
[27.52,"YERLİ KATKI ORANI RAPORU",null,291539009115,0.6]
[27.53,"YERLİ KATKI ORANI RAPORU",null,151590111100,0.6]
[27.54,"YERLİ KATKI ORANI RAPORU",null,151590111900,0.6]
[27.55,"YERLİ KATKI ORANI RAPORU",null,530720000000,0.6]
[27.56,"YERLİ KATKI ORANI RAPORU",null,560490903000,0.6]
[27.57,"YERLİ KATKI ORANI RAPORU",null,530390000019,0.6]
[27.58,"YERLİ KATKI ORANI RAPORU",null,531090000000,0.6]
[27.59,"YERLİ KATKI ORANI RAPORU",null,531010900000,0.6]
[{"v":27.6,"d":"27.60"},"YERLİ KATKI ORANI RAPORU",null,531010100000,0.6]
[27.61,"YERLİ KATKI ORANI RAPORU",null,510540000000,0.6]
[27.62,"YERLİ KATKI ORANI RAPORU",null,851821000000,0.6]
[27.63,"YERLİ KATKI ORANI RAPORU",null,382499450000,0.6]
[27.64,"YERLİ KATKI ORANI RAPORU",null,282739852014,0.6]
[27.65,"YERLİ KATKI ORANI RAPORU",null,283429202000,0.6]
[27.66,"YERLİ KATKI ORANI RAPORU",null,282590600000,0.6]
[27.67,"YERLİ KATKI ORANI RAPORU",null,283329201000,0.6]
[27.68,"YERLİ KATKI ORANI RAPORU",null,291479001000,0.6]
[27.69,"YERLİ KATKI ORANI RAPORU",null,291479002000,0.6]
[{"v":27.7,"d":"27.70"},"YERLİ KATKI ORANI RAPORU",null,844140000000,0.6]
[27.71,"YERLİ KATKI ORANI RAPORU",null,481200009000,0.6]
[27.72,"YERLİ KATKI ORANI RAPORU",null,591131190012,0.6]
[27.73,"YERLİ KATKI ORANI RAPORU",null,591131900000,0.6]
[27.74,"YERLİ KATKI ORANI RAPORU",null,591132900000,0.6]
[27.75,"YERLİ KATKI ORANI RAPORU",null,591132190000,0.6]
[27.76,"YERLİ KATKI ORANI RAPORU",null,591131110000,0.6]
[27.77,"YERLİ KATKI ORANI RAPORU",null,591131190011,0.6]
[27.78,"YERLİ KATKI ORANI RAPORU",null,531100904900,0.6]
[27.79,"YERLİ KATKI ORANI RAPORU",null,530890500000,0.6]
[{"v":27.8,"d":"27.80"},"YERLİ KATKI ORANI RAPORU",null,591132110000,0.6]
[27.81,"YERLİ KATKI ORANI RAPORU",null,380992009000,0.6]
[27.82,"YERLİ KATKI ORANI RAPORU",null,380992001000,0.6]
[27.83,"YERLİ KATKI ORANI RAPORU",null,844190109000,0.6]
[27.84,"YERLİ KATKI ORANI RAPORU",null,843999000000,0.6]
[27.85,"YERLİ KATKI ORANI RAPORU",null,853225000000,0.6]
[27.86,"YERLİ KATKI ORANI RAPORU",null,180200000000,0.6]
[27.87,"YERLİ KATKI ORANI RAPORU",null,800300009013,0.6]
[27.88,"YERLİ KATKI ORANI RAPORU",null,800300009011,0.6]
[27.89,"YERLİ KATKI ORANI RAPORU",null,800700101011,0.6]
[{"v":27.9,"d":"27.90"},"YERLİ KATKI ORANI RAPORU",null,800300009015,0.6]
[27.91,"YERLİ KATKI ORANI RAPORU",null,800200000000,0.6]
[27.92,"YERLİ KATKI ORANI RAPORU",null,282739100011,0.6]
[27.93,"YERLİ KATKI ORANI RAPORU",null,282739100012,0.6]
[27.94,"YERLİ KATKI ORANI RAPORU",null,282590851000,0.6]
[27.95,"YERLİ KATKI ORANI RAPORU",null,283090851012,0.6]
[27.96,"YERLİ KATKI ORANI RAPORU",null,800700802900,0.6]
[27.97,"YERLİ KATKI ORANI RAPORU",null,800300001000,0.6]
[27.98,"YERLİ KATKI ORANI RAPORU",null,800700802100,0.6]
[27.99,"YERLİ KATKI ORANI RAPORU",null,800700801900,0.6]
[{"v":28,"d":"28.00"},"YERLİ KATKI ORANI RAPORU",null,842091100011,0.6]
[28.01,"YERLİ KATKI ORANI RAPORU",null,842091800011,0.6]
[28.02,"YERLİ KATKI ORANI RAPORU",null,842010300000,0.6]
[28.03,"YERLİ KATKI ORANI RAPORU",null,842099000000,0.6]
[28.04,"YERLİ KATKI ORANI RAPORU",null,761290300000,0.6]
[28.05,"YERLİ KATKI ORANI RAPORU",null,280512000000,0.6]
[28.06,"YERLİ KATKI ORANI RAPORU",null,310240100011,0.6]
[28.07,"YERLİ KATKI ORANI RAPORU",null,282619909011,0.6]
[28.08,"YERLİ KATKI ORANI RAPORU",null,291512000013,0.6]
[28.09,"YERLİ KATKI ORANI RAPORU",null,283510001012,0.6]
[{"v":28.1,"d":"28.10"},"YERLİ KATKI ORANI RAPORU",null,291990009013,0.6]
[28.11,"YERLİ KATKI ORANI RAPORU",null,291816000012,0.6]
[28.12,"YERLİ KATKI ORANI RAPORU",null,282590110000,0.6]
[28.13,"YERLİ KATKI ORANI RAPORU",null,284910000000,0.6]
[28.14,"YERLİ KATKI ORANI RAPORU",null,282720000000,0.6]
[28.15,"YERLİ KATKI ORANI RAPORU",null,291811000012,0.6]
[28.16,"YERLİ KATKI ORANI RAPORU",null,283429801100,0.6]
[28.17,"YERLİ KATKI ORANI RAPORU",null,283429801900,0.6]
[28.18,"YERLİ KATKI ORANI RAPORU",null,283429801200,0.6]
[28.19,"YERLİ KATKI ORANI RAPORU",null,310260000000,0.6]
[{"v":28.2,"d":"28.20"},"YERLİ KATKI ORANI RAPORU",null,282590190011,0.6]
[28.21,"YERLİ KATKI ORANI RAPORU",null,291550000013,0.6]
[28.22,"YERLİ KATKI ORANI RAPORU",null,291570503014,0.6]
[28.23,"YERLİ KATKI ORANI RAPORU",null,291813009013,0.6]
[28.24,"YERLİ KATKI ORANI RAPORU",null,283090112000,0.6]
[28.25,"YERLİ KATKI ORANI RAPORU",null,283090852000,0.6]
[28.26,"YERLİ KATKI ORANI RAPORU",null,282749903019,0.6]
[28.27,"YERLİ KATKI ORANI RAPORU",null,290219000012,0.6]
[28.28,"YERLİ KATKI ORANI RAPORU",null,291429000016,0.6]
[28.29,"YERLİ KATKI ORANI RAPORU",null,401120100012,0.6]
[{"v":28.3,"d":"28.30"},"YERLİ KATKI ORANI RAPORU",null,901890500012,0.6]
[28.31,"YERLİ KATKI ORANI RAPORU",null,294190000015,0.6]
[28.32,"YERLİ KATKI ORANI RAPORU",null,848360209012,0.6]
[28.33,"YERLİ KATKI ORANI RAPORU",null,291590700036,0.6]
[28.34,"YERLİ KATKI ORANI RAPORU",null,291590700035,0.6]
[28.35,"YERLİ KATKI ORANI RAPORU",null,291590700034,0.6]
[28.36,"YERLİ KATKI ORANI RAPORU",null,360100000011,0.6]
[28.37,"YERLİ KATKI ORANI RAPORU",null,840733200000,0.6]
[28.38,"YERLİ KATKI ORANI RAPORU",null,902920311000,0.6]
[28.39,"YERLİ KATKI ORANI RAPORU",null,902920319000,0.6]
[{"v":28.4,"d":"28.40"},"YERLİ KATKI ORANI RAPORU",null,840820100000,0.6]
[28.41,"YERLİ KATKI ORANI RAPORU",null,293399809024,0.6]
[28.42,"YERLİ KATKI ORANI RAPORU",null,293296000000,0.6]
[28.43,"YERLİ KATKI ORANI RAPORU",null,391231000000,0.6]
[28.44,"YERLİ KATKI ORANI RAPORU",null,681513000000,0.6]
[28.45,"YERLİ KATKI ORANI RAPORU",null,480256806200,0.6]
[28.46,"YERLİ KATKI ORANI RAPORU",null,480256203900,0.6]
[28.47,"YERLİ KATKI ORANI RAPORU",null,480255156100,0.6]
[28.48,"YERLİ KATKI ORANI RAPORU",null,480258906200,0.6]
[28.49,"YERLİ KATKI ORANI RAPORU",null,480257006200,0.6]
[{"v":28.5,"d":"28.50"},"YERLİ KATKI ORANI RAPORU",null,290314000000,0.6]
[28.51,"YERLİ KATKI ORANI RAPORU",null,281121000000,0.6]
[28.52,"YERLİ KATKI ORANI RAPORU",null,853310000000,0.6]
[28.53,"YERLİ KATKI ORANI RAPORU",null,281310000000,0.6]
[28.54,"YERLİ KATKI ORANI RAPORU",null,381700800029,0.6]
[28.55,"YERLİ KATKI ORANI RAPORU",null,381700800019,0.6]
[28.56,"YERLİ KATKI ORANI RAPORU",null,480257009900,0.6]
[28.57,"YERLİ KATKI ORANI RAPORU",null,480257005000,0.6]
[28.58,"YERLİ KATKI ORANI RAPORU",null,290719909011,0.6]
[28.59,"YERLİ KATKI ORANI RAPORU",null,291429000012,0.6]
[{"v":28.6,"d":"28.60"},"YERLİ KATKI ORANI RAPORU",null,510531000000,0.6]
[28.61,"YERLİ KATKI ORANI RAPORU",null,284700009011,0.6]
[28.62,"YERLİ KATKI ORANI RAPORU",null,360690900011,0.6]
[28.63,"YERLİ KATKI ORANI RAPORU",null,293943000011,0.6]
[28.64,"YERLİ KATKI ORANI RAPORU",null,701120000011,0.6]
[28.65,"YERLİ KATKI ORANI RAPORU",null,852842000000,0.6]
[28.66,"YERLİ KATKI ORANI RAPORU",null,854091000000,0.6]
[28.67,"YERLİ KATKI ORANI RAPORU",null,481110009000,0.6]
[28.68,"YERLİ KATKI ORANI RAPORU",null,481110001000,0.6]
[28.69,"YERLİ KATKI ORANI RAPORU",null,400610000011,0.6]
[{"v":28.7,"d":"28.70"},"YERLİ KATKI ORANI RAPORU",null,400610000019,0.6]
[28.71,"YERLİ KATKI ORANI RAPORU",null,381220900000,0.6]
[28.72,"YERLİ KATKI ORANI RAPORU",null,590699100000,0.6]
[28.73,"YERLİ KATKI ORANI RAPORU",null,590699900000,0.6]
[28.74,"YERLİ KATKI ORANI RAPORU",null,590691000000,0.6]
[28.75,"YERLİ KATKI ORANI RAPORU",null,401290900000,0.6]
[28.76,"YERLİ KATKI ORANI RAPORU",null,401290300000,0.6]
[28.77,"YERLİ KATKI ORANI RAPORU",null,401290200011,0.6]
[28.78,"YERLİ KATKI ORANI RAPORU",null,401290200012,0.6]
[28.79,"YERLİ KATKI ORANI RAPORU",null,400400000013,0.6]
[{"v":28.8,"d":"28.80"},"YERLİ KATKI ORANI RAPORU",null,401190000000,0.6]
[28.81,"YERLİ KATKI ORANI RAPORU",null,848360801000,0.6]
[28.82,"YERLİ KATKI ORANI RAPORU",null,848360201000,0.6]
[28.83,"YERLİ KATKI ORANI RAPORU",null,848360209011,0.6]
[28.84,"YERLİ KATKI ORANI RAPORU",null,848360809011,0.6]
[28.85,"YERLİ KATKI ORANI RAPORU",null,250200000011,0.6]
[28.86,"YERLİ KATKI ORANI RAPORU",null,250200000019,0.6]
[28.87,"YERLİ KATKI ORANI RAPORU",null,350510900011,0.6]
[28.88,"YERLİ KATKI ORANI RAPORU",null,820713000000,0.6]
[28.89,"YERLİ KATKI ORANI RAPORU",null,251400000000,0.6]
[{"v":28.9,"d":"28.90"},"YERLİ KATKI ORANI RAPORU",null,960720100000,0.6]
[28.91,"YERLİ KATKI ORANI RAPORU",null,960720900000,0.6]
[28.92,"YERLİ KATKI ORANI RAPORU",null,482340000000,0.6]
[28.93,"YERLİ KATKI ORANI RAPORU",null,481013001000,0.6]
[28.94,"YERLİ KATKI ORANI RAPORU",null,820560000000,0.6]
[28.95,"YERLİ KATKI ORANI RAPORU",null,851590809012,0.6]
[28.96,"YERLİ KATKI ORANI RAPORU",null,846890009019,0.6]
[28.97,"YERLİ KATKI ORANI RAPORU",null,350190100000,0.6]
[28.98,"YERLİ KATKI ORANI RAPORU",null,350110500000,0.6]
[28.99,"YERLİ KATKI ORANI RAPORU",null,350110100000,0.6]
[{"v":29,"d":"29.00"},"YERLİ KATKI ORANI RAPORU",null,350190900019,0.6]
[29.01,"YERLİ KATKI ORANI RAPORU",null,320110000000,0.6]
[29.02,"YERLİ KATKI ORANI RAPORU",null,480550000000,0.6]
[29.03,"YERLİ KATKI ORANI RAPORU",null,844900001000,0.6]
[29.04,"YERLİ KATKI ORANI RAPORU",null,844900009000,0.6]
[29.05,"YERLİ KATKI ORANI RAPORU",null,411310000000,0.6]
[29.06,"YERLİ KATKI ORANI RAPORU",null,410621000000,0.6]
[29.07,"YERLİ KATKI ORANI RAPORU",null,130232101000,0.6]
[29.08,"YERLİ KATKI ORANI RAPORU",null,130232109000,0.6]
[29.09,"YERLİ KATKI ORANI RAPORU",null,382430000000,0.6]
[{"v":29.1,"d":"29.10"},"YERLİ KATKI ORANI RAPORU",null,851390009000,0.6]
[29.11,"YERLİ KATKI ORANI RAPORU",null,851310009000,0.6]
[29.12,"YERLİ KATKI ORANI RAPORU",null,851090009000,0.6]
[29.13,"YERLİ KATKI ORANI RAPORU",null,842940300000,0.6]
[29.14,"YERLİ KATKI ORANI RAPORU",null,842951999019,0.6]
[29.15,"YERLİ KATKI ORANI RAPORU",null,842951991019,0.6]
[29.16,"YERLİ KATKI ORANI RAPORU",null,854390009000,0.6]
[29.17,"YERLİ KATKI ORANI RAPORU",null,530820100000,0.6]
[29.18,"YERLİ KATKI ORANI RAPORU",null,530820900000,0.6]
[29.19,"YERLİ KATKI ORANI RAPORU",null,530290000019,0.6]
[{"v":29.2,"d":"29.20"},"YERLİ KATKI ORANI RAPORU",null,271019250019,0.6]
[29.21,"YERLİ KATKI ORANI RAPORU",null,820320000012,0.6]
[29.22,"YERLİ KATKI ORANI RAPORU",null,292239000014,0.6]
[29.23,"YERLİ KATKI ORANI RAPORU",null,530130000029,0.6]
[29.24,"YERLİ KATKI ORANI RAPORU",null,530130000021,0.6]
[29.25,"YERLİ KATKI ORANI RAPORU",null,530620100000,0.6]
[29.26,"YERLİ KATKI ORANI RAPORU",null,530610500000,0.6]
[29.27,"YERLİ KATKI ORANI RAPORU",null,530610100000,0.6]
[29.28,"YERLİ KATKI ORANI RAPORU",null,151511009000,0.6]
[29.29,"YERLİ KATKI ORANI RAPORU",null,151511001000,0.6]
[{"v":29.3,"d":"29.30"},"YERLİ KATKI ORANI RAPORU",null,151519900000,0.6]
[29.31,"YERLİ KATKI ORANI RAPORU",null,151519100000,0.6]
[29.32,"YERLİ KATKI ORANI RAPORU",null,530129000000,0.6]
[29.33,"YERLİ KATKI ORANI RAPORU",null,291830000015,0.6]
[29.34,"YERLİ KATKI ORANI RAPORU",null,291830000014,0.6]
[29.35,"YERLİ KATKI ORANI RAPORU",null,291830000019,0.6]
[29.36,"YERLİ KATKI ORANI RAPORU",null,291440900000,0.6]
[29.37,"YERLİ KATKI ORANI RAPORU",null,291450000000,0.6]
[29.38,"YERLİ KATKI ORANI RAPORU",null,291479009000,0.6]
[29.39,"YERLİ KATKI ORANI RAPORU",null,293920009019,0.6]
[{"v":29.4,"d":"29.40"},"YERLİ KATKI ORANI RAPORU",null,850220404000,0.6]
[29.41,"YERLİ KATKI ORANI RAPORU",null,850220609000,0.6]
[29.42,"YERLİ KATKI ORANI RAPORU",null,850220402000,0.6]
[29.43,"YERLİ KATKI ORANI RAPORU",null,850220209000,0.6]
[29.44,"YERLİ KATKI ORANI RAPORU",null,850220403000,0.6]
[29.45,"YERLİ KATKI ORANI RAPORU",null,850220809000,0.6]
[29.46,"YERLİ KATKI ORANI RAPORU",null,851130009012,0.6]
[29.47,"YERLİ KATKI ORANI RAPORU",null,851130001000,0.6]
[29.48,"YERLİ KATKI ORANI RAPORU",null,851130009011,0.6]
[29.49,"YERLİ KATKI ORANI RAPORU",null,840790100000,0.6]
[{"v":29.5,"d":"29.50"},"YERLİ KATKI ORANI RAPORU",null,840790800000,0.6]
[29.51,"YERLİ KATKI ORANI RAPORU",null,840790900000,0.6]
[29.52,"YERLİ KATKI ORANI RAPORU",null,840991000011,0.6]
[29.53,"YERLİ KATKI ORANI RAPORU",null,840991000039,0.6]
[29.54,"YERLİ KATKI ORANI RAPORU",null,840991000031,0.6]
[29.55,"YERLİ KATKI ORANI RAPORU",null,851150001000,0.6]
[29.56,"YERLİ KATKI ORANI RAPORU",null,851190000000,0.6]
[29.57,"YERLİ KATKI ORANI RAPORU",null,261690000000,0.6]
[29.58,"YERLİ KATKI ORANI RAPORU",null,285210002800,0.6]
[29.59,"YERLİ KATKI ORANI RAPORU",null,840220000000,0.6]
[{"v":29.6,"d":"29.60"},"YERLİ KATKI ORANI RAPORU",null,853990909019,0.6]
[29.61,"YERLİ KATKI ORANI RAPORU",null,253020000011,0.6]
[29.62,"YERLİ KATKI ORANI RAPORU",null,830150000000,0.6]
[29.63,"YERLİ KATKI ORANI RAPORU",null,382590900000,0.6]
[29.64,"YERLİ KATKI ORANI RAPORU",null,382499969068,0.6]
[29.65,"YERLİ KATKI ORANI RAPORU",null,382481000000,0.6]
[29.66,"YERLİ KATKI ORANI RAPORU",null,470692000000,0.6]
[29.67,"YERLİ KATKI ORANI RAPORU",null,560121900011,0.6]
[29.68,"YERLİ KATKI ORANI RAPORU",null,285210009912,0.6]
[29.69,"YERLİ KATKI ORANI RAPORU",null,293920001011,0.6]
[{"v":29.7,"d":"29.70"},"YERLİ KATKI ORANI RAPORU",null,293920001012,0.6]
[29.71,"YERLİ KATKI ORANI RAPORU",null,293920001019,0.6]
[29.72,"YERLİ KATKI ORANI RAPORU",null,293349900011,0.6]
[29.73,"YERLİ KATKI ORANI RAPORU",null,293349900029,0.6]
[29.74,"YERLİ KATKI ORANI RAPORU",null,293349100019,0.6]
[29.75,"YERLİ KATKI ORANI RAPORU",null,293349100021,0.6]
[29.76,"YERLİ KATKI ORANI RAPORU",null,291469800011,0.6]
[29.77,"YERLİ KATKI ORANI RAPORU",null,252220000000,0.6]
[29.78,"YERLİ KATKI ORANI RAPORU",null,252230000000,0.6]
[29.79,"YERLİ KATKI ORANI RAPORU",null,251200000013,0.6]
[{"v":29.8,"d":"29.80"},"YERLİ KATKI ORANI RAPORU",null,841590009019,0.6]
[29.81,"YERLİ KATKI ORANI RAPORU",null,382530000000,0.6]
[29.82,"YERLİ KATKI ORANI RAPORU",null,370130000021,0.6]
[29.83,"YERLİ KATKI ORANI RAPORU",null,844230001000,0.6]
[29.84,"YERLİ KATKI ORANI RAPORU",null,293372000011,0.6]
[29.85,"YERLİ KATKI ORANI RAPORU",null,280110000000,0.6]
[29.86,"YERLİ KATKI ORANI RAPORU",null,291540000014,0.6]
[29.87,"YERLİ KATKI ORANI RAPORU",null,291639909015,0.6]
[29.88,"YERLİ KATKI ORANI RAPORU",null,290399800013,0.6]
[29.89,"YERLİ KATKI ORANI RAPORU",null,291300001000,0.6]
[{"v":29.9,"d":"29.90"},"YERLİ KATKI ORANI RAPORU",null,290559981000,0.6]
[29.91,"YERLİ KATKI ORANI RAPORU",null,294140000011,0.6]
[29.92,"YERLİ KATKI ORANI RAPORU",null,294140000012,0.6]
[29.93,"YERLİ KATKI ORANI RAPORU",null,294140000019,0.6]
[29.94,"YERLİ KATKI ORANI RAPORU",null,292142000011,0.6]
[29.95,"YERLİ KATKI ORANI RAPORU",null,290391000011,0.6]
[29.96,"YERLİ KATKI ORANI RAPORU",null,291471000000,0.6]
[29.97,"YERLİ KATKI ORANI RAPORU",null,293391100000,0.6]
[29.98,"YERLİ KATKI ORANI RAPORU",null,292521000000,0.6]
[29.99,"YERLİ KATKI ORANI RAPORU",null,290499000025,0.6]
[{"v":30,"d":"30.00"},"YERLİ KATKI ORANI RAPORU",null,291818000000,0.6]
[30.01,"YERLİ KATKI ORANI RAPORU",null,290371000000,0.6]
[30.02,"YERLİ KATKI ORANI RAPORU",null,290311000012,0.6]
[30.03,"YERLİ KATKI ORANI RAPORU",null,290313000000,0.6]
[30.04,"YERLİ KATKI ORANI RAPORU",null,290311000011,0.6]
[30.05,"YERLİ KATKI ORANI RAPORU",null,400249000000,0.6]
[30.06,"YERLİ KATKI ORANI RAPORU",null,280620000000,0.6]
[30.07,"YERLİ KATKI ORANI RAPORU",null,390190800012,0.6]
[30.08,"YERLİ KATKI ORANI RAPORU",null,853669100000,0.6]
[30.09,"YERLİ KATKI ORANI RAPORU",null,291529002000,0.6]
[{"v":30.1,"d":"30.10"},"YERLİ KATKI ORANI RAPORU",null,282200000013,0.6]
[30.11,"YERLİ KATKI ORANI RAPORU",null,282760002018,0.6]
[30.12,"YERLİ KATKI ORANI RAPORU",null,283699179012,0.6]
[30.13,"YERLİ KATKI ORANI RAPORU",null,282739300000,0.6]
[30.14,"YERLİ KATKI ORANI RAPORU",null,283429203012,0.6]
[30.15,"YERLİ KATKI ORANI RAPORU",null,282200000011,0.6]
[30.16,"YERLİ KATKI ORANI RAPORU",null,283329300000,0.6]
[30.17,"YERLİ KATKI ORANI RAPORU",null,810590000000,0.6]
[30.18,"YERLİ KATKI ORANI RAPORU",null,293911000015,0.6]
[30.19,"YERLİ KATKI ORANI RAPORU",null,291462000000,0.6]
[{"v":30.2,"d":"30.20"},"YERLİ KATKI ORANI RAPORU",null,291819300000,0.6]
[30.21,"YERLİ KATKI ORANI RAPORU",null,294190000018,0.6]
[30.22,"YERLİ KATKI ORANI RAPORU",null,292310000000,0.6]
[30.23,"YERLİ KATKI ORANI RAPORU",null,284310100000,0.6]
[30.24,"YERLİ KATKI ORANI RAPORU",null,391220110011,0.6]
[30.25,"YERLİ KATKI ORANI RAPORU",null,284310900011,0.6]
[30.26,"YERLİ KATKI ORANI RAPORU",null,280200000000,0.6]
[30.27,"YERLİ KATKI ORANI RAPORU",null,284310900012,0.6]
[30.28,"YERLİ KATKI ORANI RAPORU",null,380120900000,0.6]
[30.29,"YERLİ KATKI ORANI RAPORU",null,380610000000,0.6]
[{"v":30.3,"d":"30.30"},"YERLİ KATKI ORANI RAPORU",null,380620000000,0.6]
[30.31,"YERLİ KATKI ORANI RAPORU",null,380690009019,0.6]
[30.32,"YERLİ KATKI ORANI RAPORU",null,901180000019,0.6]
[30.33,"YERLİ KATKI ORANI RAPORU",null,283720004014,0.6]
[30.34,"YERLİ KATKI ORANI RAPORU",null,283720004013,0.6]
[30.35,"YERLİ KATKI ORANI RAPORU",null,283720003019,0.6]
[30.36,"YERLİ KATKI ORANI RAPORU",null,283720002012,0.6]
[30.37,"YERLİ KATKI ORANI RAPORU",null,283720004012,0.6]
[30.38,"YERLİ KATKI ORANI RAPORU",null,283720004011,0.6]
[30.39,"YERLİ KATKI ORANI RAPORU",null,283720003011,0.6]
[{"v":30.4,"d":"30.40"},"YERLİ KATKI ORANI RAPORU",null,284290809911,0.6]
[30.41,"YERLİ KATKI ORANI RAPORU",null,284290809912,0.6]
[30.42,"YERLİ KATKI ORANI RAPORU",null,284210000000,0.6]
[30.43,"YERLİ KATKI ORANI RAPORU",null,848340231000,0.6]
[30.44,"YERLİ KATKI ORANI RAPORU",null,848340239000,0.6]
[30.45,"YERLİ KATKI ORANI RAPORU",null,350400100000,0.6]
[30.46,"YERLİ KATKI ORANI RAPORU",null,690390909013,0.6]
[30.47,"YERLİ KATKI ORANI RAPORU",null,293722000000,0.6]
[30.48,"YERLİ KATKI ORANI RAPORU",null,293721000011,0.6]
[30.49,"YERLİ KATKI ORANI RAPORU",null,410229000000,0.6]
[{"v":30.5,"d":"30.50"},"YERLİ KATKI ORANI RAPORU",null,410221000000,0.6]
[30.51,"YERLİ KATKI ORANI RAPORU",null,410210900000,0.6]
[30.52,"YERLİ KATKI ORANI RAPORU",null,843039000000,0.6]
[30.53,"YERLİ KATKI ORANI RAPORU",null,848310219000,0.6]
[30.54,"YERLİ KATKI ORANI RAPORU",null,842111000000,0.6]
[30.55,"YERLİ KATKI ORANI RAPORU",null,400129001000,0.6]
[30.56,"YERLİ KATKI ORANI RAPORU",null,480300390000,0.6]
[30.57,"YERLİ KATKI ORANI RAPORU",null,500720110000,0.6]
[30.58,"YERLİ KATKI ORANI RAPORU",null,290712001000,0.6]
[30.59,"YERLİ KATKI ORANI RAPORU",null,290712002000,0.6]
[{"v":30.6,"d":"30.60"},"YERLİ KATKI ORANI RAPORU",null,283620000012,0.6]
[30.61,"YERLİ KATKI ORANI RAPORU",null,281990100000,0.6]
[30.62,"YERLİ KATKI ORANI RAPORU",null,281990900012,0.6]
[30.63,"YERLİ KATKI ORANI RAPORU",null,281990900011,0.6]
[30.64,"YERLİ KATKI ORANI RAPORU",null,284990500012,0.6]
[30.65,"YERLİ KATKI ORANI RAPORU",null,283330009012,0.6]
[30.66,"YERLİ KATKI ORANI RAPORU",null,283329202000,0.6]
[30.67,"YERLİ KATKI ORANI RAPORU",null,811221900012,0.6]
[30.68,"YERLİ KATKI ORANI RAPORU",null,281910000000,0.6]
[30.69,"YERLİ KATKI ORANI RAPORU",null,902720000000,0.6]
[{"v":30.7,"d":"30.70"},"YERLİ KATKI ORANI RAPORU",null,811229000000,0.6]
[30.71,"YERLİ KATKI ORANI RAPORU",null,690390901000,0.6]
[30.72,"YERLİ KATKI ORANI RAPORU",null,291219009012,0.6]
[30.73,"YERLİ KATKI ORANI RAPORU",null,291619400000,0.6]
[30.74,"YERLİ KATKI ORANI RAPORU",null,293090982000,0.6]
[30.75,"YERLİ KATKI ORANI RAPORU",null,293090952000,0.6]
[30.76,"YERLİ KATKI ORANI RAPORU",null,290244000000,0.6]
[30.77,"YERLİ KATKI ORANI RAPORU",null,290719100000,0.6]
[30.78,"YERLİ KATKI ORANI RAPORU",null,290410000013,0.6]
[30.79,"YERLİ KATKI ORANI RAPORU",null,292149000011,0.6]
[{"v":30.8,"d":"30.80"},"YERLİ KATKI ORANI RAPORU",null,290549009010,0.6]
[30.81,"YERLİ KATKI ORANI RAPORU",null,292390009019,0.6]
[30.82,"YERLİ KATKI ORANI RAPORU",null,851830009000,0.6]
[30.83,"YERLİ KATKI ORANI RAPORU",null,401220009000,0.6]
[30.84,"YERLİ KATKI ORANI RAPORU",null,293220909014,0.6]
[30.85,"YERLİ KATKI ORANI RAPORU",null,844610000000,0.6]
[30.86,"YERLİ KATKI ORANI RAPORU",null,283699176000,0.6]
[30.87,"YERLİ KATKI ORANI RAPORU",null,282739852015,0.6]
[30.88,"YERLİ KATKI ORANI RAPORU",null,320620000014,0.6]
[30.89,"YERLİ KATKI ORANI RAPORU",null,282410000000,0.6]
[{"v":30.9,"d":"30.90"},"YERLİ KATKI ORANI RAPORU",null,283429204000,0.6]
[30.91,"YERLİ KATKI ORANI RAPORU",null,291570503017,0.6]
[30.92,"YERLİ KATKI ORANI RAPORU",null,283329600000,0.6]
[30.93,"YERLİ KATKI ORANI RAPORU",null,780600800000,0.6]
[30.94,"YERLİ KATKI ORANI RAPORU",null,670100000012,0.6]
[30.95,"YERLİ KATKI ORANI RAPORU",null,670100000011,0.6]
[30.96,"YERLİ KATKI ORANI RAPORU",null,670100000013,0.6]
[30.97,"YERLİ KATKI ORANI RAPORU",null,410210100000,0.6]
[30.98,"YERLİ KATKI ORANI RAPORU",null,281129050000,0.6]
[30.99,"YERLİ KATKI ORANI RAPORU",null,281129101000,0.6]
[{"v":31,"d":"31.00"},"YERLİ KATKI ORANI RAPORU",null,721810000000,0.6]
[31.01,"YERLİ KATKI ORANI RAPORU",null,710122000000,0.6]
[31.02,"YERLİ KATKI ORANI RAPORU",null,290270000000,0.6]
[31.03,"YERLİ KATKI ORANI RAPORU",null,700521300000,0.6]
[31.04,"YERLİ KATKI ORANI RAPORU",null,700521250000,0.6]
[31.05,"YERLİ KATKI ORANI RAPORU",null,700521800000,0.6]
[31.06,"YERLİ KATKI ORANI RAPORU",null,760120400000,0.6]
[31.07,"YERLİ KATKI ORANI RAPORU",null,842119209000,0.6]
[31.08,"YERLİ KATKI ORANI RAPORU",null,291811000011,0.6]
[31.09,"YERLİ KATKI ORANI RAPORU",null,291811000029,0.6]
[{"v":31.1,"d":"31.10"},"YERLİ KATKI ORANI RAPORU",null,291811000019,0.6]
[31.11,"YERLİ KATKI ORANI RAPORU",null,294000000013,0.6]
[31.12,"YERLİ KATKI ORANI RAPORU",null,730300900013,0.6]
[31.13,"YERLİ KATKI ORANI RAPORU",null,730300900015,0.6]
[31.14,"YERLİ KATKI ORANI RAPORU",null,150500900011,0.6]
[31.15,"YERLİ KATKI ORANI RAPORU",null,284690400000,0.6]
[31.16,"YERLİ KATKI ORANI RAPORU",null,400291000000,0.6]
[31.17,"YERLİ KATKI ORANI RAPORU",null,400241000000,0.6]
[31.18,"YERLİ KATKI ORANI RAPORU",null,291590300000,0.6]
[31.19,"YERLİ KATKI ORANI RAPORU",null,292419000015,0.6]
[{"v":31.2,"d":"31.20"},"YERLİ KATKI ORANI RAPORU",null,845611900000,0.6]
[31.21,"YERLİ KATKI ORANI RAPORU",null,852341300000,0.6]
[31.22,"YERLİ KATKI ORANI RAPORU",null,852341100000,0.6]
[31.23,"YERLİ KATKI ORANI RAPORU",null,901320000090,0.6]
[31.24,"YERLİ KATKI ORANI RAPORU",null,901390800000,0.6]
[31.25,"YERLİ KATKI ORANI RAPORU",null,853952000000,0.6]
[31.26,"YERLİ KATKI ORANI RAPORU",null,853951000000,0.6]
[31.27,"YERLİ KATKI ORANI RAPORU",null,292320001000,0.6]
[31.28,"YERLİ KATKI ORANI RAPORU",null,844391999000,0.6]
[31.29,"YERLİ KATKI ORANI RAPORU",null,293190009031,0.6]
[{"v":31.3,"d":"31.30"},"YERLİ KATKI ORANI RAPORU",null,293190009033,0.6]
[31.31,"YERLİ KATKI ORANI RAPORU",null,350520101000,0.6]
[31.32,"YERLİ KATKI ORANI RAPORU",null,292429100000,0.6]
[31.33,"YERLİ KATKI ORANI RAPORU",null,292429700027,0.6]
[31.34,"YERLİ KATKI ORANI RAPORU",null,470630000000,0.6]
[31.35,"YERLİ KATKI ORANI RAPORU",null,470620000000,0.6]
[31.36,"YERLİ KATKI ORANI RAPORU",null,843991000000,0.6]
[31.37,"YERLİ KATKI ORANI RAPORU",null,291539009117,0.6]
[31.38,"YERLİ KATKI ORANI RAPORU",null,290522000014,0.6]
[31.39,"YERLİ KATKI ORANI RAPORU",null,294190000031,0.6]
[{"v":31.4,"d":"31.40"},"YERLİ KATKI ORANI RAPORU",null,294190000032,0.6]
[31.41,"YERLİ KATKI ORANI RAPORU",null,294190000039,0.6]
[31.42,"YERLİ KATKI ORANI RAPORU",null,151800100000,0.6]
[31.43,"YERLİ KATKI ORANI RAPORU",null,291615009011,0.6]
[31.44,"YERLİ KATKI ORANI RAPORU",null,291615009012,0.6]
[31.45,"YERLİ KATKI ORANI RAPORU",null,470610000011,0.6]
[31.46,"YERLİ KATKI ORANI RAPORU",null,470610000012,0.6]
[31.47,"YERLİ KATKI ORANI RAPORU",null,270220000000,0.6]
[31.48,"YERLİ KATKI ORANI RAPORU",null,270400300000,0.6]
[31.49,"YERLİ KATKI ORANI RAPORU",null,293329900011,0.6]
[{"v":31.5,"d":"31.50"},"YERLİ KATKI ORANI RAPORU",null,320642000000,0.6]
[31.51,"YERLİ KATKI ORANI RAPORU",null,280519900012,0.6]
[31.52,"YERLİ KATKI ORANI RAPORU",null,253090400000,0.6]
[31.53,"YERLİ KATKI ORANI RAPORU",null,282990801012,0.6]
[31.54,"YERLİ KATKI ORANI RAPORU",null,282760002012,0.6]
[31.55,"YERLİ KATKI ORANI RAPORU",null,283429802012,0.6]
[31.56,"YERLİ KATKI ORANI RAPORU",null,282520000000,0.6]
[31.57,"YERLİ KATKI ORANI RAPORU",null,850650900019,0.6]
[31.58,"YERLİ KATKI ORANI RAPORU",null,292241000011,0.6]
[31.59,"YERLİ KATKI ORANI RAPORU",null,292241000013,0.6]
[{"v":31.6,"d":"31.60"},"YERLİ KATKI ORANI RAPORU",null,292241000021,0.6]
[31.61,"YERLİ KATKI ORANI RAPORU",null,292241000012,0.6]
[31.62,"YERLİ KATKI ORANI RAPORU",null,292241000019,0.6]
[31.63,"YERLİ KATKI ORANI RAPORU",null,292249859017,0.6]
[31.64,"YERLİ KATKI ORANI RAPORU",null,252930000000,0.6]
[31.65,"YERLİ KATKI ORANI RAPORU",null,293339990012,0.6]
[31.66,"YERLİ KATKI ORANI RAPORU",null,320650000000,0.6]
[31.67,"YERLİ KATKI ORANI RAPORU",null,292151110000,0.6]
[31.68,"YERLİ KATKI ORANI RAPORU",null,290242000000,0.6]
[31.69,"YERLİ KATKI ORANI RAPORU",null,292159500000,0.6]
[{"v":31.7,"d":"31.70"},"YERLİ KATKI ORANI RAPORU",null,851310001000,0.6]
[31.71,"YERLİ KATKI ORANI RAPORU",null,851390001000,0.6]
[31.72,"YERLİ KATKI ORANI RAPORU",null,320649100000,0.6]
[31.73,"YERLİ KATKI ORANI RAPORU",null,854071000000,0.6]
[31.74,"YERLİ KATKI ORANI RAPORU",null,251990900013,0.6]
[31.75,"YERLİ KATKI ORANI RAPORU",null,690390909012,0.6]
[31.76,"YERLİ KATKI ORANI RAPORU",null,291529009011,0.6]
[31.77,"YERLİ KATKI ORANI RAPORU",null,282760002014,0.6]
[31.78,"YERLİ KATKI ORANI RAPORU",null,283699111000,0.6]
[31.79,"YERLİ KATKI ORANI RAPORU",null,282731000000,0.6]
[{"v":31.8,"d":"31.80"},"YERLİ KATKI ORANI RAPORU",null,283429802011,0.6]
[31.81,"YERLİ KATKI ORANI RAPORU",null,251990100011,0.6]
[31.82,"YERLİ KATKI ORANI RAPORU",null,251990100012,0.6]
[31.83,"YERLİ KATKI ORANI RAPORU",null,291815001011,0.6]
[31.84,"YERLİ KATKI ORANI RAPORU",null,291570503013,0.6]
[31.85,"YERLİ KATKI ORANI RAPORU",null,283321000000,0.6]
[31.86,"YERLİ KATKI ORANI RAPORU",null,310490001100,0.6]
[31.87,"YERLİ KATKI ORANI RAPORU",null,310490001900,0.6]
[31.88,"YERLİ KATKI ORANI RAPORU",null,810490000011,0.6]
[31.89,"YERLİ KATKI ORANI RAPORU",null,810490000019,0.6]
[{"v":31.9,"d":"31.90"},"YERLİ KATKI ORANI RAPORU",null,810490000013,0.6]
[31.91,"YERLİ KATKI ORANI RAPORU",null,281610000000,0.6]
[31.92,"YERLİ KATKI ORANI RAPORU",null,848340303000,0.6]
[31.93,"YERLİ KATKI ORANI RAPORU",null,961210801000,0.6]
[31.94,"YERLİ KATKI ORANI RAPORU",null,961210101000,0.6]
[31.95,"YERLİ KATKI ORANI RAPORU",null,848340909000,0.6]
[31.96,"YERLİ KATKI ORANI RAPORU",null,420500191000,0.6]
[31.97,"YERLİ KATKI ORANI RAPORU",null,420500199000,0.6]
[31.98,"YERLİ KATKI ORANI RAPORU",null,731412000000,0.6]
[31.99,"YERLİ KATKI ORANI RAPORU",null,293399809038,0.6]
[{"v":32,"d":"32.00"},"YERLİ KATKI ORANI RAPORU",null,291719800011,0.6]
[32.01,"YERLİ KATKI ORANI RAPORU",null,291819982000,0.6]
[32.02,"YERLİ KATKI ORANI RAPORU",null,291719100011,0.6]
[32.03,"YERLİ KATKI ORANI RAPORU",null,291719100019,0.6]
[32.04,"YERLİ KATKI ORANI RAPORU",null,293352000000,0.6]
[32.05,"YERLİ KATKI ORANI RAPORU",null,293354000019,0.6]
[32.06,"YERLİ KATKI ORANI RAPORU",null,294000000012,0.6]
[32.07,"YERLİ KATKI ORANI RAPORU",null,292249859031,0.6]
[32.08,"YERLİ KATKI ORANI RAPORU",null,282739851000,0.6]
[32.09,"YERLİ KATKI ORANI RAPORU",null,282010000000,0.6]
[{"v":32.1,"d":"32.10"},"YERLİ KATKI ORANI RAPORU",null,283699171000,0.6]
[32.11,"YERLİ KATKI ORANI RAPORU",null,282090100000,0.6]
[32.12,"YERLİ KATKI ORANI RAPORU",null,283329800011,0.6]
[32.13,"YERLİ KATKI ORANI RAPORU",null,811100900000,0.6]
[32.14,"YERLİ KATKI ORANI RAPORU",null,282090900000,0.6]
[32.15,"YERLİ KATKI ORANI RAPORU",null,284169000011,0.6]
[32.16,"YERLİ KATKI ORANI RAPORU",null,290543000000,0.6]
[32.17,"YERLİ KATKI ORANI RAPORU",null,291560902000,0.6]
[32.18,"YERLİ KATKI ORANI RAPORU",null,850590210000,0.6]
[32.19,"YERLİ KATKI ORANI RAPORU",null,852321000000,0.6]
[{"v":32.2,"d":"32.20"},"YERLİ KATKI ORANI RAPORU",null,847190000000,0.6]
[32.21,"YERLİ KATKI ORANI RAPORU",null,110814001000,0.6]
[32.22,"YERLİ KATKI ORANI RAPORU",null,110814009000,0.6]
[32.23,"YERLİ KATKI ORANI RAPORU",null,680423000011,0.6]
[32.24,"YERLİ KATKI ORANI RAPORU",null,293299009015,0.6]
[32.25,"YERLİ KATKI ORANI RAPORU",null,290399800014,0.6]
[32.26,"YERLİ KATKI ORANI RAPORU",null,293299009016,0.6]
[32.27,"YERLİ KATKI ORANI RAPORU",null,293391900028,0.6]
[32.28,"YERLİ KATKI ORANI RAPORU",null,901890100012,0.6]
[32.29,"YERLİ KATKI ORANI RAPORU",null,470693000000,0.6]
[{"v":32.3,"d":"32.30"},"YERLİ KATKI ORANI RAPORU",null,470500000000,0.6]
[32.31,"YERLİ KATKI ORANI RAPORU",null,470691000000,0.6]
[32.32,"YERLİ KATKI ORANI RAPORU",null,470100900000,0.6]
[32.33,"YERLİ KATKI ORANI RAPORU",null,901910900011,0.6]
[32.34,"YERLİ KATKI ORANI RAPORU",null,901910900025,0.6]
[32.35,"YERLİ KATKI ORANI RAPORU",null,390920000000,0.6]
[32.36,"YERLİ KATKI ORANI RAPORU",null,291469800014,0.6]
[32.37,"YERLİ KATKI ORANI RAPORU",null,820570000000,0.6]
[32.38,"YERLİ KATKI ORANI RAPORU",null,380910100000,0.6]
[32.39,"YERLİ KATKI ORANI RAPORU",null,380910900000,0.6]
[{"v":32.4,"d":"32.40"},"YERLİ KATKI ORANI RAPORU",null,380910300000,0.6]
[32.41,"YERLİ KATKI ORANI RAPORU",null,380910500000,0.6]
[32.42,"YERLİ KATKI ORANI RAPORU",null,290611000000,0.6]
[32.43,"YERLİ KATKI ORANI RAPORU",null,291429000014,0.6]
[32.44,"YERLİ KATKI ORANI RAPORU",null,440831110000,0.6]
[32.45,"YERLİ KATKI ORANI RAPORU",null,293420200012,0.6]
[32.46,"YERLİ KATKI ORANI RAPORU",null,840410001000,0.6]
[32.47,"YERLİ KATKI ORANI RAPORU",null,848180310000,0.6]
[32.48,"YERLİ KATKI ORANI RAPORU",null,848180390000,0.6]
[32.49,"YERLİ KATKI ORANI RAPORU",null,847989600000,0.6]
[{"v":32.5,"d":"32.50"},"YERLİ KATKI ORANI RAPORU",null,280920000012,0.6]
[32.51,"YERLİ KATKI ORANI RAPORU",null,291613000011,0.6]
[32.52,"YERLİ KATKI ORANI RAPORU",null,291613000012,0.6]
[32.53,"YERLİ KATKI ORANI RAPORU",null,291614000019,0.6]
[32.54,"YERLİ KATKI ORANI RAPORU",null,291219009013,0.6]
[32.55,"YERLİ KATKI ORANI RAPORU",null,290529901000,0.6]
[32.56,"YERLİ KATKI ORANI RAPORU",null,382550000000,0.6]
[32.57,"YERLİ KATKI ORANI RAPORU",null,820740900000,0.6]
[32.58,"YERLİ KATKI ORANI RAPORU",null,820760900000,0.6]
[32.59,"YERLİ KATKI ORANI RAPORU",null,820790990000,0.6]
[{"v":32.6,"d":"32.60"},"YERLİ KATKI ORANI RAPORU",null,820790780000,0.6]
[32.61,"YERLİ KATKI ORANI RAPORU",null,820760500000,0.6]
[32.62,"YERLİ KATKI ORANI RAPORU",null,820780900011,0.6]
[32.63,"YERLİ KATKI ORANI RAPORU",null,820780900019,0.6]
[32.64,"YERLİ KATKI ORANI RAPORU",null,820780900012,0.6]
[32.65,"YERLİ KATKI ORANI RAPORU",null,820780900013,0.6]
[32.66,"YERLİ KATKI ORANI RAPORU",null,820730900000,0.6]
[32.67,"YERLİ KATKI ORANI RAPORU",null,290539951000,0.6]
[32.68,"YERLİ KATKI ORANI RAPORU",null,853932900000,0.6]
[32.69,"YERLİ KATKI ORANI RAPORU",null,580900000000,0.6]
[{"v":32.7,"d":"32.70"},"YERLİ KATKI ORANI RAPORU",null,271019910000,0.6]
[32.71,"YERLİ KATKI ORANI RAPORU",null,820299200000,0.6]
[32.72,"YERLİ KATKI ORANI RAPORU",null,845899000000,0.6]
[32.73,"YERLİ KATKI ORANI RAPORU",null,845720000000,0.6]
[32.74,"YERLİ KATKI ORANI RAPORU",null,820310001000,0.6]
[32.75,"YERLİ KATKI ORANI RAPORU",null,290549001000,0.6]
[32.76,"YERLİ KATKI ORANI RAPORU",null,291250000013,0.6]
[32.77,"YERLİ KATKI ORANI RAPORU",null,820740101000,0.6]
[32.78,"YERLİ KATKI ORANI RAPORU",null,820740109000,0.6]
[32.79,"YERLİ KATKI ORANI RAPORU",null,820740301000,0.6]
[{"v":32.8,"d":"32.80"},"YERLİ KATKI ORANI RAPORU",null,820740309000,0.6]
[32.81,"YERLİ KATKI ORANI RAPORU",null,845929000000,0.6]
[32.82,"YERLİ KATKI ORANI RAPORU",null,846320000019,0.6]
[32.83,"YERLİ KATKI ORANI RAPORU",null,845959000000,0.6]
[32.84,"YERLİ KATKI ORANI RAPORU",null,845931000000,0.6]
[32.85,"YERLİ KATKI ORANI RAPORU",null,848041000000,0.6]
[32.86,"YERLİ KATKI ORANI RAPORU",null,820750700000,0.6]
[32.87,"YERLİ KATKI ORANI RAPORU",null,820750500000,0.6]
[32.88,"YERLİ KATKI ORANI RAPORU",null,820760700011,0.6]
[32.89,"YERLİ KATKI ORANI RAPORU",null,820760700019,0.6]
[{"v":32.9,"d":"32.90"},"YERLİ KATKI ORANI RAPORU",null,820790910000,0.6]
[32.91,"YERLİ KATKI ORANI RAPORU",null,820790710000,0.6]
[32.92,"YERLİ KATKI ORANI RAPORU",null,820760300019,0.6]
[32.93,"YERLİ KATKI ORANI RAPORU",null,820780190011,0.6]
[32.94,"YERLİ KATKI ORANI RAPORU",null,820780190019,0.6]
[32.95,"YERLİ KATKI ORANI RAPORU",null,820780110000,0.6]
[32.96,"YERLİ KATKI ORANI RAPORU",null,262099950000,0.6]
[32.97,"YERLİ KATKI ORANI RAPORU",null,820720900011,0.6]
[32.98,"YERLİ KATKI ORANI RAPORU",null,820720900019,0.6]
[32.99,"YERLİ KATKI ORANI RAPORU",null,820720100000,0.6]
[{"v":33,"d":"33.00"},"YERLİ KATKI ORANI RAPORU",null,261900970019,0.6]
[33.01,"YERLİ KATKI ORANI RAPORU",null,820770370011,0.6]
[33.02,"YERLİ KATKI ORANI RAPORU",null,820770370019,0.6]
[33.03,"YERLİ KATKI ORANI RAPORU",null,820770370012,0.6]
[33.04,"YERLİ KATKI ORANI RAPORU",null,380190001000,0.6]
[33.05,"YERLİ KATKI ORANI RAPORU",null,271129000017,0.6]
[33.06,"YERLİ KATKI ORANI RAPORU",null,291211000000,0.6]
[33.07,"YERLİ KATKI ORANI RAPORU",null,293369401000,0.6]
[33.08,"YERLİ KATKI ORANI RAPORU",null,290410000017,0.6]
[33.09,"YERLİ KATKI ORANI RAPORU",null,901580200011,0.6]
[{"v":33.1,"d":"33.10"},"YERLİ KATKI ORANI RAPORU",null,292529000018,0.6]
[33.11,"YERLİ KATKI ORANI RAPORU",null,293040100000,0.6]
[33.12,"YERLİ KATKI ORANI RAPORU",null,293969000013,0.6]
[33.13,"YERLİ KATKI ORANI RAPORU",null,293333000022,0.6]
[33.14,"YERLİ KATKI ORANI RAPORU",null,291612000011,0.6]
[33.15,"YERLİ KATKI ORANI RAPORU",null,291539003011,0.6]
[33.16,"YERLİ KATKI ORANI RAPORU",null,290960900012,0.6]
[33.17,"YERLİ KATKI ORANI RAPORU",null,291513009011,0.6]
[33.18,"YERLİ KATKI ORANI RAPORU",null,290369800011,0.6]
[33.19,"YERLİ KATKI ORANI RAPORU",null,291423000013,0.6]
[{"v":33.2,"d":"33.20"},"YERLİ KATKI ORANI RAPORU",null,293090989028,0.6]
[33.21,"YERLİ KATKI ORANI RAPORU",null,293090959028,0.6]
[33.22,"YERLİ KATKI ORANI RAPORU",null,291439000011,0.6]
[33.23,"YERLİ KATKI ORANI RAPORU",null,291829003021,0.6]
[33.24,"YERLİ KATKI ORANI RAPORU",null,290919900018,0.6]
[33.25,"YERLİ KATKI ORANI RAPORU",null,291823009011,0.6]
[33.26,"YERLİ KATKI ORANI RAPORU",null,291631001000,0.6]
[33.27,"YERLİ KATKI ORANI RAPORU",null,291100001011,0.6]
[33.28,"YERLİ KATKI ORANI RAPORU",null,292111000011,0.6]
[33.29,"YERLİ KATKI ORANI RAPORU",null,292111000021,0.6]
[{"v":33.3,"d":"33.30"},"YERLİ KATKI ORANI RAPORU",null,292111000024,0.6]
[33.31,"YERLİ KATKI ORANI RAPORU",null,292217000000,0.6]
[33.32,"YERLİ KATKI ORANI RAPORU",null,290369800013,0.6]
[33.33,"YERLİ KATKI ORANI RAPORU",null,293144000000,0.6]
[33.34,"YERLİ KATKI ORANI RAPORU",null,293349900013,0.6]
[33.35,"YERLİ KATKI ORANI RAPORU",null,291020000000,0.6]
[33.36,"YERLİ KATKI ORANI RAPORU",null,291422000012,0.6]
[33.37,"YERLİ KATKI ORANI RAPORU",null,292142000017,0.6]
[33.38,"YERLİ KATKI ORANI RAPORU",null,920999400000,0.6]
[33.39,"YERLİ KATKI ORANI RAPORU",null,130212000000,0.6]
[{"v":33.4,"d":"33.40"},"YERLİ KATKI ORANI RAPORU",null,843510000012,0.6]
[33.41,"YERLİ KATKI ORANI RAPORU",null,291419900014,0.6]
[33.42,"YERLİ KATKI ORANI RAPORU",null,293339990014,0.6]
[33.43,"YERLİ KATKI ORANI RAPORU",null,850590900000,0.6]
[33.44,"YERLİ KATKI ORANI RAPORU",null,293391900031,0.6]
[33.45,"YERLİ KATKI ORANI RAPORU",null,252520000000,0.6]
[33.46,"YERLİ KATKI ORANI RAPORU",null,851890003000,0.6]
[33.47,"YERLİ KATKI ORANI RAPORU",null,250610000014,0.6]
[33.48,"YERLİ KATKI ORANI RAPORU",null,901210000000,0.6]
[33.49,"YERLİ KATKI ORANI RAPORU",null,901290000000,0.6]
[{"v":33.5,"d":"33.50"},"YERLİ KATKI ORANI RAPORU",null,320120001000,0.6]
[33.51,"YERLİ KATKI ORANI RAPORU",null,320120009000,0.6]
[33.52,"YERLİ KATKI ORANI RAPORU",null,381129001000,0.6]
[33.53,"YERLİ KATKI ORANI RAPORU",null,282490000011,0.6]
[33.54,"YERLİ KATKI ORANI RAPORU",null,291590700037,0.6]
[33.55,"YERLİ KATKI ORANI RAPORU",null,291899900014,0.6]
[33.56,"YERLİ KATKI ORANI RAPORU",null,290819009012,0.6]
[33.57,"YERLİ KATKI ORANI RAPORU",null,830130000000,0.6]
[33.58,"YERLİ KATKI ORANI RAPORU",null,282570000000,0.6]
[33.59,"YERLİ KATKI ORANI RAPORU",null,810297000000,0.6]
[{"v":33.6,"d":"33.60"},"YERLİ KATKI ORANI RAPORU",null,810296000000,0.6]
[33.61,"YERLİ KATKI ORANI RAPORU",null,810210000000,0.6]
[33.62,"YERLİ KATKI ORANI RAPORU",null,261220100000,0.6]
[33.63,"YERLİ KATKI ORANI RAPORU",null,291540000019,0.6]
[33.64,"YERLİ KATKI ORANI RAPORU",null,293399809014,0.6]
[33.65,"YERLİ KATKI ORANI RAPORU",null,853910001000,0.6]
[33.66,"YERLİ KATKI ORANI RAPORU",null,853910009000,0.6]
[33.67,"YERLİ KATKI ORANI RAPORU",null,853990901000,0.6]
[33.68,"YERLİ KATKI ORANI RAPORU",null,292211000011,0.6]
[33.69,"YERLİ KATKI ORANI RAPORU",null,292211000012,0.6]
[{"v":33.7,"d":"33.70"},"YERLİ KATKI ORANI RAPORU",null,292211000019,0.6]
[33.71,"YERLİ KATKI ORANI RAPORU",null,290559989019,0.6]
[33.72,"YERLİ KATKI ORANI RAPORU",null,291540000011,0.6]
[33.73,"YERLİ KATKI ORANI RAPORU",null,390690600000,0.6]
[33.74,"YERLİ KATKI ORANI RAPORU",null,290899001012,0.6]
[33.75,"YERLİ KATKI ORANI RAPORU",null,962000100000,0.6]
[33.76,"YERLİ KATKI ORANI RAPORU",null,283522000011,0.6]
[33.77,"YERLİ KATKI ORANI RAPORU",null,292242000013,0.6]
[33.78,"YERLİ KATKI ORANI RAPORU",null,293499903011,0.6]
[33.79,"YERLİ KATKI ORANI RAPORU",null,870893100000,0.6]
[{"v":33.8,"d":"33.80"},"YERLİ KATKI ORANI RAPORU",null,870899101919,0.6]
[33.81,"YERLİ KATKI ORANI RAPORU",null,870830100000,0.6]
[33.82,"YERLİ KATKI ORANI RAPORU",null,870790100000,0.6]
[33.83,"YERLİ KATKI ORANI RAPORU",null,870894200000,0.6]
[33.84,"YERLİ KATKI ORANI RAPORU",null,870850200000,0.6]
[33.85,"YERLİ KATKI ORANI RAPORU",null,870840200000,0.6]
[33.86,"YERLİ KATKI ORANI RAPORU",null,320412000012,0.6]
[33.87,"YERLİ KATKI ORANI RAPORU",null,293911000012,0.6]
[33.88,"YERLİ KATKI ORANI RAPORU",null,293911000032,0.6]
[33.89,"YERLİ KATKI ORANI RAPORU",null,293911000031,0.6]
[{"v":33.9,"d":"33.90"},"YERLİ KATKI ORANI RAPORU",null,293499909012,0.6]
[33.91,"YERLİ KATKI ORANI RAPORU",null,853949000000,0.6]
[33.92,"YERLİ KATKI ORANI RAPORU",null,851230900011,0.6]
[33.93,"YERLİ KATKI ORANI RAPORU",null,851230900012,0.6]
[33.94,"YERLİ KATKI ORANI RAPORU",null,851290900012,0.6]
[33.95,"YERLİ KATKI ORANI RAPORU",null,851230900019,0.6]
[33.96,"YERLİ KATKI ORANI RAPORU",null,271020110011,0.6]
[33.97,"YERLİ KATKI ORANI RAPORU",null,271012490018,0.6]
[33.98,"YERLİ KATKI ORANI RAPORU",null,852910110000,0.6]
[33.99,"YERLİ KATKI ORANI RAPORU",null,870850990011,0.6]
[{"v":34,"d":"34.00"},"YERLİ KATKI ORANI RAPORU",null,852721920000,0.6]
[34.01,"YERLİ KATKI ORANI RAPORU",null,852721520000,0.6]
[34.02,"YERLİ KATKI ORANI RAPORU",null,852721300000,0.6]
[34.03,"YERLİ KATKI ORANI RAPORU",null,852721700000,0.6]
[34.04,"YERLİ KATKI ORANI RAPORU",null,852721590000,0.6]
[34.05,"YERLİ KATKI ORANI RAPORU",null,841520000000,0.6]
[34.06,"YERLİ KATKI ORANI RAPORU",null,871410300000,0.6]
[34.07,"YERLİ KATKI ORANI RAPORU",null,401390000011,0.6]
[34.08,"YERLİ KATKI ORANI RAPORU",null,401140000000,0.6]
[34.09,"YERLİ KATKI ORANI RAPORU",null,441873100000,0.6]
[{"v":34.1,"d":"34.10"},"YERLİ KATKI ORANI RAPORU",null,441874000000,0.6]
[34.11,"YERLİ KATKI ORANI RAPORU",null,701610000000,0.6]
[34.12,"YERLİ KATKI ORANI RAPORU",null,903031001000,0.6]
[34.13,"YERLİ KATKI ORANI RAPORU",null,382370001000,0.6]
[34.14,"YERLİ KATKI ORANI RAPORU",null,481160009000,0.6]
[34.15,"YERLİ KATKI ORANI RAPORU",null,481160001000,0.6]
[34.16,"YERLİ KATKI ORANI RAPORU",null,481690002000,0.6]
[34.17,"YERLİ KATKI ORANI RAPORU",null,321590200000,0.6]
[34.18,"YERLİ KATKI ORANI RAPORU",null,961210809000,0.6]
[34.19,"YERLİ KATKI ORANI RAPORU",null,961210109000,0.6]
[{"v":34.2,"d":"34.20"},"YERLİ KATKI ORANI RAPORU",null,321100000000,0.6]
[34.21,"YERLİ KATKI ORANI RAPORU",null,360200000019,0.6]
[34.22,"YERLİ KATKI ORANI RAPORU",null,920930000000,0.6]
[34.23,"YERLİ KATKI ORANI RAPORU",null,920999500000,0.6]
[34.24,"YERLİ KATKI ORANI RAPORU",null,292519950012,0.6]
[34.25,"YERLİ KATKI ORANI RAPORU",null,292700000015,0.6]
[34.26,"YERLİ KATKI ORANI RAPORU",null,292151900011,0.6]
[34.27,"YERLİ KATKI ORANI RAPORU",null,293540000000,0.6]
[34.28,"YERLİ KATKI ORANI RAPORU",null,292151900012,0.6]
[34.29,"YERLİ KATKI ORANI RAPORU",null,292800100000,0.6]
[{"v":34.3,"d":"34.30"},"YERLİ KATKI ORANI RAPORU",null,292219000019,0.6]
[34.31,"YERLİ KATKI ORANI RAPORU",null,292219000016,0.6]
[34.32,"YERLİ KATKI ORANI RAPORU",null,292219000015,0.6]
[34.33,"YERLİ KATKI ORANI RAPORU",null,292142000023,0.6]
[34.34,"YERLİ KATKI ORANI RAPORU",null,280530800000,0.6]
[34.35,"YERLİ KATKI ORANI RAPORU",null,280530100000,0.6]
[34.36,"YERLİ KATKI ORANI RAPORU",null,253090500000,0.6]
[34.37,"YERLİ KATKI ORANI RAPORU",null,293329100011,0.6]
[34.38,"YERLİ KATKI ORANI RAPORU",null,290290001100,0.6]
[34.39,"YERLİ KATKI ORANI RAPORU",null,270740000000,0.6]
[{"v":34.4,"d":"34.40"},"YERLİ KATKI ORANI RAPORU",null,292145000029,0.6]
[34.41,"YERLİ KATKI ORANI RAPORU",null,590210100000,0.6]
[34.42,"YERLİ KATKI ORANI RAPORU",null,590220100000,0.6]
[34.43,"YERLİ KATKI ORANI RAPORU",null,590290100000,0.6]
[34.44,"YERLİ KATKI ORANI RAPORU",null,590210901000,0.6]
[34.45,"YERLİ KATKI ORANI RAPORU",null,590220901000,0.6]
[34.46,"YERLİ KATKI ORANI RAPORU",null,830230000000,0.6]
[34.47,"YERLİ KATKI ORANI RAPORU",null,830120000000,0.6]
[34.48,"YERLİ KATKI ORANI RAPORU",null,293919000012,0.6]
[34.49,"YERLİ KATKI ORANI RAPORU",null,293919000011,0.6]
[{"v":34.5,"d":"34.50"},"YERLİ KATKI ORANI RAPORU",null,550510100019,0.6]
[34.51,"YERLİ KATKI ORANI RAPORU",null,293890909014,0.6]
[34.52,"YERLİ KATKI ORANI RAPORU",null,294190000013,0.6]
[34.53,"YERLİ KATKI ORANI RAPORU",null,280429900012,0.6]
[34.54,"YERLİ KATKI ORANI RAPORU",null,292429700031,0.6]
[34.55,"YERLİ KATKI ORANI RAPORU",null,292429700034,0.6]
[34.56,"YERLİ KATKI ORANI RAPORU",null,290522000012,0.6]
[34.57,"YERLİ KATKI ORANI RAPORU",null,290930909013,0.6]
[34.58,"YERLİ KATKI ORANI RAPORU",null,294190000051,0.6]
[34.59,"YERLİ KATKI ORANI RAPORU",null,293530000000,0.6]
[{"v":34.6,"d":"34.60"},"YERLİ KATKI ORANI RAPORU",null,293520000000,0.6]
[34.61,"YERLİ KATKI ORANI RAPORU",null,293337000000,0.6]
[34.62,"YERLİ KATKI ORANI RAPORU",null,750220000000,0.6]
[34.63,"YERLİ KATKI ORANI RAPORU",null,750512009012,0.6]
[34.64,"YERLİ KATKI ORANI RAPORU",null,750512001000,0.6]
[34.65,"YERLİ KATKI ORANI RAPORU",null,750512009011,0.6]
[34.66,"YERLİ KATKI ORANI RAPORU",null,750712000000,0.6]
[34.67,"YERLİ KATKI ORANI RAPORU",null,750620000013,0.6]
[34.68,"YERLİ KATKI ORANI RAPORU",null,750522000000,0.6]
[34.69,"YERLİ KATKI ORANI RAPORU",null,260400000000,0.6]
[{"v":34.7,"d":"34.70"},"YERLİ KATKI ORANI RAPORU",null,850730200000,0.6]
[34.71,"YERLİ KATKI ORANI RAPORU",null,850730800000,0.6]
[34.72,"YERLİ KATKI ORANI RAPORU",null,282735000000,0.6]
[34.73,"YERLİ KATKI ORANI RAPORU",null,750120000019,0.6]
[34.74,"YERLİ KATKI ORANI RAPORU",null,283429203013,0.6]
[34.75,"YERLİ KATKI ORANI RAPORU",null,282540000000,0.6]
[34.76,"YERLİ KATKI ORANI RAPORU",null,283324000000,0.6]
[34.77,"YERLİ KATKI ORANI RAPORU",null,750810000000,0.6]
[34.78,"YERLİ KATKI ORANI RAPORU",null,750400000000,0.6]
[34.79,"YERLİ KATKI ORANI RAPORU",null,750890001011,0.6]
[{"v":34.8,"d":"34.80"},"YERLİ KATKI ORANI RAPORU",null,750890001019,0.6]
[34.81,"YERLİ KATKI ORANI RAPORU",null,750720000000,0.6]
[34.82,"YERLİ KATKI ORANI RAPORU",null,750890009011,0.6]
[34.83,"YERLİ KATKI ORANI RAPORU",null,850750000000,0.6]
[34.84,"YERLİ KATKI ORANI RAPORU",null,293979100000,0.6]
[34.85,"YERLİ KATKI ORANI RAPORU",null,293339990013,0.6]
[34.86,"YERLİ KATKI ORANI RAPORU",null,811292210000,0.6]
[34.87,"YERLİ KATKI ORANI RAPORU",null,292090701919,0.6]
[34.88,"YERLİ KATKI ORANI RAPORU",null,292690700028,0.6]
[34.89,"YERLİ KATKI ORANI RAPORU",null,291639909014,0.6]
[{"v":34.9,"d":"34.90"},"YERLİ KATKI ORANI RAPORU",null,290420000012,0.6]
[34.91,"YERLİ KATKI ORANI RAPORU",null,290499000027,0.6]
[34.92,"YERLİ KATKI ORANI RAPORU",null,290420000022,0.6]
[34.93,"YERLİ KATKI ORANI RAPORU",null,290930909014,0.6]
[34.94,"YERLİ KATKI ORANI RAPORU",null,292800901012,0.6]
[34.95,"YERLİ KATKI ORANI RAPORU",null,292690700015,0.6]
[34.96,"YERLİ KATKI ORANI RAPORU",null,293499909011,0.6]
[34.97,"YERLİ KATKI ORANI RAPORU",null,293219000012,0.6]
[34.98,"YERLİ KATKI ORANI RAPORU",null,292090701914,0.6]
[34.99,"YERLİ KATKI ORANI RAPORU",null,292990000022,0.6]
[{"v":35,"d":"35.00"},"YERLİ KATKI ORANI RAPORU",null,292990900022,0.6]
[35.01,"YERLİ KATKI ORANI RAPORU",null,290420000021,0.6]
[35.02,"YERLİ KATKI ORANI RAPORU",null,292090701911,0.6]
[35.03,"YERLİ KATKI ORANI RAPORU",null,290420000014,0.6]
[35.04,"YERLİ KATKI ORANI RAPORU",null,290499000031,0.6]
[35.05,"YERLİ KATKI ORANI RAPORU",null,290499000022,0.6]
[35.06,"YERLİ KATKI ORANI RAPORU",null,290899009015,0.6]
[35.07,"YERLİ KATKI ORANI RAPORU",null,290899009014,0.6]
[35.08,"YERLİ KATKI ORANI RAPORU",null,293299009011,0.6]
[35.09,"YERLİ KATKI ORANI RAPORU",null,292142000022,0.6]
[{"v":35.1,"d":"35.10"},"YERLİ KATKI ORANI RAPORU",null,293510000000,0.6]
[35.11,"YERLİ KATKI ORANI RAPORU",null,291539009118,0.6]
[35.12,"YERLİ KATKI ORANI RAPORU",null,293220909011,0.6]
[35.13,"YERLİ KATKI ORANI RAPORU",null,290519009013,0.6]
[35.14,"YERLİ KATKI ORANI RAPORU",null,290713000012,0.6]
[35.15,"YERLİ KATKI ORANI RAPORU",null,293391900042,0.6]
[35.16,"YERLİ KATKI ORANI RAPORU",null,293944000000,0.6]
[35.17,"YERLİ KATKI ORANI RAPORU",null,293339990017,0.6]
[35.18,"YERLİ KATKI ORANI RAPORU",null,701510000000,0.6]
[35.19,"YERLİ KATKI ORANI RAPORU",null,701590001011,0.6]
[{"v":35.2,"d":"35.20"},"YERLİ KATKI ORANI RAPORU",null,293499903012,0.6]
[35.21,"YERLİ KATKI ORANI RAPORU",null,290241000000,0.6]
[35.22,"YERLİ KATKI ORANI RAPORU",null,293149900019,0.6]
[35.23,"YERLİ KATKI ORANI RAPORU",null,291822001000,0.6]
[35.24,"YERLİ KATKI ORANI RAPORU",null,290391000012,0.6]
[35.25,"YERLİ KATKI ORANI RAPORU",null,440149000000,0.6]
[35.26,"YERLİ KATKI ORANI RAPORU",null,380400009900,0.6]
[35.27,"YERLİ KATKI ORANI RAPORU",null,380400001000,0.6]
[35.28,"YERLİ KATKI ORANI RAPORU",null,380700901911,0.6]
[35.29,"YERLİ KATKI ORANI RAPORU",null,380700901100,0.6]
[{"v":35.3,"d":"35.30"},"YERLİ KATKI ORANI RAPORU",null,380700101000,0.6]
[35.31,"YERLİ KATKI ORANI RAPORU",null,380700109000,0.6]
[35.32,"YERLİ KATKI ORANI RAPORU",null,293090989052,0.6]
[35.33,"YERLİ KATKI ORANI RAPORU",null,293090959052,0.6]
[35.34,"YERLİ KATKI ORANI RAPORU",null,292151900019,0.6]
[35.35,"YERLİ KATKI ORANI RAPORU",null,290819009011,0.6]
[35.36,"YERLİ KATKI ORANI RAPORU",null,282759001000,0.6]
[35.37,"YERLİ KATKI ORANI RAPORU",null,381190009000,0.6]
[35.38,"YERLİ KATKI ORANI RAPORU",null,701590001012,0.6]
[35.39,"YERLİ KATKI ORANI RAPORU",null,284190859019,0.6]
[{"v":35.4,"d":"35.40"},"YERLİ KATKI ORANI RAPORU",null,291010000000,0.6]
[35.41,"YERLİ KATKI ORANI RAPORU",null,290516200000,0.6]
[35.42,"YERLİ KATKI ORANI RAPORU",null,291539009121,0.6]
[35.43,"YERLİ KATKI ORANI RAPORU",null,290713000011,0.6]
[35.44,"YERLİ KATKI ORANI RAPORU",null,290713000019,0.6]
[35.45,"YERLİ KATKI ORANI RAPORU",null,291711001000,0.6]
[35.46,"YERLİ KATKI ORANI RAPORU",null,291711009029,0.6]
[35.47,"YERLİ KATKI ORANI RAPORU",null,291711009019,0.6]
[35.48,"YERLİ KATKI ORANI RAPORU",null,291615001000,0.6]
[35.49,"YERLİ KATKI ORANI RAPORU",null,382312000000,0.6]
[{"v":35.5,"d":"35.50"},"YERLİ KATKI ORANI RAPORU",null,291615009019,0.6]
[35.51,"YERLİ KATKI ORANI RAPORU",null,150300909000,0.6]
[35.52,"YERLİ KATKI ORANI RAPORU",null,700220100000,0.6]
[35.53,"YERLİ KATKI ORANI RAPORU",null,701400001029,0.6]
[35.54,"YERLİ KATKI ORANI RAPORU",null,701400001019,0.6]
[35.55,"YERLİ KATKI ORANI RAPORU",null,701400001011,0.6]
[35.56,"YERLİ KATKI ORANI RAPORU",null,902730000019,0.6]
[35.57,"YERLİ KATKI ORANI RAPORU",null,902730000011,0.6]
[35.58,"YERLİ KATKI ORANI RAPORU",null,700100910000,0.6]
[35.59,"YERLİ KATKI ORANI RAPORU",null,853670003000,0.6]
[{"v":35.6,"d":"35.60"},"YERLİ KATKI ORANI RAPORU",null,853670005000,0.6]
[35.61,"YERLİ KATKI ORANI RAPORU",null,853670001000,0.6]
[35.62,"YERLİ KATKI ORANI RAPORU",null,853670002000,0.6]
[35.63,"YERLİ KATKI ORANI RAPORU",null,900110901000,0.6]
[35.64,"YERLİ KATKI ORANI RAPORU",null,900110909900,0.6]
[35.65,"YERLİ KATKI ORANI RAPORU",null,900580009011,0.6]
[35.66,"YERLİ KATKI ORANI RAPORU",null,293329900012,0.6]
[35.67,"YERLİ KATKI ORANI RAPORU",null,271019150000,0.6]
[35.68,"YERLİ KATKI ORANI RAPORU",null,271019290000,0.6]
[35.69,"YERLİ KATKI ORANI RAPORU",null,271019110000,0.6]
[{"v":35.7,"d":"35.70"},"YERLİ KATKI ORANI RAPORU",null,281000909011,0.6]
[35.71,"YERLİ KATKI ORANI RAPORU",null,280920000016,0.6]
[35.72,"YERLİ KATKI ORANI RAPORU",null,291734000019,0.6]
[35.73,"YERLİ KATKI ORANI RAPORU",null,293723000011,0.6]
[35.74,"YERLİ KATKI ORANI RAPORU",null,901580801000,0.6]
[35.75,"YERLİ KATKI ORANI RAPORU",null,901580809000,0.6]
[35.76,"YERLİ KATKI ORANI RAPORU",null,401212000000,0.6]
[35.77,"YERLİ KATKI ORANI RAPORU",null,292529000016,0.6]
[35.78,"YERLİ KATKI ORANI RAPORU",null,293590900013,0.6]
[35.79,"YERLİ KATKI ORANI RAPORU",null,721430000016,0.6]
[{"v":35.8,"d":"35.80"},"YERLİ KATKI ORANI RAPORU",null,721430000019,0.6]
[35.81,"YERLİ KATKI ORANI RAPORU",null,721430000015,0.6]
[35.82,"YERLİ KATKI ORANI RAPORU",null,721320000011,0.6]
[35.83,"YERLİ KATKI ORANI RAPORU",null,721320000013,0.6]
[35.84,"YERLİ KATKI ORANI RAPORU",null,721430000013,0.6]
[35.85,"YERLİ KATKI ORANI RAPORU",null,721430000011,0.6]
[35.86,"YERLİ KATKI ORANI RAPORU",null,721430000014,0.6]
[35.87,"YERLİ KATKI ORANI RAPORU",null,847170201000,0.6]
[35.88,"YERLİ KATKI ORANI RAPORU",null,847170209000,0.6]
[35.89,"YERLİ KATKI ORANI RAPORU",null,847170981000,0.6]
[{"v":35.9,"d":"35.90"},"YERLİ KATKI ORANI RAPORU",null,847170989000,0.6]
[35.91,"YERLİ KATKI ORANI RAPORU",null,847170701000,0.6]
[35.92,"YERLİ KATKI ORANI RAPORU",null,847170709000,0.6]
[35.93,"YERLİ KATKI ORANI RAPORU",null,847160701000,0.6]
[35.94,"YERLİ KATKI ORANI RAPORU",null,847160709019,0.6]
[35.95,"YERLİ KATKI ORANI RAPORU",null,847170509000,0.6]
[35.96,"YERLİ KATKI ORANI RAPORU",null,847160709013,0.6]
[35.97,"YERLİ KATKI ORANI RAPORU",null,847160709012,0.6]
[35.98,"YERLİ KATKI ORANI RAPORU",null,847170301000,0.6]
[35.99,"YERLİ KATKI ORANI RAPORU",null,847170309000,0.6]
[{"v":36,"d":"36.00"},"YERLİ KATKI ORANI RAPORU",null,847160709011,0.6]
[36.01,"YERLİ KATKI ORANI RAPORU",null,844332109019,0.6]
[36.02,"YERLİ KATKI ORANI RAPORU",null,852871110000,0.6]
[36.03,"YERLİ KATKI ORANI RAPORU",null,847180000000,0.6]
[36.04,"YERLİ KATKI ORANI RAPORU",null,847690900000,0.6]
[36.05,"YERLİ KATKI ORANI RAPORU",null,401310000000,0.6]
[36.06,"YERLİ KATKI ORANI RAPORU",null,401211000000,0.6]
[36.07,"YERLİ KATKI ORANI RAPORU",null,293911000025,0.6]
[36.08,"YERLİ KATKI ORANI RAPORU",null,294130000014,0.6]
[36.09,"YERLİ KATKI ORANI RAPORU",null,294130000015,0.6]
[{"v":36.1,"d":"36.10"},"YERLİ KATKI ORANI RAPORU",null,850432001000,0.6]
[36.11,"YERLİ KATKI ORANI RAPORU",null,850431801000,0.6]
[36.12,"YERLİ KATKI ORANI RAPORU",null,901920900000,0.6]
[36.13,"YERLİ KATKI ORANI RAPORU",null,290950001000,0.6]
[36.14,"YERLİ KATKI ORANI RAPORU",null,901180000011,0.6]
[36.15,"YERLİ KATKI ORANI RAPORU",null,320290000014,0.6]
[36.16,"YERLİ KATKI ORANI RAPORU",null,600330900000,0.6]
[36.17,"YERLİ KATKI ORANI RAPORU",null,600240000013,0.6]
[36.18,"YERLİ KATKI ORANI RAPORU",null,600410000019,0.6]
[36.19,"YERLİ KATKI ORANI RAPORU",null,600390000019,0.6]
[{"v":36.2,"d":"36.20"},"YERLİ KATKI ORANI RAPORU",null,600290000000,0.6]
[36.21,"YERLİ KATKI ORANI RAPORU",null,600490000000,0.6]
[36.22,"YERLİ KATKI ORANI RAPORU",null,600320000000,0.6]
[36.23,"YERLİ KATKI ORANI RAPORU",null,600240000011,0.6]
[36.24,"YERLİ KATKI ORANI RAPORU",null,600410000011,0.6]
[36.25,"YERLİ KATKI ORANI RAPORU",null,600340000000,0.6]
[36.26,"YERLİ KATKI ORANI RAPORU",null,600310000000,0.6]
[36.27,"YERLİ KATKI ORANI RAPORU",null,600240000012,0.6]
[36.28,"YERLİ KATKI ORANI RAPORU",null,600410000012,0.6]
[36.29,"YERLİ KATKI ORANI RAPORU",null,820590100000,0.6]
[{"v":36.3,"d":"36.30"},"YERLİ KATKI ORANI RAPORU",null,291829003011,0.6]
[36.31,"YERLİ KATKI ORANI RAPORU",null,291829003029,0.6]
[36.32,"YERLİ KATKI ORANI RAPORU",null,291829003019,0.6]
[36.33,"YERLİ KATKI ORANI RAPORU",null,292142000013,0.6]
[36.34,"YERLİ KATKI ORANI RAPORU",null,291539005900,0.6]
[36.35,"YERLİ KATKI ORANI RAPORU",null,711029000000,0.6]
[36.36,"YERLİ KATKI ORANI RAPORU",null,842519000000,0.6]
[36.37,"YERLİ KATKI ORANI RAPORU",null,291570401000,0.6]
[36.38,"YERLİ KATKI ORANI RAPORU",null,291570409019,0.6]
[36.39,"YERLİ KATKI ORANI RAPORU",null,293590900015,0.6]
[{"v":36.4,"d":"36.40"},"YERLİ KATKI ORANI RAPORU",null,292249859026,0.6]
[36.41,"YERLİ KATKI ORANI RAPORU",null,292249859028,0.6]
[36.42,"YERLİ KATKI ORANI RAPORU",null,292249859027,0.6]
[36.43,"YERLİ KATKI ORANI RAPORU",null,292250001000,0.6]
[36.44,"YERLİ KATKI ORANI RAPORU",null,560121900019,0.6]
[36.45,"YERLİ KATKI ORANI RAPORU",null,580429009011,0.6]
[36.46,"YERLİ KATKI ORANI RAPORU",null,293919000013,0.6]
[36.47,"YERLİ KATKI ORANI RAPORU",null,847690100000,0.6]
[36.48,"YERLİ KATKI ORANI RAPORU",null,291260000000,0.6]
[36.49,"YERLİ KATKI ORANI RAPORU",null,853540000011,0.6]
[{"v":36.5,"d":"36.50"},"YERLİ KATKI ORANI RAPORU",null,291250000012,0.6]
[36.51,"YERLİ KATKI ORANI RAPORU",null,292429700011,0.6]
[36.52,"YERLİ KATKI ORANI RAPORU",null,292011000000,0.6]
[36.53,"YERLİ KATKI ORANI RAPORU",null,731815620000,0.6]
[36.54,"YERLİ KATKI ORANI RAPORU",null,722090200029,0.6]
[36.55,"YERLİ KATKI ORANI RAPORU",null,731210200000,0.6]
[36.56,"YERLİ KATKI ORANI RAPORU",null,722230970019,0.6]
[36.57,"YERLİ KATKI ORANI RAPORU",null,722230910000,0.6]
[36.58,"YERLİ KATKI ORANI RAPORU",null,722230510000,0.6]
[36.59,"YERLİ KATKI ORANI RAPORU",null,722219900000,0.6]
[{"v":36.6,"d":"36.60"},"YERLİ KATKI ORANI RAPORU",null,722219100000,0.6]
[36.61,"YERLİ KATKI ORANI RAPORU",null,722230970011,0.6]
[36.62,"YERLİ KATKI ORANI RAPORU",null,722240900019,0.6]
[36.63,"YERLİ KATKI ORANI RAPORU",null,722240900011,0.6]
[36.64,"YERLİ KATKI ORANI RAPORU",null,722300990000,0.6]
[36.65,"YERLİ KATKI ORANI RAPORU",null,721912900019,0.6]
[36.66,"YERLİ KATKI ORANI RAPORU",null,721914900019,0.6]
[36.67,"YERLİ KATKI ORANI RAPORU",null,721914100019,0.6]
[36.68,"YERLİ KATKI ORANI RAPORU",null,721911000019,0.6]
[36.69,"YERLİ KATKI ORANI RAPORU",null,722090800029,0.6]
[{"v":36.7,"d":"36.70"},"YERLİ KATKI ORANI RAPORU",null,722090800021,0.6]
[36.71,"YERLİ KATKI ORANI RAPORU",null,731815350011,0.6]
[36.72,"YERLİ KATKI ORANI RAPORU",null,731814100000,0.6]
[36.73,"YERLİ KATKI ORANI RAPORU",null,721899800000,0.6]
[36.74,"YERLİ KATKI ORANI RAPORU",null,730411000000,0.6]
[36.75,"YERLİ KATKI ORANI RAPORU",null,730424001000,0.6]
[36.76,"YERLİ KATKI ORANI RAPORU",null,730424009000,0.6]
[36.77,"YERLİ KATKI ORANI RAPORU",null,730422001000,0.6]
[36.78,"YERLİ KATKI ORANI RAPORU",null,730422009000,0.6]
[36.79,"YERLİ KATKI ORANI RAPORU",null,730621000000,0.6]
[{"v":36.8,"d":"36.80"},"YERLİ KATKI ORANI RAPORU",null,721923000012,0.6]
[36.81,"YERLİ KATKI ORANI RAPORU",null,721922900012,0.6]
[36.82,"YERLİ KATKI ORANI RAPORU",null,721922100012,0.6]
[36.83,"YERLİ KATKI ORANI RAPORU",null,721924000012,0.6]
[36.84,"YERLİ KATKI ORANI RAPORU",null,721921900012,0.6]
[36.85,"YERLİ KATKI ORANI RAPORU",null,721921100012,0.6]
[36.86,"YERLİ KATKI ORANI RAPORU",null,721899200000,0.6]
[36.87,"YERLİ KATKI ORANI RAPORU",null,730449859000,0.6]
[36.88,"YERLİ KATKI ORANI RAPORU",null,730449891000,0.6]
[36.89,"YERLİ KATKI ORANI RAPORU",null,730441001000,0.6]
[{"v":36.9,"d":"36.90"},"YERLİ KATKI ORANI RAPORU",null,730449899000,0.6]
[36.91,"YERLİ KATKI ORANI RAPORU",null,722240100000,0.6]
[36.92,"YERLİ KATKI ORANI RAPORU",null,721913100011,0.6]
[36.93,"YERLİ KATKI ORANI RAPORU",null,721912100011,0.6]
[36.94,"YERLİ KATKI ORANI RAPORU",null,721914900011,0.6]
[36.95,"YERLİ KATKI ORANI RAPORU",null,721914100011,0.6]
[36.96,"YERLİ KATKI ORANI RAPORU",null,721911000011,0.6]
[36.97,"YERLİ KATKI ORANI RAPORU",null,722012000011,0.6]
[36.98,"YERLİ KATKI ORANI RAPORU",null,722011000011,0.6]
[36.99,"YERLİ KATKI ORANI RAPORU",null,721923000011,0.6]
[{"v":37,"d":"37.00"},"YERLİ KATKI ORANI RAPORU",null,721922900011,0.6]
[37.01,"YERLİ KATKI ORANI RAPORU",null,721922100011,0.6]
[37.02,"YERLİ KATKI ORANI RAPORU",null,721924000011,0.6]
[37.03,"YERLİ KATKI ORANI RAPORU",null,721921900011,0.6]
[37.04,"YERLİ KATKI ORANI RAPORU",null,722012000012,0.6]
[37.05,"YERLİ KATKI ORANI RAPORU",null,722011000012,0.6]
[37.06,"YERLİ KATKI ORANI RAPORU",null,722300110000,0.6]
[37.07,"YERLİ KATKI ORANI RAPORU",null,722300910000,0.6]
[37.08,"YERLİ KATKI ORANI RAPORU",null,721891800012,0.6]
[37.09,"YERLİ KATKI ORANI RAPORU",null,721891100012,0.6]
[{"v":37.1,"d":"37.10"},"YERLİ KATKI ORANI RAPORU",null,721899190000,0.6]
[37.11,"YERLİ KATKI ORANI RAPORU",null,722012000013,0.6]
[37.12,"YERLİ KATKI ORANI RAPORU",null,722011000013,0.6]
[37.13,"YERLİ KATKI ORANI RAPORU",null,110813001000,0.6]
[37.14,"YERLİ KATKI ORANI RAPORU",null,110813009000,0.6]
[37.15,"YERLİ KATKI ORANI RAPORU",null,290391000013,0.6]
[37.16,"YERLİ KATKI ORANI RAPORU",null,130220109012,0.6]
[37.17,"YERLİ KATKI ORANI RAPORU",null,130220909012,0.6]
[37.18,"YERLİ KATKI ORANI RAPORU",null,130220101000,0.6]
[37.19,"YERLİ KATKI ORANI RAPORU",null,130220901000,0.6]
[{"v":37.2,"d":"37.20"},"YERLİ KATKI ORANI RAPORU",null,130220109011,0.6]
[37.21,"YERLİ KATKI ORANI RAPORU",null,130220909011,0.6]
[37.22,"YERLİ KATKI ORANI RAPORU",null,300310000000,0.6]
[37.23,"YERLİ KATKI ORANI RAPORU",null,820320000011,0.6]
[37.24,"YERLİ KATKI ORANI RAPORU",null,290542000000,0.6]
[37.25,"YERLİ KATKI ORANI RAPORU",null,290344000011,0.6]
[37.26,"YERLİ KATKI ORANI RAPORU",null,290499000021,0.6]
[37.27,"YERLİ KATKI ORANI RAPORU",null,290110009013,0.6]
[37.28,"YERLİ KATKI ORANI RAPORU",null,290519009016,0.6]
[37.29,"YERLİ KATKI ORANI RAPORU",null,291539003012,0.6]
[{"v":37.3,"d":"37.30"},"YERLİ KATKI ORANI RAPORU",null,293353900012,0.6]
[37.31,"YERLİ KATKI ORANI RAPORU",null,290349300017,0.6]
[37.32,"YERLİ KATKI ORANI RAPORU",null,290436000000,0.6]
[37.33,"YERLİ KATKI ORANI RAPORU",null,290349300012,0.6]
[37.34,"YERLİ KATKI ORANI RAPORU",null,284700001000,0.6]
[37.35,"YERLİ KATKI ORANI RAPORU",null,281119809011,0.6]
[37.36,"YERLİ KATKI ORANI RAPORU",null,291620000013,0.6]
[37.37,"YERLİ KATKI ORANI RAPORU",null,284150009031,0.6]
[37.38,"YERLİ KATKI ORANI RAPORU",null,293333000024,0.6]
[37.39,"YERLİ KATKI ORANI RAPORU",null,293339990024,0.6]
[{"v":37.4,"d":"37.40"},"YERLİ KATKI ORANI RAPORU",null,293339990025,0.6]
[37.41,"YERLİ KATKI ORANI RAPORU",null,292421000021,0.6]
[37.42,"YERLİ KATKI ORANI RAPORU",null,280300001000,0.6]
[37.43,"YERLİ KATKI ORANI RAPORU",null,271312000000,0.6]
[37.44,"YERLİ KATKI ORANI RAPORU",null,382499100000,0.6]
[37.45,"YERLİ KATKI ORANI RAPORU",null,340311000000,0.6]
[37.46,"YERLİ KATKI ORANI RAPORU",null,340319200000,0.6]
[37.47,"YERLİ KATKI ORANI RAPORU",null,902789300000,0.6]
[37.48,"YERLİ KATKI ORANI RAPORU",null,293339990026,0.6]
[37.49,"YERLİ KATKI ORANI RAPORU",null,293333000026,0.6]
[{"v":37.5,"d":"37.50"},"YERLİ KATKI ORANI RAPORU",null,852210000000,0.6]
[37.51,"YERLİ KATKI ORANI RAPORU",null,710410000000,0.6]
[37.52,"YERLİ KATKI ORANI RAPORU",null,293979909014,0.6]
[37.53,"YERLİ KATKI ORANI RAPORU",null,290219000011,0.6]
[37.54,"YERLİ KATKI ORANI RAPORU",null,294110000032,0.6]
[37.55,"YERLİ KATKI ORANI RAPORU",null,293359950011,0.6]
[37.56,"YERLİ KATKI ORANI RAPORU",null,293359950012,0.6]
[37.57,"YERLİ KATKI ORANI RAPORU",null,293359950013,0.6]
[37.58,"YERLİ KATKI ORANI RAPORU",null,293359950028,0.6]
[37.59,"YERLİ KATKI ORANI RAPORU",null,293332000019,0.6]
[{"v":37.6,"d":"37.60"},"YERLİ KATKI ORANI RAPORU",null,293332000021,0.6]
[37.61,"YERLİ KATKI ORANI RAPORU",null,293979909011,0.6]
[37.62,"YERLİ KATKI ORANI RAPORU",null,293293000000,0.6]
[37.63,"YERLİ KATKI ORANI RAPORU",null,293299004000,0.6]
[37.64,"YERLİ KATKI ORANI RAPORU",null,293299003000,0.6]
[37.65,"YERLİ KATKI ORANI RAPORU",null,130219709100,0.6]
[37.66,"YERLİ KATKI ORANI RAPORU",null,293331009011,0.6]
[37.67,"YERLİ KATKI ORANI RAPORU",null,293331009012,0.6]
[37.68,"YERLİ KATKI ORANI RAPORU",null,293331001000,0.6]
[37.69,"YERLİ KATKI ORANI RAPORU",null,293331009019,0.6]
[{"v":37.7,"d":"37.70"},"YERLİ KATKI ORANI RAPORU",null,110819101000,0.6]
[37.71,"YERLİ KATKI ORANI RAPORU",null,110819109000,0.6]
[37.72,"YERLİ KATKI ORANI RAPORU",null,280920000014,0.6]
[37.73,"YERLİ KATKI ORANI RAPORU",null,290729008011,0.6]
[37.74,"YERLİ KATKI ORANI RAPORU",null,290729001011,0.6]
[37.75,"YERLİ KATKI ORANI RAPORU",null,291419900017,0.6]
[37.76,"YERLİ KATKI ORANI RAPORU",null,840991000012,0.6]
[37.77,"YERLİ KATKI ORANI RAPORU",null,840999000012,0.6]
[37.78,"YERLİ KATKI ORANI RAPORU",null,841480229019,0.6]
[37.79,"YERLİ KATKI ORANI RAPORU",null,841480221000,0.6]
[{"v":37.8,"d":"37.80"},"YERLİ KATKI ORANI RAPORU",null,841480511000,0.6]
[37.81,"YERLİ KATKI ORANI RAPORU",null,841480519000,0.6]
[37.82,"YERLİ KATKI ORANI RAPORU",null,850710200012,0.6]
[37.83,"YERLİ KATKI ORANI RAPORU",null,681591000011,0.6]
[37.84,"YERLİ KATKI ORANI RAPORU",null,290819009013,0.6]
[37.85,"YERLİ KATKI ORANI RAPORU",null,290819001012,0.6]
[37.86,"YERLİ KATKI ORANI RAPORU",null,291539009111,0.6]
[37.87,"YERLİ KATKI ORANI RAPORU",null,391190920000,0.6]
[37.88,"YERLİ KATKI ORANI RAPORU",null,391220190019,0.6]
[37.89,"YERLİ KATKI ORANI RAPORU",null,390421000000,0.6]
[{"v":37.9,"d":"37.90"},"YERLİ KATKI ORANI RAPORU",null,390422000000,0.6]
[37.91,"YERLİ KATKI ORANI RAPORU",null,400299100000,0.6]
[37.92,"YERLİ KATKI ORANI RAPORU",null,481151001000,0.6]
[37.93,"YERLİ KATKI ORANI RAPORU",null,391739008000,0.6]
[37.94,"YERLİ KATKI ORANI RAPORU",null,391732008000,0.6]
[37.95,"YERLİ KATKI ORANI RAPORU",null,392690979018,0.6]
[37.96,"YERLİ KATKI ORANI RAPORU",null,392590200000,0.6]
[37.97,"YERLİ KATKI ORANI RAPORU",null,711100000011,0.6]
[37.98,"YERLİ KATKI ORANI RAPORU",null,711100000012,0.6]
[37.99,"YERLİ KATKI ORANI RAPORU",null,711011000000,0.6]
[{"v":38,"d":"38.00"},"YERLİ KATKI ORANI RAPORU",null,711510000000,0.6]
[38.01,"YERLİ KATKI ORANI RAPORU",null,848180400000,0.6]
[38.02,"YERLİ KATKI ORANI RAPORU",null,391190130000,0.6]
[38.03,"YERLİ KATKI ORANI RAPORU",null,390599100000,0.6]
[38.04,"YERLİ KATKI ORANI RAPORU",null,390690100000,0.6]
[38.05,"YERLİ KATKI ORANI RAPORU",null,391120000000,0.6]
[38.06,"YERLİ KATKI ORANI RAPORU",null,391190110000,0.6]
[38.07,"YERLİ KATKI ORANI RAPORU",null,390530000000,0.6]
[38.08,"YERLİ KATKI ORANI RAPORU",null,390410000019,0.6]
[38.09,"YERLİ KATKI ORANI RAPORU",null,390512000000,0.6]
[{"v":38.1,"d":"38.10"},"YERLİ KATKI ORANI RAPORU",null,390519000000,0.6]
[38.11,"YERLİ KATKI ORANI RAPORU",null,392099210000,0.6]
[38.12,"YERLİ KATKI ORANI RAPORU",null,560490101100,0.6]
[38.13,"YERLİ KATKI ORANI RAPORU",null,560490101200,0.6]
[38.14,"YERLİ KATKI ORANI RAPORU",null,290399800019,0.6]
[38.15,"YERLİ KATKI ORANI RAPORU",null,290399800015,0.6]
[38.16,"YERLİ KATKI ORANI RAPORU",null,392190100000,0.6]
[38.17,"YERLİ KATKI ORANI RAPORU",null,550510300019,0.6]
[38.18,"YERLİ KATKI ORANI RAPORU",null,560741000000,0.6]
[38.19,"YERLİ KATKI ORANI RAPORU",null,280920000015,0.6]
[{"v":38.2,"d":"38.20"},"YERLİ KATKI ORANI RAPORU",null,390220000000,0.6]
[38.21,"YERLİ KATKI ORANI RAPORU",null,391400000000,0.6]
[38.22,"YERLİ KATKI ORANI RAPORU",null,294190000014,0.6]
[38.23,"YERLİ KATKI ORANI RAPORU",null,293719000019,0.6]
[38.24,"YERLİ KATKI ORANI RAPORU",null,550510700019,0.6]
[38.25,"YERLİ KATKI ORANI RAPORU",null,540412000019,0.6]
[38.26,"YERLİ KATKI ORANI RAPORU",null,540412000011,0.6]
[38.27,"YERLİ KATKI ORANI RAPORU",null,390290100000,0.6]
[38.28,"YERLİ KATKI ORANI RAPORU",null,390469100000,0.6]
[38.29,"YERLİ KATKI ORANI RAPORU",null,390290200000,0.6]
[{"v":38.3,"d":"38.30"},"YERLİ KATKI ORANI RAPORU",null,540220001000,0.6]
[38.31,"YERLİ KATKI ORANI RAPORU",null,540220002911,0.6]
[38.32,"YERLİ KATKI ORANI RAPORU",null,381700800011,0.6]
[38.33,"YERLİ KATKI ORANI RAPORU",null,845390000000,0.6]
[38.34,"YERLİ KATKI ORANI RAPORU",null,310490009000,0.6]
[38.35,"YERLİ KATKI ORANI RAPORU",null,280519900011,0.6]
[38.36,"YERLİ KATKI ORANI RAPORU",null,292249859022,0.6]
[38.37,"YERLİ KATKI ORANI RAPORU",null,283640000012,0.6]
[38.38,"YERLİ KATKI ORANI RAPORU",null,291813001012,0.6]
[38.39,"YERLİ KATKI ORANI RAPORU",null,282751000012,0.6]
[{"v":38.4,"d":"38.40"},"YERLİ KATKI ORANI RAPORU",null,284150001000,0.6]
[38.41,"YERLİ KATKI ORANI RAPORU",null,282690801000,0.6]
[38.42,"YERLİ KATKI ORANI RAPORU",null,282690806000,0.6]
[38.43,"YERLİ KATKI ORANI RAPORU",null,282619901000,0.6]
[38.44,"YERLİ KATKI ORANI RAPORU",null,283524000000,0.6]
[38.45,"YERLİ KATKI ORANI RAPORU",null,283510002000,0.6]
[38.46,"YERLİ KATKI ORANI RAPORU",null,291816000014,0.6]
[38.47,"YERLİ KATKI ORANI RAPORU",null,281520000000,0.6]
[38.48,"YERLİ KATKI ORANI RAPORU",null,282760003000,0.6]
[38.49,"YERLİ KATKI ORANI RAPORU",null,283640000011,0.6]
[{"v":38.5,"d":"38.50"},"YERLİ KATKI ORANI RAPORU",null,282919000012,0.6]
[38.51,"YERLİ KATKI ORANI RAPORU",null,310420100000,0.6]
[38.52,"YERLİ KATKI ORANI RAPORU",null,310420900000,0.6]
[38.53,"YERLİ KATKI ORANI RAPORU",null,284150009012,0.6]
[38.54,"YERLİ KATKI ORANI RAPORU",null,291615009016,0.6]
[38.55,"YERLİ KATKI ORANI RAPORU",null,283410002011,0.6]
[38.56,"YERLİ KATKI ORANI RAPORU",null,291711009012,0.6]
[38.57,"YERLİ KATKI ORANI RAPORU",null,291615009015,0.6]
[38.58,"YERLİ KATKI ORANI RAPORU",null,283699902000,0.6]
[38.59,"YERLİ KATKI ORANI RAPORU",null,284161000000,0.6]
[{"v":38.6,"d":"38.60"},"YERLİ KATKI ORANI RAPORU",null,283340003000,0.6]
[38.61,"YERLİ KATKI ORANI RAPORU",null,283539002000,0.6]
[38.62,"YERLİ KATKI ORANI RAPORU",null,283090851013,0.6]
[38.63,"YERLİ KATKI ORANI RAPORU",null,291815009012,0.6]
[38.64,"YERLİ KATKI ORANI RAPORU",null,283719003000,0.6]
[38.65,"YERLİ KATKI ORANI RAPORU",null,291570503011,0.6]
[38.66,"YERLİ KATKI ORANI RAPORU",null,310430001000,0.6]
[38.67,"YERLİ KATKI ORANI RAPORU",null,310430009000,0.6]
[38.68,"YERLİ KATKI ORANI RAPORU",null,283220009011,0.6]
[38.69,"YERLİ KATKI ORANI RAPORU",null,283090851011,0.6]
[{"v":38.7,"d":"38.70"},"YERLİ KATKI ORANI RAPORU",null,291813001011,0.6]
[38.71,"YERLİ KATKI ORANI RAPORU",null,282990400000,0.6]
[38.72,"YERLİ KATKI ORANI RAPORU",null,902789100000,0.6]
[38.73,"YERLİ KATKI ORANI RAPORU",null,292219000013,0.6]
[38.74,"YERLİ KATKI ORANI RAPORU",null,280530290000,0.6]
[38.75,"YERLİ KATKI ORANI RAPORU",null,284690500000,0.6]
[38.76,"YERLİ KATKI ORANI RAPORU",null,293721000014,0.6]
[38.77,"YERLİ KATKI ORANI RAPORU",null,293721000013,0.6]
[38.78,"YERLİ KATKI ORANI RAPORU",null,292249859035,0.6]
[38.79,"YERLİ KATKI ORANI RAPORU",null,400110002000,0.6]
[{"v":38.8,"d":"38.80"},"YERLİ KATKI ORANI RAPORU",null,400110001000,0.6]
[38.81,"YERLİ KATKI ORANI RAPORU",null,293339100013,0.6]
[38.82,"YERLİ KATKI ORANI RAPORU",null,850690000000,0.6]
[38.83,"YERLİ KATKI ORANI RAPORU",null,292519950014,0.6]
[38.84,"YERLİ KATKI ORANI RAPORU",null,292429700033,0.6]
[38.85,"YERLİ KATKI ORANI RAPORU",null,903149100000,0.6]
[38.86,"YERLİ KATKI ORANI RAPORU",null,852862000000,0.6]
[38.87,"YERLİ KATKI ORANI RAPORU",null,293723000012,0.6]
[38.88,"YERLİ KATKI ORANI RAPORU",null,292249859011,0.6]
[38.89,"YERLİ KATKI ORANI RAPORU",null,292249859012,0.6]
[{"v":38.9,"d":"38.90"},"YERLİ KATKI ORANI RAPORU",null,271129000011,0.6]
[38.91,"YERLİ KATKI ORANI RAPORU",null,271112190000,0.6]
[38.92,"YERLİ KATKI ORANI RAPORU",null,271112110000,0.6]
[38.93,"YERLİ KATKI ORANI RAPORU",null,271112970000,0.6]
[38.94,"YERLİ KATKI ORANI RAPORU",null,293369109012,0.6]
[38.95,"YERLİ KATKI ORANI RAPORU",null,290122000019,0.6]
[38.96,"YERLİ KATKI ORANI RAPORU",null,290122000011,0.6]
[38.97,"YERLİ KATKI ORANI RAPORU",null,293311100000,0.6]
[38.98,"YERLİ KATKI ORANI RAPORU",null,290512000011,0.6]
[38.99,"YERLİ KATKI ORANI RAPORU",null,291539001000,0.6]
[{"v":39,"d":"39.00"},"YERLİ KATKI ORANI RAPORU",null,291829008122,0.6]
[39.01,"YERLİ KATKI ORANI RAPORU",null,291829003023,0.6]
[39.02,"YERLİ KATKI ORANI RAPORU",null,291590700043,0.6]
[39.03,"YERLİ KATKI ORANI RAPORU",null,271114000012,0.6]
[39.04,"YERLİ KATKI ORANI RAPORU",null,291550000011,0.6]
[39.05,"YERLİ KATKI ORANI RAPORU",null,291550000019,0.6]
[39.06,"YERLİ KATKI ORANI RAPORU",null,293750000000,0.6]
[39.07,"YERLİ KATKI ORANI RAPORU",null,291249009011,0.6]
[39.08,"YERLİ KATKI ORANI RAPORU",null,293942000011,0.6]
[39.09,"YERLİ KATKI ORANI RAPORU",null,293942000012,0.6]
[{"v":39.1,"d":"39.10"},"YERLİ KATKI ORANI RAPORU",null,901910900012,0.6]
[39.11,"YERLİ KATKI ORANI RAPORU",null,293590900014,0.6]
[39.12,"YERLİ KATKI ORANI RAPORU",null,290410000021,0.6]
[39.13,"YERLİ KATKI ORANI RAPORU",null,290499000011,0.6]
[39.14,"YERLİ KATKI ORANI RAPORU",null,720690000011,0.6]
[39.15,"YERLİ KATKI ORANI RAPORU",null,710610000000,0.6]
[39.16,"YERLİ KATKI ORANI RAPORU",null,844790000019,0.6]
[39.17,"YERLİ KATKI ORANI RAPORU",null,842420000000,0.6]
[39.18,"YERLİ KATKI ORANI RAPORU",null,293359950032,0.6]
[39.19,"YERLİ KATKI ORANI RAPORU",null,290499000034,0.6]
[{"v":39.2,"d":"39.20"},"YERLİ KATKI ORANI RAPORU",null,852910651000,0.6]
[39.21,"YERLİ KATKI ORANI RAPORU",null,852910659000,0.6]
[39.22,"YERLİ KATKI ORANI RAPORU",null,852560000029,0.6]
[39.23,"YERLİ KATKI ORANI RAPORU",null,284443200012,0.6]
[39.24,"YERLİ KATKI ORANI RAPORU",null,284443200011,0.6]
[39.25,"YERLİ KATKI ORANI RAPORU",null,284443200013,0.6]
[39.26,"YERLİ KATKI ORANI RAPORU",null,284443200014,0.6]
[39.27,"YERLİ KATKI ORANI RAPORU",null,780600100000,0.6]
[39.28,"YERLİ KATKI ORANI RAPORU",null,852550000013,0.6]
[39.29,"YERLİ KATKI ORANI RAPORU",null,902290800011,0.6]
[{"v":39.3,"d":"39.30"},"YERLİ KATKI ORANI RAPORU",null,740200000019,0.6]
[39.31,"YERLİ KATKI ORANI RAPORU",null,740819900019,0.6]
[39.32,"YERLİ KATKI ORANI RAPORU",null,740811000019,0.6]
[39.33,"YERLİ KATKI ORANI RAPORU",null,740819900011,0.6]
[39.34,"YERLİ KATKI ORANI RAPORU",null,741021000000,0.6]
[39.35,"YERLİ KATKI ORANI RAPORU",null,741011000019,0.6]
[39.36,"YERLİ KATKI ORANI RAPORU",null,741011000011,0.6]
[39.37,"YERLİ KATKI ORANI RAPORU",null,740311009000,0.6]
[39.38,"YERLİ KATKI ORANI RAPORU",null,740313000000,0.6]
[39.39,"YERLİ KATKI ORANI RAPORU",null,740312000000,0.6]
[{"v":39.4,"d":"39.40"},"YERLİ KATKI ORANI RAPORU",null,740319001000,0.6]
[39.41,"YERLİ KATKI ORANI RAPORU",null,250300900013,0.6]
[39.42,"YERLİ KATKI ORANI RAPORU",null,530890190000,0.6]
[39.43,"YERLİ KATKI ORANI RAPORU",null,530890120000,0.6]
[39.44,"YERLİ KATKI ORANI RAPORU",null,531100100000,0.6]
[39.45,"YERLİ KATKI ORANI RAPORU",null,294000000011,0.6]
[39.46,"YERLİ KATKI ORANI RAPORU",null,820760100000,0.6]
[39.47,"YERLİ KATKI ORANI RAPORU",null,381590900000,0.6]
[39.48,"YERLİ KATKI ORANI RAPORU",null,380690009011,0.6]
[39.49,"YERLİ KATKI ORANI RAPORU",null,850440831000,0.6]
[{"v":39.5,"d":"39.50"},"YERLİ KATKI ORANI RAPORU",null,850440839019,0.6]
[39.51,"YERLİ KATKI ORANI RAPORU",null,400300000000,0.6]
[39.52,"YERLİ KATKI ORANI RAPORU",null,392114000000,0.6]
[39.53,"YERLİ KATKI ORANI RAPORU",null,392071000000,0.6]
[39.54,"YERLİ KATKI ORANI RAPORU",null,370256000000,0.6]
[39.55,"YERLİ KATKI ORANI RAPORU",null,370255000000,0.6]
[39.56,"YERLİ KATKI ORANI RAPORU",null,370191000000,0.6]
[39.57,"YERLİ KATKI ORANI RAPORU",null,370231970000,0.6]
[39.58,"YERLİ KATKI ORANI RAPORU",null,370231910000,0.6]
[39.59,"YERLİ KATKI ORANI RAPORU",null,280120001000,0.6]
[{"v":39.6,"d":"39.60"},"YERLİ KATKI ORANI RAPORU",null,293979909018,0.6]
[39.61,"YERLİ KATKI ORANI RAPORU",null,330130000000,0.6]
[39.62,"YERLİ KATKI ORANI RAPORU",null,290721001000,0.6]
[39.63,"YERLİ KATKI ORANI RAPORU",null,290721002000,0.6]
[39.64,"YERLİ KATKI ORANI RAPORU",null,294190000041,0.6]
[39.65,"YERLİ KATKI ORANI RAPORU",null,294190000042,0.6]
[39.66,"YERLİ KATKI ORANI RAPORU",null,290522000015,0.6]
[39.67,"YERLİ KATKI ORANI RAPORU",null,711039000000,0.6]
[39.68,"YERLİ KATKI ORANI RAPORU",null,850240001000,0.6]
[39.69,"YERLİ KATKI ORANI RAPORU",null,850240009000,0.6]
[{"v":39.7,"d":"39.70"},"YERLİ KATKI ORANI RAPORU",null,853641100000,0.6]
[39.71,"YERLİ KATKI ORANI RAPORU",null,370210000000,0.6]
[39.72,"YERLİ KATKI ORANI RAPORU",null,293810000011,0.6]
[39.73,"YERLİ KATKI ORANI RAPORU",null,293810000012,0.6]
[39.74,"YERLİ KATKI ORANI RAPORU",null,701590002000,0.6]
[39.75,"YERLİ KATKI ORANI RAPORU",null,701590009019,0.6]
[39.76,"YERLİ KATKI ORANI RAPORU",null,911490900000,0.6]
[39.77,"YERLİ KATKI ORANI RAPORU",null,911430000000,0.6]
[39.78,"YERLİ KATKI ORANI RAPORU",null,911440000000,0.6]
[39.79,"YERLİ KATKI ORANI RAPORU",null,911490100000,0.6]
[{"v":39.8,"d":"39.80"},"YERLİ KATKI ORANI RAPORU",null,911180000000,0.6]
[39.81,"YERLİ KATKI ORANI RAPORU",null,911120000000,0.6]
[39.82,"YERLİ KATKI ORANI RAPORU",null,911110000000,0.6]
[39.83,"YERLİ KATKI ORANI RAPORU",null,911190000000,0.6]
[39.84,"YERLİ KATKI ORANI RAPORU",null,900890001000,0.6]
[39.85,"YERLİ KATKI ORANI RAPORU",null,853210000000,0.6]
[39.86,"YERLİ KATKI ORANI RAPORU",null,853290000000,0.6]
[39.87,"YERLİ KATKI ORANI RAPORU",null,853400110000,0.6]
[39.88,"YERLİ KATKI ORANI RAPORU",null,853400190000,0.6]
[39.89,"YERLİ KATKI ORANI RAPORU",null,950300290000,0.6]
[{"v":39.9,"d":"39.90"},"YERLİ KATKI ORANI RAPORU",null,390390100000,0.6]
[39.91,"YERLİ KATKI ORANI RAPORU",null,851519100000,0.6]
[39.92,"YERLİ KATKI ORANI RAPORU",null,842010810000,0.6]
[39.93,"YERLİ KATKI ORANI RAPORU",null,852990930000,0.6]
[39.94,"YERLİ KATKI ORANI RAPORU",null,285390904000,0.6]
[39.95,"YERLİ KATKI ORANI RAPORU",null,285210002219,0.6]
[39.96,"YERLİ KATKI ORANI RAPORU",null,500720390000,0.6]
[39.97,"YERLİ KATKI ORANI RAPORU",null,290511001012,0.6]
[39.98,"YERLİ KATKI ORANI RAPORU",null,280800000011,0.6]
[39.99,"YERLİ KATKI ORANI RAPORU",null,285390905000,0.6]
[{"v":40,"d":"40.00"},"YERLİ KATKI ORANI RAPORU",null,290511002012,0.6]
[40.01,"YERLİ KATKI ORANI RAPORU",null,280700000011,0.6]
[40.02,"YERLİ KATKI ORANI RAPORU",null,710391000012,0.6]
[40.03,"YERLİ KATKI ORANI RAPORU",null,710310000011,0.6]
[40.04,"YERLİ KATKI ORANI RAPORU",null,291229009011,0.6]
[40.05,"YERLİ KATKI ORANI RAPORU",null,292511001000,0.6]
[40.06,"YERLİ KATKI ORANI RAPORU",null,292511002019,0.6]
[40.07,"YERLİ KATKI ORANI RAPORU",null,291249001011,0.6]
[40.08,"YERLİ KATKI ORANI RAPORU",null,291821000011,0.6]
[40.09,"YERLİ KATKI ORANI RAPORU",null,291823009019,0.6]
[{"v":40.1,"d":"40.10"},"YERLİ KATKI ORANI RAPORU",null,291821000019,0.6]
[40.11,"YERLİ KATKI ORANI RAPORU",null,290619002013,0.6]
[40.12,"YERLİ KATKI ORANI RAPORU",null,841459351000,0.6]
[40.13,"YERLİ KATKI ORANI RAPORU",null,293890901000,0.6]
[40.14,"YERLİ KATKI ORANI RAPORU",null,292249859013,0.6]
[40.15,"YERLİ KATKI ORANI RAPORU",null,291713100000,0.6]
[40.16,"YERLİ KATKI ORANI RAPORU",null,291713900015,0.6]
[40.17,"YERLİ KATKI ORANI RAPORU",null,294190000045,0.6]
[40.18,"YERLİ KATKI ORANI RAPORU",null,294190000043,0.6]
[40.19,"YERLİ KATKI ORANI RAPORU",null,294190000046,0.6]
[{"v":40.2,"d":"40.20"},"YERLİ KATKI ORANI RAPORU",null,294190000047,0.6]
[40.21,"YERLİ KATKI ORANI RAPORU",null,840991000013,0.6]
[40.22,"YERLİ KATKI ORANI RAPORU",null,293353900018,0.6]
[40.23,"YERLİ KATKI ORANI RAPORU",null,290514900012,0.6]
[40.24,"YERLİ KATKI ORANI RAPORU",null,284290100011,0.6]
[40.25,"YERLİ KATKI ORANI RAPORU",null,280490000000,0.6]
[40.26,"YERLİ KATKI ORANI RAPORU",null,281390900011,0.6]
[40.27,"YERLİ KATKI ORANI RAPORU",null,253090300000,0.6]
[40.28,"YERLİ KATKI ORANI RAPORU",null,391211000000,0.6]
[40.29,"YERLİ KATKI ORANI RAPORU",null,391212000000,0.6]
[{"v":40.3,"d":"40.30"},"YERLİ KATKI ORANI RAPORU",null,392073800000,0.6]
[40.31,"YERLİ KATKI ORANI RAPORU",null,392073100000,0.6]
[40.32,"YERLİ KATKI ORANI RAPORU",null,540333000000,0.6]
[40.33,"YERLİ KATKI ORANI RAPORU",null,391290100000,0.6]
[40.34,"YERLİ KATKI ORANI RAPORU",null,391220900000,0.6]
[40.35,"YERLİ KATKI ORANI RAPORU",null,480300100000,0.6]
[40.36,"YERLİ KATKI ORANI RAPORU",null,550390000000,0.6]
[40.37,"YERLİ KATKI ORANI RAPORU",null,400299901900,0.6]
[40.38,"YERLİ KATKI ORANI RAPORU",null,400299901100,0.6]
[40.39,"YERLİ KATKI ORANI RAPORU",null,550510900019,0.6]
[{"v":40.4,"d":"40.40"},"YERLİ KATKI ORANI RAPORU",null,710421000011,0.6]
[40.41,"YERLİ KATKI ORANI RAPORU",null,550130000000,0.6]
[40.42,"YERLİ KATKI ORANI RAPORU",null,550140000000,0.6]
[40.43,"YERLİ KATKI ORANI RAPORU",null,540110180000,0.6]
[40.44,"YERLİ KATKI ORANI RAPORU",null,400280000000,0.6]
[40.45,"YERLİ KATKI ORANI RAPORU",null,320500001000,0.6]
[40.46,"YERLİ KATKI ORANI RAPORU",null,580421009000,0.6]
[40.47,"YERLİ KATKI ORANI RAPORU",null,590900100019,0.6]
[40.48,"YERLİ KATKI ORANI RAPORU",null,590900100011,0.6]
[40.49,"YERLİ KATKI ORANI RAPORU",null,382499150012,0.6]
[{"v":40.5,"d":"40.50"},"YERLİ KATKI ORANI RAPORU",null,710491000019,0.6]
[40.51,"YERLİ KATKI ORANI RAPORU",null,710429000000,0.6]
[40.52,"YERLİ KATKI ORANI RAPORU",null,710499000019,0.6]
[40.53,"YERLİ KATKI ORANI RAPORU",null,710491000011,0.6]
[40.54,"YERLİ KATKI ORANI RAPORU",null,710499000011,0.6]
[40.55,"YERLİ KATKI ORANI RAPORU",null,853224000000,0.6]
[40.56,"YERLİ KATKI ORANI RAPORU",null,853223000000,0.6]
[40.57,"YERLİ KATKI ORANI RAPORU",null,854620000012,0.6]
[40.58,"YERLİ KATKI ORANI RAPORU",null,854620000011,0.6]
[40.59,"YERLİ KATKI ORANI RAPORU",null,854620000013,0.6]
[{"v":40.6,"d":"40.60"},"YERLİ KATKI ORANI RAPORU",null,292250009012,0.6]
[40.61,"YERLİ KATKI ORANI RAPORU",null,811300900000,0.6]
[40.62,"YERLİ KATKI ORANI RAPORU",null,401699520000,0.6]
[40.63,"YERLİ KATKI ORANI RAPORU",null,401490000019,0.6]
[40.64,"YERLİ KATKI ORANI RAPORU",null,391729004000,0.6]
[40.65,"YERLİ KATKI ORANI RAPORU",null,842541000000,0.6]
[40.66,"YERLİ KATKI ORANI RAPORU",null,284610000000,0.6]
[40.67,"YERLİ KATKI ORANI RAPORU",null,280530210000,0.6]
[40.68,"YERLİ KATKI ORANI RAPORU",null,851989000000,0.6]
[40.69,"YERLİ KATKI ORANI RAPORU",null,851761001000,0.6]
[{"v":40.7,"d":"40.70"},"YERLİ KATKI ORANI RAPORU",null,851761009000,0.6]
[40.71,"YERLİ KATKI ORANI RAPORU",null,851762001000,0.6]
[40.72,"YERLİ KATKI ORANI RAPORU",null,851762009000,0.6]
[40.73,"YERLİ KATKI ORANI RAPORU",null,852380100000,0.6]
[40.74,"YERLİ KATKI ORANI RAPORU",null,852341900000,0.6]
[40.75,"YERLİ KATKI ORANI RAPORU",null,852329150018,0.6]
[40.76,"YERLİ KATKI ORANI RAPORU",null,852359100000,0.6]
[40.77,"YERLİ KATKI ORANI RAPORU",null,290517002011,0.6]
[40.78,"YERLİ KATKI ORANI RAPORU",null,901530909000,0.6]
[40.79,"YERLİ KATKI ORANI RAPORU",null,500720410000,0.6]
[{"v":40.8,"d":"40.80"},"YERLİ KATKI ORANI RAPORU",null,280519900013,0.6]
[40.81,"YERLİ KATKI ORANI RAPORU",null,853931900019,0.6]
[40.82,"YERLİ KATKI ORANI RAPORU",null,853931900011,0.6]
[40.83,"YERLİ KATKI ORANI RAPORU",null,853931100014,0.6]
[40.84,"YERLİ KATKI ORANI RAPORU",null,853931100011,0.6]
[40.85,"YERLİ KATKI ORANI RAPORU",null,853931100012,0.6]
[40.86,"YERLİ KATKI ORANI RAPORU",null,853931100013,0.6]
[40.87,"YERLİ KATKI ORANI RAPORU",null,854099000000,0.6]
[40.88,"YERLİ KATKI ORANI RAPORU",null,410711900000,0.6]
[40.89,"YERLİ KATKI ORANI RAPORU",null,410719900000,0.6]
[{"v":40.9,"d":"40.90"},"YERLİ KATKI ORANI RAPORU",null,840999000039,0.6]
[40.91,"YERLİ KATKI ORANI RAPORU",null,842870000000,0.6]
[40.92,"YERLİ KATKI ORANI RAPORU",null,847950000000,0.6]
[40.93,"YERLİ KATKI ORANI RAPORU",null,850720200019,0.6]
[40.94,"YERLİ KATKI ORANI RAPORU",null,850720200011,0.6]
[40.95,"YERLİ KATKI ORANI RAPORU",null,285390300000,0.6]
[40.96,"YERLİ KATKI ORANI RAPORU",null,853120950000,0.6]
[40.97,"YERLİ KATKI ORANI RAPORU",null,902690009000,0.6]
[40.98,"YERLİ KATKI ORANI RAPORU",null,380120100000,0.6]
[40.99,"YERLİ KATKI ORANI RAPORU",null,841370891000,0.6]
[{"v":41,"d":"41.00"},"YERLİ KATKI ORANI RAPORU",null,841370899000,0.6]
[41.01,"YERLİ KATKI ORANI RAPORU",null,841319009019,0.6]
[41.02,"YERLİ KATKI ORANI RAPORU",null,841381000000,0.6]
[41.03,"YERLİ KATKI ORANI RAPORU",null,841370359000,0.6]
[41.04,"YERLİ KATKI ORANI RAPORU",null,841350801000,0.6]
[41.05,"YERLİ KATKI ORANI RAPORU",null,841350809000,0.6]
[41.06,"YERLİ KATKI ORANI RAPORU",null,841350401000,0.6]
[41.07,"YERLİ KATKI ORANI RAPORU",null,841350409000,0.6]
[41.08,"YERLİ KATKI ORANI RAPORU",null,841350691000,0.6]
[41.09,"YERLİ KATKI ORANI RAPORU",null,841350699000,0.6]
[{"v":41.1,"d":"41.10"},"YERLİ KATKI ORANI RAPORU",null,841350201000,0.6]
[41.11,"YERLİ KATKI ORANI RAPORU",null,841350209000,0.6]
[41.12,"YERLİ KATKI ORANI RAPORU",null,841360801000,0.6]
[41.13,"YERLİ KATKI ORANI RAPORU",null,841360809000,0.6]
[41.14,"YERLİ KATKI ORANI RAPORU",null,841360201000,0.6]
[41.15,"YERLİ KATKI ORANI RAPORU",null,841360209000,0.6]
[41.16,"YERLİ KATKI ORANI RAPORU",null,841360319019,0.6]
[41.17,"YERLİ KATKI ORANI RAPORU",null,841360311000,0.6]
[41.18,"YERLİ KATKI ORANI RAPORU",null,841360691000,0.6]
[41.19,"YERLİ KATKI ORANI RAPORU",null,841360699000,0.6]
[{"v":41.2,"d":"41.20"},"YERLİ KATKI ORANI RAPORU",null,841360619000,0.6]
[41.21,"YERLİ KATKI ORANI RAPORU",null,841360709000,0.6]
[41.22,"YERLİ KATKI ORANI RAPORU",null,841320001000,0.6]
[41.23,"YERLİ KATKI ORANI RAPORU",null,841319009012,0.6]
[41.24,"YERLİ KATKI ORANI RAPORU",null,841370659000,0.6]
[41.25,"YERLİ KATKI ORANI RAPORU",null,841370519000,0.6]
[41.26,"YERLİ KATKI ORANI RAPORU",null,841370511000,0.6]
[41.27,"YERLİ KATKI ORANI RAPORU",null,841370819000,0.6]
[41.28,"YERLİ KATKI ORANI RAPORU",null,902620802000,0.6]
[41.29,"YERLİ KATKI ORANI RAPORU",null,902620401000,0.6]
[{"v":41.3,"d":"41.30"},"YERLİ KATKI ORANI RAPORU",null,902620409000,0.6]
[41.31,"YERLİ KATKI ORANI RAPORU",null,902610899000,0.6]
[41.32,"YERLİ KATKI ORANI RAPORU",null,902610299000,0.6]
[41.33,"YERLİ KATKI ORANI RAPORU",null,842129800019,0.6]
[41.34,"YERLİ KATKI ORANI RAPORU",null,902620801000,0.6]
[41.35,"YERLİ KATKI ORANI RAPORU",null,902620808000,0.6]
[41.36,"YERLİ KATKI ORANI RAPORU",null,902620209000,0.6]
[41.37,"YERLİ KATKI ORANI RAPORU",null,902680209000,0.6]
[41.38,"YERLİ KATKI ORANI RAPORU",null,842199900019,0.6]
[41.39,"YERLİ KATKI ORANI RAPORU",null,481390901000,0.6]
[{"v":41.4,"d":"41.40"},"YERLİ KATKI ORANI RAPORU",null,290920000000,0.6]
[41.41,"YERLİ KATKI ORANI RAPORU",null,290389800019,0.6]
[41.42,"YERLİ KATKI ORANI RAPORU",null,290389700019,0.6]
[41.43,"YERLİ KATKI ORANI RAPORU",null,291720000000,0.6]
[41.44,"YERLİ KATKI ORANI RAPORU",null,290219000029,0.6]
[41.45,"YERLİ KATKI ORANI RAPORU",null,293299002000,0.6]
[41.46,"YERLİ KATKI ORANI RAPORU",null,290290009900,0.6]
[41.47,"YERLİ KATKI ORANI RAPORU",null,290211000000,0.6]
[41.48,"YERLİ KATKI ORANI RAPORU",null,291620000011,0.6]
[41.49,"YERLİ KATKI ORANI RAPORU",null,290612000011,0.6]
[{"v":41.5,"d":"41.50"},"YERLİ KATKI ORANI RAPORU",null,291422000011,0.6]
[41.51,"YERLİ KATKI ORANI RAPORU",null,290219000021,0.6]
[41.52,"YERLİ KATKI ORANI RAPORU",null,291539009912,0.6]
[41.53,"YERLİ KATKI ORANI RAPORU",null,292130100011,0.6]
[41.54,"YERLİ KATKI ORANI RAPORU",null,292130100013,0.6]
[41.55,"YERLİ KATKI ORANI RAPORU",null,292130100012,0.6]
[41.56,"YERLİ KATKI ORANI RAPORU",null,292130910000,0.6]
[41.57,"YERLİ KATKI ORANI RAPORU",null,291429000015,0.6]
[41.58,"YERLİ KATKI ORANI RAPORU",null,292219000022,0.6]
[41.59,"YERLİ KATKI ORANI RAPORU",null,292219000023,0.6]
[{"v":41.6,"d":"41.60"},"YERLİ KATKI ORANI RAPORU",null,294190000017,0.6]
[41.61,"YERLİ KATKI ORANI RAPORU",null,291229009012,0.6]
[41.62,"YERLİ KATKI ORANI RAPORU",null,901310900019,0.6]
[41.63,"YERLİ KATKI ORANI RAPORU",null,901320000010,0.6]
[41.64,"YERLİ KATKI ORANI RAPORU",null,901310900011,0.6]
[41.65,"YERLİ KATKI ORANI RAPORU",null,901390050000,0.6]
[41.66,"YERLİ KATKI ORANI RAPORU",null,690320101011,0.6]
[41.67,"YERLİ KATKI ORANI RAPORU",null,722820100011,0.6]
[41.68,"YERLİ KATKI ORANI RAPORU",null,722820990000,0.6]
[41.69,"YERLİ KATKI ORANI RAPORU",null,722820910000,0.6]
[{"v":41.7,"d":"41.70"},"YERLİ KATKI ORANI RAPORU",null,722820100019,0.6]
[41.71,"YERLİ KATKI ORANI RAPORU",null,722720000000,0.6]
[41.72,"YERLİ KATKI ORANI RAPORU",null,391000000011,0.6]
[41.73,"YERLİ KATKI ORANI RAPORU",null,840991000014,0.6]
[41.74,"YERLİ KATKI ORANI RAPORU",null,281119809013,0.6]
[41.75,"YERLİ KATKI ORANI RAPORU",null,251200000019,0.6]
[41.76,"YERLİ KATKI ORANI RAPORU",null,690100000000,0.6]
[41.77,"YERLİ KATKI ORANI RAPORU",null,285000602000,0.6]
[41.78,"YERLİ KATKI ORANI RAPORU",null,284920000000,0.6]
[41.79,"YERLİ KATKI ORANI RAPORU",null,280469000000,0.6]
[{"v":41.8,"d":"41.80"},"YERLİ KATKI ORANI RAPORU",null,280461000000,0.6]
[41.81,"YERLİ KATKI ORANI RAPORU",null,722519100019,0.6]
[41.82,"YERLİ KATKI ORANI RAPORU",null,722619100019,0.6]
[41.83,"YERLİ KATKI ORANI RAPORU",null,722619800011,0.6]
[41.84,"YERLİ KATKI ORANI RAPORU",null,722619800012,0.6]
[41.85,"YERLİ KATKI ORANI RAPORU",null,722611000010,0.6]
[41.86,"YERLİ KATKI ORANI RAPORU",null,722611000090,0.6]
[41.87,"YERLİ KATKI ORANI RAPORU",null,293369109013,0.6]
[41.88,"YERLİ KATKI ORANI RAPORU",null,901120900012,0.6]
[41.89,"YERLİ KATKI ORANI RAPORU",null,900792000000,0.6]
[{"v":41.9,"d":"41.90"},"YERLİ KATKI ORANI RAPORU",null,900791000000,0.6]
[41.91,"YERLİ KATKI ORANI RAPORU",null,901090200000,0.6]
[41.92,"YERLİ KATKI ORANI RAPORU",null,293299005014,0.6]
[41.93,"YERLİ KATKI ORANI RAPORU",null,854320000000,0.6]
[41.94,"YERLİ KATKI ORANI RAPORU",null,293359950031,0.6]
[41.95,"YERLİ KATKI ORANI RAPORU",null,360490000013,0.6]
[41.96,"YERLİ KATKI ORANI RAPORU",null,530500001019,0.6]
[41.97,"YERLİ KATKI ORANI RAPORU",null,293090130000,0.6]
[41.98,"YERLİ KATKI ORANI RAPORU",null,293090160000,0.6]
[41.99,"YERLİ KATKI ORANI RAPORU",null,847149009000,0.6]
[{"v":42,"d":"42.00"},"YERLİ KATKI ORANI RAPORU",null,291219001011,0.6]
[42.01,"YERLİ KATKI ORANI RAPORU",null,291815009029,0.6]
[42.02,"YERLİ KATKI ORANI RAPORU",null,291815009019,0.6]
[42.03,"YERLİ KATKI ORANI RAPORU",null,291219001012,0.6]
[42.04,"YERLİ KATKI ORANI RAPORU",null,290522000013,0.6]
[42.05,"YERLİ KATKI ORANI RAPORU",null,840890611000,0.6]
[42.06,"YERLİ KATKI ORANI RAPORU",null,840890471000,0.6]
[42.07,"YERLİ KATKI ORANI RAPORU",null,401130001000,0.6]
[42.08,"YERLİ KATKI ORANI RAPORU",null,840710001011,0.6]
[42.09,"YERLİ KATKI ORANI RAPORU",null,840710001012,0.6]
[{"v":42.1,"d":"42.10"},"YERLİ KATKI ORANI RAPORU",null,401220001000,0.6]
[42.11,"YERLİ KATKI ORANI RAPORU",null,401213001000,0.6]
[42.12,"YERLİ KATKI ORANI RAPORU",null,901490001900,0.6]
[42.13,"YERLİ KATKI ORANI RAPORU",null,840910001000,0.6]
[42.14,"YERLİ KATKI ORANI RAPORU",null,902920381000,0.6]
[42.15,"YERLİ KATKI ORANI RAPORU",null,852873000000,0.6]
[42.16,"YERLİ KATKI ORANI RAPORU",null,130232901000,0.6]
[42.17,"YERLİ KATKI ORANI RAPORU",null,130232909000,0.6]
[42.18,"YERLİ KATKI ORANI RAPORU",null,293369800011,0.6]
[42.19,"YERLİ KATKI ORANI RAPORU",null,280530400000,0.6]
[{"v":42.2,"d":"42.20"},"YERLİ KATKI ORANI RAPORU",null,284690300000,0.6]
[42.21,"YERLİ KATKI ORANI RAPORU",null,293399201012,0.6]
[42.22,"YERLİ KATKI ORANI RAPORU",null,280511000000,0.6]
[42.23,"YERLİ KATKI ORANI RAPORU",null,284190853013,0.6]
[42.24,"YERLİ KATKI ORANI RAPORU",null,284290801100,0.6]
[42.25,"YERLİ KATKI ORANI RAPORU",null,291529001000,0.6]
[42.26,"YERLİ KATKI ORANI RAPORU",null,285000601011,0.6]
[42.27,"YERLİ KATKI ORANI RAPORU",null,291631009012,0.6]
[42.28,"YERLİ KATKI ORANI RAPORU",null,283210000012,0.6]
[42.29,"YERLİ KATKI ORANI RAPORU",null,284020100000,0.6]
[{"v":42.3,"d":"42.30"},"YERLİ KATKI ORANI RAPORU",null,282751000011,0.6]
[42.31,"YERLİ KATKI ORANI RAPORU",null,291560190013,0.6]
[42.32,"YERLİ KATKI ORANI RAPORU",null,284130000000,0.6]
[42.33,"YERLİ KATKI ORANI RAPORU",null,283110000011,0.6]
[42.34,"YERLİ KATKI ORANI RAPORU",null,290519001012,0.6]
[42.35,"YERLİ KATKI ORANI RAPORU",null,291819981011,0.6]
[42.36,"YERLİ KATKI ORANI RAPORU",null,282690809011,0.6]
[42.37,"YERLİ KATKI ORANI RAPORU",null,282690809012,0.6]
[42.38,"YERLİ KATKI ORANI RAPORU",null,282690805000,0.6]
[42.39,"YERLİ KATKI ORANI RAPORU",null,282619109000,0.6]
[{"v":42.4,"d":"42.40"},"YERLİ KATKI ORANI RAPORU",null,291512000012,0.6]
[42.41,"YERLİ KATKI ORANI RAPORU",null,283529902000,0.6]
[42.42,"YERLİ KATKI ORANI RAPORU",null,283510001011,0.6]
[42.43,"YERLİ KATKI ORANI RAPORU",null,291829008112,0.6]
[42.44,"YERLİ KATKI ORANI RAPORU",null,291990009012,0.6]
[42.45,"YERLİ KATKI ORANI RAPORU",null,291816000013,0.6]
[42.46,"YERLİ KATKI ORANI RAPORU",null,282630000000,0.6]
[42.47,"YERLİ KATKI ORANI RAPORU",null,283010000012,0.6]
[42.48,"YERLİ KATKI ORANI RAPORU",null,281511000000,0.6]
[42.49,"YERLİ KATKI ORANI RAPORU",null,282990802000,0.6]
[{"v":42.5,"d":"42.50"},"YERLİ KATKI ORANI RAPORU",null,282760001000,0.6]
[42.51,"YERLİ KATKI ORANI RAPORU",null,350190900011,0.6]
[42.52,"YERLİ KATKI ORANI RAPORU",null,282911000000,0.6]
[42.53,"YERLİ KATKI ORANI RAPORU",null,284150009011,0.6]
[42.54,"YERLİ KATKI ORANI RAPORU",null,291811000013,0.6]
[42.55,"YERLİ KATKI ORANI RAPORU",null,283210000013,0.6]
[42.56,"YERLİ KATKI ORANI RAPORU",null,290519001011,0.6]
[42.57,"YERLİ KATKI ORANI RAPORU",null,284170009011,0.6]
[42.58,"YERLİ KATKI ORANI RAPORU",null,310250000000,0.6]
[42.59,"YERLİ KATKI ORANI RAPORU",null,283410005000,0.6]
[{"v":42.6,"d":"42.60"},"YERLİ KATKI ORANI RAPORU",null,291711009013,0.6]
[42.61,"YERLİ KATKI ORANI RAPORU",null,291615009013,0.6]
[42.62,"YERLİ KATKI ORANI RAPORU",null,291829003012,0.6]
[42.63,"YERLİ KATKI ORANI RAPORU",null,291570409011,0.6]
[42.64,"YERLİ KATKI ORANI RAPORU",null,284030001011,0.6]
[42.65,"YERLİ KATKI ORANI RAPORU",null,284030001019,0.6]
[42.66,"YERLİ KATKI ORANI RAPORU",null,283699901000,0.6]
[42.67,"YERLİ KATKI ORANI RAPORU",null,282990102011,0.6]
[42.68,"YERLİ KATKI ORANI RAPORU",null,283340001000,0.6]
[42.69,"YERLİ KATKI ORANI RAPORU",null,283090853000,0.6]
[{"v":42.7,"d":"42.70"},"YERLİ KATKI ORANI RAPORU",null,291550000012,0.6]
[42.71,"YERLİ KATKI ORANI RAPORU",null,292511002011,0.6]
[42.72,"YERLİ KATKI ORANI RAPORU",null,291821000012,0.6]
[42.73,"YERLİ KATKI ORANI RAPORU",null,292990000013,0.6]
[42.74,"YERLİ KATKI ORANI RAPORU",null,292990900013,0.6]
[42.75,"YERLİ KATKI ORANI RAPORU",null,291815009011,0.6]
[42.76,"YERLİ KATKI ORANI RAPORU",null,284190859011,0.6]
[42.77,"YERLİ KATKI ORANI RAPORU",null,291570503012,0.6]
[42.78,"YERLİ KATKI ORANI RAPORU",null,293590900018,0.6]
[42.79,"YERLİ KATKI ORANI RAPORU",null,283210000011,0.6]
[{"v":42.8,"d":"42.80"},"YERLİ KATKI ORANI RAPORU",null,283110000012,0.6]
[42.81,"YERLİ KATKI ORANI RAPORU",null,283010000011,0.6]
[42.82,"YERLİ KATKI ORANI RAPORU",null,291813009011,0.6]
[42.83,"YERLİ KATKI ORANI RAPORU",null,283230001000,0.6]
[42.84,"YERLİ KATKI ORANI RAPORU",null,283531000000,0.6]
[42.85,"YERLİ KATKI ORANI RAPORU",null,291560909013,0.6]
[42.86,"YERLİ KATKI ORANI RAPORU",null,283539001000,0.6]
[42.87,"YERLİ KATKI ORANI RAPORU",null,281530000000,0.6]
[42.88,"YERLİ KATKI ORANI RAPORU",null,830140190011,0.6]
[42.89,"YERLİ KATKI ORANI RAPORU",null,841430891000,0.6]
[{"v":42.9,"d":"42.90"},"YERLİ KATKI ORANI RAPORU",null,841430899000,0.6]
[42.91,"YERLİ KATKI ORANI RAPORU",null,841430811000,0.6]
[42.92,"YERLİ KATKI ORANI RAPORU",null,841430819000,0.6]
[42.93,"YERLİ KATKI ORANI RAPORU",null,841430201000,0.6]
[42.94,"YERLİ KATKI ORANI RAPORU",null,841430209000,0.6]
[42.95,"YERLİ KATKI ORANI RAPORU",null,400219300000,0.6]
[42.96,"YERLİ KATKI ORANI RAPORU",null,400219200000,0.6]
[42.97,"YERLİ KATKI ORANI RAPORU",null,270750000011,0.6]
[42.98,"YERLİ KATKI ORANI RAPORU",null,291619951000,0.6]
[42.99,"YERLİ KATKI ORANI RAPORU",null,382460990000,0.6]
[{"v":43,"d":"43.00"},"YERLİ KATKI ORANI RAPORU",null,690320101012,0.6]
[43.01,"YERLİ KATKI ORANI RAPORU",null,271019990011,0.6]
[43.02,"YERLİ KATKI ORANI RAPORU",null,851140001000,0.6]
[43.03,"YERLİ KATKI ORANI RAPORU",null,850300989011,0.6]
[43.04,"YERLİ KATKI ORANI RAPORU",null,854232450000,0.6]
[43.05,"YERLİ KATKI ORANI RAPORU",null,291570502000,0.6]
[43.06,"YERLİ KATKI ORANI RAPORU",null,291570501015,0.6]
[43.07,"YERLİ KATKI ORANI RAPORU",null,291570503018,0.6]
[43.08,"YERLİ KATKI ORANI RAPORU",null,290517002012,0.6]
[43.09,"YERLİ KATKI ORANI RAPORU",null,901110000000,0.6]
[{"v":43.1,"d":"43.10"},"YERLİ KATKI ORANI RAPORU",null,294110000024,0.6]
[43.11,"YERLİ KATKI ORANI RAPORU",null,293729000019,0.6]
[43.12,"YERLİ KATKI ORANI RAPORU",null,290613100000,0.6]
[43.13,"YERLİ KATKI ORANI RAPORU",null,130219709910,0.6]
[43.14,"YERLİ KATKI ORANI RAPORU",null,293890909015,0.6]
[43.15,"YERLİ KATKI ORANI RAPORU",null,390320000000,0.6]
[43.16,"YERLİ KATKI ORANI RAPORU",null,902920901000,0.6]
[43.17,"YERLİ KATKI ORANI RAPORU",null,902920909000,0.6]
[43.18,"YERLİ KATKI ORANI RAPORU",null,293890909011,0.6]
[43.19,"YERLİ KATKI ORANI RAPORU",null,291539009114,0.6]
[{"v":43.2,"d":"43.20"},"YERLİ KATKI ORANI RAPORU",null,283692000000,0.6]
[43.21,"YERLİ KATKI ORANI RAPORU",null,282739852012,0.6]
[43.22,"YERLİ KATKI ORANI RAPORU",null,320620000013,0.6]
[43.23,"YERLİ KATKI ORANI RAPORU",null,280519100000,0.6]
[43.24,"YERLİ KATKI ORANI RAPORU",null,281640000000,0.6]
[43.25,"YERLİ KATKI ORANI RAPORU",null,252390000019,0.6]
[43.26,"YERLİ KATKI ORANI RAPORU",null,252390000011,0.6]
[43.27,"YERLİ KATKI ORANI RAPORU",null,840212000000,0.6]
[43.28,"YERLİ KATKI ORANI RAPORU",null,840211000000,0.6]
[43.29,"YERLİ KATKI ORANI RAPORU",null,840510000012,0.6]
[{"v":43.3,"d":"43.30"},"YERLİ KATKI ORANI RAPORU",null,840510000019,0.6]
[43.31,"YERLİ KATKI ORANI RAPORU",null,841012000000,0.6]
[43.32,"YERLİ KATKI ORANI RAPORU",null,841013000000,0.6]
[43.33,"YERLİ KATKI ORANI RAPORU",null,890800002000,0.6]
[43.34,"YERLİ KATKI ORANI RAPORU",null,293214000000,0.6]
[43.35,"YERLİ KATKI ORANI RAPORU",null,293590900021,0.6]
[43.36,"YERLİ KATKI ORANI RAPORU",null,294110000035,0.6]
[43.37,"YERLİ KATKI ORANI RAPORU",null,294110000034,0.6]
[43.38,"YERLİ KATKI ORANI RAPORU",null,382460110000,0.6]
[43.39,"YERLİ KATKI ORANI RAPORU",null,382460190000,0.6]
[{"v":43.4,"d":"43.40"},"YERLİ KATKI ORANI RAPORU",null,391710900000,0.6]
[43.41,"YERLİ KATKI ORANI RAPORU",null,391710100000,0.6]
[43.42,"YERLİ KATKI ORANI RAPORU",null,360690101000,0.6]
[43.43,"YERLİ KATKI ORANI RAPORU",null,550490000011,0.6]
[43.44,"YERLİ KATKI ORANI RAPORU",null,550490000012,0.6]
[43.45,"YERLİ KATKI ORANI RAPORU",null,550290000000,0.6]
[43.46,"YERLİ KATKI ORANI RAPORU",null,540120100000,0.6]
[43.47,"YERLİ KATKI ORANI RAPORU",null,380110000000,0.6]
[43.48,"YERLİ KATKI ORANI RAPORU",null,281810910000,0.6]
[43.49,"YERLİ KATKI ORANI RAPORU",null,281810990000,0.6]
[{"v":43.5,"d":"43.50"},"YERLİ KATKI ORANI RAPORU",null,281810190000,0.6]
[43.51,"YERLİ KATKI ORANI RAPORU",null,550520000018,0.6]
[43.52,"YERLİ KATKI ORANI RAPORU",null,340490001100,0.6]
[43.53,"YERLİ KATKI ORANI RAPORU",null,840991000015,0.6]
[43.54,"YERLİ KATKI ORANI RAPORU",null,840999000015,0.6]
[43.55,"YERLİ KATKI ORANI RAPORU",null,291719800012,0.6]
[43.56,"YERLİ KATKI ORANI RAPORU",null,292519950011,0.6]
[43.57,"YERLİ KATKI ORANI RAPORU",null,251320000013,0.6]
[43.58,"YERLİ KATKI ORANI RAPORU",null,281119809012,0.6]
[43.59,"YERLİ KATKI ORANI RAPORU",null,293590900012,0.6]
[{"v":43.6,"d":"43.60"},"YERLİ KATKI ORANI RAPORU",null,293090989044,0.6]
[43.61,"YERLİ KATKI ORANI RAPORU",null,293090959044,0.6]
[43.62,"YERLİ KATKI ORANI RAPORU",null,480530000000,0.6]
[43.63,"YERLİ KATKI ORANI RAPORU",null,293590900022,0.6]
[43.64,"YERLİ KATKI ORANI RAPORU",null,293590900011,0.6]
[43.65,"YERLİ KATKI ORANI RAPORU",null,293590900017,0.6]
[43.66,"YERLİ KATKI ORANI RAPORU",null,280800000013,0.6]
[43.67,"YERLİ KATKI ORANI RAPORU",null,293590900016,0.6]
[43.68,"YERLİ KATKI ORANI RAPORU",null,291829001011,0.6]
[43.69,"YERLİ KATKI ORANI RAPORU",null,281290000016,0.6]
[{"v":43.7,"d":"43.70"},"YERLİ KATKI ORANI RAPORU",null,293499901000,0.6]
[43.71,"YERLİ KATKI ORANI RAPORU",null,847780110000,0.6]
[43.72,"YERLİ KATKI ORANI RAPORU",null,847780190000,0.6]
[43.73,"YERLİ KATKI ORANI RAPORU",null,310311000000,0.6]
[43.74,"YERLİ KATKI ORANI RAPORU",null,310319000000,0.6]
[43.75,"YERLİ KATKI ORANI RAPORU",null,852499000000,0.6]
[43.76,"YERLİ KATKI ORANI RAPORU",null,852419000000,0.6]
[43.77,"YERLİ KATKI ORANI RAPORU",null,852411000000,0.6]
[43.78,"YERLİ KATKI ORANI RAPORU",null,852412000000,0.6]
[43.79,"YERLİ KATKI ORANI RAPORU",null,411330000000,0.6]
[{"v":43.8,"d":"43.80"},"YERLİ KATKI ORANI RAPORU",null,410640900000,0.6]
[43.81,"YERLİ KATKI ORANI RAPORU",null,350220990000,0.6]
[43.82,"YERLİ KATKI ORANI RAPORU",null,350220910000,0.6]
[43.83,"YERLİ KATKI ORANI RAPORU",null,262110000000,0.6]
[43.84,"YERLİ KATKI ORANI RAPORU",null,660320000000,0.6]
[43.85,"YERLİ KATKI ORANI RAPORU",null,360410000000,0.6]
[43.86,"YERLİ KATKI ORANI RAPORU",null,130213000000,0.6]
[43.87,"YERLİ KATKI ORANI RAPORU",null,901780109019,0.6]
[43.88,"YERLİ KATKI ORANI RAPORU",null,540500000019,0.6]
[43.89,"YERLİ KATKI ORANI RAPORU",null,540490900000,0.6]
[{"v":43.9,"d":"43.90"},"YERLİ KATKI ORANI RAPORU",null,540490100000,0.6]
[43.91,"YERLİ KATKI ORANI RAPORU",null,830990100000,0.6]
[43.92,"YERLİ KATKI ORANI RAPORU",null,510400000011,0.6]
[43.93,"YERLİ KATKI ORANI RAPORU",null,844313320000,0.6]
[43.94,"YERLİ KATKI ORANI RAPORU",null,844313380000,0.6]
[43.95,"YERLİ KATKI ORANI RAPORU",null,251010001000,0.6]
[43.96,"YERLİ KATKI ORANI RAPORU",null,251110000011,0.6]
[43.97,"YERLİ KATKI ORANI RAPORU",null,251110000013,0.6]
[43.98,"YERLİ KATKI ORANI RAPORU",null,251110000012,0.6]
[43.99,"YERLİ KATKI ORANI RAPORU",null,252800000000,0.6]
[{"v":44,"d":"44.00"},"YERLİ KATKI ORANI RAPORU",null,420500900011,0.6]
[44.01,"YERLİ KATKI ORANI RAPORU",null,250410000000,0.6]
[44.02,"YERLİ KATKI ORANI RAPORU",null,250490000000,0.6]
[44.03,"YERLİ KATKI ORANI RAPORU",null,320300101000,0.6]
[44.04,"YERLİ KATKI ORANI RAPORU",null,251010009011,0.6]
[44.05,"YERLİ KATKI ORANI RAPORU",null,391390002000,0.6]
[44.06,"YERLİ KATKI ORANI RAPORU",null,400129009000,0.6]
[44.07,"YERLİ KATKI ORANI RAPORU",null,400121000000,0.6]
[44.08,"YERLİ KATKI ORANI RAPORU",null,450200000000,0.6]
[44.09,"YERLİ KATKI ORANI RAPORU",null,450390000000,0.6]
[{"v":44.1,"d":"44.10"},"YERLİ KATKI ORANI RAPORU",null,450310100000,0.6]
[44.11,"YERLİ KATKI ORANI RAPORU",null,450310900000,0.6]
[44.12,"YERLİ KATKI ORANI RAPORU",null,252620000000,0.6]
[44.13,"YERLİ KATKI ORANI RAPORU",null,710590000019,0.6]
[44.14,"YERLİ KATKI ORANI RAPORU",null,710590000011,0.6]
[44.15,"YERLİ KATKI ORANI RAPORU",null,680520000000,0.6]
[44.16,"YERLİ KATKI ORANI RAPORU",null,350510900019,0.6]
[44.17,"YERLİ KATKI ORANI RAPORU",null,722830200000,0.6]
[44.18,"YERLİ KATKI ORANI RAPORU",null,722850200000,0.6]
[44.19,"YERLİ KATKI ORANI RAPORU",null,722490020019,0.6]
[{"v":44.2,"d":"44.20"},"YERLİ KATKI ORANI RAPORU",null,722410100000,0.6]
[44.21,"YERLİ KATKI ORANI RAPORU",null,722490020011,0.6]
[44.22,"YERLİ KATKI ORANI RAPORU",null,722540120000,0.6]
[44.23,"YERLİ KATKI ORANI RAPORU",null,722691200000,0.6]
[44.24,"YERLİ KATKI ORANI RAPORU",null,950490100000,0.6]
[44.25,"YERLİ KATKI ORANI RAPORU",null,851850000000,0.6]
[44.26,"YERLİ KATKI ORANI RAPORU",null,380300100000,0.6]
[44.27,"YERLİ KATKI ORANI RAPORU",null,380300900000,0.6]
[44.28,"YERLİ KATKI ORANI RAPORU",null,382313000000,0.6]
[44.29,"YERLİ KATKI ORANI RAPORU",null,500500900011,0.6]
[{"v":44.3,"d":"44.30"},"YERLİ KATKI ORANI RAPORU",null,500500100011,0.6]
[44.31,"YERLİ KATKI ORANI RAPORU",null,500400100011,0.6]
[44.32,"YERLİ KATKI ORANI RAPORU",null,500400900011,0.6]
[44.33,"YERLİ KATKI ORANI RAPORU",null,854310000000,0.6]
[44.34,"YERLİ KATKI ORANI RAPORU",null,871000000019,0.6]
[44.35,"YERLİ KATKI ORANI RAPORU",null,810330000000,0.6]
[44.36,"YERLİ KATKI ORANI RAPORU",null,853221000000,0.6]
[44.37,"YERLİ KATKI ORANI RAPORU",null,291229001011,0.6]
[44.38,"YERLİ KATKI ORANI RAPORU",null,290629001013,0.6]
[44.39,"YERLİ KATKI ORANI RAPORU",null,291639909011,0.6]
[{"v":44.4,"d":"44.40"},"YERLİ KATKI ORANI RAPORU",null,291639901000,0.6]
[44.41,"YERLİ KATKI ORANI RAPORU",null,291639909012,0.6]
[44.42,"YERLİ KATKI ORANI RAPORU",null,270300000012,0.6]
[44.43,"YERLİ KATKI ORANI RAPORU",null,270300000011,0.6]
[44.44,"YERLİ KATKI ORANI RAPORU",null,840820310000,0.6]
[44.45,"YERLİ KATKI ORANI RAPORU",null,840820370000,0.6]
[44.46,"YERLİ KATKI ORANI RAPORU",null,560900000000,0.6]
[44.47,"YERLİ KATKI ORANI RAPORU",null,291812000000,0.6]
[44.48,"YERLİ KATKI ORANI RAPORU",null,291813009029,0.6]
[44.49,"YERLİ KATKI ORANI RAPORU",null,291813009019,0.6]
[{"v":44.5,"d":"44.50"},"YERLİ KATKI ORANI RAPORU",null,842320100000,0.6]
[44.51,"YERLİ KATKI ORANI RAPORU",null,270810000000,0.6]
[44.52,"YERLİ KATKI ORANI RAPORU",null,270820000000,0.6]
[44.53,"YERLİ KATKI ORANI RAPORU",null,270799110000,0.6]
[44.54,"YERLİ KATKI ORANI RAPORU",null,270799800019,0.6]
[44.55,"YERLİ KATKI ORANI RAPORU",null,270799190000,0.6]
[44.56,"YERLİ KATKI ORANI RAPORU",null,270799990000,0.6]
[44.57,"YERLİ KATKI ORANI RAPORU",null,270799200000,0.6]
[44.58,"YERLİ KATKI ORANI RAPORU",null,270120000011,0.6]
[44.59,"YERLİ KATKI ORANI RAPORU",null,270120000019,0.6]
[{"v":44.6,"d":"44.60"},"YERLİ KATKI ORANI RAPORU",null,681591000019,0.6]
[44.61,"YERLİ KATKI ORANI RAPORU",null,293911000016,0.6]
[44.62,"YERLİ KATKI ORANI RAPORU",null,250900000011,0.6]
[44.63,"YERLİ KATKI ORANI RAPORU",null,250900000019,0.6]
[44.64,"YERLİ KATKI ORANI RAPORU",null,290499000035,0.6]
[44.65,"YERLİ KATKI ORANI RAPORU",null,300190989000,0.6]
[44.66,"YERLİ KATKI ORANI RAPORU",null,300190981000,0.6]
[44.67,"YERLİ KATKI ORANI RAPORU",null,300120900000,0.6]
[44.68,"YERLİ KATKI ORANI RAPORU",null,300190200000,0.6]
[44.69,"YERLİ KATKI ORANI RAPORU",null,300120100000,0.6]
[{"v":44.7,"d":"44.70"},"YERLİ KATKI ORANI RAPORU",null,300320000000,0.6]
[44.71,"YERLİ KATKI ORANI RAPORU",null,300331000000,0.6]
[44.72,"YERLİ KATKI ORANI RAPORU",null,300290300000,0.6]
[44.73,"YERLİ KATKI ORANI RAPORU",null,850140201900,0.6]
[44.74,"YERLİ KATKI ORANI RAPORU",null,850140202900,0.6]
[44.75,"YERLİ KATKI ORANI RAPORU",null,850140801200,0.6]
[44.76,"YERLİ KATKI ORANI RAPORU",null,850140201100,0.6]
[44.77,"YERLİ KATKI ORANI RAPORU",null,850140202100,0.6]
[44.78,"YERLİ KATKI ORANI RAPORU",null,850140801100,0.6]
[44.79,"YERLİ KATKI ORANI RAPORU",null,850140801300,0.6]
[{"v":44.8,"d":"44.80"},"YERLİ KATKI ORANI RAPORU",null,841480111000,0.6]
[44.81,"YERLİ KATKI ORANI RAPORU",null,841480119000,0.6]
[44.82,"YERLİ KATKI ORANI RAPORU",null,551011000000,0.6]
[44.83,"YERLİ KATKI ORANI RAPORU",null,841440100012,0.6]
[44.84,"YERLİ KATKI ORANI RAPORU",null,841440900011,0.6]
[44.85,"YERLİ KATKI ORANI RAPORU",null,280800000012,0.6]
[44.86,"YERLİ KATKI ORANI RAPORU",null,400122000000,0.6]
[44.87,"YERLİ KATKI ORANI RAPORU",null,321590700011,0.6]
[44.88,"YERLİ KATKI ORANI RAPORU",null,390690500000,0.6]
[44.89,"YERLİ KATKI ORANI RAPORU",null,844819009000,0.6]
[{"v":44.9,"d":"44.90"},"YERLİ KATKI ORANI RAPORU",null,845190000019,0.6]
[44.91,"YERLİ KATKI ORANI RAPORU",null,540232000000,0.6]
[44.92,"YERLİ KATKI ORANI RAPORU",null,853331000000,0.6]
[44.93,"YERLİ KATKI ORANI RAPORU",null,853339000000,0.6]
[44.94,"YERLİ KATKI ORANI RAPORU",null,853690100000,0.6]
[44.95,"YERLİ KATKI ORANI RAPORU",null,842860000000,0.6]
[44.96,"YERLİ KATKI ORANI RAPORU",null,903040001000,0.6]
[44.97,"YERLİ KATKI ORANI RAPORU",null,903040009000,0.6]
[44.98,"YERLİ KATKI ORANI RAPORU",null,901380400000,0.6]
[44.99,"YERLİ KATKI ORANI RAPORU",null,880790210000,0.6]
[{"v":45,"d":"45.00"},"YERLİ KATKI ORANI RAPORU",null,851890006000,0.6]
[45.01,"YERLİ KATKI ORANI RAPORU",null,901510001000,0.6]
[45.02,"YERLİ KATKI ORANI RAPORU",null,901510009000,0.6]
[45.03,"YERLİ KATKI ORANI RAPORU",null,854011000000,0.6]
[45.04,"YERLİ KATKI ORANI RAPORU",null,854012000000,0.6]
[45.05,"YERLİ KATKI ORANI RAPORU",null,854020100000,0.6]
[45.06,"YERLİ KATKI ORANI RAPORU",null,852581000000,0.6]
[45.07,"YERLİ KATKI ORANI RAPORU",null,852582000000,0.6]
[45.08,"YERLİ KATKI ORANI RAPORU",null,852583000000,0.6]
[45.09,"YERLİ KATKI ORANI RAPORU",null,280450900000,0.6]
[{"v":45.1,"d":"45.10"},"YERLİ KATKI ORANI RAPORU",null,284290100012,0.6]
[45.11,"YERLİ KATKI ORANI RAPORU",null,852610000011,0.6]
[45.12,"YERLİ KATKI ORANI RAPORU",null,851769300000,0.6]
[45.13,"YERLİ KATKI ORANI RAPORU",null,293391900036,0.6]
[45.14,"YERLİ KATKI ORANI RAPORU",null,293339990015,0.6]
[45.15,"YERLİ KATKI ORANI RAPORU",null,820330000000,0.6]
[45.16,"YERLİ KATKI ORANI RAPORU",null,293399809027,0.6]
[45.17,"YERLİ KATKI ORANI RAPORU",null,293979901000,0.6]
[45.18,"YERLİ KATKI ORANI RAPORU",null,293979909021,0.6]
[45.19,"YERLİ KATKI ORANI RAPORU",null,901520001000,0.6]
[{"v":45.2,"d":"45.20"},"YERLİ KATKI ORANI RAPORU",null,293959000011,0.6]
[45.21,"YERLİ KATKI ORANI RAPORU",null,293959000019,0.6]
[45.22,"YERLİ KATKI ORANI RAPORU",null,841210001000,0.6]
[45.23,"YERLİ KATKI ORANI RAPORU",null,841210009000,0.6]
[45.24,"YERLİ KATKI ORANI RAPORU",null,380510100000,0.6]
[45.25,"YERLİ KATKI ORANI RAPORU",null,291736000019,0.6]
[45.26,"YERLİ KATKI ORANI RAPORU",null,290290002200,0.6]
[45.27,"YERLİ KATKI ORANI RAPORU",null,420500900012,0.6]
[45.28,"YERLİ KATKI ORANI RAPORU",null,470100100000,0.6]
[45.29,"YERLİ KATKI ORANI RAPORU",null,291539009122,0.6]
[{"v":45.3,"d":"45.30"},"YERLİ KATKI ORANI RAPORU",null,290129001000,0.6]
[45.31,"YERLİ KATKI ORANI RAPORU",null,290619001011,0.6]
[45.32,"YERLİ KATKI ORANI RAPORU",null,290619001013,0.6]
[45.33,"YERLİ KATKI ORANI RAPORU",null,290619001012,0.6]
[45.34,"YERLİ KATKI ORANI RAPORU",null,290919100000,0.6]
[45.35,"YERLİ KATKI ORANI RAPORU",null,631090000011,0.6]
[45.36,"YERLİ KATKI ORANI RAPORU",null,440141000000,0.6]
[45.37,"YERLİ KATKI ORANI RAPORU",null,293729000012,0.6]
[45.38,"YERLİ KATKI ORANI RAPORU",null,291739200000,0.6]
[45.39,"YERLİ KATKI ORANI RAPORU",null,292090101912,0.6]
[{"v":45.4,"d":"45.40"},"YERLİ KATKI ORANI RAPORU",null,293030000011,0.6]
[45.41,"YERLİ KATKI ORANI RAPORU",null,293211000000,0.6]
[45.42,"YERLİ KATKI ORANI RAPORU",null,293213000012,0.6]
[45.43,"YERLİ KATKI ORANI RAPORU",null,293295000000,0.6]
[45.44,"YERLİ KATKI ORANI RAPORU",null,290323000000,0.6]
[45.45,"YERLİ KATKI ORANI RAPORU",null,292159900012,0.6]
[45.46,"YERLİ KATKI ORANI RAPORU",null,292390001011,0.6]
[45.47,"YERLİ KATKI ORANI RAPORU",null,290949809012,0.6]
[45.48,"YERLİ KATKI ORANI RAPORU",null,292090701915,0.6]
[45.49,"YERLİ KATKI ORANI RAPORU",null,294130000011,0.6]
[{"v":45.5,"d":"45.50"},"YERLİ KATKI ORANI RAPORU",null,294130000012,0.6]
[45.51,"YERLİ KATKI ORANI RAPORU",null,350400900011,0.6]
[45.52,"YERLİ KATKI ORANI RAPORU",null,293359950033,0.6]
[45.53,"YERLİ KATKI ORANI RAPORU",null,841920000011,0.6]
[45.54,"YERLİ KATKI ORANI RAPORU",null,841920000019,0.6]
[45.55,"YERLİ KATKI ORANI RAPORU",null,841990150000,0.6]
[45.56,"YERLİ KATKI ORANI RAPORU",null,902214000000,0.6]
[45.57,"YERLİ KATKI ORANI RAPORU",null,901890840019,0.6]
[45.58,"YERLİ KATKI ORANI RAPORU",null,901890400000,0.6]
[45.59,"YERLİ KATKI ORANI RAPORU",null,901890200000,0.6]
[{"v":45.6,"d":"45.60"},"YERLİ KATKI ORANI RAPORU",null,901820000000,0.6]
[45.61,"YERLİ KATKI ORANI RAPORU",null,901890500019,0.6]
[45.62,"YERLİ KATKI ORANI RAPORU",null,580126000000,0.6]
[45.63,"YERLİ KATKI ORANI RAPORU",null,580136000000,0.6]
[45.64,"YERLİ KATKI ORANI RAPORU",null,293499909022,0.6]
[45.65,"YERLİ KATKI ORANI RAPORU",null,291521000012,0.6]
[45.66,"YERLİ KATKI ORANI RAPORU",null,282200000012,0.6]
[45.67,"YERLİ KATKI ORANI RAPORU",null,510539000011,0.6]
[45.68,"YERLİ KATKI ORANI RAPORU",null,510820900011,0.6]
[45.69,"YERLİ KATKI ORANI RAPORU",null,292244000012,0.6]
[{"v":45.7,"d":"45.70"},"YERLİ KATKI ORANI RAPORU",null,290719901000,0.6]
[45.71,"YERLİ KATKI ORANI RAPORU",null,293499902000,0.6]
[45.72,"YERLİ KATKI ORANI RAPORU",null,281217000000,0.6]
[45.73,"YERLİ KATKI ORANI RAPORU",null,293430100013,0.6]
[45.74,"YERLİ KATKI ORANI RAPORU",null,293090981000,0.6]
[45.75,"YERLİ KATKI ORANI RAPORU",null,293090951000,0.6]
[45.76,"YERLİ KATKI ORANI RAPORU",null,284590900011,0.6]
[45.77,"YERLİ KATKI ORANI RAPORU",null,292250009011,0.6]
[45.78,"YERLİ KATKI ORANI RAPORU",null,294190000011,0.6]
[45.79,"YERLİ KATKI ORANI RAPORU",null,284990500016,0.6]
[{"v":45.8,"d":"45.80"},"YERLİ KATKI ORANI RAPORU",null,282300000000,0.6]
[45.81,"YERLİ KATKI ORANI RAPORU",null,261400000000,0.6]
[45.82,"YERLİ KATKI ORANI RAPORU",null,810890300000,0.6]
[45.83,"YERLİ KATKI ORANI RAPORU",null,810890600000,0.6]
[45.84,"YERLİ KATKI ORANI RAPORU",null,293090989038,0.6]
[45.85,"YERLİ KATKI ORANI RAPORU",null,293090959038,0.6]
[45.86,"YERLİ KATKI ORANI RAPORU",null,293090989016,0.6]
[45.87,"YERLİ KATKI ORANI RAPORU",null,293090959016,0.6]
[45.88,"YERLİ KATKI ORANI RAPORU",null,293090989042,0.6]
[45.89,"YERLİ KATKI ORANI RAPORU",null,293090959042,0.6]
[{"v":45.9,"d":"45.90"},"YERLİ KATKI ORANI RAPORU",null,293090989034,0.6]
[45.91,"YERLİ KATKI ORANI RAPORU",null,293090959034,0.6]
[45.92,"YERLİ KATKI ORANI RAPORU",null,292019000011,0.6]
[45.93,"YERLİ KATKI ORANI RAPORU",null,292019000012,0.6]
[45.94,"YERLİ KATKI ORANI RAPORU",null,293020000011,0.6]
[45.95,"YERLİ KATKI ORANI RAPORU",null,293090989041,0.6]
[45.96,"YERLİ KATKI ORANI RAPORU",null,293090959041,0.6]
[45.97,"YERLİ KATKI ORANI RAPORU",null,293499909013,0.6]
[45.98,"YERLİ KATKI ORANI RAPORU",null,293090989035,0.6]
[45.99,"YERLİ KATKI ORANI RAPORU",null,293090959035,0.6]
[{"v":46,"d":"46.00"},"YERLİ KATKI ORANI RAPORU",null,293030000019,0.6]
[46.01,"YERLİ KATKI ORANI RAPORU",null,293090989011,0.6]
[46.02,"YERLİ KATKI ORANI RAPORU",null,293090959011,0.6]
[46.03,"YERLİ KATKI ORANI RAPORU",null,292143000013,0.6]
[46.04,"YERLİ KATKI ORANI RAPORU",null,292143000015,0.6]
[46.05,"YERLİ KATKI ORANI RAPORU",null,292143000017,0.6]
[46.06,"YERLİ KATKI ORANI RAPORU",null,292143000016,0.6]
[46.07,"YERLİ KATKI ORANI RAPORU",null,292143000018,0.6]
[46.08,"YERLİ KATKI ORANI RAPORU",null,270720000000,0.6]
[46.09,"YERLİ KATKI ORANI RAPORU",null,901580401019,0.6]
[{"v":46.1,"d":"46.10"},"YERLİ KATKI ORANI RAPORU",null,282120001000,0.6]
[46.11,"YERLİ KATKI ORANI RAPORU",null,282120009000,0.6]
[46.12,"YERLİ KATKI ORANI RAPORU",null,480421900000,0.6]
[46.13,"YERLİ KATKI ORANI RAPORU",null,480429100000,0.6]
[46.14,"YERLİ KATKI ORANI RAPORU",null,480429900000,0.6]
[46.15,"YERLİ KATKI ORANI RAPORU",null,846620910019,0.6]
[46.16,"YERLİ KATKI ORANI RAPORU",null,846620910011,0.6]
[46.17,"YERLİ KATKI ORANI RAPORU",null,720441100000,0.6]
[46.18,"YERLİ KATKI ORANI RAPORU",null,284430553000,0.6]
[46.19,"YERLİ KATKI ORANI RAPORU",null,401390000013,0.6]
[{"v":46.2,"d":"46.20"},"YERLİ KATKI ORANI RAPORU",null,401390000012,0.6]
[46.21,"YERLİ KATKI ORANI RAPORU",null,292250009015,0.6]
[46.22,"YERLİ KATKI ORANI RAPORU",null,290379300053,0.6]
[46.23,"YERLİ KATKI ORANI RAPORU",null,851539130000,0.6]
[46.24,"YERLİ KATKI ORANI RAPORU",null,854121000000,0.6]
[46.25,"YERLİ KATKI ORANI RAPORU",null,401036000000,0.6]
[46.26,"YERLİ KATKI ORANI RAPORU",null,401035000000,0.6]
[46.27,"YERLİ KATKI ORANI RAPORU",null,420500111000,0.6]
[46.28,"YERLİ KATKI ORANI RAPORU",null,420500112000,0.6]
[46.29,"YERLİ KATKI ORANI RAPORU",null,680423000012,0.6]
[{"v":46.3,"d":"46.30"},"YERLİ KATKI ORANI RAPORU",null,283529100000,0.6]
[46.31,"YERLİ KATKI ORANI RAPORU",null,291815009022,0.6]
[46.32,"YERLİ KATKI ORANI RAPORU",null,293120000000,0.6]
[46.33,"YERLİ KATKI ORANI RAPORU",null,291990001011,0.6]
[46.34,"YERLİ KATKI ORANI RAPORU",null,292215000000,0.6]
[46.35,"YERLİ KATKI ORANI RAPORU",null,291815009021,0.6]
[46.36,"YERLİ KATKI ORANI RAPORU",null,292119990011,0.6]
[46.37,"YERLİ KATKI ORANI RAPORU",null,292119990012,0.6]
[46.38,"YERLİ KATKI ORANI RAPORU",null,292119990019,0.6]
[46.39,"YERLİ KATKI ORANI RAPORU",null,290949809011,0.6]
[{"v":46.4,"d":"46.40"},"YERLİ KATKI ORANI RAPORU",null,291990001012,0.6]
[46.41,"YERLİ KATKI ORANI RAPORU",null,290629009012,0.6]
[46.42,"YERLİ KATKI ORANI RAPORU",null,291590700032,0.6]
[46.43,"YERLİ KATKI ORANI RAPORU",null,290341000000,0.6]
[46.44,"YERLİ KATKI ORANI RAPORU",null,293090989063,0.6]
[46.45,"YERLİ KATKI ORANI RAPORU",null,293090959063,0.6]
[46.46,"YERLİ KATKI ORANI RAPORU",null,293339990027,0.6]
[46.47,"YERLİ KATKI ORANI RAPORU",null,291540000013,0.6]
[46.48,"YERLİ KATKI ORANI RAPORU",null,293154000000,0.6]
[46.49,"YERLİ KATKI ORANI RAPORU",null,290322000000,0.6]
[{"v":46.5,"d":"46.50"},"YERLİ KATKI ORANI RAPORU",null,290377600000,0.6]
[46.51,"YERLİ KATKI ORANI RAPORU",null,290559989011,0.6]
[46.52,"YERLİ KATKI ORANI RAPORU",null,291990002000,0.6]
[46.53,"YERLİ KATKI ORANI RAPORU",null,292023000000,0.6]
[46.54,"YERLİ KATKI ORANI RAPORU",null,292111000013,0.6]
[46.55,"YERLİ KATKI ORANI RAPORU",null,292111000023,0.6]
[46.56,"YERLİ KATKI ORANI RAPORU",null,292142000014,0.6]
[46.57,"YERLİ KATKI ORANI RAPORU",null,290899001011,0.6]
[46.58,"YERLİ KATKI ORANI RAPORU",null,291250000011,0.6]
[46.59,"YERLİ KATKI ORANI RAPORU",null,293190009057,0.6]
[{"v":46.6,"d":"46.60"},"YERLİ KATKI ORANI RAPORU",null,251200000011,0.6]
[46.61,"YERLİ KATKI ORANI RAPORU",null,293399809045,0.6]
[46.62,"YERLİ KATKI ORANI RAPORU",null,291910000000,0.6]
[46.63,"YERLİ KATKI ORANI RAPORU",null,293149900032,0.6]
[46.64,"YERLİ KATKI ORANI RAPORU",null,293149800032,0.6]
[46.65,"YERLİ KATKI ORANI RAPORU",null,293399809041,0.6]
[46.66,"YERLİ KATKI ORANI RAPORU",null,283529300000,0.6]
[46.67,"YERLİ KATKI ORANI RAPORU",null,854130000000,0.6]
[46.68,"YERLİ KATKI ORANI RAPORU",null,284441900000,0.6]
[46.69,"YERLİ KATKI ORANI RAPORU",null,284441100000,0.6]
[{"v":46.7,"d":"46.70"},"YERLİ KATKI ORANI RAPORU",null,293339990022,0.6]
[46.71,"YERLİ KATKI ORANI RAPORU",null,580230000000,0.6]
[46.72,"YERLİ KATKI ORANI RAPORU",null,284180000000,0.6]
[46.73,"YERLİ KATKI ORANI RAPORU",null,810196000000,0.6]
[46.74,"YERLİ KATKI ORANI RAPORU",null,810110000000,0.6]
[46.75,"YERLİ KATKI ORANI RAPORU",null,853921980000,0.6]
[46.76,"YERLİ KATKI ORANI RAPORU",null,853921920000,0.6]
[46.77,"YERLİ KATKI ORANI RAPORU",null,853921300000,0.6]
[46.78,"YERLİ KATKI ORANI RAPORU",null,284990300000,0.6]
[46.79,"YERLİ KATKI ORANI RAPORU",null,282590400000,0.6]
[{"v":46.8,"d":"46.80"},"YERLİ KATKI ORANI RAPORU",null,810199100000,0.6]
[46.81,"YERLİ KATKI ORANI RAPORU",null,810199909019,0.6]
[46.82,"YERLİ KATKI ORANI RAPORU",null,810199901000,0.6]
[46.83,"YERLİ KATKI ORANI RAPORU",null,810199909011,0.6]
[46.84,"YERLİ KATKI ORANI RAPORU",null,270400909000,0.6]
[46.85,"YERLİ KATKI ORANI RAPORU",null,681520000000,0.6]
[46.86,"YERLİ KATKI ORANI RAPORU",null,850239201100,0.6]
[46.87,"YERLİ KATKI ORANI RAPORU",null,850239202200,0.6]
[46.88,"YERLİ KATKI ORANI RAPORU",null,850239201300,0.6]
[46.89,"YERLİ KATKI ORANI RAPORU",null,841112101000,0.6]
[{"v":46.9,"d":"46.90"},"YERLİ KATKI ORANI RAPORU",null,841112309000,0.6]
[46.91,"YERLİ KATKI ORANI RAPORU",null,841111009000,0.6]
[46.92,"YERLİ KATKI ORANI RAPORU",null,841111001000,0.6]
[46.93,"YERLİ KATKI ORANI RAPORU",null,841112809000,0.6]
[46.94,"YERLİ KATKI ORANI RAPORU",null,841122209000,0.6]
[46.95,"YERLİ KATKI ORANI RAPORU",null,841122201000,0.6]
[46.96,"YERLİ KATKI ORANI RAPORU",null,841121001000,0.6]
[46.97,"YERLİ KATKI ORANI RAPORU",null,841122809000,0.6]
[46.98,"YERLİ KATKI ORANI RAPORU",null,401390000014,0.6]
[46.99,"YERLİ KATKI ORANI RAPORU",null,880790100000,0.6]
[{"v":47,"d":"47.00"},"YERLİ KATKI ORANI RAPORU",null,320641001000,0.6]
[47.01,"YERLİ KATKI ORANI RAPORU",null,293410000011,0.6]
[47.02,"YERLİ KATKI ORANI RAPORU",null,901812000000,0.6]
[47.03,"YERLİ KATKI ORANI RAPORU",null,291619100011,0.6]
[47.04,"YERLİ KATKI ORANI RAPORU",null,291619100019,0.6]
[47.05,"YERLİ KATKI ORANI RAPORU",null,854232550000,0.6]
[47.06,"YERLİ KATKI ORANI RAPORU",null,852692009014,0.6]
[47.07,"YERLİ KATKI ORANI RAPORU",null,852692002000,0.6]
[47.08,"YERLİ KATKI ORANI RAPORU",null,852692009019,0.6]
[47.09,"YERLİ KATKI ORANI RAPORU",null,880790300000,0.6]
[{"v":47.1,"d":"47.10"},"YERLİ KATKI ORANI RAPORU",null,880790290000,0.6]
[47.11,"YERLİ KATKI ORANI RAPORU",null,901780909000,0.6]
[47.12,"YERLİ KATKI ORANI RAPORU",null,291090000000,0.6]
[47.13,"YERLİ KATKI ORANI RAPORU",null,850120001100,0.6]
[47.14,"YERLİ KATKI ORANI RAPORU",null,850120001200,0.6]
[47.15,"YERLİ KATKI ORANI RAPORU",null,850110910000,0.6]
[47.16,"YERLİ KATKI ORANI RAPORU",null,850120009000,0.6]
[47.17,"YERLİ KATKI ORANI RAPORU",null,390910000000,0.6]
[47.18,"YERLİ KATKI ORANI RAPORU",null,310280000000,0.6]
[47.19,"YERLİ KATKI ORANI RAPORU",null,310210900000,0.6]
[{"v":47.2,"d":"47.20"},"YERLİ KATKI ORANI RAPORU",null,230800110000,0.6]
[47.21,"YERLİ KATKI ORANI RAPORU",null,230800190000,0.6]
[47.22,"YERLİ KATKI ORANI RAPORU",null,841410150000,0.6]
[47.23,"YERLİ KATKI ORANI RAPORU",null,850870000000,0.6]
[47.24,"YERLİ KATKI ORANI RAPORU",null,291560909011,0.6]
[47.25,"YERLİ KATKI ORANI RAPORU",null,292249859016,0.6]
[47.26,"YERLİ KATKI ORANI RAPORU",null,284190302000,0.6]
[47.27,"YERLİ KATKI ORANI RAPORU",null,282530000011,0.6]
[47.28,"YERLİ KATKI ORANI RAPORU",null,282530000019,0.6]
[47.29,"YERLİ KATKI ORANI RAPORU",null,291241000000,0.6]
[{"v":47.3,"d":"47.30"},"YERLİ KATKI ORANI RAPORU",null,130219050000,0.6]
[47.31,"YERLİ KATKI ORANI RAPORU",null,292690700018,0.6]
[47.32,"YERLİ KATKI ORANI RAPORU",null,901910100015,0.6]
[47.33,"YERLİ KATKI ORANI RAPORU",null,848340251000,0.6]
[47.34,"YERLİ KATKI ORANI RAPORU",null,848340259000,0.6]
[47.35,"YERLİ KATKI ORANI RAPORU",null,852871190019,0.6]
[47.36,"YERLİ KATKI ORANI RAPORU",null,852871190011,0.6]
[47.37,"YERLİ KATKI ORANI RAPORU",null,560490102200,0.6]
[47.38,"YERLİ KATKI ORANI RAPORU",null,390521000000,0.6]
[47.39,"YERLİ KATKI ORANI RAPORU",null,390430000000,0.6]
[{"v":47.4,"d":"47.40"},"YERLİ KATKI ORANI RAPORU",null,390450100000,0.6]
[47.41,"YERLİ KATKI ORANI RAPORU",null,392043100000,0.6]
[47.42,"YERLİ KATKI ORANI RAPORU",null,540310000000,0.6]
[47.43,"YERLİ KATKI ORANI RAPORU",null,540332000000,0.6]
[47.44,"YERLİ KATKI ORANI RAPORU",null,701690100019,0.6]
[47.45,"YERLİ KATKI ORANI RAPORU",null,701690100011,0.6]
[47.46,"YERLİ KATKI ORANI RAPORU",null,381210000000,0.6]
[47.47,"YERLİ KATKI ORANI RAPORU",null,392079100000,0.6]
[47.48,"YERLİ KATKI ORANI RAPORU",null,370110000000,0.6]
[47.49,"YERLİ KATKI ORANI RAPORU",null,152200910000,0.6]
[{"v":47.5,"d":"47.50"},"YERLİ KATKI ORANI RAPORU",null,381129009000,0.6]
[47.51,"YERLİ KATKI ORANI RAPORU",null,381121009000,0.6]
[47.52,"YERLİ KATKI ORANI RAPORU",null,271019750000,0.6]
[47.53,"YERLİ KATKI ORANI RAPORU",null,321000100011,0.6]
[47.54,"YERLİ KATKI ORANI RAPORU",null,152200990000,0.6]
[47.55,"YERLİ KATKI ORANI RAPORU",null,710391000011,0.6]
[47.56,"YERLİ KATKI ORANI RAPORU",null,381300000013,0.6]
[47.57,"YERLİ KATKI ORANI RAPORU",null,381300000017,0.6]
[47.58,"YERLİ KATKI ORANI RAPORU",null,150500900019,0.6]
[47.59,"YERLİ KATKI ORANI RAPORU",null,150500100000,0.6]
[{"v":47.6,"d":"47.60"},"YERLİ KATKI ORANI RAPORU",null,284443200021,0.6]
[47.61,"YERLİ KATKI ORANI RAPORU",null,293420800000,0.6]
[47.62,"YERLİ KATKI ORANI RAPORU",null,293430900000,0.6]
[47.63,"YERLİ KATKI ORANI RAPORU",null,293219000000,0.6]
[47.64,"YERLİ KATKI ORANI RAPORU",null,293219000019,0.6]
[47.65,"YERLİ KATKI ORANI RAPORU",null,293329900019,0.6]
[47.66,"YERLİ KATKI ORANI RAPORU",null,293410000019,0.6]
[47.67,"YERLİ KATKI ORANI RAPORU",null,293319900019,0.6]
[47.68,"YERLİ KATKI ORANI RAPORU",null,293334000000,0.6]
[47.69,"YERLİ KATKI ORANI RAPORU",null,590610000000,0.6]
[{"v":47.7,"d":"47.70"},"YERLİ KATKI ORANI RAPORU",null,480700800000,0.6]
[47.71,"YERLİ KATKI ORANI RAPORU",null,480700300000,0.6]
[47.72,"YERLİ KATKI ORANI RAPORU",null,900120001000,0.6]
[47.73,"YERLİ KATKI ORANI RAPORU",null,900120009000,0.6]
[47.74,"YERLİ KATKI ORANI RAPORU",null,854151000000,0.6]
[47.75,"YERLİ KATKI ORANI RAPORU",null,844391100000,0.6]
[47.76,"YERLİ KATKI ORANI RAPORU",null,710813100000,0.6]
[47.77,"YERLİ KATKI ORANI RAPORU",null,710813800000,0.6]
[47.78,"YERLİ KATKI ORANI RAPORU",null,710700000012,0.6]
[47.79,"YERLİ KATKI ORANI RAPORU",null,711019100012,0.6]
[{"v":47.8,"d":"47.80"},"YERLİ KATKI ORANI RAPORU",null,711019100011,0.6]
[47.81,"YERLİ KATKI ORANI RAPORU",null,441600001000,0.6]
[47.82,"YERLİ KATKI ORANI RAPORU",null,848299000011,0.6]
[47.83,"YERLİ KATKI ORANI RAPORU",null,848291900011,0.6]
[47.84,"YERLİ KATKI ORANI RAPORU",null,848299000012,0.6]
[47.85,"YERLİ KATKI ORANI RAPORU",null,848390201000,0.6]
[47.86,"YERLİ KATKI ORANI RAPORU",null,848390209000,0.6]
[47.87,"YERLİ KATKI ORANI RAPORU",null,960891000000,0.6]
[47.88,"YERLİ KATKI ORANI RAPORU",null,480256201000,0.6]
[47.89,"YERLİ KATKI ORANI RAPORU",null,481019009000,0.6]
[{"v":47.9,"d":"47.90"},"YERLİ KATKI ORANI RAPORU",null,842951101011,0.6]
[47.91,"YERLİ KATKI ORANI RAPORU",null,960390919011,0.6]
[47.92,"YERLİ KATKI ORANI RAPORU",null,121410000000,0.6]
[47.93,"YERLİ KATKI ORANI RAPORU",null,251520000019,0.6]
[47.94,"YERLİ KATKI ORANI RAPORU",null,441012909000,0.6]
[47.95,"YERLİ KATKI ORANI RAPORU",null,441012901000,0.6]
[47.96,"YERLİ KATKI ORANI RAPORU",null,441012100000,0.6]
[47.97,"YERLİ KATKI ORANI RAPORU",null,853530900012,0.6]
[47.98,"YERLİ KATKI ORANI RAPORU",null,903180809011,0.6]
[47.99,"YERLİ KATKI ORANI RAPORU",null,722810200000,0.6]
[{"v":48,"d":"48.00"},"YERLİ KATKI ORANI RAPORU",null,722810900000,0.6]
[48.01,"YERLİ KATKI ORANI RAPORU",null,722620000021,0.6]
[48.02,"YERLİ KATKI ORANI RAPORU",null,722810500000,0.6]
[48.03,"YERLİ KATKI ORANI RAPORU",null,722710000000,0.6]
[48.04,"YERLİ KATKI ORANI RAPORU",null,722530300019,0.6]
[48.05,"YERLİ KATKI ORANI RAPORU",null,722540150019,0.6]
[48.06,"YERLİ KATKI ORANI RAPORU",null,722540150011,0.6]
[48.07,"YERLİ KATKI ORANI RAPORU",null,722550200039,0.6]
[48.08,"YERLİ KATKI ORANI RAPORU",null,722550200031,0.6]
[48.09,"YERLİ KATKI ORANI RAPORU",null,722620000011,0.6]
[{"v":48.1,"d":"48.10"},"YERLİ KATKI ORANI RAPORU",null,722620000012,0.6]
[48.11,"YERLİ KATKI ORANI RAPORU",null,271019670041,0.6]
[48.12,"YERLİ KATKI ORANI RAPORU",null,510720910000,0.6]
[48.13,"YERLİ KATKI ORANI RAPORU",null,510720510000,0.6]
[48.14,"YERLİ KATKI ORANI RAPORU",null,510720100000,0.6]
[48.15,"YERLİ KATKI ORANI RAPORU",null,510710100000,0.6]
[48.16,"YERLİ KATKI ORANI RAPORU",null,510720990000,0.6]
[48.17,"YERLİ KATKI ORANI RAPORU",null,510720590000,0.6]
[48.18,"YERLİ KATKI ORANI RAPORU",null,510720300000,0.6]
[48.19,"YERLİ KATKI ORANI RAPORU",null,510710900000,0.6]
[{"v":48.2,"d":"48.20"},"YERLİ KATKI ORANI RAPORU",null,510521000000,0.6]
[48.21,"YERLİ KATKI ORANI RAPORU",null,510310100000,0.6]
[48.22,"YERLİ KATKI ORANI RAPORU",null,510310900000,0.6]
[48.23,"YERLİ KATKI ORANI RAPORU",null,590900901019,0.6]
[48.24,"YERLİ KATKI ORANI RAPORU",null,590900901011,0.6]
[48.25,"YERLİ KATKI ORANI RAPORU",null,510400000019,0.6]
[48.26,"YERLİ KATKI ORANI RAPORU",null,481149009000,0.6]
[48.27,"YERLİ KATKI ORANI RAPORU",null,481149001000,0.6]
[48.28,"YERLİ KATKI ORANI RAPORU",null,820840000000,0.6]
[48.29,"YERLİ KATKI ORANI RAPORU",null,261510000000,0.6]
[{"v":48.3,"d":"48.30"},"YERLİ KATKI ORANI RAPORU",null,282560000012,0.6]
[48.31,"YERLİ KATKI ORANI RAPORU",null,293379000013,0.6]
[48.32,"YERLİ KATKI ORANI RAPORU",null,710391000013,0.6]
[48.33,"YERLİ KATKI ORANI RAPORU",null,710310000012,0.6]
[48.34,"YERLİ KATKI ORANI RAPORU"]
[48.35,"YERLİ KATKI ORANI RAPORU"]
[48.36,"YERLİ KATKI ORANI RAPORU"]
[48.37,"YERLİ KATKI ORANI RAPORU"]
[48.38,"YERLİ KATKI ORANI RAPORU"]
[48.39,"YERLİ KATKI ORANI RAPORU"]
[{"v":48.4,"d":"48.40"},"YERLİ KATKI ORANI RAPORU"]
[48.41,"YERLİ KATKI ORANI RAPORU"]
[48.42,"YERLİ KATKI ORANI RAPORU"]
[48.43,"YERLİ KATKI ORANI RAPORU"]
[48.44,"YERLİ KATKI ORANI RAPORU"]
[48.45,"YERLİ KATKI ORANI RAPORU"]
[48.46,"YERLİ KATKI ORANI RAPORU"]
[48.47,"YERLİ KATKI ORANI RAPORU"]
[48.48,"YERLİ KATKI ORANI RAPORU"]
[48.49,"YERLİ KATKI ORANI RAPORU"]
[{"v":48.5,"d":"48.50"},"YERLİ KATKI ORANI RAPORU"]
[48.51,"YERLİ KATKI ORANI RAPORU"]
[48.52,"YERLİ KATKI ORANI RAPORU"]
[48.53,"YERLİ KATKI ORANI RAPORU"]
[48.54,"YERLİ KATKI ORANI RAPORU"]
[48.55,"YERLİ KATKI ORANI RAPORU"]
[48.56,"YERLİ KATKI ORANI RAPORU"]
[48.57,"YERLİ KATKI ORANI RAPORU"]
[48.58,"YERLİ KATKI ORANI RAPORU"]
[48.59,"YERLİ KATKI ORANI RAPORU"]
[{"v":48.6,"d":"48.60"},"YERLİ KATKI ORANI RAPORU"]
[48.61,"YERLİ KATKI ORANI RAPORU"]
[48.62,"YERLİ KATKI ORANI RAPORU"]
[48.63,"YERLİ KATKI ORANI RAPORU"]
[48.64,"YERLİ KATKI ORANI RAPORU"]
[48.65,"YERLİ KATKI ORANI RAPORU"]
[48.66,"YERLİ KATKI ORANI RAPORU"]
[48.67,"YERLİ KATKI ORANI RAPORU"]
[48.68,"YERLİ KATKI ORANI RAPORU"]
[48.69,"YERLİ KATKI ORANI RAPORU"]
[{"v":48.7,"d":"48.70"},"YERLİ KATKI ORANI RAPORU"]
[48.71,"YERLİ KATKI ORANI RAPORU"]
[48.72,"YERLİ KATKI ORANI RAPORU"]
[48.73,"YERLİ KATKI ORANI RAPORU"]
[48.74,"YERLİ KATKI ORANI RAPORU"]
[48.75,"YERLİ KATKI ORANI RAPORU"]
[48.76,"YERLİ KATKI ORANI RAPORU"]
[48.77,"YERLİ KATKI ORANI RAPORU"]
[48.78,"YERLİ KATKI ORANI RAPORU"]
[48.79,"YERLİ KATKI ORANI RAPORU"]
[{"v":48.8,"d":"48.80"},"YERLİ KATKI ORANI RAPORU"]
[48.81,"YERLİ KATKI ORANI RAPORU"]
[48.82,"YERLİ KATKI ORANI RAPORU"]
[48.83,"YERLİ KATKI ORANI RAPORU"]
[48.84,"YERLİ KATKI ORANI RAPORU"]
[48.85,"YERLİ KATKI ORANI RAPORU"]
[48.86,"YERLİ KATKI ORANI RAPORU"]
[48.87,"YERLİ KATKI ORANI RAPORU"]
[48.88,"YERLİ KATKI ORANI RAPORU"]
[48.89,"YERLİ KATKI ORANI RAPORU"]
[{"v":48.9,"d":"48.90"},"YERLİ KATKI ORANI RAPORU"]
[48.91,"YERLİ KATKI ORANI RAPORU"]
[48.92,"YERLİ KATKI ORANI RAPORU"]
[48.93,"YERLİ KATKI ORANI RAPORU"]
[48.94,"YERLİ KATKI ORANI RAPORU"]
[48.95,"YERLİ KATKI ORANI RAPORU"]
[48.96,"YERLİ KATKI ORANI RAPORU"]
[48.97,"YERLİ KATKI ORANI RAPORU"]
[48.98,"YERLİ KATKI ORANI RAPORU"]
[48.99,"YERLİ KATKI ORANI RAPORU"]
[{"v":49,"d":"49.00"},"YERLİ KATKI ORANI RAPORU"]
[49.01,"YERLİ KATKI ORANI RAPORU"]
[49.02,"YERLİ KATKI ORANI RAPORU"]
[49.03,"YERLİ KATKI ORANI RAPORU"]
[49.04,"YERLİ KATKI ORANI RAPORU"]
[49.05,"YERLİ KATKI ORANI RAPORU"]
[49.06,"YERLİ KATKI ORANI RAPORU"]
[49.07,"YERLİ KATKI ORANI RAPORU"]
[49.08,"YERLİ KATKI ORANI RAPORU"]
[49.09,"YERLİ KATKI ORANI RAPORU"]
[{"v":49.1,"d":"49.10"},"YERLİ KATKI ORANI RAPORU"]
[49.11,"YERLİ KATKI ORANI RAPORU"]
[49.12,"YERLİ KATKI ORANI RAPORU"]
[49.13,"YERLİ KATKI ORANI RAPORU"]
[49.14,"YERLİ KATKI ORANI RAPORU"]
[49.15,"YERLİ KATKI ORANI RAPORU"]
[49.16,"YERLİ KATKI ORANI RAPORU"]
[49.17,"YERLİ KATKI ORANI RAPORU"]
[49.18,"YERLİ KATKI ORANI RAPORU"]
[49.19,"YERLİ KATKI ORANI RAPORU"]
[{"v":49.2,"d":"49.20"},"YERLİ KATKI ORANI RAPORU"]
[49.21,"YERLİ KATKI ORANI RAPORU"]
[49.22,"YERLİ KATKI ORANI RAPORU"]
[49.23,"YERLİ KATKI ORANI RAPORU"]
[49.24,"YERLİ KATKI ORANI RAPORU"]
[49.25,"YERLİ KATKI ORANI RAPORU"]
[49.26,"YERLİ KATKI ORANI RAPORU"]
[49.27,"YERLİ KATKI ORANI RAPORU"]
[49.28,"YERLİ KATKI ORANI RAPORU"]
[49.29,"YERLİ KATKI ORANI RAPORU"]
[{"v":49.3,"d":"49.30"},"YERLİ KATKI ORANI RAPORU"]
[49.31,"YERLİ KATKI ORANI RAPORU"]
[49.32,"YERLİ KATKI ORANI RAPORU"]
[49.33,"YERLİ KATKI ORANI RAPORU"]
[49.34,"YERLİ KATKI ORANI RAPORU"]
[49.35,"YERLİ KATKI ORANI RAPORU"]
[49.36,"YERLİ KATKI ORANI RAPORU"]
[49.37,"YERLİ KATKI ORANI RAPORU"]
[49.38,"YERLİ KATKI ORANI RAPORU"]
[49.39,"YERLİ KATKI ORANI RAPORU"]
[{"v":49.4,"d":"49.40"},"YERLİ KATKI ORANI RAPORU"]
[49.41,"YERLİ KATKI ORANI RAPORU"]
[49.42,"YERLİ KATKI ORANI RAPORU"]
[49.43,"YERLİ KATKI ORANI RAPORU"]
[49.44,"YERLİ KATKI ORANI RAPORU"]
[49.45,"YERLİ KATKI ORANI RAPORU"]
[49.46,"YERLİ KATKI ORANI RAPORU"]
[49.47,"YERLİ KATKI ORANI RAPORU"]
[49.48,"YERLİ KATKI ORANI RAPORU"]
[49.49,"YERLİ KATKI ORANI RAPORU"]
[{"v":49.5,"d":"49.50"},"YERLİ KATKI ORANI RAPORU"]
[49.51,"YERLİ KATKI ORANI RAPORU"]
[49.52,"YERLİ KATKI ORANI RAPORU"]
[49.53,"YERLİ KATKI ORANI RAPORU"]
[49.54,"YERLİ KATKI ORANI RAPORU"]
[49.55,"YERLİ KATKI ORANI RAPORU"]
[49.56,"YERLİ KATKI ORANI RAPORU"]
[49.57,"YERLİ KATKI ORANI RAPORU"]
[49.58,"YERLİ KATKI ORANI RAPORU"]
[49.59,"YERLİ KATKI ORANI RAPORU"]
[{"v":49.6,"d":"49.60"},"YERLİ KATKI ORANI RAPORU"]
[49.61,"YERLİ KATKI ORANI RAPORU"]
[49.62,"YERLİ KATKI ORANI RAPORU"]
[49.63,"YERLİ KATKI ORANI RAPORU"]
[49.64,"YERLİ KATKI ORANI RAPORU"]
[49.65,"YERLİ KATKI ORANI RAPORU"]
[49.66,"YERLİ KATKI ORANI RAPORU"]
[49.67,"YERLİ KATKI ORANI RAPORU"]
[49.68,"YERLİ KATKI ORANI RAPORU"]
[49.69,"YERLİ KATKI ORANI RAPORU"]
[{"v":49.7,"d":"49.70"},"YERLİ KATKI ORANI RAPORU"]
[49.71,"YERLİ KATKI ORANI RAPORU"]
[49.72,"YERLİ KATKI ORANI RAPORU"]
[49.73,"YERLİ KATKI ORANI RAPORU"]
[49.74,"YERLİ KATKI ORANI RAPORU"]
[49.75,"YERLİ KATKI ORANI RAPORU"]
[49.76,"YERLİ KATKI ORANI RAPORU"]
[49.77,"YERLİ KATKI ORANI RAPORU"]
[49.78,"YERLİ KATKI ORANI RAPORU"]
[49.79,"YERLİ KATKI ORANI RAPORU"]
[{"v":49.8,"d":"49.80"},"YERLİ KATKI ORANI RAPORU"]
[49.81,"YERLİ KATKI ORANI RAPORU"]
[49.82,"YERLİ KATKI ORANI RAPORU"]
[49.83,"YERLİ KATKI ORANI RAPORU"]
[49.84,"YERLİ KATKI ORANI RAPORU"]
[49.85,"YERLİ KATKI ORANI RAPORU"]
[49.86,"YERLİ KATKI ORANI RAPORU"]
[49.87,"YERLİ KATKI ORANI RAPORU"]
[49.88,"YERLİ KATKI ORANI RAPORU"]
[49.89,"YERLİ KATKI ORANI RAPORU"]
[{"v":49.9,"d":"49.90"},"YERLİ KATKI ORANI RAPORU"]
[49.91,"YERLİ KATKI ORANI RAPORU"]
[49.92,"YERLİ KATKI ORANI RAPORU"]
[49.93,"YERLİ KATKI ORANI RAPORU"]
[49.94,"YERLİ KATKI ORANI RAPORU"]
[49.95,"YERLİ KATKI ORANI RAPORU"]
[49.96,"YERLİ KATKI ORANI RAPORU"]
[49.97,"YERLİ KATKI ORANI RAPORU"]
[49.98,"YERLİ KATKI ORANI RAPORU"]
[49.99,"YERLİ KATKI ORANI RAPORU"]
[{"v":50,"d":"50.00"},"YERLİ KATKI ORANI RAPORU"]
[50.01,"YERLİ KATKI ORANI RAPORU"]
[50.02,"YERLİ KATKI ORANI RAPORU"]
[50.03,"YERLİ KATKI ORANI RAPORU"]
[50.04,"YERLİ KATKI ORANI RAPORU"]
[50.05,"YERLİ KATKI ORANI RAPORU"]
[50.06,"YERLİ KATKI ORANI RAPORU"]
[50.07,"YERLİ KATKI ORANI RAPORU"]
[50.08,"YERLİ KATKI ORANI RAPORU"]
[50.09,"YERLİ KATKI ORANI RAPORU"]
[{"v":50.1,"d":"50.10"},"YERLİ KATKI ORANI RAPORU"]
[50.11,"YERLİ KATKI ORANI RAPORU"]
[50.12,"YERLİ KATKI ORANI RAPORU"]
[50.13,"YERLİ KATKI ORANI RAPORU"]
[50.14,"YERLİ KATKI ORANI RAPORU"]
[50.15,"YERLİ KATKI ORANI RAPORU"]
[50.16,"YERLİ KATKI ORANI RAPORU"]
[50.17,"YERLİ KATKI ORANI RAPORU"]
[50.18,"YERLİ KATKI ORANI RAPORU"]
[50.19,"YERLİ KATKI ORANI RAPORU"]
[{"v":50.2,"d":"50.20"},"YERLİ KATKI ORANI RAPORU"]
[50.21,"YERLİ KATKI ORANI RAPORU"]
[50.22,"YERLİ KATKI ORANI RAPORU"]
[50.23,"YERLİ KATKI ORANI RAPORU"]
[50.24,"YERLİ KATKI ORANI RAPORU"]
[50.25,"YERLİ KATKI ORANI RAPORU"]
[50.26,"YERLİ KATKI ORANI RAPORU"]
[50.27,"YERLİ KATKI ORANI RAPORU"]
[50.28,"YERLİ KATKI ORANI RAPORU"]
[50.29,"YERLİ KATKI ORANI RAPORU"]
[{"v":50.3,"d":"50.30"},"YERLİ KATKI ORANI RAPORU"]
[50.31,"YERLİ KATKI ORANI RAPORU"]
[50.32,"YERLİ KATKI ORANI RAPORU"]
[50.33,"YERLİ KATKI ORANI RAPORU"]
[50.34,"YERLİ KATKI ORANI RAPORU"]
[50.35,"YERLİ KATKI ORANI RAPORU"]
[50.36,"YERLİ KATKI ORANI RAPORU"]
[50.37,"YERLİ KATKI ORANI RAPORU"]
[50.38,"YERLİ KATKI ORANI RAPORU"]
[50.39,"YERLİ KATKI ORANI RAPORU"]
[{"v":50.4,"d":"50.40"},"YERLİ KATKI ORANI RAPORU"]
[50.41,"YERLİ KATKI ORANI RAPORU"]
[50.42,"YERLİ KATKI ORANI RAPORU"]
[50.43,"YERLİ KATKI ORANI RAPORU"]
[50.44,"YERLİ KATKI ORANI RAPORU"]
[50.45,"YERLİ KATKI ORANI RAPORU"]
[50.46,"YERLİ KATKI ORANI RAPORU"]
[50.47,"YERLİ KATKI ORANI RAPORU"]
[50.48,"YERLİ KATKI ORANI RAPORU"]
[50.49,"YERLİ KATKI ORANI RAPORU"]
[{"v":50.5,"d":"50.50"},"YERLİ KATKI ORANI RAPORU"]
[50.51,"YERLİ KATKI ORANI RAPORU"]
[50.52,"YERLİ KATKI ORANI RAPORU"]
[50.53,"YERLİ KATKI ORANI RAPORU"]
[50.54,"YERLİ KATKI ORANI RAPORU"]
[50.55,"YERLİ KATKI ORANI RAPORU"]
[50.56,"YERLİ KATKI ORANI RAPORU"]
[50.57,"YERLİ KATKI ORANI RAPORU"]
[50.58,"YERLİ KATKI ORANI RAPORU"]
[50.59,"YERLİ KATKI ORANI RAPORU"]
[{"v":50.6,"d":"50.60"},"YERLİ KATKI ORANI RAPORU"]
[50.61,"YERLİ KATKI ORANI RAPORU"]
[50.62,"YERLİ KATKI ORANI RAPORU"]
[50.63,"YERLİ KATKI ORANI RAPORU"]
[50.64,"YERLİ KATKI ORANI RAPORU"]
[50.65,"YERLİ KATKI ORANI RAPORU"]
[50.66,"YERLİ KATKI ORANI RAPORU"]
[50.67,"YERLİ KATKI ORANI RAPORU"]
[50.68,"YERLİ KATKI ORANI RAPORU"]
[50.69,"YERLİ KATKI ORANI RAPORU"]
[{"v":50.7,"d":"50.70"},"YERLİ KATKI ORANI RAPORU"]
[50.71,"YERLİ KATKI ORANI RAPORU"]
[50.72,"YERLİ KATKI ORANI RAPORU"]
[50.73,"YERLİ KATKI ORANI RAPORU"]
[50.74,"YERLİ KATKI ORANI RAPORU"]
[50.75,"YERLİ KATKI ORANI RAPORU"]
[50.76,"YERLİ KATKI ORANI RAPORU"]
[50.77,"YERLİ KATKI ORANI RAPORU"]
[50.78,"YERLİ KATKI ORANI RAPORU"]
[50.79,"YERLİ KATKI ORANI RAPORU"]
[{"v":50.8,"d":"50.80"},"YERLİ KATKI ORANI RAPORU"]
[50.81,"YERLİ KATKI ORANI RAPORU"]
[50.82,"YERLİ KATKI ORANI RAPORU"]
[50.83,"YERLİ KATKI ORANI RAPORU"]
[50.84,"YERLİ KATKI ORANI RAPORU"]
[50.85,"YERLİ KATKI ORANI RAPORU"]
[50.86,"YERLİ KATKI ORANI RAPORU"]
[50.87,"YERLİ KATKI ORANI RAPORU"]
[50.88,"YERLİ KATKI ORANI RAPORU"]
[50.89,"YERLİ KATKI ORANI RAPORU"]
[{"v":50.9,"d":"50.90"},"YERLİ KATKI ORANI RAPORU"]
[50.91,"YERLİ KATKI ORANI RAPORU"]
[50.92,"YERLİ KATKI ORANI RAPORU"]
[50.93,"YERLİ KATKI ORANI RAPORU"]
[50.94,"YERLİ KATKI ORANI RAPORU"]
[50.95,"YERLİ KATKI ORANI RAPORU"]
[50.96,"YERLİ KATKI ORANI RAPORU"]
[50.97,"YERLİ KATKI ORANI RAPORU"]
[50.98,"YERLİ KATKI ORANI RAPORU"]
[50.99,"YERLİ KATKI ORANI RAPORU"]
[{"v":51,"d":"51.00"},"E"]
[51.01,"E"]
[51.02,"E"]
[51.03,"E"]
[51.04,"E"]
[51.05,"E"]
[51.06,"E"]
[51.07,"E"]
[51.08,"E"]
[51.09,"E"]
[{"v":51.1,"d":"51.10"},"E"]
[51.11,"E"]
[51.12,"E"]
[51.13,"E"]
[51.14,"E"]
[51.15,"E"]
[51.16,"E"]
[51.17,"E"]
[51.18,"E"]
[51.19,"E"]
[{"v":51.2,"d":"51.20"},"E"]
[51.21,"E"]
[51.22,"E"]
[51.23,"E"]
[51.24,"E"]
[51.25,"E"]
[51.26,"E"]
[51.27,"E"]
[51.28,"E"]
[51.29,"E"]
[{"v":51.3,"d":"51.30"},"E"]
[51.31,"E"]
[51.32,"E"]
[51.33,"E"]
[51.34,"E"]
[51.35,"E"]
[51.36,"E"]
[51.37,"E"]
[51.38,"E"]
[51.39,"E"]
[{"v":51.4,"d":"51.40"},"E"]
[51.41,"E"]
[51.42,"E"]
[51.43,"E"]
[51.44,"E"]
[51.45,"E"]
[51.46,"E"]
[51.47,"E"]
[51.48,"E"]
[51.49,"E"]
[{"v":51.5,"d":"51.50"},"E"]
[51.51,"E"]
[51.52,"E"]
[51.53,"E"]
[51.54,"E"]
[51.55,"E"]
[51.56,"E"]
[51.57,"E"]
[51.58,"E"]
[51.59,"E"]
[{"v":51.6,"d":"51.60"},"E"]
[51.61,"E"]
[51.62,"E"]
[51.63,"E"]
[51.64,"E"]
[51.65,"E"]
[51.66,"E"]
[51.67,"E"]
[51.68,"E"]
[51.69,"E"]
[{"v":51.7,"d":"51.70"},"E"]
[51.71,"E"]
[51.72,"E"]
[51.73,"E"]
[51.74,"E"]
[51.75,"E"]
[51.76,"E"]
[51.77,"E"]
[51.78,"E"]
[51.79,"E"]
[{"v":51.8,"d":"51.80"},"E"]
[51.81,"E"]
[51.82,"E"]
[51.83,"E"]
[51.84,"E"]
[51.85,"E"]
[51.86,"E"]
[51.87,"E"]
[51.88,"E"]
[51.89,"E"]
[{"v":51.9,"d":"51.90"},"E"]
[51.91,"E"]
[51.92,"E"]
[51.93,"E"]
[51.94,"E"]
[51.95,"E"]
[51.96,"E"]
[51.97,"E"]
[51.98,"E"]
[51.99,"E"]
[{"v":52,"d":"52.00"},"E"]
[52.01,"E"]
[52.02,"E"]
[52.03,"E"]
[52.04,"E"]
[52.05,"E"]
[52.06,"E"]
[52.07,"E"]
[52.08,"E"]
[52.09,"E"]
[{"v":52.1,"d":"52.10"},"E"]
[52.11,"E"]
[52.12,"E"]
[52.13,"E"]
[52.14,"E"]
[52.15,"E"]
[52.16,"E"]
[52.17,"E"]
[52.18,"E"]
[52.19,"E"]
[{"v":52.2,"d":"52.20"},"E"]
[52.21,"E"]
[52.22,"E"]
[52.23,"E"]
[52.24,"E"]
[52.25,"E"]
[52.26,"E"]
[52.27,"E"]
[52.28,"E"]
[52.29,"E"]
[{"v":52.3,"d":"52.30"},"E"]
[52.31,"E"]
[52.32,"E"]
[52.33,"E"]
[52.34,"E"]
[52.35,"E"]
[52.36,"E"]
[52.37,"E"]
[52.38,"E"]
[52.39,"E"]
[{"v":52.4,"d":"52.40"},"E"]
[52.41,"E"]
[52.42,"E"]
[52.43,"E"]
[52.44,"E"]
[52.45,"E"]
[52.46,"E"]
[52.47,"E"]
[52.48,"E"]
[52.49,"E"]
[{"v":52.5,"d":"52.50"},"E"]
[52.51,"E"]
[52.52,"E"]
[52.53,"E"]
[52.54,"E"]
[52.55,"E"]
[52.56,"E"]
[52.57,"E"]
[52.58,"E"]
[52.59,"E"]
[{"v":52.6,"d":"52.60"},"E"]
[52.61,"E"]
[52.62,"E"]
[52.63,"E"]
[52.64,"E"]
[52.65,"E"]
[52.66,"E"]
[52.67,"E"]
[52.68,"E"]
[52.69,"E"]
[{"v":52.7,"d":"52.70"},"E"]
[52.71,"E"]
[52.72,"E"]
[52.73,"E"]
[52.74,"E"]
[52.75,"E"]
[52.76,"E"]
[52.77,"E"]
[52.78,"E"]
[52.79,"E"]
[{"v":52.8,"d":"52.80"},"E"]
[52.81,"E"]
[52.82,"E"]
[52.83,"E"]
[52.84,"E"]
[52.85,"E"]
[52.86,"E"]
[52.87,"E"]
[52.88,"E"]
[52.89,"E"]
[{"v":52.9,"d":"52.90"},"E"]
[52.91,"E"]
[52.92,"E"]
[52.93,"E"]
[52.94,"E"]
[52.95,"E"]
[52.96,"E"]
[52.97,"E"]
[52.98,"E"]
[52.99,"E"]
[{"v":53,"d":"53.00"},"E"]
[53.01,"E"]
[53.02,"E"]
[53.03,"E"]
[53.04,"E"]
[53.05,"E"]
[53.06,"E"]
[53.07,"E"]
[53.08,"E"]
[53.09,"E"]
[{"v":53.1,"d":"53.10"},"E"]
[53.11,"E"]
[53.12,"E"]
[53.13,"E"]
[53.14,"E"]
[53.15,"E"]
[53.16,"E"]
[53.17,"E"]
[53.18,"E"]
[53.19,"E"]
[{"v":53.2,"d":"53.20"},"E"]
[53.21,"E"]
[53.22,"E"]
[53.23,"E"]
[53.24,"E"]
[53.25,"E"]
[53.26,"E"]
[53.27,"E"]
[53.28,"E"]
[53.29,"E"]
[{"v":53.3,"d":"53.30"},"E"]
[53.31,"E"]
[53.32,"E"]
[{"v":53.3300000000001,"d":"53.33"},"E"]
[53.34,"E"]
[53.35,"E"]
[53.36,"E"]
[53.37,"E"]
[53.38,"E"]
[53.39,"E"]
[{"v":53.4,"d":"53.40"},"E"]
[53.41,"E"]
[53.42,"E"]
[53.43,"E"]
[53.44,"E"]
[53.45,"E"]
[53.46,"E"]
[53.47,"E"]
[53.48,"E"]
[53.49,"E"]
[{"v":53.5,"d":"53.50"},"E"]
[53.51,"E"]
[53.52,"E"]
[53.53,"E"]
[53.54,"E"]
[53.55,"E"]
[53.56,"E"]
[53.57,"E"]
[{"v":53.5800000000001,"d":"53.58"},"E"]
[53.59,"E"]
[{"v":53.6,"d":"53.60"},"E"]
[53.61,"E"]
[53.62,"E"]
[53.63,"E"]
[53.64,"E"]
[53.65,"E"]
[53.66,"E"]
[53.67,"E"]
[53.68,"E"]
[53.69,"E"]
[{"v":53.7,"d":"53.70"},"E"]
[53.71,"E"]
[53.72,"E"]
[53.73,"E"]
[53.74,"E"]
[53.75,"E"]
[53.76,"E"]
[53.77,"E"]
[53.78,"E"]
[53.79,"E"]
[{"v":53.8,"d":"53.80"},"E"]
[53.81,"E"]
[53.82,"E"]
[{"v":53.8300000000001,"d":"53.83"},"E"]
[53.84,"E"]
[53.85,"E"]
[53.86,"E"]
[53.87,"E"]
[53.88,"E"]
[53.89,"E"]
[{"v":53.9000000000001,"d":"53.90"},"E"]
[53.91,"E"]
[53.92,"E"]
[53.93,"E"]
[53.94,"E"]
[53.95,"E"]
[53.96,"E"]
[{"v":53.9700000000001,"d":"53.97"},"E"]
[53.98,"E"]
[53.99,"E"]
[{"v":54,"d":"54.00"},"E"]
[54.01,"E"]
[54.02,"E"]
[54.03,"E"]
[54.04,"E"]
[54.05,"E"]
[54.06,"E"]
[54.07,"E"]
[{"v":54.0800000000001,"d":"54.08"},"E"]
[54.09,"E"]
[{"v":54.1,"d":"54.10"},"E"]
[54.11,"E"]
[54.12,"E"]
[54.13,"E"]
[54.14,"E"]
[{"v":54.1500000000001,"d":"54.15"},"E"]
[54.16,"E"]
[54.17,"E"]
[54.18,"E"]
[54.19,"E"]
[{"v":54.2,"d":"54.20"},"E"]
[54.21,"E"]
[{"v":54.2200000000001,"d":"54.22"},"E"]
[54.23,"E"]
[54.24,"E"]
[54.25,"E"]
[54.26,"E"]
[54.27,"E"]
[54.28,"E"]
[54.29,"E"]
[{"v":54.3,"d":"54.30"},"E"]
[54.31,"E"]
[54.32,"E"]
[{"v":54.3300000000001,"d":"54.33"},"E"]
[54.34,"E"]
[54.35,"E"]
[54.36,"E"]
[54.37,"E"]
[54.38,"E"]
[54.39,"E"]
[{"v":54.4000000000001,"d":"54.40"},"E"]
[54.41,"E"]
[54.42,"E"]
[54.43,"E"]
[54.44,"E"]
[54.45,"E"]
[54.46,"E"]
[{"v":54.4700000000001,"d":"54.47"},"E"]
[54.48,"E"]
[54.49,"E"]
[{"v":54.5,"d":"54.50"},"E"]
[54.51,"E"]
[54.52,"E"]
[54.53,"E"]
[{"v":54.5400000000001,"d":"54.54"},"E"]
[54.55,"E"]
[54.56,"E"]
[54.57,"E"]
[{"v":54.5800000000001,"d":"54.58"},"E"]
[54.59,"E"]
[{"v":54.6,"d":"54.60"},"E"]
[{"v":54.6100000000001,"d":"54.61"},"E"]
[54.62,"E"]
[54.63,"E"]
[54.64,"E"]
[{"v":54.6500000000001,"d":"54.65"},"E"]
[54.66,"E"]
[54.67,"E"]
[54.68,"E"]
[54.69,"E"]
[{"v":54.7,"d":"54.70"},"E"]
[54.71,"E"]
[{"v":54.7200000000001,"d":"54.72"},"E"]
[54.73,"E"]
[54.74,"E"]
[54.75,"E"]
[54.76,"E"]
[54.77,"E"]
[54.78,"E"]
[{"v":54.7900000000001,"d":"54.79"},"E"]
[{"v":54.8,"d":"54.80"},"E"]
[54.81,"E"]
[54.82,"E"]
[{"v":54.8300000000001,"d":"54.83"},"E"]
[54.84,"E"]
[54.85,"E"]
[{"v":54.8600000000001,"d":"54.86"},"E"]
[54.87,"E"]
[54.88,"E"]
[54.89,"E"]
[{"v":54.9000000000001,"d":"54.90"},"E"]
[54.91,"E"]
[54.92,"E"]
[54.93,"E"]
[54.94,"E"]
[54.95,"E"]
[54.96,"E"]
[{"v":54.9700000000001,"d":"54.97"},"E"]
[54.98,"E"]
[54.99,"E"]
[{"v":55,"d":"55.00"},"E"]
[55.01,"E"]
[55.02,"E"]
[55.03,"E"]
[{"v":55.0400000000001,"d":"55.04"},"E"]
[55.05,"E"]
[55.06,"E"]
[55.07,"E"]
[{"v":55.0800000000001,"d":"55.08"},"E"]
[55.09,"E"]
[{"v":55.1,"d":"55.10"},"E"]
[{"v":55.1100000000001,"d":"55.11"},"E"]
[55.12,"E"]
[55.13,"E"]
[55.14,"E"]
[{"v":55.1500000000001,"d":"55.15"},"E"]
[55.16,"E"]
[55.17,"E"]
[{"v":55.1800000000001,"d":"55.18"},"E"]
[55.19,"E"]
[{"v":55.2,"d":"55.20"},"E"]
[55.21,"E"]
[{"v":55.2200000000001,"d":"55.22"},"E"]
[55.23,"E"]
[55.24,"E"]
[{"v":55.2500000000001,"d":"55.25"},"E"]
[55.26,"E"]
[55.27,"E"]
[55.28,"E"]
[{"v":55.2900000000001,"d":"55.29"},"E"]
[{"v":55.3,"d":"55.30"},"E"]
[55.31,"E"]
[55.32,"E"]
[{"v":55.3300000000001,"d":"55.33"},"E"]
[55.34,"E"]
[55.35,"E"]
[{"v":55.3600000000001,"d":"55.36"},"E"]
[55.37,"E"]
[55.38,"E"]
[55.39,"E"]
[{"v":55.4000000000001,"d":"55.40"},"E"]
[55.41,"E"]
[55.42,"E"]
[{"v":55.4300000000001,"d":"55.43"},"E"]
[55.44,"E"]
[55.45,"E"]
[55.46,"E"]
[{"v":55.4700000000001,"d":"55.47"},"E"]
[55.48,"E"]
[55.49,"E"]
[{"v":55.5000000000001,"d":"55.50"},"E"]
[55.51,"E"]
[55.52,"E"]
[55.53,"E"]
[{"v":55.5400000000001,"d":"55.54"},"E"]
[55.55,"E"]
[55.56,"E"]
[55.57,"E"]
[{"v":55.5800000000001,"d":"55.58"},"E"]
[55.59,"E"]
[{"v":55.6,"d":"55.60"},"E"]
[{"v":55.6100000000001,"d":"55.61"},"E"]
[55.62,"E"]
[55.63,"E"]
[55.64,"E"]
[{"v":55.6500000000001,"d":"55.65"},"E"]
[55.66,"E"]
[55.67,"E"]
[{"v":55.6800000000001,"d":"55.68"},"E"]
[55.69,"E"]
[{"v":55.7,"d":"55.70"},"E"]
[55.71,"E"]
[{"v":55.7200000000001,"d":"55.72"},"E"]
[55.73,"E"]
[55.74,"E"]
[{"v":55.7500000000001,"d":"55.75"},"E"]
[55.76,"E"]
[55.77,"E"]
[55.78,"E"]
[{"v":55.7900000000001,"d":"55.79"},"E"]
[{"v":55.8,"d":"55.80"},"E"]
[55.81,"E"]
[{"v":55.8200000000001,"d":"55.82"},"E"]
[{"v":55.8300000000001,"d":"55.83"},"E"]
[55.84,"E"]
[55.85,"E"]
[{"v":55.8600000000001,"d":"55.86"},"E"]
[55.87,"E"]
[55.88,"E"]
[{"v":55.8900000000001,"d":"55.89"},"E"]
[{"v":55.9000000000001,"d":"55.90"},"E"]
[55.91,"E"]
[55.92,"E"]
[{"v":55.9300000000001,"d":"55.93"},"E"]
[55.94,"E"]
[55.95,"E"]
[55.96,"E"]
[{"v":55.9700000000001,"d":"55.97"},"E"]
[55.98,"E"]
[55.99,"E"]
[{"v":56.0000000000001,"d":"56.00"},"E"]
[56.01,"E"]
[56.02,"E"]
[56.03,"E"]
[{"v":56.0400000000001,"d":"56.04"},"E"]
[56.05,"E"]
[56.06,"E"]
[{"v":56.0700000000001,"d":"56.07"},"E"]
[{"v":56.0800000000001,"d":"56.08"},"E"]
[56.09,"E"]
[{"v":56.1,"d":"56.10"},"E"]
[{"v":56.1100000000001,"d":"56.11"},"E"]
[56.12,"E"]
[56.13,"E"]
[{"v":56.1400000000001,"d":"56.14"},"E"]
[{"v":56.1500000000001,"d":"56.15"},"E"]
[56.16,"E"]
[56.17,"E"]
[{"v":56.1800000000001,"d":"56.18"},"E"]
[56.19,"E"]
[{"v":56.2,"d":"56.20"},"E"]
[56.21,"E"]
[{"v":56.2200000000001,"d":"56.22"},"E"]
[56.23,"E"]
[56.24,"E"]
[{"v":56.2500000000001,"d":"56.25"},"E"]
[56.26,"E"]
[56.27,"E"]
[56.28,"E"]
[{"v":56.2900000000001,"d":"56.29"},"E"]
[{"v":56.3,"d":"56.30"},"E"]
[56.31,"E"]
[{"v":56.3200000000001,"d":"56.32"},"E"]
[{"v":56.3300000000001,"d":"56.33"},"E"]
[56.34,"E"]
[56.35,"E"]
[{"v":56.3600000000001,"d":"56.36"},"E"]
[56.37,"E"]
[56.38,"E"]
[{"v":56.3900000000001,"d":"56.39"},"E"]
[{"v":56.4000000000001,"d":"56.40"},"E"]
[56.41,"E"]
[56.42,"E"]
[{"v":56.4300000000001,"d":"56.43"},"E"]
[56.44,"E"]
[56.45,"E"]
[{"v":56.4600000000001,"d":"56.46"},"E"]
[{"v":56.4700000000001,"d":"56.47"},"E"]
[56.48,"E"]
[56.49,"E"]
[{"v":56.5000000000001,"d":"56.50"},"E"]
[56.51,"E"]
[56.52,"E"]
[{"v":56.5300000000001,"d":"56.53"},"E"]
[{"v":56.5400000000001,"d":"56.54"},"E"]
[56.55,"E"]
[56.56,"E"]
[{"v":56.5700000000001,"d":"56.57"},"E"]
[{"v":56.5800000000001,"d":"56.58"},"E"]
[56.59,"E"]
[{"v":56.6,"d":"56.60"},"E"]
[{"v":56.6100000000001,"d":"56.61"},"E"]
[56.62,"E"]
[56.63,"E"]
[{"v":56.6400000000001,"d":"56.64"},"E"]
[{"v":56.6500000000001,"d":"56.65"},"E"]
[56.66,"E"]
[56.67,"E"]
[{"v":56.6800000000001,"d":"56.68"},"E"]
[56.69,"E"]
[{"v":56.7,"d":"56.70"},"E"]
[{"v":56.7100000000001,"d":"56.71"},"E"]
[{"v":56.7200000000001,"d":"56.72"},"E"]
[56.73,"E"]
[56.74,"E"]
[{"v":56.7500000000001,"d":"56.75"},"E"]
[56.76,"E"]
[56.77,"E"]
[{"v":56.7800000000001,"d":"56.78"},"E"]
[{"v":56.7900000000001,"d":"56.79"},"E"]
[{"v":56.8,"d":"56.80"},"E"]
[56.81,"E"]
[{"v":56.8200000000001,"d":"56.82"},"E"]
[{"v":56.8300000000001,"d":"56.83"},"E"]
[56.84,"E"]
[56.85,"E"]
[{"v":56.8600000000001,"d":"56.86"},"E"]
[56.87,"E"]
[56.88,"E"]
[{"v":56.8900000000001,"d":"56.89"},"E"]
[{"v":56.9000000000001,"d":"56.90"},"E"]
[56.91,"E"]
[56.92,"E"]
[{"v":56.9300000000001,"d":"56.93"},"E"]
[56.94,"E"]
[56.95,"E"]
[{"v":56.9600000000001,"d":"56.96"},"E"]
[{"v":56.9700000000001,"d":"56.97"},"E"]
[56.98,"E"]
[56.99,"E"]
[{"v":57.0000000000001,"d":"57.00"},"E"]
[57.01,"E"]
[57.02,"E"]
[{"v":57.0300000000001,"d":"57.03"},"E"]
[{"v":57.0400000000001,"d":"57.04"},"E"]
[57.05,"E"]
[57.06,"E"]
[{"v":57.0700000000001,"d":"57.07"},"E"]
[{"v":57.0800000000001,"d":"57.08"},"E"]
[57.09,"E"]
[{"v":57.1000000000001,"d":"57.10"},"E"]
[{"v":57.1100000000001,"d":"57.11"},"E"]
[57.12,"E"]
[57.13,"E"]
[{"v":57.1400000000001,"d":"57.14"},"E"]
[{"v":57.1500000000001,"d":"57.15"},"E"]
[57.16,"E"]
[{"v":57.1700000000001,"d":"57.17"},"E"]
[{"v":57.1800000000001,"d":"57.18"},"E"]
[57.19,"E"]
[{"v":57.2,"d":"57.20"},"E"]
[{"v":57.2100000000001,"d":"57.21"},"E"]
[{"v":57.2200000000001,"d":"57.22"},"E"]
[57.23,"E"]
[57.24,"E"]
[{"v":57.2500000000001,"d":"57.25"},"E"]
[57.26,"E"]
[57.27,"E"]
[{"v":57.2800000000001,"d":"57.28"},"E"]
[{"v":57.2900000000001,"d":"57.29"},"E"]
[{"v":57.3,"d":"57.30"},"E"]
[57.31,"E"]
[{"v":57.3200000000001,"d":"57.32"},"E"]
[{"v":57.3300000000001,"d":"57.33"},"E"]
[57.34,"E"]
[{"v":57.3500000000001,"d":"57.35"},"E"]
[{"v":57.3600000000001,"d":"57.36"},"E"]
[57.37,"E"]
[57.38,"E"]
[{"v":57.3900000000001,"d":"57.39"},"E"]
[{"v":57.4000000000001,"d":"57.40"},"E"]
[57.41,"E"]
[{"v":57.4200000000001,"d":"57.42"},"E"]
[{"v":57.4300000000001,"d":"57.43"},"E"]
[57.44,"E"]
[57.45,"E"]
[{"v":57.4600000000001,"d":"57.46"},"E"]
[{"v":57.4700000000001,"d":"57.47"},"E"]
[57.48,"E"]
[57.49,"E"]
[{"v":57.5000000000001,"d":"57.50"},"E"]
[57.51,"E"]
[57.52,"E"]
[{"v":57.5300000000001,"d":"57.53"},"E"]
[{"v":57.5400000000001,"d":"57.54"},"E"]
[57.55,"E"]
[57.56,"E"]
[{"v":57.5700000000001,"d":"57.57"},"E"]
[{"v":57.5800000000001,"d":"57.58"},"E"]
[57.59,"E"]
[{"v":57.6000000000001,"d":"57.60"},"E"]
[{"v":57.6100000000001,"d":"57.61"},"E"]
[57.62,"E"]
[57.63,"E"]
[{"v":57.6400000000001,"d":"57.64"},"E"]
[{"v":57.6500000000001,"d":"57.65"},"E"]
[57.66,"E"]
[{"v":57.6700000000001,"d":"57.67"},"E"]
[{"v":57.6800000000001,"d":"57.68"},"E"]
[57.69,"E"]
[{"v":57.7,"d":"57.70"},"E"]
[{"v":57.7100000000001,"d":"57.71"},"E"]
[{"v":57.7200000000001,"d":"57.72"},"E"]
[57.73,"E"]
[{"v":57.7400000000001,"d":"57.74"},"E"]
[{"v":57.7500000000001,"d":"57.75"},"E"]
[57.76,"E"]
[57.77,"E"]
[{"v":57.7800000000001,"d":"57.78"},"E"]
[{"v":57.7900000000001,"d":"57.79"},"E"]
[{"v":57.8,"d":"57.80"},"E"]
[{"v":57.8100000000001,"d":"57.81"},"E"]
[{"v":57.8200000000001,"d":"57.82"},"E"]
[{"v":57.8300000000001,"d":"57.83"},"E"]
[57.84,"E"]
[{"v":57.8500000000001,"d":"57.85"},"E"]
[{"v":57.8600000000001,"d":"57.86"},"E"]
[57.87,"E"]
[57.88,"E"]
[{"v":57.8900000000001,"d":"57.89"},"E"]
[{"v":57.9000000000001,"d":"57.90"},"E"]
[57.91,"E"]
[{"v":57.9200000000001,"d":"57.92"},"E"]
[{"v":57.9300000000001,"d":"57.93"},"E"]
[57.94,"E"]
[57.95,"E"]
[{"v":57.9600000000001,"d":"57.96"},"E"]
[{"v":57.9700000000001,"d":"57.97"},"E"]
[57.98,"E"]
[{"v":57.9900000000001,"d":"57.99"},"E"]
[{"v":58.0000000000001,"d":"58.00"},"E"]
[58.01,"E"]
[58.02,"E"]
[{"v":58.0300000000001,"d":"58.03"},"E"]
[{"v":58.0400000000001,"d":"58.04"},"E"]
[58.05,"E"]
[{"v":58.0600000000001,"d":"58.06"},"E"]
[{"v":58.0700000000001,"d":"58.07"},"E"]
[{"v":58.0800000000001,"d":"58.08"},"E"]
[58.09,"E"]
[{"v":58.1000000000001,"d":"58.10"},"E"]
[{"v":58.1100000000001,"d":"58.11"},"E"]
[58.12,"E"]
[58.13,"E"]
[{"v":58.1400000000001,"d":"58.14"},"E"]
[{"v":58.1500000000001,"d":"58.15"},"E"]
[58.16,"E"]
[{"v":58.1700000000001,"d":"58.17"},"E"]
[{"v":58.1800000000001,"d":"58.18"},"E"]
[58.19,"E"]
[{"v":58.2,"d":"58.20"},"E"]
[{"v":58.2100000000001,"d":"58.21"},"E"]
[{"v":58.2200000000001,"d":"58.22"},"E"]
[58.23,"E"]
[{"v":58.2400000000001,"d":"58.24"},"E"]
[{"v":58.2500000000001,"d":"58.25"},"E"]
[58.26,"E"]
[58.27,"E"]
[{"v":58.2800000000001,"d":"58.28"},"E"]
[{"v":58.2900000000001,"d":"58.29"},"E"]
[{"v":58.3,"d":"58.30"},"E"]
[{"v":58.3100000000001,"d":"58.31"},"E"]
[{"v":58.3200000000001,"d":"58.32"},"E"]
[{"v":58.3300000000001,"d":"58.33"},"E"]
[58.34,"E"]
[{"v":58.3500000000001,"d":"58.35"},"E"]
[{"v":58.3600000000001,"d":"58.36"},"E"]
[58.37,"E"]
[{"v":58.3800000000001,"d":"58.38"},"E"]
[{"v":58.3900000000001,"d":"58.39"},"E"]
[{"v":58.4000000000001,"d":"58.40"},"E"]
[58.41,"E"]
[{"v":58.4200000000001,"d":"58.42"},"E"]
[{"v":58.4300000000001,"d":"58.43"},"E"]
[58.44,"E"]
[{"v":58.4500000000001,"d":"58.45"},"E"]
[{"v":58.4600000000001,"d":"58.46"},"E"]
[{"v":58.4700000000001,"d":"58.47"},"E"]
[58.48,"E"]
[{"v":58.4900000000001,"d":"58.49"},"E"]
[{"v":58.5000000000001,"d":"58.50"},"E"]
[58.51,"E"]
[58.52,"E"]
[{"v":58.5300000000001,"d":"58.53"},"E"]
[{"v":58.5400000000001,"d":"58.54"},"E"]
[58.55,"E"]
[{"v":58.5600000000001,"d":"58.56"},"E"]
[{"v":58.5700000000001,"d":"58.57"},"E"]
[{"v":58.5800000000001,"d":"58.58"},"E"]
[58.59,"E"]
[{"v":58.6000000000001,"d":"58.60"},"E"]
[{"v":58.6100000000001,"d":"58.61"},"E"]
[58.62,"E"]
[{"v":58.6300000000001,"d":"58.63"},"E"]
[{"v":58.6400000000001,"d":"58.64"},"E"]
[{"v":58.6500000000001,"d":"58.65"},"E"]
[58.66,"E"]
[{"v":58.6700000000001,"d":"58.67"},"E"]
[{"v":58.6800000000001,"d":"58.68"},"E"]
[58.69,"E"]
[{"v":58.7000000000001,"d":"58.70"},"E"]
[{"v":58.7100000000001,"d":"58.71"},"E"]
[{"v":58.7200000000001,"d":"58.72"},"E"]
[58.73,"E"]
[{"v":58.7400000000001,"d":"58.74"},"E"]
[{"v":58.7500000000001,"d":"58.75"},"E"]
[58.76,"E"]
[58.77,"E"]
[{"v":58.7800000000001,"d":"58.78"},"E"]
[{"v":58.7900000000001,"d":"58.79"},"E"]
[{"v":58.8,"d":"58.80"},"E"]
[{"v":58.8100000000001,"d":"58.81"},"E"]
[{"v":58.8200000000001,"d":"58.82"},"E"]
[{"v":58.8300000000001,"d":"58.83"},"E"]
[58.84,"E"]
[{"v":58.8500000000001,"d":"58.85"},"E"]
[{"v":58.8600000000001,"d":"58.86"},"E"]
[58.87,"E"]
[{"v":58.8800000000001,"d":"58.88"},"E"]
[{"v":58.8900000000001,"d":"58.89"},"E"]
[{"v":58.9000000000001,"d":"58.90"},"E"]
[58.91,"E"]
[{"v":58.9200000000001,"d":"58.92"},"E"]
[{"v":58.9300000000001,"d":"58.93"},"E"]
[58.94,"E"]
[{"v":58.9500000000001,"d":"58.95"},"E"]
[{"v":58.9600000000001,"d":"58.96"},"E"]
[{"v":58.9700000000001,"d":"58.97"},"E"]
[58.98,"E"]
[{"v":58.9900000000001,"d":"58.99"},"E"]
[{"v":59.0000000000001,"d":"59.00"},"E"]
[59.01,"E"]
[{"v":59.0200000000001,"d":"59.02"},"E"]
[{"v":59.0300000000001,"d":"59.03"},"E"]
[{"v":59.0400000000001,"d":"59.04"},"E"]
[59.05,"E"]
[{"v":59.0600000000001,"d":"59.06"},"E"]
[{"v":59.0700000000001,"d":"59.07"},"E"]
[{"v":59.0800000000001,"d":"59.08"},"E"]
[{"v":59.0900000000001,"d":"59.09"},"E"]
[{"v":59.1000000000001,"d":"59.10"},"E"]
[{"v":59.1100000000001,"d":"59.11"},"E"]
[59.12,"E"]
[{"v":59.1300000000001,"d":"59.13"},"E"]
[{"v":59.1400000000001,"d":"59.14"},"E"]
[{"v":59.1500000000001,"d":"59.15"},"E"]
[59.16,"E"]
[{"v":59.1700000000001,"d":"59.17"},"E"]
[{"v":59.1800000000001,"d":"59.18"},"E"]
[59.19,"E"]
[{"v":59.2000000000001,"d":"59.20"},"E"]
[{"v":59.2100000000001,"d":"59.21"},"E"]
[{"v":59.2200000000001,"d":"59.22"},"E"]
[59.23,"E"]
[{"v":59.2400000000001,"d":"59.24"},"E"]
[{"v":59.2500000000001,"d":"59.25"},"E"]
[59.26,"E"]
[{"v":59.2700000000001,"d":"59.27"},"E"]
[{"v":59.2800000000001,"d":"59.28"},"E"]
[{"v":59.2900000000001,"d":"59.29"},"E"]
[{"v":59.3,"d":"59.30"},"E"]
[{"v":59.3100000000001,"d":"59.31"},"E"]
[{"v":59.3200000000001,"d":"59.32"},"E"]
[{"v":59.3300000000001,"d":"59.33"},"E"]
[{"v":59.3400000000001,"d":"59.34"},"E"]
[{"v":59.3500000000001,"d":"59.35"},"E"]
[{"v":59.3600000000001,"d":"59.36"},"E"]
[59.37,"E"]
[{"v":59.3800000000001,"d":"59.38"},"E"]
[{"v":59.3900000000001,"d":"59.39"},"E"]
[{"v":59.4000000000001,"d":"59.40"},"E"]
[59.41,"E"]
[{"v":59.4200000000001,"d":"59.42"},"E"]
[{"v":59.4300000000001,"d":"59.43"},"E"]
[59.44,"E"]
[{"v":59.4500000000001,"d":"59.45"},"E"]
[{"v":59.4600000000001,"d":"59.46"},"E"]
[{"v":59.4700000000001,"d":"59.47"},"E"]
[59.48,"E"]
[{"v":59.4900000000001,"d":"59.49"},"E"]
[{"v":59.5000000000001,"d":"59.50"},"E"]
[59.51,"E"]
[{"v":59.5200000000001,"d":"59.52"},"E"]
[{"v":59.5300000000001,"d":"59.53"},"E"]
[{"v":59.5400000000001,"d":"59.54"},"E"]
[59.55,"E"]
[{"v":59.5600000000001,"d":"59.56"},"E"]
[{"v":59.5700000000001,"d":"59.57"},"E"]
[{"v":59.5800000000001,"d":"59.58"},"E"]
[{"v":59.5900000000001,"d":"59.59"},"E"]
[{"v":59.6000000000001,"d":"59.60"},"E"]
[{"v":59.6100000000001,"d":"59.61"},"E"]
[59.62,"E"]
[{"v":59.6300000000001,"d":"59.63"},"E"]
[{"v":59.6400000000001,"d":"59.64"},"E"]
[{"v":59.6500000000001,"d":"59.65"},"E"]
[{"v":59.6600000000001,"d":"59.66"},"E"]
[{"v":59.6700000000001,"d":"59.67"},"E"]
[{"v":59.6800000000001,"d":"59.68"},"E"]
[59.69,"E"]
[{"v":59.7000000000001,"d":"59.70"},"E"]
[{"v":59.7100000000001,"d":"59.71"},"E"]
[{"v":59.7200000000001,"d":"59.72"},"E"]
[{"v":59.7300000000001,"d":"59.73"},"E"]
[{"v":59.7400000000001,"d":"59.74"},"E"]
[{"v":59.7500000000001,"d":"59.75"},"E"]
[59.76,"E"]
[{"v":59.7700000000001,"d":"59.77"},"E"]
[{"v":59.7800000000001,"d":"59.78"},"E"]
[{"v":59.7900000000001,"d":"59.79"},"E"]
[{"v":59.8,"d":"59.80"},"E"]
[{"v":59.8100000000001,"d":"59.81"},"E"]
[{"v":59.8200000000001,"d":"59.82"},"E"]
[{"v":59.8300000000001,"d":"59.83"},"E"]
[{"v":59.8400000000001,"d":"59.84"},"E"]
[{"v":59.8500000000001,"d":"59.85"},"E"]
[{"v":59.8600000000001,"d":"59.86"},"E"]
[59.87,"E"]
[{"v":59.8800000000001,"d":"59.88"},"E"]
[{"v":59.8900000000001,"d":"59.89"},"E"]
[{"v":59.9000000000001,"d":"59.90"},"E"]
[{"v":59.9100000000001,"d":"59.91"},"E"]
[{"v":59.9200000000001,"d":"59.92"},"E"]
[{"v":59.9300000000001,"d":"59.93"},"E"]
[59.94,"E"]
[{"v":59.9500000000001,"d":"59.95"},"E"]
[{"v":59.9600000000001,"d":"59.96"},"E"]
[{"v":59.9700000000001,"d":"59.97"},"E"]
[{"v":59.9800000000001,"d":"59.98"},"E"]
[{"v":59.9900000000001,"d":"59.99"},"E"]
[{"v":60.0000000000001,"d":"60.00"},"E"]
[60.01,"E"]
[{"v":60.0200000000001,"d":"60.02"},"E"]
[{"v":60.0300000000001,"d":"60.03"},"E"]
[{"v":60.0400000000001,"d":"60.04"},"E"]
[60.05,"E"]
[{"v":60.0600000000001,"d":"60.06"},"E"]
[{"v":60.0700000000001,"d":"60.07"},"E"]
[{"v":60.0800000000001,"d":"60.08"},"E"]
[{"v":60.0900000000001,"d":"60.09"},"E"]
[{"v":60.1000000000001,"d":"60.10"},"E"]
[{"v":60.1100000000001,"d":"60.11"},"E"]
[60.12,"E"]
[{"v":60.1300000000001,"d":"60.13"},"E"]
[{"v":60.1400000000001,"d":"60.14"},"E"]
[{"v":60.1500000000001,"d":"60.15"},"E"]
[{"v":60.1600000000001,"d":"60.16"},"E"]
[{"v":60.1700000000001,"d":"60.17"},"E"]
[{"v":60.1800000000001,"d":"60.18"},"E"]
[60.19,"E"]
[{"v":60.2000000000001,"d":"60.20"},"E"]
[{"v":60.2100000000001,"d":"60.21"},"E"]
[{"v":60.2200000000001,"d":"60.22"},"E"]
[{"v":60.2300000000001,"d":"60.23"},"E"]
[{"v":60.2400000000001,"d":"60.24"},"E"]
[{"v":60.2500000000001,"d":"60.25"},"E"]
[60.26,"E"]
[{"v":60.2700000000001,"d":"60.27"},"E"]
[{"v":60.2800000000001,"d":"60.28"},"E"]
[{"v":60.2900000000001,"d":"60.29"},"E"]
[{"v":60.3000000000001,"d":"60.30"},"E"]
[{"v":60.3100000000001,"d":"60.31"},"E"]
[{"v":60.3200000000001,"d":"60.32"},"E"]
[{"v":60.3300000000001,"d":"60.33"},"E"]
[{"v":60.3400000000001,"d":"60.34"},"E"]
[{"v":60.3500000000001,"d":"60.35"},"E"]
[{"v":60.3600000000001,"d":"60.36"},"E"]
[{"v":60.3700000000001,"d":"60.37"},"E"]
[{"v":60.3800000000001,"d":"60.38"},"E"]
[{"v":60.3900000000001,"d":"60.39"},"E"]
[{"v":60.4000000000001,"d":"60.40"},"E"]
[{"v":60.4100000000001,"d":"60.41"},"E"]
[{"v":60.4200000000001,"d":"60.42"},"E"]
[{"v":60.4300000000001,"d":"60.43"},"E"]
[60.44,"E"]
[{"v":60.4500000000001,"d":"60.45"},"E"]
[{"v":60.4600000000001,"d":"60.46"},"E"]
[{"v":60.4700000000001,"d":"60.47"},"E"]
[{"v":60.4800000000001,"d":"60.48"},"E"]
[{"v":60.4900000000001,"d":"60.49"},"E"]
[{"v":60.5000000000001,"d":"60.50"},"E"]
[60.51,"E"]
[{"v":60.5200000000001,"d":"60.52"},"E"]
[{"v":60.5300000000001,"d":"60.53"},"E"]
[{"v":60.5400000000001,"d":"60.54"},"E"]
[{"v":60.5500000000001,"d":"60.55"},"E"]
[{"v":60.5600000000001,"d":"60.56"},"E"]
[{"v":60.5700000000001,"d":"60.57"},"E"]
[{"v":60.5800000000001,"d":"60.58"},"E"]
[{"v":60.5900000000001,"d":"60.59"},"E"]
[{"v":60.6000000000001,"d":"60.60"},"E"]
[{"v":60.6100000000001,"d":"60.61"},"E"]
[{"v":60.6200000000001,"d":"60.62"},"E"]
[{"v":60.6300000000001,"d":"60.63"},"E"]
[{"v":60.6400000000001,"d":"60.64"},"E"]
[{"v":60.6500000000001,"d":"60.65"},"E"]
[{"v":60.6600000000001,"d":"60.66"},"E"]
[{"v":60.6700000000001,"d":"60.67"},"E"]
[{"v":60.6800000000001,"d":"60.68"},"E"]
[60.69,"E"]
[{"v":60.7000000000001,"d":"60.70"},"E"]
[{"v":60.7100000000001,"d":"60.71"},"E"]
[{"v":60.7200000000001,"d":"60.72"},"E"]
[{"v":60.7300000000001,"d":"60.73"},"E"]
[{"v":60.7400000000001,"d":"60.74"},"E"]
[{"v":60.7500000000001,"d":"60.75"},"E"]
[60.76,"E"]
[{"v":60.7700000000001,"d":"60.77"},"E"]
[{"v":60.7800000000001,"d":"60.78"},"E"]
[{"v":60.7900000000001,"d":"60.79"},"E"]
[{"v":60.8000000000001,"d":"60.80"},"E"]
[{"v":60.8100000000001,"d":"60.81"},"E"]
[{"v":60.8200000000001,"d":"60.82"},"E"]
[{"v":60.8300000000001,"d":"60.83"},"E"]
[{"v":60.8400000000001,"d":"60.84"},"E"]
[{"v":60.8500000000001,"d":"60.85"},"E"]
[{"v":60.8600000000001,"d":"60.86"},"E"]
[{"v":60.8700000000001,"d":"60.87"},"E"]
[{"v":60.8800000000001,"d":"60.88"},"E"]
[{"v":60.8900000000001,"d":"60.89"},"E"]
[{"v":60.9000000000001,"d":"60.90"},"E"]
[{"v":60.9100000000001,"d":"60.91"},"E"]
[{"v":60.9200000000001,"d":"60.92"},"E"]
[{"v":60.9300000000001,"d":"60.93"},"E"]
[{"v":60.9400000000001,"d":"60.94"},"E"]
[{"v":60.9500000000001,"d":"60.95"},"E"]
[{"v":60.9600000000001,"d":"60.96"},"E"]
[{"v":60.9700000000001,"d":"60.97"},"E"]
[{"v":60.9800000000001,"d":"60.98"},"E"]
[{"v":60.9900000000001,"d":"60.99"},"E"]
[{"v":61,"d":"61.00"},"D"]
[{"v":61.0100000000001,"d":"61.01"},"D"]
[{"v":61.0200000000001,"d":"61.02"},"D"]
[{"v":61.0300000000001,"d":"61.03"},"D"]
[{"v":61.0400000000001,"d":"61.04"},"D"]
[{"v":61.0500000000001,"d":"61.05"},"D"]
[{"v":61.0600000000001,"d":"61.06"},"D"]
[{"v":61.0700000000001,"d":"61.07"},"D"]
[{"v":61.0800000000001,"d":"61.08"},"D"]
[{"v":61.0900000000001,"d":"61.09"},"D"]
[{"v":61.1000000000001,"d":"61.10"},"D"]
[{"v":61.1100000000001,"d":"61.11"},"D"]
[{"v":61.1200000000001,"d":"61.12"},"D"]
[{"v":61.1300000000001,"d":"61.13"},"D"]
[{"v":61.1400000000001,"d":"61.14"},"D"]
[{"v":61.1500000000001,"d":"61.15"},"D"]
[{"v":61.1600000000001,"d":"61.16"},"D"]
[{"v":61.1700000000001,"d":"61.17"},"D"]
[{"v":61.1800000000001,"d":"61.18"},"D"]
[{"v":61.1900000000001,"d":"61.19"},"D"]
[{"v":61.2000000000001,"d":"61.20"},"D"]
[{"v":61.2100000000001,"d":"61.21"},"D"]
[{"v":61.2200000000001,"d":"61.22"},"D"]
[{"v":61.2300000000001,"d":"61.23"},"D"]
[{"v":61.2400000000001,"d":"61.24"},"D"]
[{"v":61.2500000000001,"d":"61.25"},"D"]
[{"v":61.2600000000001,"d":"61.26"},"D"]
[{"v":61.2700000000001,"d":"61.27"},"D"]
[{"v":61.2800000000001,"d":"61.28"},"D"]
[{"v":61.2900000000001,"d":"61.29"},"D"]
[{"v":61.3000000000001,"d":"61.30"},"D"]
[{"v":61.3100000000001,"d":"61.31"},"D"]
[{"v":61.3200000000001,"d":"61.32"},"D"]
[{"v":61.3300000000001,"d":"61.33"},"D"]
[{"v":61.3400000000001,"d":"61.34"},"D"]
[{"v":61.3500000000001,"d":"61.35"},"D"]
[{"v":61.3600000000001,"d":"61.36"},"D"]
[{"v":61.3700000000001,"d":"61.37"},"D"]
[{"v":61.3800000000001,"d":"61.38"},"D"]
[{"v":61.3900000000001,"d":"61.39"},"D"]
[{"v":61.4000000000001,"d":"61.40"},"D"]
[{"v":61.4100000000001,"d":"61.41"},"D"]
[{"v":61.4200000000001,"d":"61.42"},"D"]
[{"v":61.4300000000001,"d":"61.43"},"D"]
[{"v":61.4400000000001,"d":"61.44"},"D"]
[{"v":61.4500000000001,"d":"61.45"},"D"]
[{"v":61.4600000000001,"d":"61.46"},"D"]
[{"v":61.4700000000001,"d":"61.47"},"D"]
[{"v":61.4800000000001,"d":"61.48"},"D"]
[{"v":61.4900000000001,"d":"61.49"},"D"]
[{"v":61.5000000000001,"d":"61.50"},"D"]
[{"v":61.5100000000001,"d":"61.51"},"D"]
[{"v":61.5200000000001,"d":"61.52"},"D"]
[{"v":61.5300000000001,"d":"61.53"},"D"]
[{"v":61.5400000000001,"d":"61.54"},"D"]
[{"v":61.5500000000001,"d":"61.55"},"D"]
[{"v":61.5600000000001,"d":"61.56"},"D"]
[{"v":61.5700000000001,"d":"61.57"},"D"]
[{"v":61.5800000000001,"d":"61.58"},"D"]
[{"v":61.5900000000001,"d":"61.59"},"D"]
[{"v":61.6000000000001,"d":"61.60"},"D"]
[{"v":61.6100000000001,"d":"61.61"},"D"]
[{"v":61.6200000000001,"d":"61.62"},"D"]
[{"v":61.6300000000001,"d":"61.63"},"D"]
[{"v":61.6400000000001,"d":"61.64"},"D"]
[{"v":61.6500000000001,"d":"61.65"},"D"]
[{"v":61.6600000000001,"d":"61.66"},"D"]
[{"v":61.6700000000001,"d":"61.67"},"D"]
[{"v":61.6800000000001,"d":"61.68"},"D"]
[{"v":61.6900000000001,"d":"61.69"},"D"]
[{"v":61.7000000000001,"d":"61.70"},"D"]
[{"v":61.7100000000001,"d":"61.71"},"D"]
[{"v":61.7200000000001,"d":"61.72"},"D"]
[{"v":61.7300000000001,"d":"61.73"},"D"]
[{"v":61.7400000000001,"d":"61.74"},"D"]
[{"v":61.7500000000001,"d":"61.75"},"D"]
[{"v":61.7600000000001,"d":"61.76"},"D"]
[{"v":61.7700000000001,"d":"61.77"},"D"]
[{"v":61.7800000000001,"d":"61.78"},"D"]
[{"v":61.7900000000001,"d":"61.79"},"D"]
[{"v":61.8000000000001,"d":"61.80"},"D"]
[{"v":61.8100000000001,"d":"61.81"},"D"]
[{"v":61.8200000000001,"d":"61.82"},"D"]
[{"v":61.8300000000001,"d":"61.83"},"D"]
[{"v":61.8400000000001,"d":"61.84"},"D"]
[{"v":61.8500000000001,"d":"61.85"},"D"]
[{"v":61.8600000000001,"d":"61.86"},"D"]
[{"v":61.8700000000001,"d":"61.87"},"D"]
[{"v":61.8800000000001,"d":"61.88"},"D"]
[{"v":61.8900000000001,"d":"61.89"},"D"]
[{"v":61.9000000000001,"d":"61.90"},"D"]
[{"v":61.9100000000001,"d":"61.91"},"D"]
[{"v":61.9200000000001,"d":"61.92"},"D"]
[{"v":61.9300000000001,"d":"61.93"},"D"]
[{"v":61.9400000000001,"d":"61.94"},"D"]
[{"v":61.9500000000001,"d":"61.95"},"D"]
[{"v":61.9600000000001,"d":"61.96"},"D"]
[{"v":61.9700000000001,"d":"61.97"},"D"]
[{"v":61.9800000000001,"d":"61.98"},"D"]
[{"v":61.9900000000001,"d":"61.99"},"D"]
[{"v":62.0000000000001,"d":"62.00"},"D"]
[{"v":62.0100000000001,"d":"62.01"},"D"]
[{"v":62.0200000000001,"d":"62.02"},"D"]
[{"v":62.0300000000001,"d":"62.03"},"D"]
[{"v":62.0400000000001,"d":"62.04"},"D"]
[{"v":62.0500000000001,"d":"62.05"},"D"]
[{"v":62.0600000000001,"d":"62.06"},"D"]
[{"v":62.0700000000001,"d":"62.07"},"D"]
[{"v":62.0800000000001,"d":"62.08"},"D"]
[{"v":62.0900000000001,"d":"62.09"},"D"]
[{"v":62.1000000000001,"d":"62.10"},"D"]
[{"v":62.1100000000001,"d":"62.11"},"D"]
[{"v":62.1200000000001,"d":"62.12"},"D"]
[{"v":62.1300000000001,"d":"62.13"},"D"]
[{"v":62.1400000000001,"d":"62.14"},"D"]
[{"v":62.1500000000001,"d":"62.15"},"D"]
[{"v":62.1600000000001,"d":"62.16"},"D"]
[{"v":62.1700000000001,"d":"62.17"},"D"]
[{"v":62.1800000000001,"d":"62.18"},"D"]
[{"v":62.1900000000001,"d":"62.19"},"D"]
[{"v":62.2000000000001,"d":"62.20"},"D"]
[{"v":62.2100000000001,"d":"62.21"},"D"]
[{"v":62.2200000000001,"d":"62.22"},"D"]
[{"v":62.2300000000001,"d":"62.23"},"D"]
[{"v":62.2400000000001,"d":"62.24"},"D"]
[{"v":62.2500000000001,"d":"62.25"},"D"]
[{"v":62.2600000000001,"d":"62.26"},"D"]
[{"v":62.2700000000001,"d":"62.27"},"D"]
[{"v":62.2800000000001,"d":"62.28"},"D"]
[{"v":62.2900000000001,"d":"62.29"},"D"]
[{"v":62.3000000000001,"d":"62.30"},"D"]
[{"v":62.3100000000001,"d":"62.31"},"D"]
[{"v":62.3200000000001,"d":"62.32"},"D"]
[{"v":62.3300000000001,"d":"62.33"},"D"]
[{"v":62.3400000000001,"d":"62.34"},"D"]
[{"v":62.3500000000001,"d":"62.35"},"D"]
[{"v":62.3600000000001,"d":"62.36"},"D"]
[{"v":62.3700000000001,"d":"62.37"},"D"]
[{"v":62.3800000000001,"d":"62.38"},"D"]
[{"v":62.3900000000001,"d":"62.39"},"D"]
[{"v":62.4000000000001,"d":"62.40"},"D"]
[{"v":62.4100000000001,"d":"62.41"},"D"]
[{"v":62.4200000000001,"d":"62.42"},"D"]
[{"v":62.4300000000001,"d":"62.43"},"D"]
[{"v":62.4400000000001,"d":"62.44"},"D"]
[{"v":62.4500000000001,"d":"62.45"},"D"]
[{"v":62.4600000000001,"d":"62.46"},"D"]
[{"v":62.4700000000001,"d":"62.47"},"D"]
[{"v":62.4800000000001,"d":"62.48"},"D"]
[{"v":62.4900000000001,"d":"62.49"},"D"]
[{"v":62.5000000000001,"d":"62.50"},"D"]
[{"v":62.5100000000001,"d":"62.51"},"D"]
[{"v":62.5200000000001,"d":"62.52"},"D"]
[{"v":62.5300000000001,"d":"62.53"},"D"]
[{"v":62.5400000000001,"d":"62.54"},"D"]
[{"v":62.5500000000001,"d":"62.55"},"D"]
[{"v":62.5600000000001,"d":"62.56"},"D"]
[{"v":62.5700000000001,"d":"62.57"},"D"]
[{"v":62.5800000000001,"d":"62.58"},"D"]
[{"v":62.5900000000001,"d":"62.59"},"D"]
[{"v":62.6000000000001,"d":"62.60"},"D"]
[{"v":62.6100000000001,"d":"62.61"},"D"]
[{"v":62.6200000000001,"d":"62.62"},"D"]
[{"v":62.6300000000001,"d":"62.63"},"D"]
[{"v":62.6400000000001,"d":"62.64"},"D"]
[{"v":62.6500000000001,"d":"62.65"},"D"]
[{"v":62.6600000000001,"d":"62.66"},"D"]
[{"v":62.6700000000001,"d":"62.67"},"D"]
[{"v":62.6800000000001,"d":"62.68"},"D"]
[{"v":62.6900000000001,"d":"62.69"},"D"]
[{"v":62.7000000000001,"d":"62.70"},"D"]
[{"v":62.7100000000001,"d":"62.71"},"D"]
[{"v":62.7200000000001,"d":"62.72"},"D"]
[{"v":62.7300000000001,"d":"62.73"},"D"]
[{"v":62.7400000000001,"d":"62.74"},"D"]
[{"v":62.7500000000001,"d":"62.75"},"D"]
[{"v":62.7600000000001,"d":"62.76"},"D"]
[{"v":62.7700000000001,"d":"62.77"},"D"]
[{"v":62.7800000000001,"d":"62.78"},"D"]
[{"v":62.7900000000001,"d":"62.79"},"D"]
[{"v":62.8000000000001,"d":"62.80"},"D"]
[{"v":62.8100000000001,"d":"62.81"},"D"]
[{"v":62.8200000000001,"d":"62.82"},"D"]
[{"v":62.8300000000001,"d":"62.83"},"D"]
[{"v":62.8400000000001,"d":"62.84"},"D"]
[{"v":62.8500000000001,"d":"62.85"},"D"]
[{"v":62.8600000000001,"d":"62.86"},"D"]
[{"v":62.8700000000001,"d":"62.87"},"D"]
[{"v":62.8800000000001,"d":"62.88"},"D"]
[{"v":62.8900000000001,"d":"62.89"},"D"]
[{"v":62.9000000000001,"d":"62.90"},"D"]
[{"v":62.9100000000001,"d":"62.91"},"D"]
[{"v":62.9200000000001,"d":"62.92"},"D"]
[{"v":62.9300000000001,"d":"62.93"},"D"]
[{"v":62.9400000000001,"d":"62.94"},"D"]
[{"v":62.9500000000001,"d":"62.95"},"D"]
[{"v":62.9600000000001,"d":"62.96"},"D"]
[{"v":62.9700000000001,"d":"62.97"},"D"]
[{"v":62.9800000000001,"d":"62.98"},"D"]
[{"v":62.9900000000001,"d":"62.99"},"D"]
[{"v":63.0000000000001,"d":"63.00"},"D"]
[{"v":63.0100000000001,"d":"63.01"},"D"]
[{"v":63.0200000000001,"d":"63.02"},"D"]
[{"v":63.0300000000001,"d":"63.03"},"D"]
[{"v":63.0400000000001,"d":"63.04"},"D"]
[{"v":63.0500000000001,"d":"63.05"},"D"]
[{"v":63.0600000000001,"d":"63.06"},"D"]
[{"v":63.0700000000001,"d":"63.07"},"D"]
[{"v":63.0800000000001,"d":"63.08"},"D"]
[{"v":63.0900000000001,"d":"63.09"},"D"]
[{"v":63.1000000000001,"d":"63.10"},"D"]
[{"v":63.1100000000001,"d":"63.11"},"D"]
[{"v":63.1200000000001,"d":"63.12"},"D"]
[{"v":63.1300000000001,"d":"63.13"},"D"]
[{"v":63.1400000000001,"d":"63.14"},"D"]
[{"v":63.1500000000001,"d":"63.15"},"D"]
[{"v":63.1600000000001,"d":"63.16"},"D"]
[{"v":63.1700000000001,"d":"63.17"},"D"]
[{"v":63.1800000000001,"d":"63.18"},"D"]
[{"v":63.1900000000001,"d":"63.19"},"D"]
[{"v":63.2000000000001,"d":"63.20"},"D"]
[{"v":63.2100000000001,"d":"63.21"},"D"]
[{"v":63.2200000000001,"d":"63.22"},"D"]
[{"v":63.2300000000001,"d":"63.23"},"D"]
[{"v":63.2400000000001,"d":"63.24"},"D"]
[{"v":63.2500000000001,"d":"63.25"},"D"]
[{"v":63.2600000000001,"d":"63.26"},"D"]
[{"v":63.2700000000001,"d":"63.27"},"D"]
[{"v":63.2800000000001,"d":"63.28"},"D"]
[{"v":63.2900000000001,"d":"63.29"},"D"]
[{"v":63.3000000000001,"d":"63.30"},"D"]
[{"v":63.3100000000001,"d":"63.31"},"D"]
[{"v":63.3200000000001,"d":"63.32"},"D"]
[{"v":63.3300000000001,"d":"63.33"},"D"]
[{"v":63.3400000000001,"d":"63.34"},"D"]
[{"v":63.3500000000001,"d":"63.35"},"D"]
[{"v":63.3600000000001,"d":"63.36"},"D"]
[{"v":63.3700000000001,"d":"63.37"},"D"]
[{"v":63.3800000000001,"d":"63.38"},"D"]
[{"v":63.3900000000001,"d":"63.39"},"D"]
[{"v":63.4000000000001,"d":"63.40"},"D"]
[{"v":63.4100000000001,"d":"63.41"},"D"]
[{"v":63.4200000000001,"d":"63.42"},"D"]
[{"v":63.4300000000001,"d":"63.43"},"D"]
[{"v":63.4400000000001,"d":"63.44"},"D"]
[{"v":63.4500000000001,"d":"63.45"},"D"]
[{"v":63.4600000000001,"d":"63.46"},"D"]
[{"v":63.4700000000001,"d":"63.47"},"D"]
[{"v":63.4800000000001,"d":"63.48"},"D"]
[{"v":63.4900000000001,"d":"63.49"},"D"]
[{"v":63.5000000000001,"d":"63.50"},"D"]
[{"v":63.5100000000001,"d":"63.51"},"D"]
[{"v":63.5200000000001,"d":"63.52"},"D"]
[{"v":63.5300000000001,"d":"63.53"},"D"]
[{"v":63.5400000000001,"d":"63.54"},"D"]
[{"v":63.5500000000001,"d":"63.55"},"D"]
[{"v":63.5600000000001,"d":"63.56"},"D"]
[{"v":63.5700000000001,"d":"63.57"},"D"]
[{"v":63.5800000000001,"d":"63.58"},"D"]
[{"v":63.5900000000001,"d":"63.59"},"D"]
[{"v":63.6000000000001,"d":"63.60"},"D"]
[{"v":63.6100000000001,"d":"63.61"},"D"]
[{"v":63.6200000000001,"d":"63.62"},"D"]
[{"v":63.6300000000001,"d":"63.63"},"D"]
[{"v":63.6400000000001,"d":"63.64"},"D"]
[{"v":63.6500000000001,"d":"63.65"},"D"]
[{"v":63.6600000000001,"d":"63.66"},"D"]
[{"v":63.6700000000001,"d":"63.67"},"D"]
[{"v":63.6800000000001,"d":"63.68"},"D"]
[{"v":63.6900000000001,"d":"63.69"},"D"]
[{"v":63.7000000000001,"d":"63.70"},"D"]
[{"v":63.7100000000001,"d":"63.71"},"D"]
[{"v":63.7200000000001,"d":"63.72"},"D"]
[{"v":63.7300000000001,"d":"63.73"},"D"]
[{"v":63.7400000000001,"d":"63.74"},"D"]
[{"v":63.7500000000001,"d":"63.75"},"D"]
[{"v":63.7600000000001,"d":"63.76"},"D"]
[{"v":63.7700000000001,"d":"63.77"},"D"]
[{"v":63.7800000000001,"d":"63.78"},"D"]
[{"v":63.7900000000001,"d":"63.79"},"D"]
[{"v":63.8000000000001,"d":"63.80"},"D"]
[{"v":63.8100000000001,"d":"63.81"},"D"]
[{"v":63.8200000000001,"d":"63.82"},"D"]
[{"v":63.8300000000001,"d":"63.83"},"D"]
[{"v":63.8400000000001,"d":"63.84"},"D"]
[{"v":63.8500000000001,"d":"63.85"},"D"]
[{"v":63.8600000000001,"d":"63.86"},"D"]
[{"v":63.8700000000001,"d":"63.87"},"D"]
[{"v":63.8800000000001,"d":"63.88"},"D"]
[{"v":63.8900000000001,"d":"63.89"},"D"]
[{"v":63.9000000000001,"d":"63.90"},"D"]
[{"v":63.9100000000001,"d":"63.91"},"D"]
[{"v":63.9200000000001,"d":"63.92"},"D"]
[{"v":63.9300000000001,"d":"63.93"},"D"]
[{"v":63.9400000000001,"d":"63.94"},"D"]
[{"v":63.9500000000001,"d":"63.95"},"D"]
[{"v":63.9600000000001,"d":"63.96"},"D"]
[{"v":63.9700000000001,"d":"63.97"},"D"]
[{"v":63.9800000000001,"d":"63.98"},"D"]
[{"v":63.9900000000001,"d":"63.99"},"D"]
[{"v":64.0000000000001,"d":"64.00"},"D"]
[{"v":64.0100000000001,"d":"64.01"},"D"]
[{"v":64.0200000000001,"d":"64.02"},"D"]
[{"v":64.0300000000001,"d":"64.03"},"D"]
[{"v":64.0400000000001,"d":"64.04"},"D"]
[{"v":64.0500000000001,"d":"64.05"},"D"]
[{"v":64.0600000000001,"d":"64.06"},"D"]
[{"v":64.0700000000001,"d":"64.07"},"D"]
[{"v":64.0800000000001,"d":"64.08"},"D"]
[{"v":64.0900000000001,"d":"64.09"},"D"]
[{"v":64.1000000000001,"d":"64.10"},"D"]
[{"v":64.1100000000001,"d":"64.11"},"D"]
[{"v":64.1200000000001,"d":"64.12"},"D"]
[{"v":64.1300000000001,"d":"64.13"},"D"]
[{"v":64.1400000000001,"d":"64.14"},"D"]
[{"v":64.1500000000001,"d":"64.15"},"D"]
[{"v":64.1600000000001,"d":"64.16"},"D"]
[{"v":64.1700000000001,"d":"64.17"},"D"]
[{"v":64.1800000000001,"d":"64.18"},"D"]
[{"v":64.1900000000001,"d":"64.19"},"D"]
[{"v":64.2000000000001,"d":"64.20"},"D"]
[{"v":64.2100000000001,"d":"64.21"},"D"]
[{"v":64.2200000000001,"d":"64.22"},"D"]
[{"v":64.2300000000001,"d":"64.23"},"D"]
[{"v":64.2400000000001,"d":"64.24"},"D"]
[{"v":64.2500000000001,"d":"64.25"},"D"]
[{"v":64.2600000000001,"d":"64.26"},"D"]
[{"v":64.2700000000001,"d":"64.27"},"D"]
[{"v":64.2800000000001,"d":"64.28"},"D"]
[{"v":64.2900000000001,"d":"64.29"},"D"]
[{"v":64.3000000000001,"d":"64.30"},"D"]
[{"v":64.3100000000001,"d":"64.31"},"D"]
[{"v":64.3200000000001,"d":"64.32"},"D"]
[{"v":64.3300000000001,"d":"64.33"},"D"]
[{"v":64.3400000000001,"d":"64.34"},"D"]
[{"v":64.3500000000001,"d":"64.35"},"D"]
[{"v":64.3600000000001,"d":"64.36"},"D"]
[{"v":64.3700000000001,"d":"64.37"},"D"]
[{"v":64.3800000000001,"d":"64.38"},"D"]
[{"v":64.3900000000001,"d":"64.39"},"D"]
[{"v":64.4000000000001,"d":"64.40"},"D"]
[{"v":64.4100000000001,"d":"64.41"},"D"]
[{"v":64.4200000000001,"d":"64.42"},"D"]
[{"v":64.4300000000001,"d":"64.43"},"D"]
[{"v":64.4400000000001,"d":"64.44"},"D"]
[{"v":64.4500000000001,"d":"64.45"},"D"]
[{"v":64.4600000000001,"d":"64.46"},"D"]
[{"v":64.4700000000001,"d":"64.47"},"D"]
[{"v":64.4800000000001,"d":"64.48"},"D"]
[{"v":64.4900000000001,"d":"64.49"},"D"]
[{"v":64.5000000000001,"d":"64.50"},"D"]
[{"v":64.5100000000001,"d":"64.51"},"D"]
[{"v":64.5200000000001,"d":"64.52"},"D"]
[{"v":64.5300000000001,"d":"64.53"},"D"]
[{"v":64.5400000000001,"d":"64.54"},"D"]
[{"v":64.5500000000001,"d":"64.55"},"D"]
[{"v":64.5600000000001,"d":"64.56"},"D"]
[{"v":64.5700000000001,"d":"64.57"},"D"]
[{"v":64.5800000000001,"d":"64.58"},"D"]
[{"v":64.5900000000001,"d":"64.59"},"D"]
[{"v":64.6000000000001,"d":"64.60"},"D"]
[{"v":64.6100000000001,"d":"64.61"},"D"]
[{"v":64.6200000000001,"d":"64.62"},"D"]
[{"v":64.6300000000001,"d":"64.63"},"D"]
[{"v":64.6400000000001,"d":"64.64"},"D"]
[{"v":64.6500000000001,"d":"64.65"},"D"]
[{"v":64.6600000000001,"d":"64.66"},"D"]
[{"v":64.6700000000001,"d":"64.67"},"D"]
[{"v":64.6800000000001,"d":"64.68"},"D"]
[{"v":64.6900000000001,"d":"64.69"},"D"]
[{"v":64.7000000000001,"d":"64.70"},"D"]
[{"v":64.7100000000001,"d":"64.71"},"D"]
[{"v":64.7200000000001,"d":"64.72"},"D"]
[{"v":64.7300000000001,"d":"64.73"},"D"]
[{"v":64.7400000000001,"d":"64.74"},"D"]
[{"v":64.7500000000001,"d":"64.75"},"D"]
[{"v":64.7600000000001,"d":"64.76"},"D"]
[{"v":64.7700000000001,"d":"64.77"},"D"]
[{"v":64.7800000000001,"d":"64.78"},"D"]
[{"v":64.7900000000001,"d":"64.79"},"D"]
[{"v":64.8000000000001,"d":"64.80"},"D"]
[{"v":64.8100000000001,"d":"64.81"},"D"]
[{"v":64.8200000000001,"d":"64.82"},"D"]
[{"v":64.8300000000001,"d":"64.83"},"D"]
[{"v":64.8400000000001,"d":"64.84"},"D"]
[{"v":64.8500000000001,"d":"64.85"},"D"]
[{"v":64.8600000000001,"d":"64.86"},"D"]
[{"v":64.8700000000001,"d":"64.87"},"D"]
[{"v":64.8800000000001,"d":"64.88"},"D"]
[{"v":64.8900000000001,"d":"64.89"},"D"]
[{"v":64.9000000000001,"d":"64.90"},"D"]
[{"v":64.9100000000001,"d":"64.91"},"D"]
[{"v":64.9200000000001,"d":"64.92"},"D"]
[{"v":64.9300000000001,"d":"64.93"},"D"]
[{"v":64.9400000000001,"d":"64.94"},"D"]
[{"v":64.9500000000001,"d":"64.95"},"D"]
[{"v":64.9600000000001,"d":"64.96"},"D"]
[{"v":64.9700000000001,"d":"64.97"},"D"]
[{"v":64.9800000000001,"d":"64.98"},"D"]
[{"v":64.9900000000001,"d":"64.99"},"D"]
[{"v":65.0000000000001,"d":"65.00"},"D"]
[{"v":65.0100000000001,"d":"65.01"},"D"]
[{"v":65.0200000000001,"d":"65.02"},"D"]
[{"v":65.0300000000001,"d":"65.03"},"D"]
[{"v":65.0400000000001,"d":"65.04"},"D"]
[{"v":65.0500000000001,"d":"65.05"},"D"]
[{"v":65.0600000000001,"d":"65.06"},"D"]
[{"v":65.0700000000001,"d":"65.07"},"D"]
[{"v":65.0800000000001,"d":"65.08"},"D"]
[{"v":65.0900000000001,"d":"65.09"},"D"]
[{"v":65.1000000000001,"d":"65.10"},"D"]
[{"v":65.1100000000001,"d":"65.11"},"D"]
[{"v":65.1200000000001,"d":"65.12"},"D"]
[{"v":65.1300000000001,"d":"65.13"},"D"]
[{"v":65.1400000000001,"d":"65.14"},"D"]
[{"v":65.1500000000001,"d":"65.15"},"D"]
[{"v":65.1600000000001,"d":"65.16"},"D"]
[{"v":65.1700000000001,"d":"65.17"},"D"]
[{"v":65.1800000000001,"d":"65.18"},"D"]
[{"v":65.1900000000001,"d":"65.19"},"D"]
[{"v":65.2000000000001,"d":"65.20"},"D"]
[{"v":65.2100000000001,"d":"65.21"},"D"]
[{"v":65.2200000000001,"d":"65.22"},"D"]
[{"v":65.2300000000001,"d":"65.23"},"D"]
[{"v":65.2400000000001,"d":"65.24"},"D"]
[{"v":65.2500000000001,"d":"65.25"},"D"]
[{"v":65.2600000000001,"d":"65.26"},"D"]
[{"v":65.2700000000001,"d":"65.27"},"D"]
[{"v":65.2800000000001,"d":"65.28"},"D"]
[{"v":65.2900000000001,"d":"65.29"},"D"]
[{"v":65.3000000000001,"d":"65.30"},"D"]
[{"v":65.3100000000001,"d":"65.31"},"D"]
[{"v":65.3200000000001,"d":"65.32"},"D"]
[{"v":65.3300000000001,"d":"65.33"},"D"]
[{"v":65.3400000000001,"d":"65.34"},"D"]
[{"v":65.3500000000001,"d":"65.35"},"D"]
[{"v":65.3600000000001,"d":"65.36"},"D"]
[{"v":65.3700000000001,"d":"65.37"},"D"]
[{"v":65.3800000000001,"d":"65.38"},"D"]
[{"v":65.3900000000001,"d":"65.39"},"D"]
[{"v":65.4000000000001,"d":"65.40"},"D"]
[{"v":65.4100000000001,"d":"65.41"},"D"]
[{"v":65.4200000000001,"d":"65.42"},"D"]
[{"v":65.4300000000001,"d":"65.43"},"D"]
[{"v":65.4400000000001,"d":"65.44"},"D"]
[{"v":65.4500000000001,"d":"65.45"},"D"]
[{"v":65.4600000000001,"d":"65.46"},"D"]
[{"v":65.4700000000001,"d":"65.47"},"D"]
[{"v":65.4800000000001,"d":"65.48"},"D"]
[{"v":65.4900000000001,"d":"65.49"},"D"]
[{"v":65.5000000000001,"d":"65.50"},"D"]
[{"v":65.5100000000001,"d":"65.51"},"D"]
[{"v":65.5200000000001,"d":"65.52"},"D"]
[{"v":65.5300000000001,"d":"65.53"},"D"]
[{"v":65.5400000000001,"d":"65.54"},"D"]
[{"v":65.5500000000001,"d":"65.55"},"D"]
[{"v":65.5600000000001,"d":"65.56"},"D"]
[{"v":65.5700000000001,"d":"65.57"},"D"]
[{"v":65.5800000000001,"d":"65.58"},"D"]
[{"v":65.5900000000001,"d":"65.59"},"D"]
[{"v":65.6000000000001,"d":"65.60"},"D"]
[{"v":65.6100000000001,"d":"65.61"},"D"]
[{"v":65.6200000000001,"d":"65.62"},"D"]
[{"v":65.6300000000001,"d":"65.63"},"D"]
[{"v":65.6400000000001,"d":"65.64"},"D"]
[{"v":65.6500000000001,"d":"65.65"},"D"]
[{"v":65.6600000000001,"d":"65.66"},"D"]
[{"v":65.6700000000001,"d":"65.67"},"D"]
[{"v":65.6800000000001,"d":"65.68"},"D"]
[{"v":65.6900000000001,"d":"65.69"},"D"]
[{"v":65.7000000000001,"d":"65.70"},"D"]
[{"v":65.7100000000001,"d":"65.71"},"D"]
[{"v":65.7200000000001,"d":"65.72"},"D"]
[{"v":65.7300000000001,"d":"65.73"},"D"]
[{"v":65.7400000000001,"d":"65.74"},"D"]
[{"v":65.7500000000001,"d":"65.75"},"D"]
[{"v":65.7600000000001,"d":"65.76"},"D"]
[{"v":65.7700000000001,"d":"65.77"},"D"]
[{"v":65.7800000000001,"d":"65.78"},"D"]
[{"v":65.7900000000001,"d":"65.79"},"D"]
[{"v":65.8000000000001,"d":"65.80"},"D"]
[{"v":65.8100000000001,"d":"65.81"},"D"]
[{"v":65.8200000000001,"d":"65.82"},"D"]
[{"v":65.8300000000001,"d":"65.83"},"D"]
[{"v":65.8400000000001,"d":"65.84"},"D"]
[{"v":65.8500000000001,"d":"65.85"},"D"]
[{"v":65.8600000000001,"d":"65.86"},"D"]
[{"v":65.8700000000001,"d":"65.87"},"D"]
[{"v":65.8800000000001,"d":"65.88"},"D"]
[{"v":65.8900000000001,"d":"65.89"},"D"]
[{"v":65.9000000000001,"d":"65.90"},"D"]
[{"v":65.9100000000001,"d":"65.91"},"D"]
[{"v":65.9200000000001,"d":"65.92"},"D"]
[{"v":65.9300000000001,"d":"65.93"},"D"]
[{"v":65.9400000000001,"d":"65.94"},"D"]
[{"v":65.9500000000001,"d":"65.95"},"D"]
[{"v":65.9600000000001,"d":"65.96"},"D"]
[{"v":65.9700000000001,"d":"65.97"},"D"]
[{"v":65.9800000000001,"d":"65.98"},"D"]
[{"v":65.9900000000001,"d":"65.99"},"D"]
[{"v":66.0000000000001,"d":"66.00"},"D"]
[{"v":66.0100000000001,"d":"66.01"},"D"]
[{"v":66.0200000000001,"d":"66.02"},"D"]
[{"v":66.0300000000001,"d":"66.03"},"D"]
[{"v":66.0400000000001,"d":"66.04"},"D"]
[{"v":66.0500000000001,"d":"66.05"},"D"]
[{"v":66.0600000000001,"d":"66.06"},"D"]
[{"v":66.0700000000001,"d":"66.07"},"D"]
[{"v":66.0800000000001,"d":"66.08"},"D"]
[{"v":66.0900000000001,"d":"66.09"},"D"]
[{"v":66.1000000000001,"d":"66.10"},"D"]
[{"v":66.1100000000001,"d":"66.11"},"D"]
[{"v":66.1200000000001,"d":"66.12"},"D"]
[{"v":66.1300000000001,"d":"66.13"},"D"]
[{"v":66.1400000000001,"d":"66.14"},"D"]
[{"v":66.1500000000001,"d":"66.15"},"D"]
[{"v":66.1600000000001,"d":"66.16"},"D"]
[{"v":66.1700000000001,"d":"66.17"},"D"]
[{"v":66.1800000000001,"d":"66.18"},"D"]
[{"v":66.1900000000001,"d":"66.19"},"D"]
[{"v":66.2000000000001,"d":"66.20"},"D"]
[{"v":66.2100000000001,"d":"66.21"},"D"]
[{"v":66.2200000000001,"d":"66.22"},"D"]
[{"v":66.2300000000001,"d":"66.23"},"D"]
[{"v":66.2400000000001,"d":"66.24"},"D"]
[{"v":66.2500000000001,"d":"66.25"},"D"]
[{"v":66.2600000000001,"d":"66.26"},"D"]
[{"v":66.2700000000001,"d":"66.27"},"D"]
[{"v":66.2800000000001,"d":"66.28"},"D"]
[{"v":66.2900000000001,"d":"66.29"},"D"]
[{"v":66.3000000000001,"d":"66.30"},"D"]
[{"v":66.3100000000001,"d":"66.31"},"D"]
[{"v":66.3200000000001,"d":"66.32"},"D"]
[{"v":66.3300000000001,"d":"66.33"},"D"]
[{"v":66.3400000000001,"d":"66.34"},"D"]
[{"v":66.3500000000001,"d":"66.35"},"D"]
[{"v":66.3600000000001,"d":"66.36"},"D"]
[{"v":66.3700000000001,"d":"66.37"},"D"]
[{"v":66.3800000000001,"d":"66.38"},"D"]
[{"v":66.3900000000001,"d":"66.39"},"D"]
[{"v":66.4000000000001,"d":"66.40"},"D"]
[{"v":66.4100000000001,"d":"66.41"},"D"]
[{"v":66.4200000000001,"d":"66.42"},"D"]
[{"v":66.4300000000001,"d":"66.43"},"D"]
[{"v":66.4400000000001,"d":"66.44"},"D"]
[{"v":66.4500000000001,"d":"66.45"},"D"]
[{"v":66.4600000000001,"d":"66.46"},"D"]
[{"v":66.4700000000001,"d":"66.47"},"D"]
[{"v":66.4800000000001,"d":"66.48"},"D"]
[{"v":66.4900000000001,"d":"66.49"},"D"]
[{"v":66.5000000000001,"d":"66.50"},"D"]
[{"v":66.5100000000001,"d":"66.51"},"D"]
[{"v":66.5200000000001,"d":"66.52"},"D"]
[{"v":66.5300000000001,"d":"66.53"},"D"]
[{"v":66.5400000000001,"d":"66.54"},"D"]
[{"v":66.5500000000001,"d":"66.55"},"D"]
[{"v":66.5600000000001,"d":"66.56"},"D"]
[{"v":66.5700000000001,"d":"66.57"},"D"]
[{"v":66.5800000000001,"d":"66.58"},"D"]
[{"v":66.5900000000001,"d":"66.59"},"D"]
[{"v":66.6000000000001,"d":"66.60"},"D"]
[{"v":66.6100000000001,"d":"66.61"},"D"]
[{"v":66.6200000000001,"d":"66.62"},"D"]
[{"v":66.6300000000001,"d":"66.63"},"D"]
[{"v":66.6400000000001,"d":"66.64"},"D"]
[{"v":66.6500000000001,"d":"66.65"},"D"]
[{"v":66.6600000000001,"d":"66.66"},"D"]
[{"v":66.6700000000001,"d":"66.67"},"D"]
[{"v":66.6800000000001,"d":"66.68"},"D"]
[{"v":66.6900000000001,"d":"66.69"},"D"]
[{"v":66.7000000000001,"d":"66.70"},"D"]
[{"v":66.7100000000001,"d":"66.71"},"D"]
[{"v":66.7200000000001,"d":"66.72"},"D"]
[{"v":66.7300000000001,"d":"66.73"},"D"]
[{"v":66.7400000000001,"d":"66.74"},"D"]
[{"v":66.7500000000001,"d":"66.75"},"D"]
[{"v":66.7600000000001,"d":"66.76"},"D"]
[{"v":66.7700000000001,"d":"66.77"},"D"]
[{"v":66.7800000000001,"d":"66.78"},"D"]
[{"v":66.7900000000001,"d":"66.79"},"D"]
[{"v":66.8000000000001,"d":"66.80"},"D"]
[{"v":66.8100000000001,"d":"66.81"},"D"]
[{"v":66.8200000000001,"d":"66.82"},"D"]
[{"v":66.8300000000001,"d":"66.83"},"D"]
[{"v":66.8400000000001,"d":"66.84"},"D"]
[{"v":66.8500000000001,"d":"66.85"},"D"]
[{"v":66.8600000000001,"d":"66.86"},"D"]
[{"v":66.8700000000001,"d":"66.87"},"D"]
[{"v":66.8800000000001,"d":"66.88"},"D"]
[{"v":66.8900000000001,"d":"66.89"},"D"]
[{"v":66.9000000000001,"d":"66.90"},"D"]
[{"v":66.9100000000001,"d":"66.91"},"D"]
[{"v":66.9200000000001,"d":"66.92"},"D"]
[{"v":66.9300000000001,"d":"66.93"},"D"]
[{"v":66.9400000000001,"d":"66.94"},"D"]
[{"v":66.9500000000001,"d":"66.95"},"D"]
[{"v":66.9600000000001,"d":"66.96"},"D"]
[{"v":66.9700000000001,"d":"66.97"},"D"]
[{"v":66.9800000000001,"d":"66.98"},"D"]
[{"v":66.9900000000001,"d":"66.99"},"D"]
[{"v":67.0000000000001,"d":"67.00"},"D"]
[{"v":67.0100000000001,"d":"67.01"},"D"]
[{"v":67.0200000000001,"d":"67.02"},"D"]
[{"v":67.0300000000001,"d":"67.03"},"D"]
[{"v":67.0400000000001,"d":"67.04"},"D"]
[{"v":67.0500000000001,"d":"67.05"},"D"]
[{"v":67.0600000000001,"d":"67.06"},"D"]
[{"v":67.0700000000001,"d":"67.07"},"D"]
[{"v":67.0800000000001,"d":"67.08"},"D"]
[{"v":67.0900000000001,"d":"67.09"},"D"]
[{"v":67.1000000000001,"d":"67.10"},"D"]
[{"v":67.1100000000001,"d":"67.11"},"D"]
[{"v":67.1200000000001,"d":"67.12"},"D"]
[{"v":67.1300000000001,"d":"67.13"},"D"]
[{"v":67.1400000000001,"d":"67.14"},"D"]
[{"v":67.1500000000001,"d":"67.15"},"D"]
[{"v":67.1600000000001,"d":"67.16"},"D"]
[{"v":67.1700000000001,"d":"67.17"},"D"]
[{"v":67.1800000000001,"d":"67.18"},"D"]
[{"v":67.1900000000001,"d":"67.19"},"D"]
[{"v":67.2000000000001,"d":"67.20"},"D"]
[{"v":67.2100000000001,"d":"67.21"},"D"]
[{"v":67.2200000000001,"d":"67.22"},"D"]
[{"v":67.2300000000001,"d":"67.23"},"D"]
[{"v":67.2400000000001,"d":"67.24"},"D"]
[{"v":67.2500000000001,"d":"67.25"},"D"]
[{"v":67.2600000000001,"d":"67.26"},"D"]
[{"v":67.2700000000001,"d":"67.27"},"D"]
[{"v":67.2800000000001,"d":"67.28"},"D"]
[{"v":67.2900000000001,"d":"67.29"},"D"]
[{"v":67.3000000000001,"d":"67.30"},"D"]
[{"v":67.3100000000001,"d":"67.31"},"D"]
[{"v":67.3200000000001,"d":"67.32"},"D"]
[{"v":67.3300000000001,"d":"67.33"},"D"]
[{"v":67.3400000000001,"d":"67.34"},"D"]
[{"v":67.3500000000001,"d":"67.35"},"D"]
[{"v":67.3600000000001,"d":"67.36"},"D"]
[{"v":67.3700000000001,"d":"67.37"},"D"]
[{"v":67.3800000000001,"d":"67.38"},"D"]
[{"v":67.3900000000001,"d":"67.39"},"D"]
[{"v":67.4000000000001,"d":"67.40"},"D"]
[{"v":67.4100000000001,"d":"67.41"},"D"]
[{"v":67.4200000000001,"d":"67.42"},"D"]
[{"v":67.4300000000001,"d":"67.43"},"D"]
[{"v":67.4400000000001,"d":"67.44"},"D"]
[{"v":67.4500000000001,"d":"67.45"},"D"]
[{"v":67.4600000000001,"d":"67.46"},"D"]
[{"v":67.4700000000001,"d":"67.47"},"D"]
[{"v":67.4800000000001,"d":"67.48"},"D"]
[{"v":67.4900000000001,"d":"67.49"},"D"]
[{"v":67.5000000000001,"d":"67.50"},"D"]
[{"v":67.5100000000001,"d":"67.51"},"D"]
[{"v":67.5200000000001,"d":"67.52"},"D"]
[{"v":67.5300000000001,"d":"67.53"},"D"]
[{"v":67.5400000000001,"d":"67.54"},"D"]
[{"v":67.5500000000001,"d":"67.55"},"D"]
[{"v":67.5600000000001,"d":"67.56"},"D"]
[{"v":67.5700000000001,"d":"67.57"},"D"]
[{"v":67.5800000000001,"d":"67.58"},"D"]
[{"v":67.5900000000001,"d":"67.59"},"D"]
[{"v":67.6000000000001,"d":"67.60"},"D"]
[{"v":67.6100000000001,"d":"67.61"},"D"]
[{"v":67.6200000000001,"d":"67.62"},"D"]
[{"v":67.6300000000001,"d":"67.63"},"D"]
[{"v":67.6400000000001,"d":"67.64"},"D"]
[{"v":67.6500000000001,"d":"67.65"},"D"]
[{"v":67.6600000000001,"d":"67.66"},"D"]
[{"v":67.6700000000001,"d":"67.67"},"D"]
[{"v":67.6800000000001,"d":"67.68"},"D"]
[{"v":67.6900000000001,"d":"67.69"},"D"]
[{"v":67.7000000000001,"d":"67.70"},"D"]
[{"v":67.7100000000001,"d":"67.71"},"D"]
[{"v":67.7200000000001,"d":"67.72"},"D"]
[{"v":67.7300000000001,"d":"67.73"},"D"]
[{"v":67.7400000000001,"d":"67.74"},"D"]
[{"v":67.7500000000001,"d":"67.75"},"D"]
[{"v":67.7600000000001,"d":"67.76"},"D"]
[{"v":67.7700000000001,"d":"67.77"},"D"]
[{"v":67.7800000000001,"d":"67.78"},"D"]
[{"v":67.7900000000001,"d":"67.79"},"D"]
[{"v":67.8000000000001,"d":"67.80"},"D"]
[{"v":67.8100000000001,"d":"67.81"},"D"]
[{"v":67.8200000000001,"d":"67.82"},"D"]
[{"v":67.8300000000001,"d":"67.83"},"D"]
[{"v":67.8400000000001,"d":"67.84"},"D"]
[{"v":67.8500000000001,"d":"67.85"},"D"]
[{"v":67.8600000000001,"d":"67.86"},"D"]
[{"v":67.8700000000001,"d":"67.87"},"D"]
[{"v":67.8800000000001,"d":"67.88"},"D"]
[{"v":67.8900000000001,"d":"67.89"},"D"]
[{"v":67.9000000000001,"d":"67.90"},"D"]
[{"v":67.9100000000001,"d":"67.91"},"D"]
[{"v":67.9200000000001,"d":"67.92"},"D"]
[{"v":67.9300000000001,"d":"67.93"},"D"]
[{"v":67.9400000000001,"d":"67.94"},"D"]
[{"v":67.9500000000001,"d":"67.95"},"D"]
[{"v":67.9600000000001,"d":"67.96"},"D"]
[{"v":67.9700000000001,"d":"67.97"},"D"]
[{"v":67.9800000000001,"d":"67.98"},"D"]
[{"v":67.9900000000001,"d":"67.99"},"D"]
[{"v":68.0000000000001,"d":"68.00"},"D"]
[{"v":68.0100000000001,"d":"68.01"},"D"]
[{"v":68.0200000000001,"d":"68.02"},"D"]
[{"v":68.0300000000001,"d":"68.03"},"D"]
[{"v":68.0400000000001,"d":"68.04"},"D"]
[{"v":68.0500000000001,"d":"68.05"},"D"]
[{"v":68.0600000000001,"d":"68.06"},"D"]
[{"v":68.0700000000001,"d":"68.07"},"D"]
[{"v":68.0800000000001,"d":"68.08"},"D"]
[{"v":68.0900000000001,"d":"68.09"},"D"]
[{"v":68.1000000000001,"d":"68.10"},"D"]
[{"v":68.1100000000001,"d":"68.11"},"D"]
[{"v":68.1200000000001,"d":"68.12"},"D"]
[{"v":68.1300000000001,"d":"68.13"},"D"]
[{"v":68.1400000000001,"d":"68.14"},"D"]
[{"v":68.1500000000001,"d":"68.15"},"D"]
[{"v":68.1600000000001,"d":"68.16"},"D"]
[{"v":68.1700000000001,"d":"68.17"},"D"]
[{"v":68.1800000000001,"d":"68.18"},"D"]
[{"v":68.1900000000001,"d":"68.19"},"D"]
[{"v":68.2000000000001,"d":"68.20"},"D"]
[{"v":68.2100000000001,"d":"68.21"},"D"]
[{"v":68.2200000000001,"d":"68.22"},"D"]
[{"v":68.2300000000001,"d":"68.23"},"D"]
[{"v":68.2400000000001,"d":"68.24"},"D"]
[{"v":68.2500000000001,"d":"68.25"},"D"]
[{"v":68.2600000000001,"d":"68.26"},"D"]
[{"v":68.2700000000001,"d":"68.27"},"D"]
[{"v":68.2800000000001,"d":"68.28"},"D"]
[{"v":68.2900000000001,"d":"68.29"},"D"]
[{"v":68.3000000000001,"d":"68.30"},"D"]
[{"v":68.3100000000001,"d":"68.31"},"D"]
[{"v":68.3200000000001,"d":"68.32"},"D"]
[{"v":68.3300000000001,"d":"68.33"},"D"]
[{"v":68.3400000000001,"d":"68.34"},"D"]
[{"v":68.3500000000001,"d":"68.35"},"D"]
[{"v":68.3600000000001,"d":"68.36"},"D"]
[{"v":68.3700000000001,"d":"68.37"},"D"]
[{"v":68.3800000000001,"d":"68.38"},"D"]
[{"v":68.3900000000001,"d":"68.39"},"D"]
[{"v":68.4000000000001,"d":"68.40"},"D"]
[{"v":68.4100000000001,"d":"68.41"},"D"]
[{"v":68.4200000000001,"d":"68.42"},"D"]
[{"v":68.4300000000001,"d":"68.43"},"D"]
[{"v":68.4400000000001,"d":"68.44"},"D"]
[{"v":68.4500000000001,"d":"68.45"},"D"]
[{"v":68.4600000000001,"d":"68.46"},"D"]
[{"v":68.4700000000001,"d":"68.47"},"D"]
[{"v":68.4800000000001,"d":"68.48"},"D"]
[{"v":68.4900000000001,"d":"68.49"},"D"]
[{"v":68.5000000000001,"d":"68.50"},"D"]
[{"v":68.5100000000001,"d":"68.51"},"D"]
[{"v":68.5200000000001,"d":"68.52"},"D"]
[{"v":68.5300000000001,"d":"68.53"},"D"]
[{"v":68.5400000000001,"d":"68.54"},"D"]
[{"v":68.5500000000001,"d":"68.55"},"D"]
[{"v":68.5600000000001,"d":"68.56"},"D"]
[{"v":68.5700000000001,"d":"68.57"},"D"]
[{"v":68.5800000000001,"d":"68.58"},"D"]
[{"v":68.5900000000001,"d":"68.59"},"D"]
[{"v":68.6000000000001,"d":"68.60"},"D"]
[{"v":68.6100000000001,"d":"68.61"},"D"]
[{"v":68.6200000000001,"d":"68.62"},"D"]
[{"v":68.6300000000001,"d":"68.63"},"D"]
[{"v":68.6400000000001,"d":"68.64"},"D"]
[{"v":68.6500000000001,"d":"68.65"},"D"]
[{"v":68.6600000000001,"d":"68.66"},"D"]
[{"v":68.6700000000001,"d":"68.67"},"D"]
[{"v":68.6800000000001,"d":"68.68"},"D"]
[{"v":68.6900000000001,"d":"68.69"},"D"]
[{"v":68.7000000000001,"d":"68.70"},"D"]
[{"v":68.7100000000001,"d":"68.71"},"D"]
[{"v":68.7200000000001,"d":"68.72"},"D"]
[{"v":68.7300000000001,"d":"68.73"},"D"]
[{"v":68.7400000000001,"d":"68.74"},"D"]
[{"v":68.7500000000001,"d":"68.75"},"D"]
[{"v":68.7600000000001,"d":"68.76"},"D"]
[{"v":68.7700000000001,"d":"68.77"},"D"]
[{"v":68.7800000000001,"d":"68.78"},"D"]
[{"v":68.7900000000001,"d":"68.79"},"D"]
[{"v":68.8000000000001,"d":"68.80"},"D"]
[{"v":68.8100000000001,"d":"68.81"},"D"]
[{"v":68.8200000000001,"d":"68.82"},"D"]
[{"v":68.8300000000001,"d":"68.83"},"D"]
[{"v":68.8400000000001,"d":"68.84"},"D"]
[{"v":68.8500000000001,"d":"68.85"},"D"]
[{"v":68.8600000000001,"d":"68.86"},"D"]
[{"v":68.8700000000001,"d":"68.87"},"D"]
[{"v":68.8800000000001,"d":"68.88"},"D"]
[{"v":68.8900000000001,"d":"68.89"},"D"]
[{"v":68.9000000000001,"d":"68.90"},"D"]
[{"v":68.9100000000001,"d":"68.91"},"D"]
[{"v":68.9200000000001,"d":"68.92"},"D"]
[{"v":68.9300000000001,"d":"68.93"},"D"]
[{"v":68.9400000000001,"d":"68.94"},"D"]
[{"v":68.9500000000001,"d":"68.95"},"D"]
[{"v":68.9600000000001,"d":"68.96"},"D"]
[{"v":68.9700000000001,"d":"68.97"},"D"]
[{"v":68.9800000000001,"d":"68.98"},"D"]
[{"v":68.9900000000001,"d":"68.99"},"D"]
[{"v":69.0000000000001,"d":"69.00"},"D"]
[{"v":69.0100000000001,"d":"69.01"},"D"]
[{"v":69.0200000000001,"d":"69.02"},"D"]
[{"v":69.0300000000001,"d":"69.03"},"D"]
[{"v":69.0400000000001,"d":"69.04"},"D"]
[{"v":69.0500000000001,"d":"69.05"},"D"]
[{"v":69.0600000000001,"d":"69.06"},"D"]
[{"v":69.0700000000001,"d":"69.07"},"D"]
[{"v":69.0800000000001,"d":"69.08"},"D"]
[{"v":69.0900000000001,"d":"69.09"},"D"]
[{"v":69.1000000000001,"d":"69.10"},"D"]
[{"v":69.1100000000001,"d":"69.11"},"D"]
[{"v":69.1200000000001,"d":"69.12"},"D"]
[{"v":69.1300000000001,"d":"69.13"},"D"]
[{"v":69.1400000000001,"d":"69.14"},"D"]
[{"v":69.1500000000001,"d":"69.15"},"D"]
[{"v":69.1600000000001,"d":"69.16"},"D"]
[{"v":69.1700000000001,"d":"69.17"},"D"]
[{"v":69.1800000000001,"d":"69.18"},"D"]
[{"v":69.1900000000001,"d":"69.19"},"D"]
[{"v":69.2000000000001,"d":"69.20"},"D"]
[{"v":69.2100000000001,"d":"69.21"},"D"]
[{"v":69.2200000000001,"d":"69.22"},"D"]
[{"v":69.2300000000001,"d":"69.23"},"D"]
[{"v":69.2400000000001,"d":"69.24"},"D"]
[{"v":69.2500000000001,"d":"69.25"},"D"]
[{"v":69.2600000000001,"d":"69.26"},"D"]
[{"v":69.2700000000001,"d":"69.27"},"D"]
[{"v":69.2800000000001,"d":"69.28"},"D"]
[{"v":69.2900000000001,"d":"69.29"},"D"]
[{"v":69.3000000000001,"d":"69.30"},"D"]
[{"v":69.3100000000001,"d":"69.31"},"D"]
[{"v":69.3200000000001,"d":"69.32"},"D"]
[{"v":69.3300000000001,"d":"69.33"},"D"]
[{"v":69.3400000000001,"d":"69.34"},"D"]
[{"v":69.3500000000001,"d":"69.35"},"D"]
[{"v":69.3600000000001,"d":"69.36"},"D"]
[{"v":69.3700000000001,"d":"69.37"},"D"]
[{"v":69.3800000000001,"d":"69.38"},"D"]
[{"v":69.3900000000001,"d":"69.39"},"D"]
[{"v":69.4000000000001,"d":"69.40"},"D"]
[{"v":69.4100000000001,"d":"69.41"},"D"]
[{"v":69.4200000000001,"d":"69.42"},"D"]
[{"v":69.4300000000001,"d":"69.43"},"D"]
[{"v":69.4400000000001,"d":"69.44"},"D"]
[{"v":69.4500000000001,"d":"69.45"},"D"]
[{"v":69.4600000000001,"d":"69.46"},"D"]
[{"v":69.4700000000001,"d":"69.47"},"D"]
[{"v":69.4800000000001,"d":"69.48"},"D"]
[{"v":69.4900000000001,"d":"69.49"},"D"]
[{"v":69.5000000000001,"d":"69.50"},"D"]
[{"v":69.5100000000001,"d":"69.51"},"D"]
[{"v":69.5200000000001,"d":"69.52"},"D"]
[{"v":69.5300000000001,"d":"69.53"},"D"]
[{"v":69.5400000000001,"d":"69.54"},"D"]
[{"v":69.5500000000001,"d":"69.55"},"D"]
[{"v":69.5600000000001,"d":"69.56"},"D"]
[{"v":69.5700000000001,"d":"69.57"},"D"]
[{"v":69.5800000000001,"d":"69.58"},"D"]
[{"v":69.5900000000001,"d":"69.59"},"D"]
[{"v":69.6000000000001,"d":"69.60"},"D"]
[{"v":69.6100000000001,"d":"69.61"},"D"]
[{"v":69.6200000000001,"d":"69.62"},"D"]
[{"v":69.6300000000001,"d":"69.63"},"D"]
[{"v":69.6400000000001,"d":"69.64"},"D"]
[{"v":69.6500000000001,"d":"69.65"},"D"]
[{"v":69.6600000000001,"d":"69.66"},"D"]
[{"v":69.6700000000001,"d":"69.67"},"D"]
[{"v":69.6800000000001,"d":"69.68"},"D"]
[{"v":69.6900000000001,"d":"69.69"},"D"]
[{"v":69.7000000000001,"d":"69.70"},"D"]
[{"v":69.7100000000001,"d":"69.71"},"D"]
[{"v":69.7200000000001,"d":"69.72"},"D"]
[{"v":69.7300000000001,"d":"69.73"},"D"]
[{"v":69.7400000000001,"d":"69.74"},"D"]
[{"v":69.7500000000001,"d":"69.75"},"D"]
[{"v":69.7600000000001,"d":"69.76"},"D"]
[{"v":69.7700000000001,"d":"69.77"},"D"]
[{"v":69.7800000000001,"d":"69.78"},"D"]
[{"v":69.7900000000001,"d":"69.79"},"D"]
[{"v":69.8000000000001,"d":"69.80"},"D"]
[{"v":69.8100000000001,"d":"69.81"},"D"]
[{"v":69.8200000000001,"d":"69.82"},"D"]
[{"v":69.8300000000001,"d":"69.83"},"D"]
[{"v":69.8400000000001,"d":"69.84"},"D"]
[{"v":69.8500000000001,"d":"69.85"},"D"]
[{"v":69.8600000000001,"d":"69.86"},"D"]
[{"v":69.8700000000001,"d":"69.87"},"D"]
[{"v":69.8800000000001,"d":"69.88"},"D"]
[{"v":69.8900000000001,"d":"69.89"},"D"]
[{"v":69.9000000000001,"d":"69.90"},"D"]
[{"v":69.9100000000001,"d":"69.91"},"D"]
[{"v":69.9200000000001,"d":"69.92"},"D"]
[{"v":69.9300000000001,"d":"69.93"},"D"]
[{"v":69.9400000000001,"d":"69.94"},"D"]
[{"v":69.9500000000001,"d":"69.95"},"D"]
[{"v":69.9600000000001,"d":"69.96"},"D"]
[{"v":69.9700000000001,"d":"69.97"},"D"]
[{"v":69.9800000000001,"d":"69.98"},"D"]
[{"v":69.9900000000001,"d":"69.99"},"D"]
[{"v":70.0000000000001,"d":"70.00"},"D"]
[{"v":70.0100000000001,"d":"70.01"},"D"]
[{"v":70.0200000000001,"d":"70.02"},"D"]
[{"v":70.0300000000001,"d":"70.03"},"D"]
[{"v":70.0400000000001,"d":"70.04"},"D"]
[{"v":70.0500000000001,"d":"70.05"},"D"]
[{"v":70.0600000000001,"d":"70.06"},"D"]
[{"v":70.0700000000001,"d":"70.07"},"D"]
[{"v":70.0800000000001,"d":"70.08"},"D"]
[{"v":70.0900000000001,"d":"70.09"},"D"]
[{"v":70.1000000000001,"d":"70.10"},"D"]
[{"v":70.1100000000001,"d":"70.11"},"D"]
[{"v":70.1200000000001,"d":"70.12"},"D"]
[{"v":70.1300000000001,"d":"70.13"},"D"]
[{"v":70.1400000000001,"d":"70.14"},"D"]
[{"v":70.1500000000001,"d":"70.15"},"D"]
[{"v":70.1600000000001,"d":"70.16"},"D"]
[{"v":70.1700000000001,"d":"70.17"},"D"]
[{"v":70.1800000000001,"d":"70.18"},"D"]
[{"v":70.1900000000001,"d":"70.19"},"D"]
[{"v":70.2000000000001,"d":"70.20"},"D"]
[{"v":70.2100000000001,"d":"70.21"},"D"]
[{"v":70.2200000000001,"d":"70.22"},"D"]
[{"v":70.2300000000001,"d":"70.23"},"D"]
[{"v":70.2400000000001,"d":"70.24"},"D"]
[{"v":70.2500000000001,"d":"70.25"},"D"]
[{"v":70.2600000000001,"d":"70.26"},"D"]
[{"v":70.2700000000001,"d":"70.27"},"D"]
[{"v":70.2800000000001,"d":"70.28"},"D"]
[{"v":70.2900000000001,"d":"70.29"},"D"]
[{"v":70.3000000000001,"d":"70.30"},"D"]
[{"v":70.3100000000001,"d":"70.31"},"D"]
[{"v":70.3200000000001,"d":"70.32"},"D"]
[{"v":70.3300000000001,"d":"70.33"},"D"]
[{"v":70.3400000000001,"d":"70.34"},"D"]
[{"v":70.3500000000001,"d":"70.35"},"D"]
[{"v":70.3600000000001,"d":"70.36"},"D"]
[{"v":70.3700000000001,"d":"70.37"},"D"]
[{"v":70.3800000000001,"d":"70.38"},"D"]
[{"v":70.3900000000001,"d":"70.39"},"D"]
[{"v":70.4000000000001,"d":"70.40"},"D"]
[{"v":70.4100000000001,"d":"70.41"},"D"]
[{"v":70.4200000000001,"d":"70.42"},"D"]
[{"v":70.4300000000001,"d":"70.43"},"D"]
[{"v":70.4400000000001,"d":"70.44"},"D"]
[{"v":70.4500000000001,"d":"70.45"},"D"]
[{"v":70.4600000000001,"d":"70.46"},"D"]
[{"v":70.4700000000001,"d":"70.47"},"D"]
[{"v":70.4800000000001,"d":"70.48"},"D"]
[{"v":70.4900000000001,"d":"70.49"},"D"]
[{"v":70.5000000000001,"d":"70.50"},"D"]
[{"v":70.5100000000001,"d":"70.51"},"D"]
[{"v":70.5200000000001,"d":"70.52"},"D"]
[{"v":70.5300000000001,"d":"70.53"},"D"]
[{"v":70.5400000000001,"d":"70.54"},"D"]
[{"v":70.5500000000001,"d":"70.55"},"D"]
[{"v":70.5600000000001,"d":"70.56"},"D"]
[{"v":70.5700000000001,"d":"70.57"},"D"]
[{"v":70.5800000000001,"d":"70.58"},"D"]
[{"v":70.5900000000001,"d":"70.59"},"D"]
[{"v":70.6000000000001,"d":"70.60"},"D"]
[{"v":70.6100000000001,"d":"70.61"},"D"]
[{"v":70.6200000000001,"d":"70.62"},"D"]
[{"v":70.6300000000001,"d":"70.63"},"D"]
[{"v":70.6400000000001,"d":"70.64"},"D"]
[{"v":70.6500000000001,"d":"70.65"},"D"]
[{"v":70.6600000000001,"d":"70.66"},"D"]
[{"v":70.6700000000001,"d":"70.67"},"D"]
[{"v":70.6800000000001,"d":"70.68"},"D"]
[{"v":70.6900000000001,"d":"70.69"},"D"]
[{"v":70.7000000000001,"d":"70.70"},"D"]
[{"v":70.7100000000001,"d":"70.71"},"D"]
[{"v":70.7200000000001,"d":"70.72"},"D"]
[{"v":70.7300000000001,"d":"70.73"},"D"]
[{"v":70.7400000000001,"d":"70.74"},"D"]
[{"v":70.7500000000001,"d":"70.75"},"D"]
[{"v":70.7600000000001,"d":"70.76"},"D"]
[{"v":70.7700000000001,"d":"70.77"},"D"]
[{"v":70.7800000000001,"d":"70.78"},"D"]
[{"v":70.7900000000001,"d":"70.79"},"D"]
[{"v":70.8000000000001,"d":"70.80"},"D"]
[{"v":70.8100000000001,"d":"70.81"},"D"]
[{"v":70.8200000000001,"d":"70.82"},"D"]
[{"v":70.8300000000001,"d":"70.83"},"D"]
[{"v":70.8400000000001,"d":"70.84"},"D"]
[{"v":70.8500000000001,"d":"70.85"},"D"]
[{"v":70.8600000000001,"d":"70.86"},"D"]
[{"v":70.8700000000001,"d":"70.87"},"D"]
[{"v":70.8800000000001,"d":"70.88"},"D"]
[{"v":70.8900000000001,"d":"70.89"},"D"]
[{"v":70.9000000000001,"d":"70.90"},"D"]
[{"v":70.9100000000001,"d":"70.91"},"D"]
[{"v":70.9200000000001,"d":"70.92"},"D"]
[{"v":70.9300000000001,"d":"70.93"},"D"]
[{"v":70.9400000000001,"d":"70.94"},"D"]
[{"v":70.9500000000001,"d":"70.95"},"D"]
[{"v":70.9600000000001,"d":"70.96"},"D"]
[{"v":70.9700000000001,"d":"70.97"},"D"]
[{"v":70.9800000000001,"d":"70.98"},"D"]
[{"v":70.9900000000001,"d":"70.99"},"D"]
[{"v":71.0000000000001,"d":"71.00"},"C"]
[{"v":71.0100000000001,"d":"71.01"},"C"]
[{"v":71.0200000000001,"d":"71.02"},"C"]
[{"v":71.0300000000001,"d":"71.03"},"C"]
[{"v":71.0400000000001,"d":"71.04"},"C"]
[{"v":71.0500000000001,"d":"71.05"},"C"]
[{"v":71.0600000000001,"d":"71.06"},"C"]
[{"v":71.0700000000001,"d":"71.07"},"C"]
[{"v":71.0800000000001,"d":"71.08"},"C"]
[{"v":71.0900000000001,"d":"71.09"},"C"]
[{"v":71.1000000000001,"d":"71.10"},"C"]
[{"v":71.1100000000001,"d":"71.11"},"C"]
[{"v":71.1200000000001,"d":"71.12"},"C"]
[{"v":71.1300000000001,"d":"71.13"},"C"]
[{"v":71.1400000000001,"d":"71.14"},"C"]
[{"v":71.1500000000001,"d":"71.15"},"C"]
[{"v":71.1600000000001,"d":"71.16"},"C"]
[{"v":71.1700000000001,"d":"71.17"},"C"]
[{"v":71.1800000000001,"d":"71.18"},"C"]
[{"v":71.1900000000001,"d":"71.19"},"C"]
[{"v":71.2000000000001,"d":"71.20"},"C"]
[{"v":71.2100000000001,"d":"71.21"},"C"]
[{"v":71.2200000000001,"d":"71.22"},"C"]
[{"v":71.2300000000001,"d":"71.23"},"C"]
[{"v":71.2400000000001,"d":"71.24"},"C"]
[{"v":71.2500000000001,"d":"71.25"},"C"]
[{"v":71.2600000000001,"d":"71.26"},"C"]
[{"v":71.2700000000001,"d":"71.27"},"C"]
[{"v":71.2800000000001,"d":"71.28"},"C"]
[{"v":71.2900000000001,"d":"71.29"},"C"]
[{"v":71.3000000000001,"d":"71.30"},"C"]
[{"v":71.3100000000001,"d":"71.31"},"C"]
[{"v":71.3200000000001,"d":"71.32"},"C"]
[{"v":71.3300000000001,"d":"71.33"},"C"]
[{"v":71.3400000000001,"d":"71.34"},"C"]
[{"v":71.3500000000001,"d":"71.35"},"C"]
[{"v":71.3600000000001,"d":"71.36"},"C"]
[{"v":71.3700000000001,"d":"71.37"},"C"]
[{"v":71.3800000000001,"d":"71.38"},"C"]
[{"v":71.3900000000001,"d":"71.39"},"C"]
[{"v":71.4000000000001,"d":"71.40"},"C"]
[{"v":71.4100000000001,"d":"71.41"},"C"]
[{"v":71.4200000000001,"d":"71.42"},"C"]
[{"v":71.4300000000001,"d":"71.43"},"C"]
[{"v":71.4400000000001,"d":"71.44"},"C"]
[{"v":71.4500000000001,"d":"71.45"},"C"]
[{"v":71.4600000000001,"d":"71.46"},"C"]
[{"v":71.4700000000001,"d":"71.47"},"C"]
[{"v":71.4800000000001,"d":"71.48"},"C"]
[{"v":71.4900000000001,"d":"71.49"},"C"]
[{"v":71.5000000000001,"d":"71.50"},"C"]
[{"v":71.5100000000001,"d":"71.51"},"C"]
[{"v":71.5200000000001,"d":"71.52"},"C"]
[{"v":71.5300000000001,"d":"71.53"},"C"]
[{"v":71.5400000000001,"d":"71.54"},"C"]
[{"v":71.5500000000001,"d":"71.55"},"C"]
[{"v":71.5600000000001,"d":"71.56"},"C"]
[{"v":71.5700000000001,"d":"71.57"},"C"]
[{"v":71.5800000000001,"d":"71.58"},"C"]
[{"v":71.5900000000001,"d":"71.59"},"C"]
[{"v":71.6000000000001,"d":"71.60"},"C"]
[{"v":71.6100000000001,"d":"71.61"},"C"]
[{"v":71.6200000000001,"d":"71.62"},"C"]
[{"v":71.6300000000001,"d":"71.63"},"C"]
[{"v":71.6400000000001,"d":"71.64"},"C"]
[{"v":71.6500000000001,"d":"71.65"},"C"]
[{"v":71.6600000000001,"d":"71.66"},"C"]
[{"v":71.6700000000001,"d":"71.67"},"C"]
[{"v":71.6800000000001,"d":"71.68"},"C"]
[{"v":71.6900000000001,"d":"71.69"},"C"]
[{"v":71.7000000000001,"d":"71.70"},"C"]
[{"v":71.7100000000001,"d":"71.71"},"C"]
[{"v":71.7200000000001,"d":"71.72"},"C"]
[{"v":71.7300000000001,"d":"71.73"},"C"]
[{"v":71.7400000000001,"d":"71.74"},"C"]
[{"v":71.7500000000001,"d":"71.75"},"C"]
[{"v":71.7600000000001,"d":"71.76"},"C"]
[{"v":71.7700000000001,"d":"71.77"},"C"]
[{"v":71.7800000000001,"d":"71.78"},"C"]
[{"v":71.7900000000001,"d":"71.79"},"C"]
[{"v":71.8000000000001,"d":"71.80"},"C"]
[{"v":71.8100000000001,"d":"71.81"},"C"]
[{"v":71.8200000000001,"d":"71.82"},"C"]
[{"v":71.8300000000001,"d":"71.83"},"C"]
[{"v":71.8400000000001,"d":"71.84"},"C"]
[{"v":71.8500000000001,"d":"71.85"},"C"]
[{"v":71.8600000000001,"d":"71.86"},"C"]
[{"v":71.8700000000001,"d":"71.87"},"C"]
[{"v":71.8800000000001,"d":"71.88"},"C"]
[{"v":71.8900000000001,"d":"71.89"},"C"]
[{"v":71.9000000000001,"d":"71.90"},"C"]
[{"v":71.9100000000001,"d":"71.91"},"C"]
[{"v":71.9200000000001,"d":"71.92"},"C"]
[{"v":71.9300000000001,"d":"71.93"},"C"]
[{"v":71.9400000000001,"d":"71.94"},"C"]
[{"v":71.9500000000001,"d":"71.95"},"C"]
[{"v":71.9600000000001,"d":"71.96"},"C"]
[{"v":71.9700000000001,"d":"71.97"},"C"]
[{"v":71.9800000000001,"d":"71.98"},"C"]
[{"v":71.9900000000001,"d":"71.99"},"C"]
[{"v":72.0000000000001,"d":"72.00"},"C"]
[{"v":72.0100000000001,"d":"72.01"},"C"]
[{"v":72.0200000000001,"d":"72.02"},"C"]
[{"v":72.0300000000001,"d":"72.03"},"C"]
[{"v":72.0400000000001,"d":"72.04"},"C"]
[{"v":72.0500000000001,"d":"72.05"},"C"]
[{"v":72.0600000000001,"d":"72.06"},"C"]
[{"v":72.0700000000001,"d":"72.07"},"C"]
[{"v":72.0800000000001,"d":"72.08"},"C"]
[{"v":72.0900000000001,"d":"72.09"},"C"]
[{"v":72.1000000000001,"d":"72.10"},"C"]
[{"v":72.1100000000001,"d":"72.11"},"C"]
[{"v":72.1200000000001,"d":"72.12"},"C"]
[{"v":72.1300000000001,"d":"72.13"},"C"]
[{"v":72.1400000000001,"d":"72.14"},"C"]
[{"v":72.1500000000001,"d":"72.15"},"C"]
[{"v":72.1600000000001,"d":"72.16"},"C"]
[{"v":72.1700000000001,"d":"72.17"},"C"]
[{"v":72.1800000000001,"d":"72.18"},"C"]
[{"v":72.1900000000001,"d":"72.19"},"C"]
[{"v":72.2000000000001,"d":"72.20"},"C"]
[{"v":72.2100000000001,"d":"72.21"},"C"]
[{"v":72.2200000000001,"d":"72.22"},"C"]
[{"v":72.2300000000001,"d":"72.23"},"C"]
[{"v":72.2400000000001,"d":"72.24"},"C"]
[{"v":72.2500000000001,"d":"72.25"},"C"]
[{"v":72.2600000000001,"d":"72.26"},"C"]
[{"v":72.2700000000001,"d":"72.27"},"C"]
[{"v":72.2800000000001,"d":"72.28"},"C"]
[{"v":72.2900000000001,"d":"72.29"},"C"]
[{"v":72.3000000000001,"d":"72.30"},"C"]
[{"v":72.3100000000001,"d":"72.31"},"C"]
[{"v":72.3200000000001,"d":"72.32"},"C"]
[{"v":72.3300000000001,"d":"72.33"},"C"]
[{"v":72.3400000000001,"d":"72.34"},"C"]
[{"v":72.3500000000001,"d":"72.35"},"C"]
[{"v":72.3600000000001,"d":"72.36"},"C"]
[{"v":72.3700000000001,"d":"72.37"},"C"]
[{"v":72.3800000000001,"d":"72.38"},"C"]
[{"v":72.3900000000001,"d":"72.39"},"C"]
[{"v":72.4000000000001,"d":"72.40"},"C"]
[{"v":72.4100000000001,"d":"72.41"},"C"]
[{"v":72.4200000000001,"d":"72.42"},"C"]
[{"v":72.4300000000001,"d":"72.43"},"C"]
[{"v":72.4400000000001,"d":"72.44"},"C"]
[{"v":72.4500000000001,"d":"72.45"},"C"]
[{"v":72.4600000000001,"d":"72.46"},"C"]
[{"v":72.4700000000001,"d":"72.47"},"C"]
[{"v":72.4800000000001,"d":"72.48"},"C"]
[{"v":72.4900000000001,"d":"72.49"},"C"]
[{"v":72.5000000000001,"d":"72.50"},"C"]
[{"v":72.5100000000001,"d":"72.51"},"C"]
[{"v":72.5200000000001,"d":"72.52"},"C"]
[{"v":72.5300000000001,"d":"72.53"},"C"]
[{"v":72.5400000000001,"d":"72.54"},"C"]
[{"v":72.5500000000001,"d":"72.55"},"C"]
[{"v":72.5600000000001,"d":"72.56"},"C"]
[{"v":72.5700000000001,"d":"72.57"},"C"]
[{"v":72.5800000000001,"d":"72.58"},"C"]
[{"v":72.5900000000001,"d":"72.59"},"C"]
[{"v":72.6000000000001,"d":"72.60"},"C"]
[{"v":72.6100000000001,"d":"72.61"},"C"]
[{"v":72.6200000000001,"d":"72.62"},"C"]
[{"v":72.6300000000001,"d":"72.63"},"C"]
[{"v":72.6400000000001,"d":"72.64"},"C"]
[{"v":72.6500000000001,"d":"72.65"},"C"]
[{"v":72.6600000000001,"d":"72.66"},"C"]
[{"v":72.6700000000001,"d":"72.67"},"C"]
[{"v":72.6800000000001,"d":"72.68"},"C"]
[{"v":72.6900000000001,"d":"72.69"},"C"]
[{"v":72.7000000000001,"d":"72.70"},"C"]
[{"v":72.7100000000001,"d":"72.71"},"C"]
[{"v":72.7200000000001,"d":"72.72"},"C"]
[{"v":72.7300000000001,"d":"72.73"},"C"]
[{"v":72.7400000000001,"d":"72.74"},"C"]
[{"v":72.7500000000001,"d":"72.75"},"C"]
[{"v":72.7600000000001,"d":"72.76"},"C"]
[{"v":72.7700000000001,"d":"72.77"},"C"]
[{"v":72.7800000000001,"d":"72.78"},"C"]
[{"v":72.7900000000001,"d":"72.79"},"C"]
[{"v":72.8000000000001,"d":"72.80"},"C"]
[{"v":72.8100000000001,"d":"72.81"},"C"]
[{"v":72.8200000000001,"d":"72.82"},"C"]
[{"v":72.8300000000001,"d":"72.83"},"C"]
[{"v":72.8400000000001,"d":"72.84"},"C"]
[{"v":72.8500000000001,"d":"72.85"},"C"]
[{"v":72.8600000000001,"d":"72.86"},"C"]
[{"v":72.8700000000001,"d":"72.87"},"C"]
[{"v":72.8800000000001,"d":"72.88"},"C"]
[{"v":72.8900000000001,"d":"72.89"},"C"]
[{"v":72.9000000000001,"d":"72.90"},"C"]
[{"v":72.9100000000001,"d":"72.91"},"C"]
[{"v":72.9200000000001,"d":"72.92"},"C"]
[{"v":72.9300000000001,"d":"72.93"},"C"]
[{"v":72.9400000000001,"d":"72.94"},"C"]
[{"v":72.9500000000001,"d":"72.95"},"C"]
[{"v":72.9600000000001,"d":"72.96"},"C"]
[{"v":72.9700000000001,"d":"72.97"},"C"]
[{"v":72.9800000000001,"d":"72.98"},"C"]
[{"v":72.9900000000001,"d":"72.99"},"C"]
[{"v":73.0000000000001,"d":"73.00"},"C"]
[{"v":73.0100000000001,"d":"73.01"},"C"]
[{"v":73.0200000000001,"d":"73.02"},"C"]
[{"v":73.0300000000001,"d":"73.03"},"C"]
[{"v":73.0400000000001,"d":"73.04"},"C"]
[{"v":73.0500000000001,"d":"73.05"},"C"]
[{"v":73.0600000000001,"d":"73.06"},"C"]
[{"v":73.0700000000001,"d":"73.07"},"C"]
[{"v":73.0800000000001,"d":"73.08"},"C"]
[{"v":73.0900000000001,"d":"73.09"},"C"]
[{"v":73.1000000000001,"d":"73.10"},"C"]
[{"v":73.1100000000001,"d":"73.11"},"C"]
[{"v":73.1200000000001,"d":"73.12"},"C"]
[{"v":73.1300000000001,"d":"73.13"},"C"]
[{"v":73.1400000000001,"d":"73.14"},"C"]
[{"v":73.1500000000001,"d":"73.15"},"C"]
[{"v":73.1600000000001,"d":"73.16"},"C"]
[{"v":73.1700000000001,"d":"73.17"},"C"]
[{"v":73.1800000000001,"d":"73.18"},"C"]
[{"v":73.1900000000001,"d":"73.19"},"C"]
[{"v":73.2000000000001,"d":"73.20"},"C"]
[{"v":73.2100000000001,"d":"73.21"},"C"]
[{"v":73.2200000000001,"d":"73.22"},"C"]
[{"v":73.2300000000001,"d":"73.23"},"C"]
[{"v":73.2400000000001,"d":"73.24"},"C"]
[{"v":73.2500000000001,"d":"73.25"},"C"]
[{"v":73.2600000000001,"d":"73.26"},"C"]
[{"v":73.2700000000001,"d":"73.27"},"C"]
[{"v":73.2800000000001,"d":"73.28"},"C"]
[{"v":73.2900000000001,"d":"73.29"},"C"]
[{"v":73.3000000000001,"d":"73.30"},"C"]
[{"v":73.3100000000001,"d":"73.31"},"C"]
[{"v":73.3200000000001,"d":"73.32"},"C"]
[{"v":73.3300000000001,"d":"73.33"},"C"]
[{"v":73.3400000000001,"d":"73.34"},"C"]
[{"v":73.3500000000001,"d":"73.35"},"C"]
[{"v":73.3600000000001,"d":"73.36"},"C"]
[{"v":73.3700000000001,"d":"73.37"},"C"]
[{"v":73.3800000000001,"d":"73.38"},"C"]
[{"v":73.3900000000001,"d":"73.39"},"C"]
[{"v":73.4000000000001,"d":"73.40"},"C"]
[{"v":73.4100000000001,"d":"73.41"},"C"]
[{"v":73.4200000000001,"d":"73.42"},"C"]
[{"v":73.4300000000001,"d":"73.43"},"C"]
[{"v":73.4400000000001,"d":"73.44"},"C"]
[{"v":73.4500000000001,"d":"73.45"},"C"]
[{"v":73.4600000000001,"d":"73.46"},"C"]
[{"v":73.4700000000001,"d":"73.47"},"C"]
[{"v":73.4800000000001,"d":"73.48"},"C"]
[{"v":73.4900000000001,"d":"73.49"},"C"]
[{"v":73.5000000000001,"d":"73.50"},"C"]
[{"v":73.5100000000001,"d":"73.51"},"C"]
[{"v":73.5200000000001,"d":"73.52"},"C"]
[{"v":73.5300000000001,"d":"73.53"},"C"]
[{"v":73.5400000000001,"d":"73.54"},"C"]
[{"v":73.5500000000001,"d":"73.55"},"C"]
[{"v":73.5600000000001,"d":"73.56"},"C"]
[{"v":73.5700000000001,"d":"73.57"},"C"]
[{"v":73.5800000000001,"d":"73.58"},"C"]
[{"v":73.5900000000001,"d":"73.59"},"C"]
[{"v":73.6000000000001,"d":"73.60"},"C"]
[{"v":73.6100000000001,"d":"73.61"},"C"]
[{"v":73.6200000000001,"d":"73.62"},"C"]
[{"v":73.6300000000001,"d":"73.63"},"C"]
[{"v":73.6400000000001,"d":"73.64"},"C"]
[{"v":73.6500000000001,"d":"73.65"},"C"]
[{"v":73.6600000000001,"d":"73.66"},"C"]
[{"v":73.6700000000001,"d":"73.67"},"C"]
[{"v":73.6800000000001,"d":"73.68"},"C"]
[{"v":73.6900000000001,"d":"73.69"},"C"]
[{"v":73.7000000000001,"d":"73.70"},"C"]
[{"v":73.7100000000001,"d":"73.71"},"C"]
[{"v":73.7200000000001,"d":"73.72"},"C"]
[{"v":73.7300000000001,"d":"73.73"},"C"]
[{"v":73.7400000000001,"d":"73.74"},"C"]
[{"v":73.7500000000001,"d":"73.75"},"C"]
[{"v":73.7600000000001,"d":"73.76"},"C"]
[{"v":73.7700000000001,"d":"73.77"},"C"]
[{"v":73.7800000000001,"d":"73.78"},"C"]
[{"v":73.7900000000001,"d":"73.79"},"C"]
[{"v":73.8000000000001,"d":"73.80"},"C"]
[{"v":73.8100000000001,"d":"73.81"},"C"]
[{"v":73.8200000000001,"d":"73.82"},"C"]
[{"v":73.8300000000001,"d":"73.83"},"C"]
[{"v":73.8400000000001,"d":"73.84"},"C"]
[{"v":73.8500000000001,"d":"73.85"},"C"]
[{"v":73.8600000000001,"d":"73.86"},"C"]
[{"v":73.8700000000001,"d":"73.87"},"C"]
[{"v":73.8800000000001,"d":"73.88"},"C"]
[{"v":73.8900000000001,"d":"73.89"},"C"]
[{"v":73.9000000000001,"d":"73.90"},"C"]
[{"v":73.9100000000001,"d":"73.91"},"C"]
[{"v":73.9200000000001,"d":"73.92"},"C"]
[{"v":73.9300000000001,"d":"73.93"},"C"]
[{"v":73.9400000000001,"d":"73.94"},"C"]
[{"v":73.9500000000001,"d":"73.95"},"C"]
[{"v":73.9600000000001,"d":"73.96"},"C"]
[{"v":73.9700000000001,"d":"73.97"},"C"]
[{"v":73.9800000000001,"d":"73.98"},"C"]
[{"v":73.9900000000001,"d":"73.99"},"C"]
[{"v":74.0000000000001,"d":"74.00"},"C"]
[{"v":74.0100000000001,"d":"74.01"},"C"]
[{"v":74.0200000000001,"d":"74.02"},"C"]
[{"v":74.0300000000001,"d":"74.03"},"C"]
[{"v":74.0400000000001,"d":"74.04"},"C"]
[{"v":74.0500000000001,"d":"74.05"},"C"]
[{"v":74.0600000000001,"d":"74.06"},"C"]
[{"v":74.0700000000001,"d":"74.07"},"C"]
[{"v":74.0800000000001,"d":"74.08"},"C"]
[{"v":74.0900000000001,"d":"74.09"},"C"]
[{"v":74.1000000000001,"d":"74.10"},"C"]
[{"v":74.1100000000001,"d":"74.11"},"C"]
[{"v":74.1200000000001,"d":"74.12"},"C"]
[{"v":74.1300000000001,"d":"74.13"},"C"]
[{"v":74.1400000000001,"d":"74.14"},"C"]
[{"v":74.1500000000001,"d":"74.15"},"C"]
[{"v":74.1600000000001,"d":"74.16"},"C"]
[{"v":74.1700000000001,"d":"74.17"},"C"]
[{"v":74.1800000000001,"d":"74.18"},"C"]
[{"v":74.1900000000001,"d":"74.19"},"C"]
[{"v":74.2000000000001,"d":"74.20"},"C"]
[{"v":74.2100000000001,"d":"74.21"},"C"]
[{"v":74.2200000000001,"d":"74.22"},"C"]
[{"v":74.2300000000001,"d":"74.23"},"C"]
[{"v":74.2400000000001,"d":"74.24"},"C"]
[{"v":74.2500000000001,"d":"74.25"},"C"]
[{"v":74.2600000000001,"d":"74.26"},"C"]
[{"v":74.2700000000001,"d":"74.27"},"C"]
[{"v":74.2800000000001,"d":"74.28"},"C"]
[{"v":74.2900000000001,"d":"74.29"},"C"]
[{"v":74.3000000000001,"d":"74.30"},"C"]
[{"v":74.3100000000001,"d":"74.31"},"C"]
[{"v":74.3200000000001,"d":"74.32"},"C"]
[{"v":74.3300000000001,"d":"74.33"},"C"]
[{"v":74.3400000000001,"d":"74.34"},"C"]
[{"v":74.3500000000001,"d":"74.35"},"C"]
[{"v":74.3600000000001,"d":"74.36"},"C"]
[{"v":74.3700000000001,"d":"74.37"},"C"]
[{"v":74.3800000000001,"d":"74.38"},"C"]
[{"v":74.3900000000001,"d":"74.39"},"C"]
[{"v":74.4000000000001,"d":"74.40"},"C"]
[{"v":74.4100000000001,"d":"74.41"},"C"]
[{"v":74.4200000000001,"d":"74.42"},"C"]
[{"v":74.4300000000001,"d":"74.43"},"C"]
[{"v":74.4400000000001,"d":"74.44"},"C"]
[{"v":74.4500000000001,"d":"74.45"},"C"]
[{"v":74.4600000000001,"d":"74.46"},"C"]
[{"v":74.4700000000001,"d":"74.47"},"C"]
[{"v":74.4800000000001,"d":"74.48"},"C"]
[{"v":74.4900000000001,"d":"74.49"},"C"]
[{"v":74.5000000000001,"d":"74.50"},"C"]
[{"v":74.5100000000001,"d":"74.51"},"C"]
[{"v":74.5200000000001,"d":"74.52"},"C"]
[{"v":74.5300000000001,"d":"74.53"},"C"]
[{"v":74.5400000000001,"d":"74.54"},"C"]
[{"v":74.5500000000001,"d":"74.55"},"C"]
[{"v":74.5600000000001,"d":"74.56"},"C"]
[{"v":74.5700000000001,"d":"74.57"},"C"]
[{"v":74.5800000000001,"d":"74.58"},"C"]
[{"v":74.5900000000001,"d":"74.59"},"C"]
[{"v":74.6000000000001,"d":"74.60"},"C"]
[{"v":74.6100000000001,"d":"74.61"},"C"]
[{"v":74.6200000000001,"d":"74.62"},"C"]
[{"v":74.6300000000001,"d":"74.63"},"C"]
[{"v":74.6400000000001,"d":"74.64"},"C"]
[{"v":74.6500000000001,"d":"74.65"},"C"]
[{"v":74.6600000000001,"d":"74.66"},"C"]
[{"v":74.6700000000001,"d":"74.67"},"C"]
[{"v":74.6800000000001,"d":"74.68"},"C"]
[{"v":74.6900000000001,"d":"74.69"},"C"]
[{"v":74.7000000000001,"d":"74.70"},"C"]
[{"v":74.7100000000001,"d":"74.71"},"C"]
[{"v":74.7200000000001,"d":"74.72"},"C"]
[{"v":74.7300000000001,"d":"74.73"},"C"]
[{"v":74.7400000000001,"d":"74.74"},"C"]
[{"v":74.7500000000001,"d":"74.75"},"C"]
[{"v":74.7600000000001,"d":"74.76"},"C"]
[{"v":74.7700000000001,"d":"74.77"},"C"]
[{"v":74.7800000000001,"d":"74.78"},"C"]
[{"v":74.7900000000001,"d":"74.79"},"C"]
[{"v":74.8000000000001,"d":"74.80"},"C"]
[{"v":74.8100000000001,"d":"74.81"},"C"]
[{"v":74.8200000000001,"d":"74.82"},"C"]
[{"v":74.8300000000001,"d":"74.83"},"C"]
[{"v":74.8400000000001,"d":"74.84"},"C"]
[{"v":74.8500000000001,"d":"74.85"},"C"]
[{"v":74.8600000000001,"d":"74.86"},"C"]
[{"v":74.8700000000001,"d":"74.87"},"C"]
[{"v":74.8800000000001,"d":"74.88"},"C"]
[{"v":74.8900000000001,"d":"74.89"},"C"]
[{"v":74.9000000000001,"d":"74.90"},"C"]
[{"v":74.9100000000001,"d":"74.91"},"C"]
[{"v":74.9200000000001,"d":"74.92"},"C"]
[{"v":74.9300000000001,"d":"74.93"},"C"]
[{"v":74.9400000000001,"d":"74.94"},"C"]
[{"v":74.9500000000001,"d":"74.95"},"C"]
[{"v":74.9600000000001,"d":"74.96"},"C"]
[{"v":74.9700000000001,"d":"74.97"},"C"]
[{"v":74.9800000000001,"d":"74.98"},"C"]
[{"v":74.9900000000001,"d":"74.99"},"C"]
[{"v":75.0000000000001,"d":"75.00"},"C"]
[{"v":75.0100000000001,"d":"75.01"},"C"]
[{"v":75.0200000000001,"d":"75.02"},"C"]
[{"v":75.0300000000001,"d":"75.03"},"C"]
[{"v":75.0400000000001,"d":"75.04"},"C"]
[{"v":75.0500000000001,"d":"75.05"},"C"]
[{"v":75.0600000000001,"d":"75.06"},"C"]
[{"v":75.0700000000001,"d":"75.07"},"C"]
[{"v":75.0800000000001,"d":"75.08"},"C"]
[{"v":75.0900000000001,"d":"75.09"},"C"]
[{"v":75.1000000000001,"d":"75.10"},"C"]
[{"v":75.1100000000001,"d":"75.11"},"C"]
[{"v":75.1200000000001,"d":"75.12"},"C"]
[{"v":75.1300000000001,"d":"75.13"},"C"]
[{"v":75.1400000000001,"d":"75.14"},"C"]
[{"v":75.1500000000001,"d":"75.15"},"C"]
[{"v":75.1600000000001,"d":"75.16"},"C"]
[{"v":75.1700000000001,"d":"75.17"},"C"]
[{"v":75.1800000000001,"d":"75.18"},"C"]
[{"v":75.1900000000001,"d":"75.19"},"C"]
[{"v":75.2000000000001,"d":"75.20"},"C"]
[{"v":75.2100000000001,"d":"75.21"},"C"]
[{"v":75.2200000000001,"d":"75.22"},"C"]
[{"v":75.2300000000001,"d":"75.23"},"C"]
[{"v":75.2400000000001,"d":"75.24"},"C"]
[{"v":75.2500000000001,"d":"75.25"},"C"]
[{"v":75.2600000000001,"d":"75.26"},"C"]
[{"v":75.2700000000001,"d":"75.27"},"C"]
[{"v":75.2800000000001,"d":"75.28"},"C"]
[{"v":75.2900000000001,"d":"75.29"},"C"]
[{"v":75.3000000000001,"d":"75.30"},"C"]
[{"v":75.3100000000001,"d":"75.31"},"C"]
[{"v":75.3200000000001,"d":"75.32"},"C"]
[{"v":75.3300000000001,"d":"75.33"},"C"]
[{"v":75.3400000000001,"d":"75.34"},"C"]
[{"v":75.3500000000001,"d":"75.35"},"C"]
[{"v":75.3600000000001,"d":"75.36"},"C"]
[{"v":75.3700000000001,"d":"75.37"},"C"]
[{"v":75.3800000000001,"d":"75.38"},"C"]
[{"v":75.3900000000001,"d":"75.39"},"C"]
[{"v":75.4000000000001,"d":"75.40"},"C"]
[{"v":75.4100000000001,"d":"75.41"},"C"]
[{"v":75.4200000000001,"d":"75.42"},"C"]
[{"v":75.4300000000001,"d":"75.43"},"C"]
[{"v":75.4400000000001,"d":"75.44"},"C"]
[{"v":75.4500000000001,"d":"75.45"},"C"]
[{"v":75.4600000000001,"d":"75.46"},"C"]
[{"v":75.4700000000001,"d":"75.47"},"C"]
[{"v":75.4800000000001,"d":"75.48"},"C"]
[{"v":75.4900000000001,"d":"75.49"},"C"]
[{"v":75.5000000000001,"d":"75.50"},"C"]
[{"v":75.5100000000001,"d":"75.51"},"C"]
[{"v":75.5200000000001,"d":"75.52"},"C"]
[{"v":75.5300000000001,"d":"75.53"},"C"]
[{"v":75.5400000000001,"d":"75.54"},"C"]
[{"v":75.5500000000001,"d":"75.55"},"C"]
[{"v":75.5600000000001,"d":"75.56"},"C"]
[{"v":75.5700000000001,"d":"75.57"},"C"]
[{"v":75.5800000000001,"d":"75.58"},"C"]
[{"v":75.5900000000001,"d":"75.59"},"C"]
[{"v":75.6000000000001,"d":"75.60"},"C"]
[{"v":75.6100000000001,"d":"75.61"},"C"]
[{"v":75.6200000000001,"d":"75.62"},"C"]
[{"v":75.6300000000001,"d":"75.63"},"C"]
[{"v":75.6400000000001,"d":"75.64"},"C"]
[{"v":75.6500000000001,"d":"75.65"},"C"]
[{"v":75.6600000000001,"d":"75.66"},"C"]
[{"v":75.6700000000001,"d":"75.67"},"C"]
[{"v":75.6800000000001,"d":"75.68"},"C"]
[{"v":75.6900000000001,"d":"75.69"},"C"]
[{"v":75.7000000000001,"d":"75.70"},"C"]
[{"v":75.7100000000001,"d":"75.71"},"C"]
[{"v":75.7200000000001,"d":"75.72"},"C"]
[{"v":75.7300000000001,"d":"75.73"},"C"]
[{"v":75.7400000000001,"d":"75.74"},"C"]
[{"v":75.7500000000001,"d":"75.75"},"C"]
[{"v":75.7600000000001,"d":"75.76"},"C"]
[{"v":75.7700000000001,"d":"75.77"},"C"]
[{"v":75.7800000000001,"d":"75.78"},"C"]
[{"v":75.7900000000001,"d":"75.79"},"C"]
[{"v":75.8000000000001,"d":"75.80"},"C"]
[{"v":75.8100000000001,"d":"75.81"},"C"]
[{"v":75.8200000000001,"d":"75.82"},"C"]
[{"v":75.8300000000001,"d":"75.83"},"C"]
[{"v":75.8400000000001,"d":"75.84"},"C"]
[{"v":75.8500000000001,"d":"75.85"},"C"]
[{"v":75.8600000000001,"d":"75.86"},"C"]
[{"v":75.8700000000001,"d":"75.87"},"C"]
[{"v":75.8800000000001,"d":"75.88"},"C"]
[{"v":75.8900000000001,"d":"75.89"},"C"]
[{"v":75.9000000000001,"d":"75.90"},"C"]
[{"v":75.9100000000001,"d":"75.91"},"C"]
[{"v":75.9200000000001,"d":"75.92"},"C"]
[{"v":75.9300000000001,"d":"75.93"},"C"]
[{"v":75.9400000000001,"d":"75.94"},"C"]
[{"v":75.9500000000001,"d":"75.95"},"C"]
[{"v":75.9600000000001,"d":"75.96"},"C"]
[{"v":75.9700000000001,"d":"75.97"},"C"]
[{"v":75.9800000000001,"d":"75.98"},"C"]
[{"v":75.9900000000001,"d":"75.99"},"C"]
[{"v":76.0000000000001,"d":"76.00"},"C"]
[{"v":76.0100000000001,"d":"76.01"},"C"]
[{"v":76.0200000000001,"d":"76.02"},"C"]
[{"v":76.0300000000001,"d":"76.03"},"C"]
[{"v":76.0400000000001,"d":"76.04"},"C"]
[{"v":76.0500000000001,"d":"76.05"},"C"]
[{"v":76.0600000000001,"d":"76.06"},"C"]
[{"v":76.0700000000001,"d":"76.07"},"C"]
[{"v":76.0800000000001,"d":"76.08"},"C"]
[{"v":76.0900000000001,"d":"76.09"},"C"]
[{"v":76.1000000000001,"d":"76.10"},"C"]
[{"v":76.1100000000001,"d":"76.11"},"C"]
[{"v":76.1200000000001,"d":"76.12"},"C"]
[{"v":76.1300000000001,"d":"76.13"},"C"]
[{"v":76.1400000000001,"d":"76.14"},"C"]
[{"v":76.1500000000001,"d":"76.15"},"C"]
[{"v":76.1600000000001,"d":"76.16"},"C"]
[{"v":76.1700000000001,"d":"76.17"},"C"]
[{"v":76.1800000000001,"d":"76.18"},"C"]
[{"v":76.1900000000001,"d":"76.19"},"C"]
[{"v":76.2000000000001,"d":"76.20"},"C"]
[{"v":76.2100000000001,"d":"76.21"},"C"]
[{"v":76.2200000000001,"d":"76.22"},"C"]
[{"v":76.2300000000001,"d":"76.23"},"C"]
[{"v":76.2400000000001,"d":"76.24"},"C"]
[{"v":76.2500000000001,"d":"76.25"},"C"]
[{"v":76.2600000000001,"d":"76.26"},"C"]
[{"v":76.2700000000001,"d":"76.27"},"C"]
[{"v":76.2800000000001,"d":"76.28"},"C"]
[{"v":76.2900000000001,"d":"76.29"},"C"]
[{"v":76.3000000000001,"d":"76.30"},"C"]
[{"v":76.3100000000001,"d":"76.31"},"C"]
[{"v":76.3200000000001,"d":"76.32"},"C"]
[{"v":76.3300000000001,"d":"76.33"},"C"]
[{"v":76.3400000000001,"d":"76.34"},"C"]
[{"v":76.3500000000001,"d":"76.35"},"C"]
[{"v":76.3600000000001,"d":"76.36"},"C"]
[{"v":76.3700000000001,"d":"76.37"},"C"]
[{"v":76.3800000000001,"d":"76.38"},"C"]
[{"v":76.3900000000001,"d":"76.39"},"C"]
[{"v":76.4000000000001,"d":"76.40"},"C"]
[{"v":76.4100000000001,"d":"76.41"},"C"]
[{"v":76.4200000000001,"d":"76.42"},"C"]
[{"v":76.4300000000001,"d":"76.43"},"C"]
[{"v":76.4400000000001,"d":"76.44"},"C"]
[{"v":76.4500000000001,"d":"76.45"},"C"]
[{"v":76.4600000000001,"d":"76.46"},"C"]
[{"v":76.4700000000001,"d":"76.47"},"C"]
[{"v":76.4800000000001,"d":"76.48"},"C"]
[{"v":76.4900000000001,"d":"76.49"},"C"]
[{"v":76.5000000000001,"d":"76.50"},"C"]
[{"v":76.5100000000001,"d":"76.51"},"C"]
[{"v":76.5200000000001,"d":"76.52"},"C"]
[{"v":76.5300000000001,"d":"76.53"},"C"]
[{"v":76.5400000000001,"d":"76.54"},"C"]
[{"v":76.5500000000001,"d":"76.55"},"C"]
[{"v":76.5600000000001,"d":"76.56"},"C"]
[{"v":76.5700000000001,"d":"76.57"},"C"]
[{"v":76.5800000000001,"d":"76.58"},"C"]
[{"v":76.5900000000001,"d":"76.59"},"C"]
[{"v":76.6000000000001,"d":"76.60"},"C"]
[{"v":76.6100000000001,"d":"76.61"},"C"]
[{"v":76.6200000000001,"d":"76.62"},"C"]
[{"v":76.6300000000001,"d":"76.63"},"C"]
[{"v":76.6400000000001,"d":"76.64"},"C"]
[{"v":76.6500000000001,"d":"76.65"},"C"]
[{"v":76.6600000000001,"d":"76.66"},"C"]
[{"v":76.6700000000001,"d":"76.67"},"C"]
[{"v":76.6800000000001,"d":"76.68"},"C"]
[{"v":76.6900000000001,"d":"76.69"},"C"]
[{"v":76.7000000000001,"d":"76.70"},"C"]
[{"v":76.7100000000001,"d":"76.71"},"C"]
[{"v":76.7200000000001,"d":"76.72"},"C"]
[{"v":76.7300000000001,"d":"76.73"},"C"]
[{"v":76.7400000000001,"d":"76.74"},"C"]
[{"v":76.7500000000001,"d":"76.75"},"C"]
[{"v":76.7600000000001,"d":"76.76"},"C"]
[{"v":76.7700000000001,"d":"76.77"},"C"]
[{"v":76.7800000000001,"d":"76.78"},"C"]
[{"v":76.7900000000001,"d":"76.79"},"C"]
[{"v":76.8000000000001,"d":"76.80"},"C"]
[{"v":76.8100000000001,"d":"76.81"},"C"]
[{"v":76.8200000000001,"d":"76.82"},"C"]
[{"v":76.8300000000001,"d":"76.83"},"C"]
[{"v":76.8400000000001,"d":"76.84"},"C"]
[{"v":76.8500000000001,"d":"76.85"},"C"]
[{"v":76.8600000000001,"d":"76.86"},"C"]
[{"v":76.8700000000001,"d":"76.87"},"C"]
[{"v":76.8800000000001,"d":"76.88"},"C"]
[{"v":76.8900000000001,"d":"76.89"},"C"]
[{"v":76.9000000000001,"d":"76.90"},"C"]
[{"v":76.9100000000001,"d":"76.91"},"C"]
[{"v":76.9200000000001,"d":"76.92"},"C"]
[{"v":76.9300000000001,"d":"76.93"},"C"]
[{"v":76.9400000000001,"d":"76.94"},"C"]
[{"v":76.9500000000001,"d":"76.95"},"C"]
[{"v":76.9600000000001,"d":"76.96"},"C"]
[{"v":76.9700000000001,"d":"76.97"},"C"]
[{"v":76.9800000000001,"d":"76.98"},"C"]
[{"v":76.9900000000001,"d":"76.99"},"C"]
[{"v":77.0000000000001,"d":"77.00"},"C"]
[{"v":77.0100000000001,"d":"77.01"},"C"]
[{"v":77.0200000000001,"d":"77.02"},"C"]
[{"v":77.0300000000001,"d":"77.03"},"C"]
[{"v":77.0400000000001,"d":"77.04"},"C"]
[{"v":77.0500000000001,"d":"77.05"},"C"]
[{"v":77.0600000000001,"d":"77.06"},"C"]
[{"v":77.0700000000001,"d":"77.07"},"C"]
[{"v":77.0800000000001,"d":"77.08"},"C"]
[{"v":77.0900000000001,"d":"77.09"},"C"]
[{"v":77.1000000000001,"d":"77.10"},"C"]
[{"v":77.1100000000001,"d":"77.11"},"C"]
[{"v":77.1200000000001,"d":"77.12"},"C"]
[{"v":77.1300000000001,"d":"77.13"},"C"]
[{"v":77.1400000000001,"d":"77.14"},"C"]
[{"v":77.1500000000001,"d":"77.15"},"C"]
[{"v":77.1600000000001,"d":"77.16"},"C"]
[{"v":77.1700000000001,"d":"77.17"},"C"]
[{"v":77.1800000000001,"d":"77.18"},"C"]
[{"v":77.1900000000001,"d":"77.19"},"C"]
[{"v":77.2000000000001,"d":"77.20"},"C"]
[{"v":77.2100000000001,"d":"77.21"},"C"]
[{"v":77.2200000000001,"d":"77.22"},"C"]
[{"v":77.2300000000001,"d":"77.23"},"C"]
[{"v":77.2400000000001,"d":"77.24"},"C"]
[{"v":77.2500000000001,"d":"77.25"},"C"]
[{"v":77.2600000000001,"d":"77.26"},"C"]
[{"v":77.2700000000001,"d":"77.27"},"C"]
[{"v":77.2800000000001,"d":"77.28"},"C"]
[{"v":77.2900000000001,"d":"77.29"},"C"]
[{"v":77.3000000000001,"d":"77.30"},"C"]
[{"v":77.3100000000001,"d":"77.31"},"C"]
[{"v":77.3200000000001,"d":"77.32"},"C"]
[{"v":77.3300000000001,"d":"77.33"},"C"]
[{"v":77.3400000000001,"d":"77.34"},"C"]
[{"v":77.3500000000001,"d":"77.35"},"C"]
[{"v":77.3600000000001,"d":"77.36"},"C"]
[{"v":77.3700000000001,"d":"77.37"},"C"]
[{"v":77.3800000000001,"d":"77.38"},"C"]
[{"v":77.3900000000001,"d":"77.39"},"C"]
[{"v":77.4000000000001,"d":"77.40"},"C"]
[{"v":77.4100000000001,"d":"77.41"},"C"]
[{"v":77.4200000000001,"d":"77.42"},"C"]
[{"v":77.4300000000001,"d":"77.43"},"C"]
[{"v":77.4400000000001,"d":"77.44"},"C"]
[{"v":77.4500000000001,"d":"77.45"},"C"]
[{"v":77.4600000000001,"d":"77.46"},"C"]
[{"v":77.4700000000001,"d":"77.47"},"C"]
[{"v":77.4800000000001,"d":"77.48"},"C"]
[{"v":77.4900000000001,"d":"77.49"},"C"]
[{"v":77.5000000000001,"d":"77.50"},"C"]
[{"v":77.5100000000001,"d":"77.51"},"C"]
[{"v":77.5200000000001,"d":"77.52"},"C"]
[{"v":77.5300000000001,"d":"77.53"},"C"]
[{"v":77.5400000000001,"d":"77.54"},"C"]
[{"v":77.5500000000001,"d":"77.55"},"C"]
[{"v":77.5600000000001,"d":"77.56"},"C"]
[{"v":77.5700000000001,"d":"77.57"},"C"]
[{"v":77.5800000000001,"d":"77.58"},"C"]
[{"v":77.5900000000001,"d":"77.59"},"C"]
[{"v":77.6000000000001,"d":"77.60"},"C"]
[{"v":77.6100000000001,"d":"77.61"},"C"]
[{"v":77.6200000000001,"d":"77.62"},"C"]
[{"v":77.6300000000001,"d":"77.63"},"C"]
[{"v":77.6400000000001,"d":"77.64"},"C"]
[{"v":77.6500000000001,"d":"77.65"},"C"]
[{"v":77.6600000000001,"d":"77.66"},"C"]
[{"v":77.6700000000001,"d":"77.67"},"C"]
[{"v":77.6800000000001,"d":"77.68"},"C"]
[{"v":77.6900000000001,"d":"77.69"},"C"]
[{"v":77.7000000000001,"d":"77.70"},"C"]
[{"v":77.7100000000001,"d":"77.71"},"C"]
[{"v":77.7200000000001,"d":"77.72"},"C"]
[{"v":77.7300000000001,"d":"77.73"},"C"]
[{"v":77.7400000000001,"d":"77.74"},"C"]
[{"v":77.7500000000001,"d":"77.75"},"C"]
[{"v":77.7600000000001,"d":"77.76"},"C"]
[{"v":77.7700000000001,"d":"77.77"},"C"]
[{"v":77.7800000000001,"d":"77.78"},"C"]
[{"v":77.7900000000001,"d":"77.79"},"C"]
[{"v":77.8000000000001,"d":"77.80"},"C"]
[{"v":77.8100000000001,"d":"77.81"},"C"]
[{"v":77.8200000000001,"d":"77.82"},"C"]
[{"v":77.8300000000001,"d":"77.83"},"C"]
[{"v":77.8400000000001,"d":"77.84"},"C"]
[{"v":77.8500000000001,"d":"77.85"},"C"]
[{"v":77.8600000000001,"d":"77.86"},"C"]
[{"v":77.8700000000001,"d":"77.87"},"C"]
[{"v":77.8800000000001,"d":"77.88"},"C"]
[{"v":77.8900000000001,"d":"77.89"},"C"]
[{"v":77.9000000000001,"d":"77.90"},"C"]
[{"v":77.9100000000001,"d":"77.91"},"C"]
[{"v":77.9200000000001,"d":"77.92"},"C"]
[{"v":77.9300000000001,"d":"77.93"},"C"]
[{"v":77.9400000000001,"d":"77.94"},"C"]
[{"v":77.9500000000001,"d":"77.95"},"C"]
[{"v":77.9600000000001,"d":"77.96"},"C"]
[{"v":77.9700000000001,"d":"77.97"},"C"]
[{"v":77.9800000000001,"d":"77.98"},"C"]
[{"v":77.9900000000001,"d":"77.99"},"C"]
[{"v":78.0000000000001,"d":"78.00"},"C"]
[{"v":78.0100000000001,"d":"78.01"},"C"]
[{"v":78.0200000000001,"d":"78.02"},"C"]
[{"v":78.0300000000001,"d":"78.03"},"C"]
[{"v":78.0400000000001,"d":"78.04"},"C"]
[{"v":78.0500000000001,"d":"78.05"},"C"]
[{"v":78.0600000000001,"d":"78.06"},"C"]
[{"v":78.0700000000001,"d":"78.07"},"C"]
[{"v":78.0800000000001,"d":"78.08"},"C"]
[{"v":78.0900000000001,"d":"78.09"},"C"]
[{"v":78.1000000000001,"d":"78.10"},"C"]
[{"v":78.1100000000001,"d":"78.11"},"C"]
[{"v":78.1200000000001,"d":"78.12"},"C"]
[{"v":78.1300000000001,"d":"78.13"},"C"]
[{"v":78.1400000000001,"d":"78.14"},"C"]
[{"v":78.1500000000001,"d":"78.15"},"C"]
[{"v":78.1600000000001,"d":"78.16"},"C"]
[{"v":78.1700000000001,"d":"78.17"},"C"]
[{"v":78.1800000000001,"d":"78.18"},"C"]
[{"v":78.1900000000001,"d":"78.19"},"C"]
[{"v":78.2000000000001,"d":"78.20"},"C"]
[{"v":78.2100000000001,"d":"78.21"},"C"]
[{"v":78.2200000000001,"d":"78.22"},"C"]
[{"v":78.2300000000001,"d":"78.23"},"C"]
[{"v":78.2400000000001,"d":"78.24"},"C"]
[{"v":78.2500000000001,"d":"78.25"},"C"]
[{"v":78.2600000000001,"d":"78.26"},"C"]
[{"v":78.2700000000001,"d":"78.27"},"C"]
[{"v":78.2800000000001,"d":"78.28"},"C"]
[{"v":78.2900000000001,"d":"78.29"},"C"]
[{"v":78.3000000000001,"d":"78.30"},"C"]
[{"v":78.3100000000001,"d":"78.31"},"C"]
[{"v":78.3200000000001,"d":"78.32"},"C"]
[{"v":78.3300000000001,"d":"78.33"},"C"]
[{"v":78.3400000000001,"d":"78.34"},"C"]
[{"v":78.3500000000001,"d":"78.35"},"C"]
[{"v":78.3600000000001,"d":"78.36"},"C"]
[{"v":78.3700000000001,"d":"78.37"},"C"]
[{"v":78.3800000000001,"d":"78.38"},"C"]
[{"v":78.3900000000001,"d":"78.39"},"C"]
[{"v":78.4000000000001,"d":"78.40"},"C"]
[{"v":78.4100000000001,"d":"78.41"},"C"]
[{"v":78.4200000000001,"d":"78.42"},"C"]
[{"v":78.4300000000001,"d":"78.43"},"C"]
[{"v":78.4400000000001,"d":"78.44"},"C"]
[{"v":78.4500000000001,"d":"78.45"},"C"]
[{"v":78.4600000000001,"d":"78.46"},"C"]
[{"v":78.4700000000001,"d":"78.47"},"C"]
[{"v":78.4800000000001,"d":"78.48"},"C"]
[{"v":78.4900000000001,"d":"78.49"},"C"]
[{"v":78.5000000000001,"d":"78.50"},"C"]
[{"v":78.5100000000001,"d":"78.51"},"C"]
[{"v":78.5200000000001,"d":"78.52"},"C"]
[{"v":78.5300000000001,"d":"78.53"},"C"]
[{"v":78.5400000000001,"d":"78.54"},"C"]
[{"v":78.5500000000001,"d":"78.55"},"C"]
[{"v":78.5600000000001,"d":"78.56"},"C"]
[{"v":78.5700000000001,"d":"78.57"},"C"]
[{"v":78.5800000000001,"d":"78.58"},"C"]
[{"v":78.5900000000001,"d":"78.59"},"C"]
[{"v":78.6000000000001,"d":"78.60"},"C"]
[{"v":78.6100000000001,"d":"78.61"},"C"]
[{"v":78.6200000000001,"d":"78.62"},"C"]
[{"v":78.6300000000001,"d":"78.63"},"C"]
[{"v":78.6400000000001,"d":"78.64"},"C"]
[{"v":78.6500000000001,"d":"78.65"},"C"]
[{"v":78.6600000000001,"d":"78.66"},"C"]
[{"v":78.6700000000001,"d":"78.67"},"C"]
[{"v":78.6800000000001,"d":"78.68"},"C"]
[{"v":78.6900000000001,"d":"78.69"},"C"]
[{"v":78.7000000000001,"d":"78.70"},"C"]
[{"v":78.7100000000001,"d":"78.71"},"C"]
[{"v":78.7200000000001,"d":"78.72"},"C"]
[{"v":78.7300000000001,"d":"78.73"},"C"]
[{"v":78.7400000000001,"d":"78.74"},"C"]
[{"v":78.7500000000001,"d":"78.75"},"C"]
[{"v":78.7600000000001,"d":"78.76"},"C"]
[{"v":78.7700000000001,"d":"78.77"},"C"]
[{"v":78.7800000000001,"d":"78.78"},"C"]
[{"v":78.7900000000001,"d":"78.79"},"C"]
[{"v":78.8000000000001,"d":"78.80"},"C"]
[{"v":78.8100000000001,"d":"78.81"},"C"]
[{"v":78.8200000000001,"d":"78.82"},"C"]
[{"v":78.8300000000001,"d":"78.83"},"C"]
[{"v":78.8400000000001,"d":"78.84"},"C"]
[{"v":78.8500000000001,"d":"78.85"},"C"]
[{"v":78.8600000000001,"d":"78.86"},"C"]
[{"v":78.8700000000001,"d":"78.87"},"C"]
[{"v":78.8800000000001,"d":"78.88"},"C"]
[{"v":78.8900000000001,"d":"78.89"},"C"]
[{"v":78.9000000000001,"d":"78.90"},"C"]
[{"v":78.9100000000001,"d":"78.91"},"C"]
[{"v":78.9200000000001,"d":"78.92"},"C"]
[{"v":78.9300000000001,"d":"78.93"},"C"]
[{"v":78.9400000000001,"d":"78.94"},"C"]
[{"v":78.9500000000001,"d":"78.95"},"C"]
[{"v":78.9600000000001,"d":"78.96"},"C"]
[{"v":78.9700000000001,"d":"78.97"},"C"]
[{"v":78.9800000000001,"d":"78.98"},"C"]
[{"v":78.9900000000001,"d":"78.99"},"C"]
[{"v":79.0000000000001,"d":"79.00"},"C"]
[{"v":79.0100000000001,"d":"79.01"},"C"]
[{"v":79.0200000000001,"d":"79.02"},"C"]
[{"v":79.0300000000001,"d":"79.03"},"C"]
[{"v":79.0400000000001,"d":"79.04"},"C"]
[{"v":79.0500000000001,"d":"79.05"},"C"]
[{"v":79.0600000000001,"d":"79.06"},"C"]
[{"v":79.0700000000001,"d":"79.07"},"C"]
[{"v":79.0800000000001,"d":"79.08"},"C"]
[{"v":79.0900000000001,"d":"79.09"},"C"]
[{"v":79.1000000000001,"d":"79.10"},"C"]
[{"v":79.1100000000001,"d":"79.11"},"C"]
[{"v":79.1200000000001,"d":"79.12"},"C"]
[{"v":79.1300000000001,"d":"79.13"},"C"]
[{"v":79.1400000000001,"d":"79.14"},"C"]
[{"v":79.1500000000001,"d":"79.15"},"C"]
[{"v":79.1600000000001,"d":"79.16"},"C"]
[{"v":79.1700000000001,"d":"79.17"},"C"]
[{"v":79.1800000000001,"d":"79.18"},"C"]
[{"v":79.1900000000001,"d":"79.19"},"C"]
[{"v":79.2000000000001,"d":"79.20"},"C"]
[{"v":79.2100000000001,"d":"79.21"},"C"]
[{"v":79.2200000000001,"d":"79.22"},"C"]
[{"v":79.2300000000001,"d":"79.23"},"C"]
[{"v":79.2400000000001,"d":"79.24"},"C"]
[{"v":79.2500000000001,"d":"79.25"},"C"]
[{"v":79.2600000000001,"d":"79.26"},"C"]
[{"v":79.2700000000001,"d":"79.27"},"C"]
[{"v":79.2800000000001,"d":"79.28"},"C"]
[{"v":79.2900000000001,"d":"79.29"},"C"]
[{"v":79.3000000000001,"d":"79.30"},"C"]
[{"v":79.3100000000001,"d":"79.31"},"C"]
[{"v":79.3200000000001,"d":"79.32"},"C"]
[{"v":79.3300000000001,"d":"79.33"},"C"]
[{"v":79.3400000000001,"d":"79.34"},"C"]
[{"v":79.3500000000001,"d":"79.35"},"C"]
[{"v":79.3600000000001,"d":"79.36"},"C"]
[{"v":79.3700000000001,"d":"79.37"},"C"]
[{"v":79.3800000000001,"d":"79.38"},"C"]
[{"v":79.3900000000001,"d":"79.39"},"C"]
[{"v":79.4000000000001,"d":"79.40"},"C"]
[{"v":79.4100000000001,"d":"79.41"},"C"]
[{"v":79.4200000000001,"d":"79.42"},"C"]
[{"v":79.4300000000001,"d":"79.43"},"C"]
[{"v":79.4400000000001,"d":"79.44"},"C"]
[{"v":79.4500000000001,"d":"79.45"},"C"]
[{"v":79.4600000000001,"d":"79.46"},"C"]
[{"v":79.4700000000001,"d":"79.47"},"C"]
[{"v":79.4800000000001,"d":"79.48"},"C"]
[{"v":79.4900000000001,"d":"79.49"},"C"]
[{"v":79.5000000000001,"d":"79.50"},"C"]
[{"v":79.5100000000001,"d":"79.51"},"C"]
[{"v":79.5200000000001,"d":"79.52"},"C"]
[{"v":79.5300000000001,"d":"79.53"},"C"]
[{"v":79.5400000000001,"d":"79.54"},"C"]
[{"v":79.5500000000001,"d":"79.55"},"C"]
[{"v":79.5600000000001,"d":"79.56"},"C"]
[{"v":79.5700000000001,"d":"79.57"},"C"]
[{"v":79.5800000000001,"d":"79.58"},"C"]
[{"v":79.5900000000001,"d":"79.59"},"C"]
[{"v":79.6000000000001,"d":"79.60"},"C"]
[{"v":79.6100000000001,"d":"79.61"},"C"]
[{"v":79.6200000000001,"d":"79.62"},"C"]
[{"v":79.6300000000001,"d":"79.63"},"C"]
[{"v":79.6400000000001,"d":"79.64"},"C"]
[{"v":79.6500000000001,"d":"79.65"},"C"]
[{"v":79.6600000000001,"d":"79.66"},"C"]
[{"v":79.6700000000001,"d":"79.67"},"C"]
[{"v":79.6800000000001,"d":"79.68"},"C"]
[{"v":79.6900000000001,"d":"79.69"},"C"]
[{"v":79.7000000000001,"d":"79.70"},"C"]
[{"v":79.7100000000001,"d":"79.71"},"C"]
[{"v":79.7200000000001,"d":"79.72"},"C"]
[{"v":79.7300000000001,"d":"79.73"},"C"]
[{"v":79.7400000000001,"d":"79.74"},"C"]
[{"v":79.7500000000001,"d":"79.75"},"C"]
[{"v":79.7600000000001,"d":"79.76"},"C"]
[{"v":79.7700000000001,"d":"79.77"},"C"]
[{"v":79.7800000000001,"d":"79.78"},"C"]
[{"v":79.7900000000001,"d":"79.79"},"C"]
[{"v":79.8000000000001,"d":"79.80"},"C"]
[{"v":79.8100000000001,"d":"79.81"},"C"]
[{"v":79.8200000000001,"d":"79.82"},"C"]
[{"v":79.8300000000001,"d":"79.83"},"C"]
[{"v":79.8400000000001,"d":"79.84"},"C"]
[{"v":79.8500000000001,"d":"79.85"},"C"]
[{"v":79.8600000000001,"d":"79.86"},"C"]
[{"v":79.8700000000001,"d":"79.87"},"C"]
[{"v":79.8800000000001,"d":"79.88"},"C"]
[{"v":79.8900000000001,"d":"79.89"},"C"]
[{"v":79.9000000000001,"d":"79.90"},"C"]
[{"v":79.9100000000001,"d":"79.91"},"C"]
[{"v":79.9200000000001,"d":"79.92"},"C"]
[{"v":79.9300000000001,"d":"79.93"},"C"]
[{"v":79.9400000000001,"d":"79.94"},"C"]
[{"v":79.9500000000001,"d":"79.95"},"C"]
[{"v":79.9600000000001,"d":"79.96"},"C"]
[{"v":79.9700000000001,"d":"79.97"},"C"]
[{"v":79.9800000000001,"d":"79.98"},"C"]
[{"v":79.9900000000001,"d":"79.99"},"C"]
[{"v":80.0000000000001,"d":"80.00"},"C"]
[{"v":80.0100000000001,"d":"80.01"},"C"]
[{"v":80.0200000000001,"d":"80.02"},"C"]
[{"v":80.0300000000001,"d":"80.03"},"C"]
[{"v":80.0400000000001,"d":"80.04"},"C"]
[{"v":80.0500000000001,"d":"80.05"},"C"]
[{"v":80.0600000000001,"d":"80.06"},"C"]
[{"v":80.0700000000001,"d":"80.07"},"C"]
[{"v":80.0800000000001,"d":"80.08"},"C"]
[{"v":80.0900000000001,"d":"80.09"},"C"]
[{"v":80.1000000000001,"d":"80.10"},"C"]
[{"v":80.1100000000001,"d":"80.11"},"C"]
[{"v":80.1200000000001,"d":"80.12"},"C"]
[{"v":80.1300000000001,"d":"80.13"},"C"]
[{"v":80.1400000000001,"d":"80.14"},"C"]
[{"v":80.1500000000001,"d":"80.15"},"C"]
[{"v":80.1600000000001,"d":"80.16"},"C"]
[{"v":80.1700000000001,"d":"80.17"},"C"]
[{"v":80.1800000000001,"d":"80.18"},"C"]
[{"v":80.1900000000001,"d":"80.19"},"C"]
[{"v":80.2000000000001,"d":"80.20"},"C"]
[{"v":80.2100000000001,"d":"80.21"},"C"]
[{"v":80.2200000000001,"d":"80.22"},"C"]
[{"v":80.2300000000001,"d":"80.23"},"C"]
[{"v":80.2400000000001,"d":"80.24"},"C"]
[{"v":80.2500000000001,"d":"80.25"},"C"]
[{"v":80.2600000000001,"d":"80.26"},"C"]
[{"v":80.2700000000001,"d":"80.27"},"C"]
[{"v":80.2800000000001,"d":"80.28"},"C"]
[{"v":80.2900000000001,"d":"80.29"},"C"]
[{"v":80.3000000000001,"d":"80.30"},"C"]
[{"v":80.3100000000001,"d":"80.31"},"C"]
[{"v":80.3200000000001,"d":"80.32"},"C"]
[{"v":80.3300000000001,"d":"80.33"},"C"]
[{"v":80.3400000000001,"d":"80.34"},"C"]
[{"v":80.3500000000001,"d":"80.35"},"C"]
[{"v":80.3600000000001,"d":"80.36"},"C"]
[{"v":80.3700000000001,"d":"80.37"},"C"]
[{"v":80.3800000000001,"d":"80.38"},"C"]
[{"v":80.3900000000001,"d":"80.39"},"C"]
[{"v":80.4000000000001,"d":"80.40"},"C"]
[{"v":80.4100000000001,"d":"80.41"},"C"]
[{"v":80.4200000000001,"d":"80.42"},"C"]
[{"v":80.4300000000001,"d":"80.43"},"C"]
[{"v":80.4400000000001,"d":"80.44"},"C"]
[{"v":80.4500000000001,"d":"80.45"},"C"]
[{"v":80.4600000000001,"d":"80.46"},"C"]
[{"v":80.4700000000001,"d":"80.47"},"C"]
[{"v":80.4800000000001,"d":"80.48"},"C"]
[{"v":80.4900000000001,"d":"80.49"},"C"]
[{"v":80.5000000000001,"d":"80.50"},"C"]
[{"v":80.5100000000001,"d":"80.51"},"C"]
[{"v":80.5200000000001,"d":"80.52"},"C"]
[{"v":80.5300000000001,"d":"80.53"},"C"]
[{"v":80.5400000000001,"d":"80.54"},"C"]
[{"v":80.5500000000001,"d":"80.55"},"C"]
[{"v":80.5600000000001,"d":"80.56"},"C"]
[{"v":80.5700000000001,"d":"80.57"},"C"]
[{"v":80.5800000000001,"d":"80.58"},"C"]
[{"v":80.5900000000001,"d":"80.59"},"C"]
[{"v":80.6000000000001,"d":"80.60"},"C"]
[{"v":80.6100000000001,"d":"80.61"},"C"]
[{"v":80.6200000000001,"d":"80.62"},"C"]
[{"v":80.6300000000001,"d":"80.63"},"C"]
[{"v":80.6400000000001,"d":"80.64"},"C"]
[{"v":80.6500000000001,"d":"80.65"},"C"]
[{"v":80.6600000000001,"d":"80.66"},"C"]
[{"v":80.6700000000001,"d":"80.67"},"C"]
[{"v":80.6800000000001,"d":"80.68"},"C"]
[{"v":80.6900000000001,"d":"80.69"},"C"]
[{"v":80.7000000000001,"d":"80.70"},"C"]
[{"v":80.7100000000001,"d":"80.71"},"C"]
[{"v":80.7200000000001,"d":"80.72"},"C"]
[{"v":80.7300000000001,"d":"80.73"},"C"]
[{"v":80.7400000000001,"d":"80.74"},"C"]
[{"v":80.7500000000001,"d":"80.75"},"C"]
[{"v":80.7600000000001,"d":"80.76"},"C"]
[{"v":80.7700000000001,"d":"80.77"},"C"]
[{"v":80.7800000000001,"d":"80.78"},"C"]
[{"v":80.7900000000001,"d":"80.79"},"C"]
[{"v":80.8000000000001,"d":"80.80"},"C"]
[{"v":80.8100000000001,"d":"80.81"},"C"]
[{"v":80.8200000000001,"d":"80.82"},"C"]
[{"v":80.8300000000001,"d":"80.83"},"C"]
[{"v":80.8400000000001,"d":"80.84"},"C"]
[{"v":80.8500000000001,"d":"80.85"},"C"]
[{"v":80.8600000000001,"d":"80.86"},"C"]
[{"v":80.8700000000001,"d":"80.87"},"C"]
[{"v":80.8800000000001,"d":"80.88"},"C"]
[{"v":80.8900000000001,"d":"80.89"},"C"]
[{"v":80.9000000000001,"d":"80.90"},"C"]
[{"v":80.9100000000001,"d":"80.91"},"C"]
[{"v":80.9200000000001,"d":"80.92"},"C"]
[{"v":80.9300000000001,"d":"80.93"},"C"]
[{"v":80.9400000000001,"d":"80.94"},"C"]
[{"v":80.9500000000001,"d":"80.95"},"C"]
[{"v":80.9600000000001,"d":"80.96"},"C"]
[{"v":80.9700000000001,"d":"80.97"},"C"]
[{"v":80.9800000000001,"d":"80.98"},"C"]
[{"v":80.9900000000001,"d":"80.99"},"C"]
[{"v":81.0000000000001,"d":"81.00"},"B"]
[{"v":81.0100000000001,"d":"81.01"},"B"]
[{"v":81.0200000000001,"d":"81.02"},"B"]
[{"v":81.0300000000001,"d":"81.03"},"B"]
[{"v":81.0400000000001,"d":"81.04"},"B"]
[{"v":81.0500000000001,"d":"81.05"},"B"]
[{"v":81.0600000000001,"d":"81.06"},"B"]
[{"v":81.0700000000001,"d":"81.07"},"B"]
[{"v":81.0800000000001,"d":"81.08"},"B"]
[{"v":81.0900000000001,"d":"81.09"},"B"]
[{"v":81.1000000000001,"d":"81.10"},"B"]
[{"v":81.1100000000001,"d":"81.11"},"B"]
[{"v":81.1200000000001,"d":"81.12"},"B"]
[{"v":81.1300000000001,"d":"81.13"},"B"]
[{"v":81.1400000000001,"d":"81.14"},"B"]
[{"v":81.1500000000001,"d":"81.15"},"B"]
[{"v":81.1600000000001,"d":"81.16"},"B"]
[{"v":81.1700000000001,"d":"81.17"},"B"]
[{"v":81.1800000000001,"d":"81.18"},"B"]
[{"v":81.1900000000001,"d":"81.19"},"B"]
[{"v":81.2000000000001,"d":"81.20"},"B"]
[{"v":81.2100000000001,"d":"81.21"},"B"]
[{"v":81.2200000000001,"d":"81.22"},"B"]
[{"v":81.2300000000001,"d":"81.23"},"B"]
[{"v":81.2400000000001,"d":"81.24"},"B"]
[{"v":81.2500000000001,"d":"81.25"},"B"]
[{"v":81.2600000000001,"d":"81.26"},"B"]
[{"v":81.2700000000001,"d":"81.27"},"B"]
[{"v":81.2800000000001,"d":"81.28"},"B"]
[{"v":81.2900000000001,"d":"81.29"},"B"]
[{"v":81.3000000000001,"d":"81.30"},"B"]
[{"v":81.3100000000001,"d":"81.31"},"B"]
[{"v":81.3200000000001,"d":"81.32"},"B"]
[{"v":81.3300000000001,"d":"81.33"},"B"]
[{"v":81.3400000000001,"d":"81.34"},"B"]
[{"v":81.3500000000001,"d":"81.35"},"B"]
[{"v":81.3600000000001,"d":"81.36"},"B"]
[{"v":81.3700000000001,"d":"81.37"},"B"]
[{"v":81.3800000000001,"d":"81.38"},"B"]
[{"v":81.3900000000001,"d":"81.39"},"B"]
[{"v":81.4000000000001,"d":"81.40"},"B"]
[{"v":81.4100000000001,"d":"81.41"},"B"]
[{"v":81.4200000000001,"d":"81.42"},"B"]
[{"v":81.4300000000001,"d":"81.43"},"B"]
[{"v":81.4400000000001,"d":"81.44"},"B"]
[{"v":81.4500000000001,"d":"81.45"},"B"]
[{"v":81.4600000000001,"d":"81.46"},"B"]
[{"v":81.4700000000001,"d":"81.47"},"B"]
[{"v":81.4800000000001,"d":"81.48"},"B"]
[{"v":81.4900000000001,"d":"81.49"},"B"]
[{"v":81.5000000000001,"d":"81.50"},"B"]
[{"v":81.5100000000001,"d":"81.51"},"B"]
[{"v":81.5200000000001,"d":"81.52"},"B"]
[{"v":81.5300000000001,"d":"81.53"},"B"]
[{"v":81.5400000000001,"d":"81.54"},"B"]
[{"v":81.5500000000001,"d":"81.55"},"B"]
[{"v":81.5600000000001,"d":"81.56"},"B"]
[{"v":81.5700000000001,"d":"81.57"},"B"]
[{"v":81.5800000000001,"d":"81.58"},"B"]
[{"v":81.5900000000001,"d":"81.59"},"B"]
[{"v":81.6000000000001,"d":"81.60"},"B"]
[{"v":81.6100000000001,"d":"81.61"},"B"]
[{"v":81.6200000000001,"d":"81.62"},"B"]
[{"v":81.6300000000001,"d":"81.63"},"B"]
[{"v":81.6400000000001,"d":"81.64"},"B"]
[{"v":81.6500000000001,"d":"81.65"},"B"]
[{"v":81.6600000000001,"d":"81.66"},"B"]
[{"v":81.6700000000001,"d":"81.67"},"B"]
[{"v":81.6800000000001,"d":"81.68"},"B"]
[{"v":81.6900000000001,"d":"81.69"},"B"]
[{"v":81.7000000000001,"d":"81.70"},"B"]
[{"v":81.7100000000001,"d":"81.71"},"B"]
[{"v":81.7200000000001,"d":"81.72"},"B"]
[{"v":81.7300000000001,"d":"81.73"},"B"]
[{"v":81.7400000000001,"d":"81.74"},"B"]
[{"v":81.7500000000001,"d":"81.75"},"B"]
[{"v":81.7600000000001,"d":"81.76"},"B"]
[{"v":81.7700000000001,"d":"81.77"},"B"]
[{"v":81.7800000000001,"d":"81.78"},"B"]
[{"v":81.7900000000001,"d":"81.79"},"B"]
[{"v":81.8000000000001,"d":"81.80"},"B"]
[{"v":81.8100000000001,"d":"81.81"},"B"]
[{"v":81.8200000000001,"d":"81.82"},"B"]
[{"v":81.8300000000001,"d":"81.83"},"B"]
[{"v":81.8400000000001,"d":"81.84"},"B"]
[{"v":81.8500000000001,"d":"81.85"},"B"]
[{"v":81.8600000000001,"d":"81.86"},"B"]
[{"v":81.8700000000001,"d":"81.87"},"B"]
[{"v":81.8800000000001,"d":"81.88"},"B"]
[{"v":81.8900000000001,"d":"81.89"},"B"]
[{"v":81.9000000000001,"d":"81.90"},"B"]
[{"v":81.9100000000001,"d":"81.91"},"B"]
[{"v":81.9200000000001,"d":"81.92"},"B"]
[{"v":81.9300000000001,"d":"81.93"},"B"]
[{"v":81.9400000000001,"d":"81.94"},"B"]
[{"v":81.9500000000001,"d":"81.95"},"B"]
[{"v":81.9600000000001,"d":"81.96"},"B"]
[{"v":81.9700000000001,"d":"81.97"},"B"]
[{"v":81.9800000000001,"d":"81.98"},"B"]
[{"v":81.9900000000001,"d":"81.99"},"B"]
[{"v":82.0000000000001,"d":"82.00"},"B"]
[{"v":82.0100000000001,"d":"82.01"},"B"]
[{"v":82.0200000000001,"d":"82.02"},"B"]
[{"v":82.0300000000001,"d":"82.03"},"B"]
[{"v":82.0400000000001,"d":"82.04"},"B"]
[{"v":82.0500000000001,"d":"82.05"},"B"]
[{"v":82.0600000000001,"d":"82.06"},"B"]
[{"v":82.0700000000001,"d":"82.07"},"B"]
[{"v":82.0800000000001,"d":"82.08"},"B"]
[{"v":82.0900000000001,"d":"82.09"},"B"]
[{"v":82.1000000000001,"d":"82.10"},"B"]
[{"v":82.1100000000001,"d":"82.11"},"B"]
[{"v":82.1200000000001,"d":"82.12"},"B"]
[{"v":82.1300000000001,"d":"82.13"},"B"]
[{"v":82.1400000000001,"d":"82.14"},"B"]
[{"v":82.1500000000001,"d":"82.15"},"B"]
[{"v":82.1600000000001,"d":"82.16"},"B"]
[{"v":82.1700000000001,"d":"82.17"},"B"]
[{"v":82.1800000000001,"d":"82.18"},"B"]
[{"v":82.1900000000001,"d":"82.19"},"B"]
[{"v":82.2000000000001,"d":"82.20"},"B"]
[{"v":82.2100000000001,"d":"82.21"},"B"]
[{"v":82.2200000000001,"d":"82.22"},"B"]
[{"v":82.2300000000001,"d":"82.23"},"B"]
[{"v":82.2400000000001,"d":"82.24"},"B"]
[{"v":82.2500000000001,"d":"82.25"},"B"]
[{"v":82.2600000000001,"d":"82.26"},"B"]
[{"v":82.2700000000001,"d":"82.27"},"B"]
[{"v":82.2800000000001,"d":"82.28"},"B"]
[{"v":82.2900000000001,"d":"82.29"},"B"]
[{"v":82.3000000000001,"d":"82.30"},"B"]
[{"v":82.3100000000001,"d":"82.31"},"B"]
[{"v":82.3200000000001,"d":"82.32"},"B"]
[{"v":82.3300000000001,"d":"82.33"},"B"]
[{"v":82.3400000000001,"d":"82.34"},"B"]
[{"v":82.3500000000001,"d":"82.35"},"B"]
[{"v":82.3600000000001,"d":"82.36"},"B"]
[{"v":82.3700000000001,"d":"82.37"},"B"]
[{"v":82.3800000000001,"d":"82.38"},"B"]
[{"v":82.3900000000001,"d":"82.39"},"B"]
[{"v":82.4000000000001,"d":"82.40"},"B"]
[{"v":82.4100000000001,"d":"82.41"},"B"]
[{"v":82.4200000000001,"d":"82.42"},"B"]
[{"v":82.4300000000001,"d":"82.43"},"B"]
[{"v":82.4400000000001,"d":"82.44"},"B"]
[{"v":82.4500000000001,"d":"82.45"},"B"]
[{"v":82.4600000000001,"d":"82.46"},"B"]
[{"v":82.4700000000001,"d":"82.47"},"B"]
[{"v":82.4800000000001,"d":"82.48"},"B"]
[{"v":82.4900000000001,"d":"82.49"},"B"]
[{"v":82.5000000000001,"d":"82.50"},"B"]
[{"v":82.5100000000001,"d":"82.51"},"B"]
[{"v":82.5200000000001,"d":"82.52"},"B"]
[{"v":82.5300000000001,"d":"82.53"},"B"]
[{"v":82.5400000000001,"d":"82.54"},"B"]
[{"v":82.5500000000001,"d":"82.55"},"B"]
[{"v":82.5600000000001,"d":"82.56"},"B"]
[{"v":82.5700000000001,"d":"82.57"},"B"]
[{"v":82.5800000000001,"d":"82.58"},"B"]
[{"v":82.5900000000001,"d":"82.59"},"B"]
[{"v":82.6000000000001,"d":"82.60"},"B"]
[{"v":82.6100000000001,"d":"82.61"},"B"]
[{"v":82.6200000000001,"d":"82.62"},"B"]
[{"v":82.6300000000001,"d":"82.63"},"B"]
[{"v":82.6400000000001,"d":"82.64"},"B"]
[{"v":82.6500000000001,"d":"82.65"},"B"]
[{"v":82.6600000000001,"d":"82.66"},"B"]
[{"v":82.6700000000001,"d":"82.67"},"B"]
[{"v":82.6800000000001,"d":"82.68"},"B"]
[{"v":82.6900000000001,"d":"82.69"},"B"]
[{"v":82.7000000000001,"d":"82.70"},"B"]
[{"v":82.7100000000001,"d":"82.71"},"B"]
[{"v":82.7200000000001,"d":"82.72"},"B"]
[{"v":82.7300000000001,"d":"82.73"},"B"]
[{"v":82.7400000000001,"d":"82.74"},"B"]
[{"v":82.7500000000001,"d":"82.75"},"B"]
[{"v":82.7600000000001,"d":"82.76"},"B"]
[{"v":82.7700000000001,"d":"82.77"},"B"]
[{"v":82.7800000000001,"d":"82.78"},"B"]
[{"v":82.7900000000001,"d":"82.79"},"B"]
[{"v":82.8000000000001,"d":"82.80"},"B"]
[{"v":82.8100000000001,"d":"82.81"},"B"]
[{"v":82.8200000000001,"d":"82.82"},"B"]
[{"v":82.8300000000001,"d":"82.83"},"B"]
[{"v":82.8400000000001,"d":"82.84"},"B"]
[{"v":82.8500000000001,"d":"82.85"},"B"]
[{"v":82.8600000000001,"d":"82.86"},"B"]
[{"v":82.8700000000001,"d":"82.87"},"B"]
[{"v":82.8800000000001,"d":"82.88"},"B"]
[{"v":82.8900000000001,"d":"82.89"},"B"]
[{"v":82.9000000000001,"d":"82.90"},"B"]
[{"v":82.9100000000001,"d":"82.91"},"B"]
[{"v":82.9200000000001,"d":"82.92"},"B"]
[{"v":82.9300000000001,"d":"82.93"},"B"]
[{"v":82.9400000000001,"d":"82.94"},"B"]
[{"v":82.9500000000001,"d":"82.95"},"B"]
[{"v":82.9600000000001,"d":"82.96"},"B"]
[{"v":82.9700000000001,"d":"82.97"},"B"]
[{"v":82.9800000000001,"d":"82.98"},"B"]
[{"v":82.9900000000001,"d":"82.99"},"B"]
[{"v":83.0000000000001,"d":"83.00"},"B"]
[{"v":83.0100000000001,"d":"83.01"},"B"]
[{"v":83.0200000000001,"d":"83.02"},"B"]
[{"v":83.0300000000001,"d":"83.03"},"B"]
[{"v":83.0400000000001,"d":"83.04"},"B"]
[{"v":83.0500000000001,"d":"83.05"},"B"]
[{"v":83.0600000000001,"d":"83.06"},"B"]
[{"v":83.0700000000001,"d":"83.07"},"B"]
[{"v":83.0800000000001,"d":"83.08"},"B"]
[{"v":83.0900000000001,"d":"83.09"},"B"]
[{"v":83.1000000000001,"d":"83.10"},"B"]
[{"v":83.1100000000001,"d":"83.11"},"B"]
[{"v":83.1200000000001,"d":"83.12"},"B"]
[{"v":83.1300000000001,"d":"83.13"},"B"]
[{"v":83.1400000000001,"d":"83.14"},"B"]
[{"v":83.1500000000001,"d":"83.15"},"B"]
[{"v":83.1600000000001,"d":"83.16"},"B"]
[{"v":83.1700000000001,"d":"83.17"},"B"]
[{"v":83.1800000000001,"d":"83.18"},"B"]
[{"v":83.1900000000001,"d":"83.19"},"B"]
[{"v":83.2000000000001,"d":"83.20"},"B"]
[{"v":83.2100000000001,"d":"83.21"},"B"]
[{"v":83.2200000000001,"d":"83.22"},"B"]
[{"v":83.2300000000001,"d":"83.23"},"B"]
[{"v":83.2400000000001,"d":"83.24"},"B"]
[{"v":83.2500000000001,"d":"83.25"},"B"]
[{"v":83.2600000000001,"d":"83.26"},"B"]
[{"v":83.2700000000001,"d":"83.27"},"B"]
[{"v":83.2800000000001,"d":"83.28"},"B"]
[{"v":83.2900000000001,"d":"83.29"},"B"]
[{"v":83.3000000000001,"d":"83.30"},"B"]
[{"v":83.3100000000001,"d":"83.31"},"B"]
[{"v":83.3200000000001,"d":"83.32"},"B"]
[{"v":83.3300000000001,"d":"83.33"},"B"]
[{"v":83.3400000000001,"d":"83.34"},"B"]
[{"v":83.3500000000001,"d":"83.35"},"B"]
[{"v":83.3600000000001,"d":"83.36"},"B"]
[{"v":83.3700000000001,"d":"83.37"},"B"]
[{"v":83.3800000000001,"d":"83.38"},"B"]
[{"v":83.3900000000001,"d":"83.39"},"B"]
[{"v":83.4000000000001,"d":"83.40"},"B"]
[{"v":83.4100000000001,"d":"83.41"},"B"]
[{"v":83.4200000000001,"d":"83.42"},"B"]
[{"v":83.4300000000001,"d":"83.43"},"B"]
[{"v":83.4400000000001,"d":"83.44"},"B"]
[{"v":83.4500000000001,"d":"83.45"},"B"]
[{"v":83.4600000000001,"d":"83.46"},"B"]
[{"v":83.4700000000001,"d":"83.47"},"B"]
[{"v":83.4800000000001,"d":"83.48"},"B"]
[{"v":83.4900000000001,"d":"83.49"},"B"]
[{"v":83.5000000000001,"d":"83.50"},"B"]
[{"v":83.5100000000001,"d":"83.51"},"B"]
[{"v":83.5200000000001,"d":"83.52"},"B"]
[{"v":83.5300000000001,"d":"83.53"},"B"]
[{"v":83.5400000000001,"d":"83.54"},"B"]
[{"v":83.5500000000001,"d":"83.55"},"B"]
[{"v":83.5600000000001,"d":"83.56"},"B"]
[{"v":83.5700000000001,"d":"83.57"},"B"]
[{"v":83.5800000000001,"d":"83.58"},"B"]
[{"v":83.5900000000001,"d":"83.59"},"B"]
[{"v":83.6000000000001,"d":"83.60"},"B"]
[{"v":83.6100000000001,"d":"83.61"},"B"]
[{"v":83.6200000000001,"d":"83.62"},"B"]
[{"v":83.6300000000001,"d":"83.63"},"B"]
[{"v":83.6400000000001,"d":"83.64"},"B"]
[{"v":83.6500000000001,"d":"83.65"},"B"]
[{"v":83.6600000000001,"d":"83.66"},"B"]
[{"v":83.6700000000001,"d":"83.67"},"B"]
[{"v":83.6800000000001,"d":"83.68"},"B"]
[{"v":83.6900000000001,"d":"83.69"},"B"]
[{"v":83.7000000000001,"d":"83.70"},"B"]
[{"v":83.7100000000001,"d":"83.71"},"B"]
[{"v":83.7200000000001,"d":"83.72"},"B"]
[{"v":83.7300000000001,"d":"83.73"},"B"]
[{"v":83.7400000000001,"d":"83.74"},"B"]
[{"v":83.7500000000001,"d":"83.75"},"B"]
[{"v":83.7600000000001,"d":"83.76"},"B"]
[{"v":83.7700000000001,"d":"83.77"},"B"]
[{"v":83.7800000000001,"d":"83.78"},"B"]
[{"v":83.7900000000001,"d":"83.79"},"B"]
[{"v":83.8000000000001,"d":"83.80"},"B"]
[{"v":83.8100000000001,"d":"83.81"},"B"]
[{"v":83.8200000000001,"d":"83.82"},"B"]
[{"v":83.8300000000001,"d":"83.83"},"B"]
[{"v":83.8400000000001,"d":"83.84"},"B"]
[{"v":83.8500000000001,"d":"83.85"},"B"]
[{"v":83.8600000000001,"d":"83.86"},"B"]
[{"v":83.8700000000001,"d":"83.87"},"B"]
[{"v":83.8800000000001,"d":"83.88"},"B"]
[{"v":83.8900000000001,"d":"83.89"},"B"]
[{"v":83.9000000000001,"d":"83.90"},"B"]
[{"v":83.9100000000001,"d":"83.91"},"B"]
[{"v":83.9200000000001,"d":"83.92"},"B"]
[{"v":83.9300000000001,"d":"83.93"},"B"]
[{"v":83.9400000000001,"d":"83.94"},"B"]
[{"v":83.9500000000001,"d":"83.95"},"B"]
[{"v":83.9600000000001,"d":"83.96"},"B"]
[{"v":83.9700000000001,"d":"83.97"},"B"]
[{"v":83.9800000000001,"d":"83.98"},"B"]
[{"v":83.9900000000001,"d":"83.99"},"B"]
[{"v":84.0000000000001,"d":"84.00"},"B"]
[{"v":84.0100000000001,"d":"84.01"},"B"]
[{"v":84.0200000000001,"d":"84.02"},"B"]
[{"v":84.0300000000001,"d":"84.03"},"B"]
[{"v":84.0400000000001,"d":"84.04"},"B"]
[{"v":84.0500000000001,"d":"84.05"},"B"]
[{"v":84.0600000000001,"d":"84.06"},"B"]
[{"v":84.0700000000001,"d":"84.07"},"B"]
[{"v":84.0800000000001,"d":"84.08"},"B"]
[{"v":84.0900000000001,"d":"84.09"},"B"]
[{"v":84.1000000000001,"d":"84.10"},"B"]
[{"v":84.1100000000001,"d":"84.11"},"B"]
[{"v":84.1200000000001,"d":"84.12"},"B"]
[{"v":84.1300000000001,"d":"84.13"},"B"]
[{"v":84.1400000000001,"d":"84.14"},"B"]
[{"v":84.1500000000001,"d":"84.15"},"B"]
[{"v":84.1600000000001,"d":"84.16"},"B"]
[{"v":84.1700000000001,"d":"84.17"},"B"]
[{"v":84.1800000000001,"d":"84.18"},"B"]
[{"v":84.1900000000001,"d":"84.19"},"B"]
[{"v":84.2000000000001,"d":"84.20"},"B"]
[{"v":84.2100000000001,"d":"84.21"},"B"]
[{"v":84.2200000000001,"d":"84.22"},"B"]
[{"v":84.2300000000001,"d":"84.23"},"B"]
[{"v":84.2400000000001,"d":"84.24"},"B"]
[{"v":84.2500000000001,"d":"84.25"},"B"]
[{"v":84.2600000000001,"d":"84.26"},"B"]
[{"v":84.2700000000001,"d":"84.27"},"B"]
[{"v":84.2800000000001,"d":"84.28"},"B"]
[{"v":84.2900000000001,"d":"84.29"},"B"]
[{"v":84.3000000000001,"d":"84.30"},"B"]
[{"v":84.3100000000001,"d":"84.31"},"B"]
[{"v":84.3200000000001,"d":"84.32"},"B"]
[{"v":84.3300000000001,"d":"84.33"},"B"]
[{"v":84.3400000000001,"d":"84.34"},"B"]
[{"v":84.3500000000001,"d":"84.35"},"B"]
[{"v":84.3600000000001,"d":"84.36"},"B"]
[{"v":84.3700000000001,"d":"84.37"},"B"]
[{"v":84.3800000000001,"d":"84.38"},"B"]
[{"v":84.3900000000001,"d":"84.39"},"B"]
[{"v":84.4000000000001,"d":"84.40"},"B"]
[{"v":84.4100000000001,"d":"84.41"},"B"]
[{"v":84.4200000000001,"d":"84.42"},"B"]
[{"v":84.4300000000001,"d":"84.43"},"B"]
[{"v":84.4400000000001,"d":"84.44"},"B"]
[{"v":84.4500000000001,"d":"84.45"},"B"]
[{"v":84.4600000000001,"d":"84.46"},"B"]
[{"v":84.4700000000001,"d":"84.47"},"B"]
[{"v":84.4800000000001,"d":"84.48"},"B"]
[{"v":84.4900000000001,"d":"84.49"},"B"]
[{"v":84.5000000000001,"d":"84.50"},"B"]
[{"v":84.5100000000001,"d":"84.51"},"B"]
[{"v":84.5200000000001,"d":"84.52"},"B"]
[{"v":84.5300000000001,"d":"84.53"},"B"]
[{"v":84.5400000000001,"d":"84.54"},"B"]
[{"v":84.5500000000001,"d":"84.55"},"B"]
[{"v":84.5600000000001,"d":"84.56"},"B"]
[{"v":84.5700000000001,"d":"84.57"},"B"]
[{"v":84.5800000000001,"d":"84.58"},"B"]
[{"v":84.5900000000001,"d":"84.59"},"B"]
[{"v":84.6000000000001,"d":"84.60"},"B"]
[{"v":84.6100000000001,"d":"84.61"},"B"]
[{"v":84.6200000000001,"d":"84.62"},"B"]
[{"v":84.6300000000001,"d":"84.63"},"B"]
[{"v":84.6400000000001,"d":"84.64"},"B"]
[{"v":84.6500000000001,"d":"84.65"},"B"]
[{"v":84.6600000000001,"d":"84.66"},"B"]
[{"v":84.6700000000001,"d":"84.67"},"B"]
[{"v":84.6800000000001,"d":"84.68"},"B"]
[{"v":84.6900000000001,"d":"84.69"},"B"]
[{"v":84.7000000000001,"d":"84.70"},"B"]
[{"v":84.7100000000001,"d":"84.71"},"B"]
[{"v":84.7200000000001,"d":"84.72"},"B"]
[{"v":84.7300000000001,"d":"84.73"},"B"]
[{"v":84.7400000000001,"d":"84.74"},"B"]
[{"v":84.7500000000001,"d":"84.75"},"B"]
[{"v":84.7600000000001,"d":"84.76"},"B"]
[{"v":84.7700000000001,"d":"84.77"},"B"]
[{"v":84.7800000000001,"d":"84.78"},"B"]
[{"v":84.7900000000001,"d":"84.79"},"B"]
[{"v":84.8000000000001,"d":"84.80"},"B"]
[{"v":84.8100000000001,"d":"84.81"},"B"]
[{"v":84.8200000000001,"d":"84.82"},"B"]
[{"v":84.8300000000001,"d":"84.83"},"B"]
[{"v":84.8400000000001,"d":"84.84"},"B"]
[{"v":84.8500000000001,"d":"84.85"},"B"]
[{"v":84.8600000000001,"d":"84.86"},"B"]
[{"v":84.8700000000001,"d":"84.87"},"B"]
[{"v":84.8800000000001,"d":"84.88"},"B"]
[{"v":84.8900000000001,"d":"84.89"},"B"]
[{"v":84.9000000000001,"d":"84.90"},"B"]
[{"v":84.9100000000001,"d":"84.91"},"B"]
[{"v":84.9200000000001,"d":"84.92"},"B"]
[{"v":84.9300000000001,"d":"84.93"},"B"]
[{"v":84.9400000000001,"d":"84.94"},"B"]
[{"v":84.9500000000001,"d":"84.95"},"B"]
[{"v":84.9600000000001,"d":"84.96"},"B"]
[{"v":84.9700000000001,"d":"84.97"},"B"]
[{"v":84.9800000000001,"d":"84.98"},"B"]
[{"v":84.9900000000001,"d":"84.99"},"B"]
[{"v":85.0000000000001,"d":"85.00"},"B"]
[{"v":85.0100000000001,"d":"85.01"},"B"]
[{"v":85.0200000000001,"d":"85.02"},"B"]
[{"v":85.0300000000001,"d":"85.03"},"B"]
[{"v":85.0400000000001,"d":"85.04"},"B"]
[{"v":85.0500000000001,"d":"85.05"},"B"]
[{"v":85.0600000000001,"d":"85.06"},"B"]
[{"v":85.0700000000001,"d":"85.07"},"B"]
[{"v":85.0800000000001,"d":"85.08"},"B"]
[{"v":85.0900000000001,"d":"85.09"},"B"]
[{"v":85.1000000000001,"d":"85.10"},"B"]
[{"v":85.1100000000001,"d":"85.11"},"B"]
[{"v":85.1200000000001,"d":"85.12"},"B"]
[{"v":85.1300000000001,"d":"85.13"},"B"]
[{"v":85.1400000000001,"d":"85.14"},"B"]
[{"v":85.1500000000001,"d":"85.15"},"B"]
[{"v":85.1600000000001,"d":"85.16"},"B"]
[{"v":85.1700000000001,"d":"85.17"},"B"]
[{"v":85.1800000000001,"d":"85.18"},"B"]
[{"v":85.1900000000001,"d":"85.19"},"B"]
[{"v":85.2000000000001,"d":"85.20"},"B"]
[{"v":85.2100000000001,"d":"85.21"},"B"]
[{"v":85.2200000000001,"d":"85.22"},"B"]
[{"v":85.2300000000001,"d":"85.23"},"B"]
[{"v":85.2400000000001,"d":"85.24"},"B"]
[{"v":85.2500000000001,"d":"85.25"},"B"]
[{"v":85.2600000000001,"d":"85.26"},"B"]
[{"v":85.2700000000001,"d":"85.27"},"B"]
[{"v":85.2800000000001,"d":"85.28"},"B"]
[{"v":85.2900000000001,"d":"85.29"},"B"]
[{"v":85.3000000000001,"d":"85.30"},"B"]
[{"v":85.3100000000001,"d":"85.31"},"B"]
[{"v":85.3200000000001,"d":"85.32"},"B"]
[{"v":85.3300000000001,"d":"85.33"},"B"]
[{"v":85.3400000000001,"d":"85.34"},"B"]
[{"v":85.3500000000001,"d":"85.35"},"B"]
[{"v":85.3600000000001,"d":"85.36"},"B"]
[{"v":85.3700000000001,"d":"85.37"},"B"]
[{"v":85.3800000000001,"d":"85.38"},"B"]
[{"v":85.3900000000001,"d":"85.39"},"B"]
[{"v":85.4000000000001,"d":"85.40"},"B"]
[{"v":85.4100000000001,"d":"85.41"},"B"]
[{"v":85.4200000000001,"d":"85.42"},"B"]
[{"v":85.4300000000001,"d":"85.43"},"B"]
[{"v":85.4400000000001,"d":"85.44"},"B"]
[{"v":85.4500000000001,"d":"85.45"},"B"]
[{"v":85.4600000000001,"d":"85.46"},"B"]
[{"v":85.4700000000001,"d":"85.47"},"B"]
[{"v":85.4800000000001,"d":"85.48"},"B"]
[{"v":85.4900000000001,"d":"85.49"},"B"]
[{"v":85.5000000000001,"d":"85.50"},"B"]
[{"v":85.5100000000001,"d":"85.51"},"B"]
[{"v":85.5200000000001,"d":"85.52"},"B"]
[{"v":85.5300000000001,"d":"85.53"},"B"]
[{"v":85.5400000000001,"d":"85.54"},"B"]
[{"v":85.5500000000001,"d":"85.55"},"B"]
[{"v":85.5600000000001,"d":"85.56"},"B"]
[{"v":85.5700000000001,"d":"85.57"},"B"]
[{"v":85.5800000000001,"d":"85.58"},"B"]
[{"v":85.5900000000001,"d":"85.59"},"B"]
[{"v":85.6000000000001,"d":"85.60"},"B"]
[{"v":85.6100000000001,"d":"85.61"},"B"]
[{"v":85.6200000000001,"d":"85.62"},"B"]
[{"v":85.6300000000001,"d":"85.63"},"B"]
[{"v":85.6400000000001,"d":"85.64"},"B"]
[{"v":85.6500000000001,"d":"85.65"},"B"]
[{"v":85.6600000000001,"d":"85.66"},"B"]
[{"v":85.6700000000001,"d":"85.67"},"B"]
[{"v":85.6800000000001,"d":"85.68"},"B"]
[{"v":85.6900000000001,"d":"85.69"},"B"]
[{"v":85.7000000000001,"d":"85.70"},"B"]
[{"v":85.7100000000001,"d":"85.71"},"B"]
[{"v":85.7200000000001,"d":"85.72"},"B"]
[{"v":85.7300000000001,"d":"85.73"},"B"]
[{"v":85.7400000000001,"d":"85.74"},"B"]
[{"v":85.7500000000001,"d":"85.75"},"B"]
[{"v":85.7600000000001,"d":"85.76"},"B"]
[{"v":85.7700000000001,"d":"85.77"},"B"]
[{"v":85.7800000000001,"d":"85.78"},"B"]
[{"v":85.7900000000001,"d":"85.79"},"B"]
[{"v":85.8000000000001,"d":"85.80"},"B"]
[{"v":85.8100000000001,"d":"85.81"},"B"]
[{"v":85.8200000000001,"d":"85.82"},"B"]
[{"v":85.8300000000001,"d":"85.83"},"B"]
[{"v":85.8400000000001,"d":"85.84"},"B"]
[{"v":85.8500000000001,"d":"85.85"},"B"]
[{"v":85.8600000000001,"d":"85.86"},"B"]
[{"v":85.8700000000001,"d":"85.87"},"B"]
[{"v":85.8800000000001,"d":"85.88"},"B"]
[{"v":85.8900000000001,"d":"85.89"},"B"]
[{"v":85.9000000000001,"d":"85.90"},"B"]
[{"v":85.9100000000001,"d":"85.91"},"B"]
[{"v":85.9200000000001,"d":"85.92"},"B"]
[{"v":85.9300000000001,"d":"85.93"},"B"]
[{"v":85.9400000000001,"d":"85.94"},"B"]
[{"v":85.9500000000001,"d":"85.95"},"B"]
[{"v":85.9600000000001,"d":"85.96"},"B"]
[{"v":85.9700000000001,"d":"85.97"},"B"]
[{"v":85.9800000000001,"d":"85.98"},"B"]
[{"v":85.9900000000001,"d":"85.99"},"B"]
[{"v":86.0000000000001,"d":"86.00"},"B"]
[{"v":86.0100000000001,"d":"86.01"},"B"]
[{"v":86.0200000000001,"d":"86.02"},"B"]
[{"v":86.0300000000001,"d":"86.03"},"B"]
[{"v":86.0400000000001,"d":"86.04"},"B"]
[{"v":86.0500000000001,"d":"86.05"},"B"]
[{"v":86.0600000000001,"d":"86.06"},"B"]
[{"v":86.0700000000001,"d":"86.07"},"B"]
[{"v":86.0800000000001,"d":"86.08"},"B"]
[{"v":86.0900000000001,"d":"86.09"},"B"]
[{"v":86.1000000000001,"d":"86.10"},"B"]
[{"v":86.1100000000001,"d":"86.11"},"B"]
[{"v":86.1200000000001,"d":"86.12"},"B"]
[{"v":86.1300000000001,"d":"86.13"},"B"]
[{"v":86.1400000000001,"d":"86.14"},"B"]
[{"v":86.1500000000001,"d":"86.15"},"B"]
[{"v":86.1600000000001,"d":"86.16"},"B"]
[{"v":86.1700000000001,"d":"86.17"},"B"]
[{"v":86.1800000000001,"d":"86.18"},"B"]
[{"v":86.1900000000001,"d":"86.19"},"B"]
[{"v":86.2000000000001,"d":"86.20"},"B"]
[{"v":86.2100000000001,"d":"86.21"},"B"]
[{"v":86.2200000000001,"d":"86.22"},"B"]
[{"v":86.2300000000001,"d":"86.23"},"B"]
[{"v":86.2400000000001,"d":"86.24"},"B"]
[{"v":86.2500000000001,"d":"86.25"},"B"]
[{"v":86.2600000000001,"d":"86.26"},"B"]
[{"v":86.2700000000001,"d":"86.27"},"B"]
[{"v":86.2800000000001,"d":"86.28"},"B"]
[{"v":86.2900000000001,"d":"86.29"},"B"]
[{"v":86.3000000000001,"d":"86.30"},"B"]
[{"v":86.3100000000001,"d":"86.31"},"B"]
[{"v":86.3200000000001,"d":"86.32"},"B"]
[{"v":86.3300000000001,"d":"86.33"},"B"]
[{"v":86.3400000000001,"d":"86.34"},"B"]
[{"v":86.3500000000001,"d":"86.35"},"B"]
[{"v":86.3600000000001,"d":"86.36"},"B"]
[{"v":86.3700000000001,"d":"86.37"},"B"]
[{"v":86.3800000000001,"d":"86.38"},"B"]
[{"v":86.3900000000001,"d":"86.39"},"B"]
[{"v":86.4000000000001,"d":"86.40"},"B"]
[{"v":86.4100000000001,"d":"86.41"},"B"]
[{"v":86.4200000000001,"d":"86.42"},"B"]
[{"v":86.4300000000001,"d":"86.43"},"B"]
[{"v":86.4400000000001,"d":"86.44"},"B"]
[{"v":86.4500000000001,"d":"86.45"},"B"]
[{"v":86.4600000000001,"d":"86.46"},"B"]
[{"v":86.4700000000001,"d":"86.47"},"B"]
[{"v":86.4800000000001,"d":"86.48"},"B"]
[{"v":86.4900000000001,"d":"86.49"},"B"]
[{"v":86.5000000000001,"d":"86.50"},"B"]
[{"v":86.5100000000001,"d":"86.51"},"B"]
[{"v":86.5200000000001,"d":"86.52"},"B"]
[{"v":86.5300000000001,"d":"86.53"},"B"]
[{"v":86.5400000000001,"d":"86.54"},"B"]
[{"v":86.5500000000001,"d":"86.55"},"B"]
[{"v":86.5600000000001,"d":"86.56"},"B"]
[{"v":86.5700000000001,"d":"86.57"},"B"]
[{"v":86.5800000000001,"d":"86.58"},"B"]
[{"v":86.5900000000001,"d":"86.59"},"B"]
[{"v":86.6000000000001,"d":"86.60"},"B"]
[{"v":86.6100000000001,"d":"86.61"},"B"]
[{"v":86.6200000000001,"d":"86.62"},"B"]
[{"v":86.6300000000001,"d":"86.63"},"B"]
[{"v":86.6400000000001,"d":"86.64"},"B"]
[{"v":86.6500000000001,"d":"86.65"},"B"]
[{"v":86.6600000000001,"d":"86.66"},"B"]
[{"v":86.6700000000001,"d":"86.67"},"B"]
[{"v":86.6800000000001,"d":"86.68"},"B"]
[{"v":86.6900000000001,"d":"86.69"},"B"]
[{"v":86.7000000000001,"d":"86.70"},"B"]
[{"v":86.7100000000001,"d":"86.71"},"B"]
[{"v":86.7200000000001,"d":"86.72"},"B"]
[{"v":86.7300000000001,"d":"86.73"},"B"]
[{"v":86.7400000000001,"d":"86.74"},"B"]
[{"v":86.7500000000001,"d":"86.75"},"B"]
[{"v":86.7600000000001,"d":"86.76"},"B"]
[{"v":86.7700000000001,"d":"86.77"},"B"]
[{"v":86.7800000000001,"d":"86.78"},"B"]
[{"v":86.7900000000001,"d":"86.79"},"B"]
[{"v":86.8000000000001,"d":"86.80"},"B"]
[{"v":86.8100000000001,"d":"86.81"},"B"]
[{"v":86.8200000000001,"d":"86.82"},"B"]
[{"v":86.8300000000001,"d":"86.83"},"B"]
[{"v":86.8400000000001,"d":"86.84"},"B"]
[{"v":86.8500000000001,"d":"86.85"},"B"]
[{"v":86.8600000000001,"d":"86.86"},"B"]
[{"v":86.8700000000001,"d":"86.87"},"B"]
[{"v":86.8800000000001,"d":"86.88"},"B"]
[{"v":86.8900000000001,"d":"86.89"},"B"]
[{"v":86.9000000000001,"d":"86.90"},"B"]
[{"v":86.9100000000001,"d":"86.91"},"B"]
[{"v":86.9200000000001,"d":"86.92"},"B"]
[{"v":86.9300000000001,"d":"86.93"},"B"]
[{"v":86.9400000000001,"d":"86.94"},"B"]
[{"v":86.9500000000001,"d":"86.95"},"B"]
[{"v":86.9600000000001,"d":"86.96"},"B"]
[{"v":86.9700000000001,"d":"86.97"},"B"]
[{"v":86.9800000000001,"d":"86.98"},"B"]
[{"v":86.9900000000001,"d":"86.99"},"B"]
[{"v":87.0000000000001,"d":"87.00"},"B"]
[{"v":87.0100000000001,"d":"87.01"},"B"]
[{"v":87.0200000000001,"d":"87.02"},"B"]
[{"v":87.0300000000001,"d":"87.03"},"B"]
[{"v":87.0400000000001,"d":"87.04"},"B"]
[{"v":87.0500000000001,"d":"87.05"},"B"]
[{"v":87.0600000000001,"d":"87.06"},"B"]
[{"v":87.0700000000001,"d":"87.07"},"B"]
[{"v":87.0800000000001,"d":"87.08"},"B"]
[{"v":87.0900000000001,"d":"87.09"},"B"]
[{"v":87.1000000000001,"d":"87.10"},"B"]
[{"v":87.1100000000001,"d":"87.11"},"B"]
[{"v":87.1200000000001,"d":"87.12"},"B"]
[{"v":87.1300000000001,"d":"87.13"},"B"]
[{"v":87.1400000000001,"d":"87.14"},"B"]
[{"v":87.1500000000001,"d":"87.15"},"B"]
[{"v":87.1600000000001,"d":"87.16"},"B"]
[{"v":87.1700000000001,"d":"87.17"},"B"]
[{"v":87.1800000000001,"d":"87.18"},"B"]
[{"v":87.1900000000001,"d":"87.19"},"B"]
[{"v":87.2000000000001,"d":"87.20"},"B"]
[{"v":87.2100000000001,"d":"87.21"},"B"]
[{"v":87.2200000000001,"d":"87.22"},"B"]
[{"v":87.2300000000001,"d":"87.23"},"B"]
[{"v":87.2400000000001,"d":"87.24"},"B"]
[{"v":87.2500000000001,"d":"87.25"},"B"]
[{"v":87.2600000000001,"d":"87.26"},"B"]
[{"v":87.2700000000001,"d":"87.27"},"B"]
[{"v":87.2800000000001,"d":"87.28"},"B"]
[{"v":87.2900000000001,"d":"87.29"},"B"]
[{"v":87.3000000000001,"d":"87.30"},"B"]
[{"v":87.3100000000001,"d":"87.31"},"B"]
[{"v":87.3200000000001,"d":"87.32"},"B"]
[{"v":87.3300000000001,"d":"87.33"},"B"]
[{"v":87.3400000000001,"d":"87.34"},"B"]
[{"v":87.3500000000001,"d":"87.35"},"B"]
[{"v":87.3600000000001,"d":"87.36"},"B"]
[{"v":87.3700000000001,"d":"87.37"},"B"]
[{"v":87.3800000000001,"d":"87.38"},"B"]
[{"v":87.3900000000001,"d":"87.39"},"B"]
[{"v":87.4000000000001,"d":"87.40"},"B"]
[{"v":87.4100000000001,"d":"87.41"},"B"]
[{"v":87.4200000000001,"d":"87.42"},"B"]
[{"v":87.4300000000001,"d":"87.43"},"B"]
[{"v":87.4400000000001,"d":"87.44"},"B"]
[{"v":87.4500000000001,"d":"87.45"},"B"]
[{"v":87.4600000000001,"d":"87.46"},"B"]
[{"v":87.4700000000001,"d":"87.47"},"B"]
[{"v":87.4800000000001,"d":"87.48"},"B"]
[{"v":87.4900000000001,"d":"87.49"},"B"]
[{"v":87.5000000000001,"d":"87.50"},"B"]
[{"v":87.5100000000001,"d":"87.51"},"B"]
[{"v":87.5200000000001,"d":"87.52"},"B"]
[{"v":87.5300000000001,"d":"87.53"},"B"]
[{"v":87.5400000000001,"d":"87.54"},"B"]
[{"v":87.5500000000001,"d":"87.55"},"B"]
[{"v":87.5600000000001,"d":"87.56"},"B"]
[{"v":87.5700000000001,"d":"87.57"},"B"]
[{"v":87.5800000000001,"d":"87.58"},"B"]
[{"v":87.5900000000001,"d":"87.59"},"B"]
[{"v":87.6000000000001,"d":"87.60"},"B"]
[{"v":87.6100000000001,"d":"87.61"},"B"]
[{"v":87.6200000000001,"d":"87.62"},"B"]
[{"v":87.6300000000001,"d":"87.63"},"B"]
[{"v":87.6400000000001,"d":"87.64"},"B"]
[{"v":87.6500000000001,"d":"87.65"},"B"]
[{"v":87.6600000000001,"d":"87.66"},"B"]
[{"v":87.6700000000001,"d":"87.67"},"B"]
[{"v":87.6800000000001,"d":"87.68"},"B"]
[{"v":87.6900000000001,"d":"87.69"},"B"]
[{"v":87.7000000000001,"d":"87.70"},"B"]
[{"v":87.7100000000001,"d":"87.71"},"B"]
[{"v":87.7200000000001,"d":"87.72"},"B"]
[{"v":87.7300000000001,"d":"87.73"},"B"]
[{"v":87.7400000000001,"d":"87.74"},"B"]
[{"v":87.7500000000001,"d":"87.75"},"B"]
[{"v":87.7600000000001,"d":"87.76"},"B"]
[{"v":87.7700000000001,"d":"87.77"},"B"]
[{"v":87.7800000000001,"d":"87.78"},"B"]
[{"v":87.7900000000001,"d":"87.79"},"B"]
[{"v":87.8000000000001,"d":"87.80"},"B"]
[{"v":87.8100000000001,"d":"87.81"},"B"]
[{"v":87.8200000000001,"d":"87.82"},"B"]
[{"v":87.8300000000001,"d":"87.83"},"B"]
[{"v":87.8400000000001,"d":"87.84"},"B"]
[{"v":87.8500000000001,"d":"87.85"},"B"]
[{"v":87.8600000000001,"d":"87.86"},"B"]
[{"v":87.8700000000001,"d":"87.87"},"B"]
[{"v":87.8800000000001,"d":"87.88"},"B"]
[{"v":87.8900000000001,"d":"87.89"},"B"]
[{"v":87.9000000000001,"d":"87.90"},"B"]
[{"v":87.9100000000001,"d":"87.91"},"B"]
[{"v":87.9200000000001,"d":"87.92"},"B"]
[{"v":87.9300000000001,"d":"87.93"},"B"]
[{"v":87.9400000000001,"d":"87.94"},"B"]
[{"v":87.9500000000001,"d":"87.95"},"B"]
[{"v":87.9600000000001,"d":"87.96"},"B"]
[{"v":87.9700000000001,"d":"87.97"},"B"]
[{"v":87.9800000000001,"d":"87.98"},"B"]
[{"v":87.9900000000001,"d":"87.99"},"B"]
[{"v":88.0000000000001,"d":"88.00"},"B"]
[{"v":88.0100000000001,"d":"88.01"},"B"]
[{"v":88.0200000000001,"d":"88.02"},"B"]
[{"v":88.0300000000001,"d":"88.03"},"B"]
[{"v":88.0400000000001,"d":"88.04"},"B"]
[{"v":88.0500000000001,"d":"88.05"},"B"]
[{"v":88.0600000000001,"d":"88.06"},"B"]
[{"v":88.0700000000001,"d":"88.07"},"B"]
[{"v":88.0800000000001,"d":"88.08"},"B"]
[{"v":88.0900000000001,"d":"88.09"},"B"]
[{"v":88.1000000000001,"d":"88.10"},"B"]
[{"v":88.1100000000001,"d":"88.11"},"B"]
[{"v":88.1200000000001,"d":"88.12"},"B"]
[{"v":88.1300000000001,"d":"88.13"},"B"]
[{"v":88.1400000000001,"d":"88.14"},"B"]
[{"v":88.1500000000001,"d":"88.15"},"B"]
[{"v":88.1600000000001,"d":"88.16"},"B"]
[{"v":88.1700000000001,"d":"88.17"},"B"]
[{"v":88.1800000000001,"d":"88.18"},"B"]
[{"v":88.1900000000001,"d":"88.19"},"B"]
[{"v":88.2000000000001,"d":"88.20"},"B"]
[{"v":88.2100000000001,"d":"88.21"},"B"]
[{"v":88.2200000000001,"d":"88.22"},"B"]
[{"v":88.2300000000001,"d":"88.23"},"B"]
[{"v":88.2400000000001,"d":"88.24"},"B"]
[{"v":88.2500000000001,"d":"88.25"},"B"]
[{"v":88.2600000000001,"d":"88.26"},"B"]
[{"v":88.2700000000001,"d":"88.27"},"B"]
[{"v":88.2800000000001,"d":"88.28"},"B"]
[{"v":88.2900000000001,"d":"88.29"},"B"]
[{"v":88.3000000000001,"d":"88.30"},"B"]
[{"v":88.3100000000001,"d":"88.31"},"B"]
[{"v":88.3200000000001,"d":"88.32"},"B"]
[{"v":88.3300000000001,"d":"88.33"},"B"]
[{"v":88.3400000000001,"d":"88.34"},"B"]
[{"v":88.3500000000001,"d":"88.35"},"B"]
[{"v":88.3600000000001,"d":"88.36"},"B"]
[{"v":88.3700000000001,"d":"88.37"},"B"]
[{"v":88.3800000000001,"d":"88.38"},"B"]
[{"v":88.3900000000001,"d":"88.39"},"B"]
[{"v":88.4000000000001,"d":"88.40"},"B"]
[{"v":88.4100000000001,"d":"88.41"},"B"]
[{"v":88.4200000000001,"d":"88.42"},"B"]
[{"v":88.4300000000001,"d":"88.43"},"B"]
[{"v":88.4400000000001,"d":"88.44"},"B"]
[{"v":88.4500000000001,"d":"88.45"},"B"]
[{"v":88.4600000000001,"d":"88.46"},"B"]
[{"v":88.4700000000001,"d":"88.47"},"B"]
[{"v":88.4800000000001,"d":"88.48"},"B"]
[{"v":88.4900000000001,"d":"88.49"},"B"]
[{"v":88.5000000000001,"d":"88.50"},"B"]
[{"v":88.5100000000001,"d":"88.51"},"B"]
[{"v":88.5200000000001,"d":"88.52"},"B"]
[{"v":88.5300000000001,"d":"88.53"},"B"]
[{"v":88.5400000000001,"d":"88.54"},"B"]
[{"v":88.5500000000001,"d":"88.55"},"B"]
[{"v":88.5600000000001,"d":"88.56"},"B"]
[{"v":88.5700000000001,"d":"88.57"},"B"]
[{"v":88.5800000000001,"d":"88.58"},"B"]
[{"v":88.5900000000001,"d":"88.59"},"B"]
[{"v":88.6000000000001,"d":"88.60"},"B"]
[{"v":88.6100000000001,"d":"88.61"},"B"]
[{"v":88.6200000000001,"d":"88.62"},"B"]
[{"v":88.6300000000001,"d":"88.63"},"B"]
[{"v":88.6400000000001,"d":"88.64"},"B"]
[{"v":88.6500000000001,"d":"88.65"},"B"]
[{"v":88.6600000000001,"d":"88.66"},"B"]
[{"v":88.6700000000001,"d":"88.67"},"B"]
[{"v":88.6800000000001,"d":"88.68"},"B"]
[{"v":88.6900000000001,"d":"88.69"},"B"]
[{"v":88.7000000000001,"d":"88.70"},"B"]
[{"v":88.7100000000001,"d":"88.71"},"B"]
[{"v":88.7200000000001,"d":"88.72"},"B"]
[{"v":88.7300000000001,"d":"88.73"},"B"]
[{"v":88.7400000000001,"d":"88.74"},"B"]
[{"v":88.7500000000001,"d":"88.75"},"B"]
[{"v":88.7600000000001,"d":"88.76"},"B"]
[{"v":88.7700000000001,"d":"88.77"},"B"]
[{"v":88.7800000000001,"d":"88.78"},"B"]
[{"v":88.7900000000001,"d":"88.79"},"B"]
[{"v":88.8000000000001,"d":"88.80"},"B"]
[{"v":88.8100000000001,"d":"88.81"},"B"]
[{"v":88.8200000000001,"d":"88.82"},"B"]
[{"v":88.8300000000001,"d":"88.83"},"B"]
[{"v":88.8400000000001,"d":"88.84"},"B"]
[{"v":88.8500000000001,"d":"88.85"},"B"]
[{"v":88.8600000000001,"d":"88.86"},"B"]
[{"v":88.8700000000001,"d":"88.87"},"B"]
[{"v":88.8800000000001,"d":"88.88"},"B"]
[{"v":88.8900000000001,"d":"88.89"},"B"]
[{"v":88.9000000000001,"d":"88.90"},"B"]
[{"v":88.9100000000001,"d":"88.91"},"B"]
[{"v":88.9200000000001,"d":"88.92"},"B"]
[{"v":88.9300000000001,"d":"88.93"},"B"]
[{"v":88.9400000000001,"d":"88.94"},"B"]
[{"v":88.9500000000001,"d":"88.95"},"B"]
[{"v":88.9600000000001,"d":"88.96"},"B"]
[{"v":88.9700000000001,"d":"88.97"},"B"]
[{"v":88.9800000000001,"d":"88.98"},"B"]
[{"v":88.9900000000001,"d":"88.99"},"B"]
[{"v":89.0000000000001,"d":"89.00"},"B"]
[{"v":89.0100000000001,"d":"89.01"},"B"]
[{"v":89.0200000000001,"d":"89.02"},"B"]
[{"v":89.0300000000001,"d":"89.03"},"B"]
[{"v":89.0400000000001,"d":"89.04"},"B"]
[{"v":89.0500000000001,"d":"89.05"},"B"]
[{"v":89.0600000000001,"d":"89.06"},"B"]
[{"v":89.0700000000001,"d":"89.07"},"B"]
[{"v":89.0800000000001,"d":"89.08"},"B"]
[{"v":89.0900000000001,"d":"89.09"},"B"]
[{"v":89.1000000000001,"d":"89.10"},"B"]
[{"v":89.1100000000001,"d":"89.11"},"B"]
[{"v":89.1200000000001,"d":"89.12"},"B"]
[{"v":89.1300000000001,"d":"89.13"},"B"]
[{"v":89.1400000000001,"d":"89.14"},"B"]
[{"v":89.1500000000001,"d":"89.15"},"B"]
[{"v":89.1600000000001,"d":"89.16"},"B"]
[{"v":89.1700000000001,"d":"89.17"},"B"]
[{"v":89.1800000000001,"d":"89.18"},"B"]
[{"v":89.1900000000001,"d":"89.19"},"B"]
[{"v":89.2000000000001,"d":"89.20"},"B"]
[{"v":89.2100000000001,"d":"89.21"},"B"]
[{"v":89.2200000000001,"d":"89.22"},"B"]
[{"v":89.2300000000001,"d":"89.23"},"B"]
[{"v":89.2400000000001,"d":"89.24"},"B"]
[{"v":89.2500000000001,"d":"89.25"},"B"]
[{"v":89.2600000000001,"d":"89.26"},"B"]
[{"v":89.2700000000001,"d":"89.27"},"B"]
[{"v":89.2800000000001,"d":"89.28"},"B"]
[{"v":89.2900000000001,"d":"89.29"},"B"]
[{"v":89.3000000000001,"d":"89.30"},"B"]
[{"v":89.3100000000001,"d":"89.31"},"B"]
[{"v":89.3200000000001,"d":"89.32"},"B"]
[{"v":89.3300000000001,"d":"89.33"},"B"]
[{"v":89.3400000000001,"d":"89.34"},"B"]
[{"v":89.3500000000001,"d":"89.35"},"B"]
[{"v":89.3600000000001,"d":"89.36"},"B"]
[{"v":89.3700000000001,"d":"89.37"},"B"]
[{"v":89.3800000000001,"d":"89.38"},"B"]
[{"v":89.3900000000001,"d":"89.39"},"B"]
[{"v":89.4000000000001,"d":"89.40"},"B"]
[{"v":89.4100000000001,"d":"89.41"},"B"]
[{"v":89.4200000000001,"d":"89.42"},"B"]
[{"v":89.4300000000001,"d":"89.43"},"B"]
[{"v":89.4400000000001,"d":"89.44"},"B"]
[{"v":89.4500000000001,"d":"89.45"},"B"]
[{"v":89.4600000000001,"d":"89.46"},"B"]
[{"v":89.4700000000001,"d":"89.47"},"B"]
[{"v":89.4800000000001,"d":"89.48"},"B"]
[{"v":89.4900000000001,"d":"89.49"},"B"]
[{"v":89.5000000000001,"d":"89.50"},"B"]
[{"v":89.5100000000001,"d":"89.51"},"B"]
[{"v":89.5200000000001,"d":"89.52"},"B"]
[{"v":89.5300000000001,"d":"89.53"},"B"]
[{"v":89.5400000000001,"d":"89.54"},"B"]
[{"v":89.5500000000001,"d":"89.55"},"B"]
[{"v":89.5600000000001,"d":"89.56"},"B"]
[{"v":89.5700000000001,"d":"89.57"},"B"]
[{"v":89.5800000000001,"d":"89.58"},"B"]
[{"v":89.5900000000001,"d":"89.59"},"B"]
[{"v":89.6000000000001,"d":"89.60"},"B"]
[{"v":89.6100000000001,"d":"89.61"},"B"]
[{"v":89.6200000000001,"d":"89.62"},"B"]
[{"v":89.6300000000001,"d":"89.63"},"B"]
[{"v":89.6400000000001,"d":"89.64"},"B"]
[{"v":89.6500000000001,"d":"89.65"},"B"]
[{"v":89.6600000000001,"d":"89.66"},"B"]
[{"v":89.6700000000001,"d":"89.67"},"B"]
[{"v":89.6800000000001,"d":"89.68"},"B"]
[{"v":89.6900000000001,"d":"89.69"},"B"]
[{"v":89.7000000000001,"d":"89.70"},"B"]
[{"v":89.7100000000001,"d":"89.71"},"B"]
[{"v":89.7200000000001,"d":"89.72"},"B"]
[{"v":89.7300000000001,"d":"89.73"},"B"]
[{"v":89.7400000000001,"d":"89.74"},"B"]
[{"v":89.7500000000001,"d":"89.75"},"B"]
[{"v":89.7600000000001,"d":"89.76"},"B"]
[{"v":89.7700000000001,"d":"89.77"},"B"]
[{"v":89.7800000000001,"d":"89.78"},"B"]
[{"v":89.7900000000001,"d":"89.79"},"B"]
[{"v":89.8000000000001,"d":"89.80"},"B"]
[{"v":89.8100000000001,"d":"89.81"},"B"]
[{"v":89.8200000000001,"d":"89.82"},"B"]
[{"v":89.8300000000001,"d":"89.83"},"B"]
[{"v":89.8400000000001,"d":"89.84"},"B"]
[{"v":89.8500000000001,"d":"89.85"},"B"]
[{"v":89.8600000000001,"d":"89.86"},"B"]
[{"v":89.8700000000001,"d":"89.87"},"B"]
[{"v":89.8800000000001,"d":"89.88"},"B"]
[{"v":89.8900000000001,"d":"89.89"},"B"]
[{"v":89.9000000000001,"d":"89.90"},"B"]
[{"v":89.9100000000001,"d":"89.91"},"B"]
[{"v":89.9200000000001,"d":"89.92"},"B"]
[{"v":89.9300000000001,"d":"89.93"},"B"]
[{"v":89.9400000000001,"d":"89.94"},"B"]
[{"v":89.9500000000001,"d":"89.95"},"B"]
[{"v":89.9600000000001,"d":"89.96"},"B"]
[{"v":89.9700000000001,"d":"89.97"},"B"]
[{"v":89.9800000000001,"d":"89.98"},"B"]
[{"v":89.9900000000001,"d":"89.99"},"B"]
[{"v":90.0000000000001,"d":"90.00"},"B"]
[{"v":90.0100000000001,"d":"90.01"},"B"]
[{"v":90.0200000000001,"d":"90.02"},"B"]
[{"v":90.0300000000001,"d":"90.03"},"B"]
[{"v":90.0400000000001,"d":"90.04"},"B"]
[{"v":90.0500000000001,"d":"90.05"},"B"]
[{"v":90.0600000000001,"d":"90.06"},"B"]
[{"v":90.0700000000001,"d":"90.07"},"B"]
[{"v":90.0800000000001,"d":"90.08"},"B"]
[{"v":90.0900000000001,"d":"90.09"},"B"]
[{"v":90.1000000000001,"d":"90.10"},"B"]
[{"v":90.1100000000001,"d":"90.11"},"B"]
[{"v":90.1200000000001,"d":"90.12"},"B"]
[{"v":90.1300000000001,"d":"90.13"},"B"]
[{"v":90.1400000000001,"d":"90.14"},"B"]
[{"v":90.1500000000001,"d":"90.15"},"B"]
[{"v":90.1600000000001,"d":"90.16"},"B"]
[{"v":90.1700000000001,"d":"90.17"},"B"]
[{"v":90.1800000000001,"d":"90.18"},"B"]
[{"v":90.1900000000001,"d":"90.19"},"B"]
[{"v":90.2000000000001,"d":"90.20"},"B"]
[{"v":90.2100000000001,"d":"90.21"},"B"]
[{"v":90.2200000000001,"d":"90.22"},"B"]
[{"v":90.2300000000001,"d":"90.23"},"B"]
[{"v":90.2400000000001,"d":"90.24"},"B"]
[{"v":90.2500000000001,"d":"90.25"},"B"]
[{"v":90.2600000000001,"d":"90.26"},"B"]
[{"v":90.2700000000001,"d":"90.27"},"B"]
[{"v":90.2800000000001,"d":"90.28"},"B"]
[{"v":90.2900000000001,"d":"90.29"},"B"]
[{"v":90.3000000000001,"d":"90.30"},"B"]
[{"v":90.3100000000001,"d":"90.31"},"B"]
[{"v":90.3200000000001,"d":"90.32"},"B"]
[{"v":90.3300000000001,"d":"90.33"},"B"]
[{"v":90.3400000000001,"d":"90.34"},"B"]
[{"v":90.3500000000001,"d":"90.35"},"B"]
[{"v":90.3600000000001,"d":"90.36"},"B"]
[{"v":90.3700000000001,"d":"90.37"},"B"]
[{"v":90.3800000000001,"d":"90.38"},"B"]
[{"v":90.3900000000001,"d":"90.39"},"B"]
[{"v":90.4000000000001,"d":"90.40"},"B"]
[{"v":90.4100000000001,"d":"90.41"},"B"]
[{"v":90.4200000000001,"d":"90.42"},"B"]
[{"v":90.4300000000001,"d":"90.43"},"B"]
[{"v":90.4400000000001,"d":"90.44"},"B"]
[{"v":90.4500000000001,"d":"90.45"},"B"]
[{"v":90.4600000000001,"d":"90.46"},"B"]
[{"v":90.4700000000001,"d":"90.47"},"B"]
[{"v":90.4800000000001,"d":"90.48"},"B"]
[{"v":90.4900000000001,"d":"90.49"},"B"]
[{"v":90.5000000000001,"d":"90.50"},"B"]
[{"v":90.5100000000001,"d":"90.51"},"B"]
[{"v":90.5200000000001,"d":"90.52"},"B"]
[{"v":90.5300000000001,"d":"90.53"},"B"]
[{"v":90.5400000000001,"d":"90.54"},"B"]
[{"v":90.5500000000001,"d":"90.55"},"B"]
[{"v":90.5600000000001,"d":"90.56"},"B"]
[{"v":90.5700000000001,"d":"90.57"},"B"]
[{"v":90.5800000000001,"d":"90.58"},"B"]
[{"v":90.5900000000001,"d":"90.59"},"B"]
[{"v":90.6000000000001,"d":"90.60"},"B"]
[{"v":90.6100000000001,"d":"90.61"},"B"]
[{"v":90.6200000000001,"d":"90.62"},"B"]
[{"v":90.6300000000001,"d":"90.63"},"B"]
[{"v":90.6400000000001,"d":"90.64"},"B"]
[{"v":90.6500000000001,"d":"90.65"},"B"]
[{"v":90.6600000000001,"d":"90.66"},"B"]
[{"v":90.6700000000001,"d":"90.67"},"B"]
[{"v":90.6800000000001,"d":"90.68"},"B"]
[{"v":90.6900000000001,"d":"90.69"},"B"]
[{"v":90.7000000000001,"d":"90.70"},"B"]
[{"v":90.7100000000001,"d":"90.71"},"B"]
[{"v":90.7200000000001,"d":"90.72"},"B"]
[{"v":90.7300000000001,"d":"90.73"},"B"]
[{"v":90.7400000000001,"d":"90.74"},"B"]
[{"v":90.7500000000001,"d":"90.75"},"B"]
[{"v":90.7600000000001,"d":"90.76"},"B"]
[{"v":90.7700000000001,"d":"90.77"},"B"]
[{"v":90.7800000000001,"d":"90.78"},"B"]
[{"v":90.7900000000001,"d":"90.79"},"B"]
[{"v":90.8000000000001,"d":"90.80"},"B"]
[{"v":90.8100000000001,"d":"90.81"},"B"]
[{"v":90.8200000000001,"d":"90.82"},"B"]
[{"v":90.8300000000001,"d":"90.83"},"B"]
[{"v":90.8400000000001,"d":"90.84"},"B"]
[{"v":90.8500000000001,"d":"90.85"},"B"]
[{"v":90.8600000000001,"d":"90.86"},"B"]
[{"v":90.8700000000001,"d":"90.87"},"B"]
[{"v":90.8800000000001,"d":"90.88"},"B"]
[{"v":90.8900000000001,"d":"90.89"},"B"]
[{"v":90.9000000000001,"d":"90.90"},"B"]
[{"v":90.9100000000001,"d":"90.91"},"B"]
[{"v":90.9200000000001,"d":"90.92"},"B"]
[{"v":90.9300000000001,"d":"90.93"},"B"]
[{"v":90.9400000000001,"d":"90.94"},"B"]
[{"v":90.9500000000001,"d":"90.95"},"B"]
[{"v":90.9600000000001,"d":"90.96"},"B"]
[{"v":90.9700000000001,"d":"90.97"},"B"]
[{"v":90.9800000000001,"d":"90.98"},"B"]
[{"v":90.9900000000001,"d":"90.99"},"B"]
[{"v":91.0000000000001,"d":"91.00"},"A"]
[{"v":91.0100000000001,"d":"91.01"},"A"]
[{"v":91.0200000000001,"d":"91.02"},"A"]
[{"v":91.0300000000001,"d":"91.03"},"A"]
[{"v":91.0400000000001,"d":"91.04"},"A"]
[{"v":91.0500000000001,"d":"91.05"},"A"]
[{"v":91.0600000000001,"d":"91.06"},"A"]
[{"v":91.0700000000001,"d":"91.07"},"A"]
[{"v":91.0800000000001,"d":"91.08"},"A"]
[{"v":91.0900000000001,"d":"91.09"},"A"]
[{"v":91.1000000000001,"d":"91.10"},"A"]
[{"v":91.1100000000001,"d":"91.11"},"A"]
[{"v":91.1200000000001,"d":"91.12"},"A"]
[{"v":91.1300000000001,"d":"91.13"},"A"]
[{"v":91.1400000000001,"d":"91.14"},"A"]
[{"v":91.1500000000001,"d":"91.15"},"A"]
[{"v":91.1600000000001,"d":"91.16"},"A"]
[{"v":91.1700000000001,"d":"91.17"},"A"]
[{"v":91.1800000000001,"d":"91.18"},"A"]
[{"v":91.1900000000001,"d":"91.19"},"A"]
[{"v":91.2000000000001,"d":"91.20"},"A"]
[{"v":91.2100000000001,"d":"91.21"},"A"]
[{"v":91.2200000000001,"d":"91.22"},"A"]
[{"v":91.2300000000001,"d":"91.23"},"A"]
[{"v":91.2400000000001,"d":"91.24"},"A"]
[{"v":91.2500000000001,"d":"91.25"},"A"]
[{"v":91.2600000000001,"d":"91.26"},"A"]
[{"v":91.2700000000001,"d":"91.27"},"A"]
[{"v":91.2800000000001,"d":"91.28"},"A"]
[{"v":91.2900000000001,"d":"91.29"},"A"]
[{"v":91.3000000000001,"d":"91.30"},"A"]
[{"v":91.3100000000001,"d":"91.31"},"A"]
[{"v":91.3200000000001,"d":"91.32"},"A"]
[{"v":91.3300000000001,"d":"91.33"},"A"]
[{"v":91.3400000000001,"d":"91.34"},"A"]
[{"v":91.3500000000001,"d":"91.35"},"A"]
[{"v":91.3600000000001,"d":"91.36"},"A"]
[{"v":91.3700000000001,"d":"91.37"},"A"]
[{"v":91.3800000000001,"d":"91.38"},"A"]
[{"v":91.3900000000001,"d":"91.39"},"A"]
[{"v":91.4000000000001,"d":"91.40"},"A"]
[{"v":91.4100000000001,"d":"91.41"},"A"]
[{"v":91.4200000000001,"d":"91.42"},"A"]
[{"v":91.4300000000001,"d":"91.43"},"A"]
[{"v":91.4400000000001,"d":"91.44"},"A"]
[{"v":91.4500000000001,"d":"91.45"},"A"]
[{"v":91.4600000000001,"d":"91.46"},"A"]
[{"v":91.4700000000001,"d":"91.47"},"A"]
[{"v":91.4800000000001,"d":"91.48"},"A"]
[{"v":91.4900000000001,"d":"91.49"},"A"]
[{"v":91.5000000000001,"d":"91.50"},"A"]
[{"v":91.5100000000001,"d":"91.51"},"A"]
[{"v":91.5200000000001,"d":"91.52"},"A"]
[{"v":91.5300000000001,"d":"91.53"},"A"]
[{"v":91.5400000000001,"d":"91.54"},"A"]
[{"v":91.5500000000001,"d":"91.55"},"A"]
[{"v":91.5600000000001,"d":"91.56"},"A"]
[{"v":91.5700000000001,"d":"91.57"},"A"]
[{"v":91.5800000000001,"d":"91.58"},"A"]
[{"v":91.5900000000001,"d":"91.59"},"A"]
[{"v":91.6000000000001,"d":"91.60"},"A"]
[{"v":91.6100000000001,"d":"91.61"},"A"]
[{"v":91.6200000000001,"d":"91.62"},"A"]
[{"v":91.6300000000001,"d":"91.63"},"A"]
[{"v":91.6400000000001,"d":"91.64"},"A"]
[{"v":91.6500000000001,"d":"91.65"},"A"]
[{"v":91.6600000000001,"d":"91.66"},"A"]
[{"v":91.6700000000001,"d":"91.67"},"A"]
[{"v":91.6800000000001,"d":"91.68"},"A"]
[{"v":91.6900000000001,"d":"91.69"},"A"]
[{"v":91.7000000000001,"d":"91.70"},"A"]
[{"v":91.7100000000001,"d":"91.71"},"A"]
[{"v":91.7200000000001,"d":"91.72"},"A"]
[{"v":91.7300000000001,"d":"91.73"},"A"]
[{"v":91.7400000000001,"d":"91.74"},"A"]
[{"v":91.7500000000001,"d":"91.75"},"A"]
[{"v":91.7600000000001,"d":"91.76"},"A"]
[{"v":91.7700000000001,"d":"91.77"},"A"]
[{"v":91.7800000000001,"d":"91.78"},"A"]
[{"v":91.7900000000001,"d":"91.79"},"A"]
[{"v":91.8000000000001,"d":"91.80"},"A"]
[{"v":91.8100000000001,"d":"91.81"},"A"]
[{"v":91.8200000000001,"d":"91.82"},"A"]
[{"v":91.8300000000001,"d":"91.83"},"A"]
[{"v":91.8400000000001,"d":"91.84"},"A"]
[{"v":91.8500000000001,"d":"91.85"},"A"]
[{"v":91.8600000000001,"d":"91.86"},"A"]
[{"v":91.8700000000001,"d":"91.87"},"A"]
[{"v":91.8800000000001,"d":"91.88"},"A"]
[{"v":91.8900000000001,"d":"91.89"},"A"]
[{"v":91.9000000000001,"d":"91.90"},"A"]
[{"v":91.9100000000001,"d":"91.91"},"A"]
[{"v":91.9200000000001,"d":"91.92"},"A"]
[{"v":91.9300000000001,"d":"91.93"},"A"]
[{"v":91.9400000000001,"d":"91.94"},"A"]
[{"v":91.9500000000001,"d":"91.95"},"A"]
[{"v":91.9600000000001,"d":"91.96"},"A"]
[{"v":91.9700000000001,"d":"91.97"},"A"]
[{"v":91.9800000000001,"d":"91.98"},"A"]
[{"v":91.9900000000001,"d":"91.99"},"A"]
[{"v":92.0000000000001,"d":"92.00"},"A"]
[{"v":92.0100000000001,"d":"92.01"},"A"]
[{"v":92.0200000000001,"d":"92.02"},"A"]
[{"v":92.0300000000001,"d":"92.03"},"A"]
[{"v":92.0400000000001,"d":"92.04"},"A"]
[{"v":92.0500000000001,"d":"92.05"},"A"]
[{"v":92.0600000000001,"d":"92.06"},"A"]
[{"v":92.0700000000001,"d":"92.07"},"A"]
[{"v":92.0800000000001,"d":"92.08"},"A"]
[{"v":92.0900000000001,"d":"92.09"},"A"]
[{"v":92.1000000000001,"d":"92.10"},"A"]
[{"v":92.1100000000001,"d":"92.11"},"A"]
[{"v":92.1200000000001,"d":"92.12"},"A"]
[{"v":92.1300000000001,"d":"92.13"},"A"]
[{"v":92.1400000000001,"d":"92.14"},"A"]
[{"v":92.1500000000001,"d":"92.15"},"A"]
[{"v":92.1600000000001,"d":"92.16"},"A"]
[{"v":92.1700000000001,"d":"92.17"},"A"]
[{"v":92.1800000000001,"d":"92.18"},"A"]
[{"v":92.1900000000001,"d":"92.19"},"A"]
[{"v":92.2000000000001,"d":"92.20"},"A"]
[{"v":92.2100000000001,"d":"92.21"},"A"]
[{"v":92.2200000000001,"d":"92.22"},"A"]
[{"v":92.2300000000001,"d":"92.23"},"A"]
[{"v":92.2400000000001,"d":"92.24"},"A"]
[{"v":92.2500000000001,"d":"92.25"},"A"]
[{"v":92.2600000000001,"d":"92.26"},"A"]
[{"v":92.2700000000001,"d":"92.27"},"A"]
[{"v":92.2800000000001,"d":"92.28"},"A"]
[{"v":92.2900000000001,"d":"92.29"},"A"]
[{"v":92.3000000000001,"d":"92.30"},"A"]
[{"v":92.3100000000001,"d":"92.31"},"A"]
[{"v":92.3200000000001,"d":"92.32"},"A"]
[{"v":92.3300000000001,"d":"92.33"},"A"]
[{"v":92.3400000000001,"d":"92.34"},"A"]
[{"v":92.3500000000001,"d":"92.35"},"A"]
[{"v":92.3600000000001,"d":"92.36"},"A"]
[{"v":92.3700000000001,"d":"92.37"},"A"]
[{"v":92.3800000000001,"d":"92.38"},"A"]
[{"v":92.3900000000001,"d":"92.39"},"A"]
[{"v":92.4000000000001,"d":"92.40"},"A"]
[{"v":92.4100000000001,"d":"92.41"},"A"]
[{"v":92.4200000000001,"d":"92.42"},"A"]
[{"v":92.4300000000001,"d":"92.43"},"A"]
[{"v":92.4400000000001,"d":"92.44"},"A"]
[{"v":92.4500000000001,"d":"92.45"},"A"]
[{"v":92.4600000000001,"d":"92.46"},"A"]
[{"v":92.4700000000001,"d":"92.47"},"A"]
[{"v":92.4800000000001,"d":"92.48"},"A"]
[{"v":92.4900000000001,"d":"92.49"},"A"]
[{"v":92.5000000000001,"d":"92.50"},"A"]
[{"v":92.5100000000001,"d":"92.51"},"A"]
[{"v":92.5200000000001,"d":"92.52"},"A"]
[{"v":92.5300000000001,"d":"92.53"},"A"]
[{"v":92.5400000000001,"d":"92.54"},"A"]
[{"v":92.5500000000001,"d":"92.55"},"A"]
[{"v":92.5600000000001,"d":"92.56"},"A"]
[{"v":92.5700000000001,"d":"92.57"},"A"]
[{"v":92.5800000000001,"d":"92.58"},"A"]
[{"v":92.5900000000001,"d":"92.59"},"A"]
[{"v":92.6000000000001,"d":"92.60"},"A"]
[{"v":92.6100000000001,"d":"92.61"},"A"]
[{"v":92.6200000000001,"d":"92.62"},"A"]
[{"v":92.6300000000001,"d":"92.63"},"A"]
[{"v":92.6400000000001,"d":"92.64"},"A"]
[{"v":92.6500000000001,"d":"92.65"},"A"]
[{"v":92.6600000000001,"d":"92.66"},"A"]
[{"v":92.6700000000001,"d":"92.67"},"A"]
[{"v":92.6800000000001,"d":"92.68"},"A"]
[{"v":92.6900000000001,"d":"92.69"},"A"]
[{"v":92.7000000000001,"d":"92.70"},"A"]
[{"v":92.7100000000001,"d":"92.71"},"A"]
[{"v":92.7200000000001,"d":"92.72"},"A"]
[{"v":92.7300000000001,"d":"92.73"},"A"]
[{"v":92.7400000000001,"d":"92.74"},"A"]
[{"v":92.7500000000001,"d":"92.75"},"A"]
[{"v":92.7600000000001,"d":"92.76"},"A"]
[{"v":92.7700000000001,"d":"92.77"},"A"]
[{"v":92.7800000000001,"d":"92.78"},"A"]
[{"v":92.7900000000001,"d":"92.79"},"A"]
[{"v":92.8000000000001,"d":"92.80"},"A"]
[{"v":92.8100000000001,"d":"92.81"},"A"]
[{"v":92.8200000000001,"d":"92.82"},"A"]
[{"v":92.8300000000001,"d":"92.83"},"A"]
[{"v":92.8400000000001,"d":"92.84"},"A"]
[{"v":92.8500000000001,"d":"92.85"},"A"]
[{"v":92.8600000000001,"d":"92.86"},"A"]
[{"v":92.8700000000001,"d":"92.87"},"A"]
[{"v":92.8800000000001,"d":"92.88"},"A"]
[{"v":92.8900000000001,"d":"92.89"},"A"]
[{"v":92.9000000000001,"d":"92.90"},"A"]
[{"v":92.9100000000001,"d":"92.91"},"A"]
[{"v":92.9200000000001,"d":"92.92"},"A"]
[{"v":92.9300000000001,"d":"92.93"},"A"]
[{"v":92.9400000000001,"d":"92.94"},"A"]
[{"v":92.9500000000001,"d":"92.95"},"A"]
[{"v":92.9600000000001,"d":"92.96"},"A"]
[{"v":92.9700000000001,"d":"92.97"},"A"]
[{"v":92.9800000000001,"d":"92.98"},"A"]
[{"v":92.9900000000001,"d":"92.99"},"A"]
[{"v":93.0000000000001,"d":"93.00"},"A"]
[{"v":93.0100000000001,"d":"93.01"},"A"]
[{"v":93.0200000000001,"d":"93.02"},"A"]
[{"v":93.0300000000001,"d":"93.03"},"A"]
[{"v":93.0400000000001,"d":"93.04"},"A"]
[{"v":93.0500000000001,"d":"93.05"},"A"]
[{"v":93.0600000000001,"d":"93.06"},"A"]
[{"v":93.0700000000001,"d":"93.07"},"A"]
[{"v":93.0800000000001,"d":"93.08"},"A"]
[{"v":93.0900000000001,"d":"93.09"},"A"]
[{"v":93.1000000000001,"d":"93.10"},"A"]
[{"v":93.1100000000001,"d":"93.11"},"A"]
[{"v":93.1200000000001,"d":"93.12"},"A"]
[{"v":93.1300000000001,"d":"93.13"},"A"]
[{"v":93.1400000000001,"d":"93.14"},"A"]
[{"v":93.1500000000001,"d":"93.15"},"A"]
[{"v":93.1600000000001,"d":"93.16"},"A"]
[{"v":93.1700000000001,"d":"93.17"},"A"]
[{"v":93.1800000000001,"d":"93.18"},"A"]
[{"v":93.1900000000001,"d":"93.19"},"A"]
[{"v":93.2000000000001,"d":"93.20"},"A"]
[{"v":93.2100000000001,"d":"93.21"},"A"]
[{"v":93.2200000000001,"d":"93.22"},"A"]
[{"v":93.2300000000001,"d":"93.23"},"A"]
[{"v":93.2400000000001,"d":"93.24"},"A"]
[{"v":93.2500000000001,"d":"93.25"},"A"]
[{"v":93.2600000000001,"d":"93.26"},"A"]
[{"v":93.2700000000001,"d":"93.27"},"A"]
[{"v":93.2800000000001,"d":"93.28"},"A"]
[{"v":93.2900000000001,"d":"93.29"},"A"]
[{"v":93.3000000000001,"d":"93.30"},"A"]
[{"v":93.3100000000001,"d":"93.31"},"A"]
[{"v":93.3200000000001,"d":"93.32"},"A"]
[{"v":93.3300000000001,"d":"93.33"},"A"]
[{"v":93.3400000000001,"d":"93.34"},"A"]
[{"v":93.3500000000001,"d":"93.35"},"A"]
[{"v":93.3600000000001,"d":"93.36"},"A"]
[{"v":93.3700000000001,"d":"93.37"},"A"]
[{"v":93.3800000000001,"d":"93.38"},"A"]
[{"v":93.3900000000001,"d":"93.39"},"A"]
[{"v":93.4000000000001,"d":"93.40"},"A"]
[{"v":93.4100000000001,"d":"93.41"},"A"]
[{"v":93.4200000000001,"d":"93.42"},"A"]
[{"v":93.4300000000001,"d":"93.43"},"A"]
[{"v":93.4400000000001,"d":"93.44"},"A"]
[{"v":93.4500000000001,"d":"93.45"},"A"]
[{"v":93.4600000000001,"d":"93.46"},"A"]
[{"v":93.4700000000001,"d":"93.47"},"A"]
[{"v":93.4800000000001,"d":"93.48"},"A"]
[{"v":93.4900000000001,"d":"93.49"},"A"]
[{"v":93.5000000000001,"d":"93.50"},"A"]
[{"v":93.5100000000001,"d":"93.51"},"A"]
[{"v":93.5200000000001,"d":"93.52"},"A"]
[{"v":93.5300000000001,"d":"93.53"},"A"]
[{"v":93.5400000000001,"d":"93.54"},"A"]
[{"v":93.5500000000001,"d":"93.55"},"A"]
[{"v":93.5600000000001,"d":"93.56"},"A"]
[{"v":93.5700000000001,"d":"93.57"},"A"]
[{"v":93.5800000000001,"d":"93.58"},"A"]
[{"v":93.5900000000001,"d":"93.59"},"A"]
[{"v":93.6000000000001,"d":"93.60"},"A"]
[{"v":93.6100000000001,"d":"93.61"},"A"]
[{"v":93.6200000000001,"d":"93.62"},"A"]
[{"v":93.6300000000001,"d":"93.63"},"A"]
[{"v":93.6400000000001,"d":"93.64"},"A"]
[{"v":93.6500000000001,"d":"93.65"},"A"]
[{"v":93.6600000000001,"d":"93.66"},"A"]
[{"v":93.6700000000001,"d":"93.67"},"A"]
[{"v":93.6800000000001,"d":"93.68"},"A"]
[{"v":93.6900000000001,"d":"93.69"},"A"]
[{"v":93.7000000000001,"d":"93.70"},"A"]
[{"v":93.7100000000001,"d":"93.71"},"A"]
[{"v":93.7200000000001,"d":"93.72"},"A"]
[{"v":93.7300000000001,"d":"93.73"},"A"]
[{"v":93.7400000000001,"d":"93.74"},"A"]
[{"v":93.7500000000001,"d":"93.75"},"A"]
[{"v":93.7600000000001,"d":"93.76"},"A"]
[{"v":93.7700000000001,"d":"93.77"},"A"]
[{"v":93.7800000000001,"d":"93.78"},"A"]
[{"v":93.7900000000001,"d":"93.79"},"A"]
[{"v":93.8000000000001,"d":"93.80"},"A"]
[{"v":93.8100000000001,"d":"93.81"},"A"]
[{"v":93.8200000000001,"d":"93.82"},"A"]
[{"v":93.8300000000001,"d":"93.83"},"A"]
[{"v":93.8400000000001,"d":"93.84"},"A"]
[{"v":93.8500000000001,"d":"93.85"},"A"]
[{"v":93.8600000000001,"d":"93.86"},"A"]
[{"v":93.8700000000001,"d":"93.87"},"A"]
[{"v":93.8800000000001,"d":"93.88"},"A"]
[{"v":93.8900000000001,"d":"93.89"},"A"]
[{"v":93.9000000000001,"d":"93.90"},"A"]
[{"v":93.9100000000001,"d":"93.91"},"A"]
[{"v":93.9200000000001,"d":"93.92"},"A"]
[{"v":93.9300000000001,"d":"93.93"},"A"]
[{"v":93.9400000000001,"d":"93.94"},"A"]
[{"v":93.9500000000001,"d":"93.95"},"A"]
[{"v":93.9600000000001,"d":"93.96"},"A"]
[{"v":93.9700000000001,"d":"93.97"},"A"]
[{"v":93.9800000000001,"d":"93.98"},"A"]
[{"v":93.9900000000001,"d":"93.99"},"A"]
[{"v":94.0000000000001,"d":"94.00"},"A"]
[{"v":94.0100000000001,"d":"94.01"},"A"]
[{"v":94.0200000000001,"d":"94.02"},"A"]
[{"v":94.0300000000001,"d":"94.03"},"A"]
[{"v":94.0400000000001,"d":"94.04"},"A"]
[{"v":94.0500000000001,"d":"94.05"},"A"]
[{"v":94.0600000000001,"d":"94.06"},"A"]
[{"v":94.0700000000001,"d":"94.07"},"A"]
[{"v":94.0800000000001,"d":"94.08"},"A"]
[{"v":94.0900000000001,"d":"94.09"},"A"]
[{"v":94.1000000000001,"d":"94.10"},"A"]
[{"v":94.1100000000001,"d":"94.11"},"A"]
[{"v":94.1200000000001,"d":"94.12"},"A"]
[{"v":94.1300000000001,"d":"94.13"},"A"]
[{"v":94.1400000000001,"d":"94.14"},"A"]
[{"v":94.1500000000001,"d":"94.15"},"A"]
[{"v":94.1600000000001,"d":"94.16"},"A"]
[{"v":94.1700000000001,"d":"94.17"},"A"]
[{"v":94.1800000000001,"d":"94.18"},"A"]
[{"v":94.1900000000001,"d":"94.19"},"A"]
[{"v":94.2000000000001,"d":"94.20"},"A"]
[{"v":94.2100000000001,"d":"94.21"},"A"]
[{"v":94.2200000000001,"d":"94.22"},"A"]
[{"v":94.2300000000001,"d":"94.23"},"A"]
[{"v":94.2400000000001,"d":"94.24"},"A"]
[{"v":94.2500000000001,"d":"94.25"},"A"]
[{"v":94.2600000000001,"d":"94.26"},"A"]
[{"v":94.2700000000001,"d":"94.27"},"A"]
[{"v":94.2800000000001,"d":"94.28"},"A"]
[{"v":94.2900000000001,"d":"94.29"},"A"]
[{"v":94.3000000000001,"d":"94.30"},"A"]
[{"v":94.3100000000001,"d":"94.31"},"A"]
[{"v":94.3200000000001,"d":"94.32"},"A"]
[{"v":94.3300000000001,"d":"94.33"},"A"]
[{"v":94.3400000000001,"d":"94.34"},"A"]
[{"v":94.3500000000001,"d":"94.35"},"A"]
[{"v":94.3600000000001,"d":"94.36"},"A"]
[{"v":94.3700000000001,"d":"94.37"},"A"]
[{"v":94.3800000000001,"d":"94.38"},"A"]
[{"v":94.3900000000001,"d":"94.39"},"A"]
[{"v":94.4000000000001,"d":"94.40"},"A"]
[{"v":94.4100000000001,"d":"94.41"},"A"]
[{"v":94.4200000000001,"d":"94.42"},"A"]
[{"v":94.4300000000001,"d":"94.43"},"A"]
[{"v":94.4400000000001,"d":"94.44"},"A"]
[{"v":94.4500000000001,"d":"94.45"},"A"]
[{"v":94.4600000000001,"d":"94.46"},"A"]
[{"v":94.4700000000001,"d":"94.47"},"A"]
[{"v":94.4800000000001,"d":"94.48"},"A"]
[{"v":94.4900000000001,"d":"94.49"},"A"]
[{"v":94.5000000000001,"d":"94.50"},"A"]
[{"v":94.5100000000001,"d":"94.51"},"A"]
[{"v":94.5200000000001,"d":"94.52"},"A"]
[{"v":94.5300000000001,"d":"94.53"},"A"]
[{"v":94.5400000000001,"d":"94.54"},"A"]
[{"v":94.5500000000001,"d":"94.55"},"A"]
[{"v":94.5600000000001,"d":"94.56"},"A"]
[{"v":94.5700000000001,"d":"94.57"},"A"]
[{"v":94.5800000000001,"d":"94.58"},"A"]
[{"v":94.5900000000001,"d":"94.59"},"A"]
[{"v":94.6000000000001,"d":"94.60"},"A"]
[{"v":94.6100000000001,"d":"94.61"},"A"]
[{"v":94.6200000000001,"d":"94.62"},"A"]
[{"v":94.6300000000001,"d":"94.63"},"A"]
[{"v":94.6400000000001,"d":"94.64"},"A"]
[{"v":94.6500000000001,"d":"94.65"},"A"]
[{"v":94.6600000000001,"d":"94.66"},"A"]
[{"v":94.6700000000001,"d":"94.67"},"A"]
[{"v":94.6800000000001,"d":"94.68"},"A"]
[{"v":94.6900000000001,"d":"94.69"},"A"]
[{"v":94.7000000000001,"d":"94.70"},"A"]
[{"v":94.7100000000001,"d":"94.71"},"A"]
[{"v":94.7200000000001,"d":"94.72"},"A"]
[{"v":94.7300000000001,"d":"94.73"},"A"]
[{"v":94.7400000000001,"d":"94.74"},"A"]
[{"v":94.7500000000001,"d":"94.75"},"A"]
[{"v":94.7600000000001,"d":"94.76"},"A"]
[{"v":94.7700000000001,"d":"94.77"},"A"]
[{"v":94.7800000000001,"d":"94.78"},"A"]
[{"v":94.7900000000001,"d":"94.79"},"A"]
[{"v":94.8000000000001,"d":"94.80"},"A"]
[{"v":94.8100000000001,"d":"94.81"},"A"]
[{"v":94.8200000000001,"d":"94.82"},"A"]
[{"v":94.8300000000001,"d":"94.83"},"A"]
[{"v":94.8400000000001,"d":"94.84"},"A"]
[{"v":94.8500000000001,"d":"94.85"},"A"]
[{"v":94.8600000000001,"d":"94.86"},"A"]
[{"v":94.8700000000001,"d":"94.87"},"A"]
[{"v":94.8800000000001,"d":"94.88"},"A"]
[{"v":94.8900000000001,"d":"94.89"},"A"]
[{"v":94.9000000000001,"d":"94.90"},"A"]
[{"v":94.9100000000001,"d":"94.91"},"A"]
[{"v":94.9200000000001,"d":"94.92"},"A"]
[{"v":94.9300000000001,"d":"94.93"},"A"]
[{"v":94.9400000000001,"d":"94.94"},"A"]
[{"v":94.9500000000001,"d":"94.95"},"A"]
[{"v":94.9600000000001,"d":"94.96"},"A"]
[{"v":94.9700000000001,"d":"94.97"},"A"]
[{"v":94.9800000000001,"d":"94.98"},"A"]
[{"v":94.9900000000001,"d":"94.99"},"A"]
[{"v":95.0000000000001,"d":"95.00"},"A"]
[{"v":95.0100000000001,"d":"95.01"},"A"]
[{"v":95.0200000000001,"d":"95.02"},"A"]
[{"v":95.0300000000001,"d":"95.03"},"A"]
[{"v":95.0400000000001,"d":"95.04"},"A"]
[{"v":95.0500000000001,"d":"95.05"},"A"]
[{"v":95.0600000000001,"d":"95.06"},"A"]
[{"v":95.0700000000001,"d":"95.07"},"A"]
[{"v":95.0800000000001,"d":"95.08"},"A"]
[{"v":95.0900000000001,"d":"95.09"},"A"]
[{"v":95.1000000000001,"d":"95.10"},"A"]
[{"v":95.1100000000001,"d":"95.11"},"A"]
[{"v":95.1200000000001,"d":"95.12"},"A"]
[{"v":95.1300000000001,"d":"95.13"},"A"]
[{"v":95.1400000000001,"d":"95.14"},"A"]
[{"v":95.1500000000001,"d":"95.15"},"A"]
[{"v":95.1600000000001,"d":"95.16"},"A"]
[{"v":95.1700000000001,"d":"95.17"},"A"]
[{"v":95.1800000000001,"d":"95.18"},"A"]
[{"v":95.1900000000001,"d":"95.19"},"A"]
[{"v":95.2000000000001,"d":"95.20"},"A"]
[{"v":95.2100000000001,"d":"95.21"},"A"]
[{"v":95.2200000000001,"d":"95.22"},"A"]
[{"v":95.2300000000001,"d":"95.23"},"A"]
[{"v":95.2400000000001,"d":"95.24"},"A"]
[{"v":95.2500000000001,"d":"95.25"},"A"]
[{"v":95.2600000000001,"d":"95.26"},"A"]
[{"v":95.2700000000001,"d":"95.27"},"A"]
[{"v":95.2800000000001,"d":"95.28"},"A"]
[{"v":95.2900000000001,"d":"95.29"},"A"]
[{"v":95.3000000000001,"d":"95.30"},"A"]
[{"v":95.3100000000001,"d":"95.31"},"A"]
[{"v":95.3200000000001,"d":"95.32"},"A"]
[{"v":95.3300000000001,"d":"95.33"},"A"]
[{"v":95.3400000000001,"d":"95.34"},"A"]
[{"v":95.3500000000001,"d":"95.35"},"A"]
[{"v":95.3600000000001,"d":"95.36"},"A"]
[{"v":95.3700000000001,"d":"95.37"},"A"]
[{"v":95.3800000000001,"d":"95.38"},"A"]
[{"v":95.3900000000001,"d":"95.39"},"A"]
[{"v":95.4000000000001,"d":"95.40"},"A"]
[{"v":95.4100000000001,"d":"95.41"},"A"]
[{"v":95.4200000000001,"d":"95.42"},"A"]
[{"v":95.4300000000001,"d":"95.43"},"A"]
[{"v":95.4400000000001,"d":"95.44"},"A"]
[{"v":95.4500000000001,"d":"95.45"},"A"]
[{"v":95.4600000000001,"d":"95.46"},"A"]
[{"v":95.4700000000001,"d":"95.47"},"A"]
[{"v":95.4800000000001,"d":"95.48"},"A"]
[{"v":95.4900000000001,"d":"95.49"},"A"]
[{"v":95.5000000000001,"d":"95.50"},"A"]
[{"v":95.5100000000001,"d":"95.51"},"A"]
[{"v":95.5200000000001,"d":"95.52"},"A"]
[{"v":95.5300000000001,"d":"95.53"},"A"]
[{"v":95.5400000000001,"d":"95.54"},"A"]
[{"v":95.5500000000001,"d":"95.55"},"A"]
[{"v":95.5600000000001,"d":"95.56"},"A"]
[{"v":95.5700000000001,"d":"95.57"},"A"]
[{"v":95.5800000000001,"d":"95.58"},"A"]
[{"v":95.5900000000001,"d":"95.59"},"A"]
[{"v":95.6000000000001,"d":"95.60"},"A"]
[{"v":95.6100000000001,"d":"95.61"},"A"]
[{"v":95.6200000000001,"d":"95.62"},"A"]
[{"v":95.6300000000001,"d":"95.63"},"A"]
[{"v":95.6400000000001,"d":"95.64"},"A"]
[{"v":95.6500000000001,"d":"95.65"},"A"]
[{"v":95.6600000000001,"d":"95.66"},"A"]
[{"v":95.6700000000001,"d":"95.67"},"A"]
[{"v":95.6800000000001,"d":"95.68"},"A"]
[{"v":95.6900000000001,"d":"95.69"},"A"]
[{"v":95.7000000000001,"d":"95.70"},"A"]
[{"v":95.7100000000001,"d":"95.71"},"A"]
[{"v":95.7200000000001,"d":"95.72"},"A"]
[{"v":95.7300000000001,"d":"95.73"},"A"]
[{"v":95.7400000000001,"d":"95.74"},"A"]
[{"v":95.7500000000001,"d":"95.75"},"A"]
[{"v":95.7600000000001,"d":"95.76"},"A"]
[{"v":95.7700000000001,"d":"95.77"},"A"]
[{"v":95.7800000000001,"d":"95.78"},"A"]
[{"v":95.7900000000001,"d":"95.79"},"A"]
[{"v":95.8000000000001,"d":"95.80"},"A"]
[{"v":95.8100000000001,"d":"95.81"},"A"]
[{"v":95.8200000000001,"d":"95.82"},"A"]
[{"v":95.8300000000001,"d":"95.83"},"A"]
[{"v":95.8400000000001,"d":"95.84"},"A"]
[{"v":95.8500000000001,"d":"95.85"},"A"]
[{"v":95.8600000000001,"d":"95.86"},"A"]
[{"v":95.8700000000001,"d":"95.87"},"A"]
[{"v":95.8800000000001,"d":"95.88"},"A"]
[{"v":95.8900000000001,"d":"95.89"},"A"]
[{"v":95.9000000000001,"d":"95.90"},"A"]
[{"v":95.9100000000001,"d":"95.91"},"A"]
[{"v":95.9200000000001,"d":"95.92"},"A"]
[{"v":95.9300000000001,"d":"95.93"},"A"]
[{"v":95.9400000000001,"d":"95.94"},"A"]
[{"v":95.9500000000001,"d":"95.95"},"A"]
[{"v":95.9600000000001,"d":"95.96"},"A"]
[{"v":95.9700000000001,"d":"95.97"},"A"]
[{"v":95.9800000000001,"d":"95.98"},"A"]
[{"v":95.9900000000001,"d":"95.99"},"A"]
[{"v":96.0000000000001,"d":"96.00"},"A"]
[{"v":96.0100000000001,"d":"96.01"},"A"]
[{"v":96.0200000000001,"d":"96.02"},"A"]
[{"v":96.0300000000001,"d":"96.03"},"A"]
[{"v":96.0400000000001,"d":"96.04"},"A"]
[{"v":96.0500000000001,"d":"96.05"},"A"]
[{"v":96.0600000000001,"d":"96.06"},"A"]
[{"v":96.0700000000001,"d":"96.07"},"A"]
[{"v":96.0800000000001,"d":"96.08"},"A"]
[{"v":96.0900000000001,"d":"96.09"},"A"]
[{"v":96.1000000000001,"d":"96.10"},"A"]
[{"v":96.1100000000001,"d":"96.11"},"A"]
[{"v":96.1200000000001,"d":"96.12"},"A"]
[{"v":96.1300000000001,"d":"96.13"},"A"]
[{"v":96.1400000000001,"d":"96.14"},"A"]
[{"v":96.1500000000001,"d":"96.15"},"A"]
[{"v":96.1600000000001,"d":"96.16"},"A"]
[{"v":96.1700000000001,"d":"96.17"},"A"]
[{"v":96.1800000000001,"d":"96.18"},"A"]
[{"v":96.1900000000001,"d":"96.19"},"A"]
[{"v":96.2000000000001,"d":"96.20"},"A"]
[{"v":96.2100000000001,"d":"96.21"},"A"]
[{"v":96.2200000000001,"d":"96.22"},"A"]
[{"v":96.2300000000001,"d":"96.23"},"A"]
[{"v":96.2400000000001,"d":"96.24"},"A"]
[{"v":96.2500000000001,"d":"96.25"},"A"]
[{"v":96.2600000000001,"d":"96.26"},"A"]
[{"v":96.2700000000001,"d":"96.27"},"A"]
[{"v":96.2800000000001,"d":"96.28"},"A"]
[{"v":96.2900000000001,"d":"96.29"},"A"]
[{"v":96.3000000000001,"d":"96.30"},"A"]
[{"v":96.3100000000001,"d":"96.31"},"A"]
[{"v":96.3200000000001,"d":"96.32"},"A"]
[{"v":96.3300000000001,"d":"96.33"},"A"]
[{"v":96.3400000000001,"d":"96.34"},"A"]
[{"v":96.3500000000001,"d":"96.35"},"A"]
[{"v":96.3600000000001,"d":"96.36"},"A"]
[{"v":96.3700000000001,"d":"96.37"},"A"]
[{"v":96.3800000000001,"d":"96.38"},"A"]
[{"v":96.3900000000001,"d":"96.39"},"A"]
[{"v":96.4000000000001,"d":"96.40"},"A"]
[{"v":96.4100000000001,"d":"96.41"},"A"]
[{"v":96.4200000000001,"d":"96.42"},"A"]
[{"v":96.4300000000001,"d":"96.43"},"A"]
[{"v":96.4400000000001,"d":"96.44"},"A"]
[{"v":96.4500000000001,"d":"96.45"},"A"]
[{"v":96.4600000000001,"d":"96.46"},"A"]
[{"v":96.4700000000001,"d":"96.47"},"A"]
[{"v":96.4800000000001,"d":"96.48"},"A"]
[{"v":96.4900000000001,"d":"96.49"},"A"]
[{"v":96.5000000000001,"d":"96.50"},"A"]
[{"v":96.5100000000001,"d":"96.51"},"A"]
[{"v":96.5200000000001,"d":"96.52"},"A"]
[{"v":96.5300000000001,"d":"96.53"},"A"]
[{"v":96.5400000000001,"d":"96.54"},"A"]
[{"v":96.5500000000001,"d":"96.55"},"A"]
[{"v":96.5600000000001,"d":"96.56"},"A"]
[{"v":96.5700000000001,"d":"96.57"},"A"]
[{"v":96.5800000000001,"d":"96.58"},"A"]
[{"v":96.5900000000001,"d":"96.59"},"A"]
[{"v":96.6000000000001,"d":"96.60"},"A"]
[{"v":96.6100000000001,"d":"96.61"},"A"]
[{"v":96.6200000000001,"d":"96.62"},"A"]
[{"v":96.6300000000001,"d":"96.63"},"A"]
[{"v":96.6400000000001,"d":"96.64"},"A"]
[{"v":96.6500000000001,"d":"96.65"},"A"]
[{"v":96.6600000000001,"d":"96.66"},"A"]
[{"v":96.6700000000001,"d":"96.67"},"A"]
[{"v":96.6800000000001,"d":"96.68"},"A"]
[{"v":96.6900000000001,"d":"96.69"},"A"]
[{"v":96.7000000000001,"d":"96.70"},"A"]
[{"v":96.7100000000001,"d":"96.71"},"A"]
[{"v":96.7200000000001,"d":"96.72"},"A"]
[{"v":96.7300000000001,"d":"96.73"},"A"]
[{"v":96.7400000000001,"d":"96.74"},"A"]
[{"v":96.7500000000001,"d":"96.75"},"A"]
[{"v":96.7600000000001,"d":"96.76"},"A"]
[{"v":96.7700000000001,"d":"96.77"},"A"]
[{"v":96.7800000000001,"d":"96.78"},"A"]
[{"v":96.7900000000001,"d":"96.79"},"A"]
[{"v":96.8000000000001,"d":"96.80"},"A"]
[{"v":96.8100000000001,"d":"96.81"},"A"]
[{"v":96.8200000000001,"d":"96.82"},"A"]
[{"v":96.8300000000001,"d":"96.83"},"A"]
[{"v":96.8400000000001,"d":"96.84"},"A"]
[{"v":96.8500000000001,"d":"96.85"},"A"]
[{"v":96.8600000000001,"d":"96.86"},"A"]
[{"v":96.8700000000001,"d":"96.87"},"A"]
[{"v":96.8800000000001,"d":"96.88"},"A"]
[{"v":96.8900000000001,"d":"96.89"},"A"]
[{"v":96.9000000000001,"d":"96.90"},"A"]
[{"v":96.9100000000001,"d":"96.91"},"A"]
[{"v":96.9200000000001,"d":"96.92"},"A"]
[{"v":96.9300000000001,"d":"96.93"},"A"]
[{"v":96.9400000000001,"d":"96.94"},"A"]
[{"v":96.9500000000001,"d":"96.95"},"A"]
[{"v":96.9600000000001,"d":"96.96"},"A"]
[{"v":96.9700000000001,"d":"96.97"},"A"]
[{"v":96.9800000000001,"d":"96.98"},"A"]
[{"v":96.9900000000001,"d":"96.99"},"A"]
[{"v":97.0000000000001,"d":"97.00"},"A"]
[{"v":97.0100000000001,"d":"97.01"},"A"]
[{"v":97.0200000000001,"d":"97.02"},"A"]
[{"v":97.0300000000001,"d":"97.03"},"A"]
[{"v":97.0400000000001,"d":"97.04"},"A"]
[{"v":97.0500000000001,"d":"97.05"},"A"]
[{"v":97.0600000000001,"d":"97.06"},"A"]
[{"v":97.0700000000001,"d":"97.07"},"A"]
[{"v":97.0800000000001,"d":"97.08"},"A"]
[{"v":97.0900000000001,"d":"97.09"},"A"]
[{"v":97.1000000000001,"d":"97.10"},"A"]
[{"v":97.1100000000001,"d":"97.11"},"A"]
[{"v":97.1200000000001,"d":"97.12"},"A"]
[{"v":97.1300000000001,"d":"97.13"},"A"]
[{"v":97.1400000000001,"d":"97.14"},"A"]
[{"v":97.1500000000001,"d":"97.15"},"A"]
[{"v":97.1600000000001,"d":"97.16"},"A"]
[{"v":97.1700000000001,"d":"97.17"},"A"]
[{"v":97.1800000000001,"d":"97.18"},"A"]
[{"v":97.1900000000001,"d":"97.19"},"A"]
[{"v":97.2000000000001,"d":"97.20"},"A"]
[{"v":97.2100000000001,"d":"97.21"},"A"]
[{"v":97.2200000000001,"d":"97.22"},"A"]
[{"v":97.2300000000001,"d":"97.23"},"A"]
[{"v":97.2400000000001,"d":"97.24"},"A"]
[{"v":97.2500000000001,"d":"97.25"},"A"]
[{"v":97.2600000000001,"d":"97.26"},"A"]
[{"v":97.2700000000001,"d":"97.27"},"A"]
[{"v":97.2800000000001,"d":"97.28"},"A"]
[{"v":97.2900000000001,"d":"97.29"},"A"]
[{"v":97.3000000000001,"d":"97.30"},"A"]
[{"v":97.3100000000001,"d":"97.31"},"A"]
[{"v":97.3200000000001,"d":"97.32"},"A"]
[{"v":97.3300000000001,"d":"97.33"},"A"]
[{"v":97.3400000000001,"d":"97.34"},"A"]
[{"v":97.3500000000001,"d":"97.35"},"A"]
[{"v":97.3600000000001,"d":"97.36"},"A"]
[{"v":97.3700000000001,"d":"97.37"},"A"]
[{"v":97.3800000000001,"d":"97.38"},"A"]
[{"v":97.3900000000001,"d":"97.39"},"A"]
[{"v":97.4000000000001,"d":"97.40"},"A"]
[{"v":97.4100000000001,"d":"97.41"},"A"]
[{"v":97.4200000000001,"d":"97.42"},"A"]
[{"v":97.4300000000001,"d":"97.43"},"A"]
[{"v":97.4400000000001,"d":"97.44"},"A"]
[{"v":97.4500000000001,"d":"97.45"},"A"]
[{"v":97.4600000000001,"d":"97.46"},"A"]
[{"v":97.4700000000001,"d":"97.47"},"A"]
[{"v":97.4800000000001,"d":"97.48"},"A"]
[{"v":97.4900000000001,"d":"97.49"},"A"]
[{"v":97.5000000000001,"d":"97.50"},"A"]
[{"v":97.5100000000001,"d":"97.51"},"A"]
[{"v":97.5200000000001,"d":"97.52"},"A"]
[{"v":97.5300000000001,"d":"97.53"},"A"]
[{"v":97.5400000000001,"d":"97.54"},"A"]
[{"v":97.5500000000001,"d":"97.55"},"A"]
[{"v":97.5600000000001,"d":"97.56"},"A"]
[{"v":97.5700000000001,"d":"97.57"},"A"]
[{"v":97.5800000000001,"d":"97.58"},"A"]
[{"v":97.5900000000001,"d":"97.59"},"A"]
[{"v":97.6000000000001,"d":"97.60"},"A"]
[{"v":97.6100000000001,"d":"97.61"},"A"]
[{"v":97.6200000000001,"d":"97.62"},"A"]
[{"v":97.6300000000001,"d":"97.63"},"A"]
[{"v":97.6400000000001,"d":"97.64"},"A"]
[{"v":97.6500000000001,"d":"97.65"},"A"]
[{"v":97.6600000000001,"d":"97.66"},"A"]
[{"v":97.6700000000001,"d":"97.67"},"A"]
[{"v":97.6800000000001,"d":"97.68"},"A"]
[{"v":97.6900000000001,"d":"97.69"},"A"]
[{"v":97.7000000000001,"d":"97.70"},"A"]
[{"v":97.7100000000001,"d":"97.71"},"A"]
[{"v":97.7200000000001,"d":"97.72"},"A"]
[{"v":97.7300000000001,"d":"97.73"},"A"]
[{"v":97.7400000000001,"d":"97.74"},"A"]
[{"v":97.7500000000001,"d":"97.75"},"A"]
[{"v":97.7600000000001,"d":"97.76"},"A"]
[{"v":97.7700000000001,"d":"97.77"},"A"]
[{"v":97.7800000000001,"d":"97.78"},"A"]
[{"v":97.7900000000001,"d":"97.79"},"A"]
[{"v":97.8000000000001,"d":"97.80"},"A"]
[{"v":97.8100000000001,"d":"97.81"},"A"]
[{"v":97.8200000000001,"d":"97.82"},"A"]
[{"v":97.8300000000001,"d":"97.83"},"A"]
[{"v":97.8400000000001,"d":"97.84"},"A"]
[{"v":97.8500000000001,"d":"97.85"},"A"]
[{"v":97.8600000000001,"d":"97.86"},"A"]
[{"v":97.8700000000001,"d":"97.87"},"A"]
[{"v":97.8800000000001,"d":"97.88"},"A"]
[{"v":97.8900000000001,"d":"97.89"},"A"]
[{"v":97.9000000000001,"d":"97.90"},"A"]
[{"v":97.9100000000001,"d":"97.91"},"A"]
[{"v":97.9200000000001,"d":"97.92"},"A"]
[{"v":97.9300000000001,"d":"97.93"},"A"]
[{"v":97.9400000000001,"d":"97.94"},"A"]
[{"v":97.9500000000001,"d":"97.95"},"A"]
[{"v":97.9600000000001,"d":"97.96"},"A"]
[{"v":97.9700000000001,"d":"97.97"},"A"]
[{"v":97.9800000000001,"d":"97.98"},"A"]
[{"v":97.9900000000001,"d":"97.99"},"A"]
[{"v":98.0000000000001,"d":"98.00"},"A"]
[{"v":98.0100000000001,"d":"98.01"},"A"]
[{"v":98.0200000000001,"d":"98.02"},"A"]
[{"v":98.0300000000001,"d":"98.03"},"A"]
[{"v":98.0400000000001,"d":"98.04"},"A"]
[{"v":98.0500000000001,"d":"98.05"},"A"]
[{"v":98.0600000000001,"d":"98.06"},"A"]
[{"v":98.0700000000001,"d":"98.07"},"A"]
[{"v":98.0800000000001,"d":"98.08"},"A"]
[{"v":98.0900000000001,"d":"98.09"},"A"]
[{"v":98.1000000000001,"d":"98.10"},"A"]
[{"v":98.1100000000001,"d":"98.11"},"A"]
[{"v":98.1200000000001,"d":"98.12"},"A"]
[{"v":98.1300000000001,"d":"98.13"},"A"]
[{"v":98.1400000000001,"d":"98.14"},"A"]
[{"v":98.1500000000001,"d":"98.15"},"A"]
[{"v":98.1600000000001,"d":"98.16"},"A"]
[{"v":98.1700000000001,"d":"98.17"},"A"]
[{"v":98.1800000000001,"d":"98.18"},"A"]
[{"v":98.1900000000001,"d":"98.19"},"A"]
[{"v":98.2000000000001,"d":"98.20"},"A"]
[{"v":98.2100000000001,"d":"98.21"},"A"]
[{"v":98.2200000000001,"d":"98.22"},"A"]
[{"v":98.2300000000001,"d":"98.23"},"A"]
[{"v":98.2400000000001,"d":"98.24"},"A"]
[{"v":98.2500000000001,"d":"98.25"},"A"]
[{"v":98.2600000000001,"d":"98.26"},"A"]
[{"v":98.2700000000001,"d":"98.27"},"A"]
[{"v":98.2800000000001,"d":"98.28"},"A"]
[{"v":98.2900000000001,"d":"98.29"},"A"]
[{"v":98.3000000000001,"d":"98.30"},"A"]
[{"v":98.3100000000001,"d":"98.31"},"A"]
[{"v":98.3200000000001,"d":"98.32"},"A"]
[{"v":98.3300000000001,"d":"98.33"},"A"]
[{"v":98.3400000000001,"d":"98.34"},"A"]
[{"v":98.3500000000001,"d":"98.35"},"A"]
[{"v":98.3600000000001,"d":"98.36"},"A"]
[{"v":98.3700000000001,"d":"98.37"},"A"]
[{"v":98.3800000000001,"d":"98.38"},"A"]
[{"v":98.3900000000001,"d":"98.39"},"A"]
[{"v":98.4000000000001,"d":"98.40"},"A"]
[{"v":98.4100000000001,"d":"98.41"},"A"]
[{"v":98.4200000000001,"d":"98.42"},"A"]
[{"v":98.4300000000001,"d":"98.43"},"A"]
[{"v":98.4400000000001,"d":"98.44"},"A"]
[{"v":98.4500000000001,"d":"98.45"},"A"]
[{"v":98.4600000000001,"d":"98.46"},"A"]
[{"v":98.4700000000001,"d":"98.47"},"A"]
[{"v":98.4800000000001,"d":"98.48"},"A"]
[{"v":98.4900000000001,"d":"98.49"},"A"]
[{"v":98.5000000000001,"d":"98.50"},"A"]
[{"v":98.5100000000001,"d":"98.51"},"A"]
[{"v":98.5200000000001,"d":"98.52"},"A"]
[{"v":98.5300000000001,"d":"98.53"},"A"]
[{"v":98.5400000000001,"d":"98.54"},"A"]
[{"v":98.5500000000001,"d":"98.55"},"A"]
[{"v":98.5600000000001,"d":"98.56"},"A"]
[{"v":98.5700000000001,"d":"98.57"},"A"]
[{"v":98.5800000000001,"d":"98.58"},"A"]
[{"v":98.5900000000001,"d":"98.59"},"A"]
[{"v":98.6000000000001,"d":"98.60"},"A"]
[{"v":98.6100000000001,"d":"98.61"},"A"]
[{"v":98.6200000000001,"d":"98.62"},"A"]
[{"v":98.6300000000001,"d":"98.63"},"A"]
[{"v":98.6400000000001,"d":"98.64"},"A"]
[{"v":98.6500000000001,"d":"98.65"},"A"]
[{"v":98.6600000000001,"d":"98.66"},"A"]
[{"v":98.6700000000001,"d":"98.67"},"A"]
[{"v":98.6800000000001,"d":"98.68"},"A"]
[{"v":98.6900000000001,"d":"98.69"},"A"]
[{"v":98.7000000000001,"d":"98.70"},"A"]
[{"v":98.7100000000001,"d":"98.71"},"A"]
[{"v":98.7200000000001,"d":"98.72"},"A"]
[{"v":98.7300000000001,"d":"98.73"},"A"]
[{"v":98.7400000000001,"d":"98.74"},"A"]
[{"v":98.7500000000001,"d":"98.75"},"A"]
[{"v":98.7600000000001,"d":"98.76"},"A"]
[{"v":98.7700000000001,"d":"98.77"},"A"]
[{"v":98.7800000000001,"d":"98.78"},"A"]
[{"v":98.7900000000001,"d":"98.79"},"A"]
[{"v":98.8000000000001,"d":"98.80"},"A"]
[{"v":98.8100000000001,"d":"98.81"},"A"]
[{"v":98.8200000000001,"d":"98.82"},"A"]
[{"v":98.8300000000001,"d":"98.83"},"A"]
[{"v":98.8400000000001,"d":"98.84"},"A"]
[{"v":98.8500000000001,"d":"98.85"},"A"]
[{"v":98.8600000000001,"d":"98.86"},"A"]
[{"v":98.8700000000001,"d":"98.87"},"A"]
[{"v":98.8800000000001,"d":"98.88"},"A"]
[{"v":98.8900000000001,"d":"98.89"},"A"]
[{"v":98.9000000000001,"d":"98.90"},"A"]
[{"v":98.9100000000001,"d":"98.91"},"A"]
[{"v":98.9200000000001,"d":"98.92"},"A"]
[{"v":98.9300000000001,"d":"98.93"},"A"]
[{"v":98.9400000000001,"d":"98.94"},"A"]
[{"v":98.9500000000001,"d":"98.95"},"A"]
[{"v":98.9600000000001,"d":"98.96"},"A"]
[{"v":98.9700000000001,"d":"98.97"},"A"]
[{"v":98.9800000000001,"d":"98.98"},"A"]
[{"v":98.9900000000001,"d":"98.99"},"A"]
[{"v":99.0000000000001,"d":"99.00"},"A"]
[{"v":99.0100000000001,"d":"99.01"},"A"]
[{"v":99.0200000000001,"d":"99.02"},"A"]
[{"v":99.0300000000001,"d":"99.03"},"A"]
[{"v":99.0400000000001,"d":"99.04"},"A"]
[{"v":99.0500000000001,"d":"99.05"},"A"]
[{"v":99.0600000000001,"d":"99.06"},"A"]
[{"v":99.0700000000001,"d":"99.07"},"A"]
[{"v":99.0800000000001,"d":"99.08"},"A"]
[{"v":99.0900000000001,"d":"99.09"},"A"]
[{"v":99.1000000000001,"d":"99.10"},"A"]
[{"v":99.1100000000001,"d":"99.11"},"A"]
[{"v":99.1200000000001,"d":"99.12"},"A"]
[{"v":99.1300000000001,"d":"99.13"},"A"]
[{"v":99.1400000000001,"d":"99.14"},"A"]
[{"v":99.1500000000001,"d":"99.15"},"A"]
[{"v":99.1600000000001,"d":"99.16"},"A"]
[{"v":99.1700000000001,"d":"99.17"},"A"]
[{"v":99.1800000000001,"d":"99.18"},"A"]
[{"v":99.1900000000001,"d":"99.19"},"A"]
[{"v":99.2000000000001,"d":"99.20"},"A"]
[{"v":99.2100000000001,"d":"99.21"},"A"]
[{"v":99.2200000000001,"d":"99.22"},"A"]
[{"v":99.2300000000001,"d":"99.23"},"A"]
[{"v":99.2400000000001,"d":"99.24"},"A"]
[{"v":99.2500000000001,"d":"99.25"},"A"]
[{"v":99.2600000000001,"d":"99.26"},"A"]
[{"v":99.2700000000001,"d":"99.27"},"A"]
[{"v":99.2800000000001,"d":"99.28"},"A"]
[{"v":99.2900000000001,"d":"99.29"},"A"]
[{"v":99.3000000000001,"d":"99.30"},"A"]
[{"v":99.3100000000001,"d":"99.31"},"A"]
[{"v":99.3200000000001,"d":"99.32"},"A"]
[{"v":99.3300000000001,"d":"99.33"},"A"]
[{"v":99.3400000000001,"d":"99.34"},"A"]
[{"v":99.3500000000001,"d":"99.35"},"A"]
[{"v":99.3600000000001,"d":"99.36"},"A"]
[{"v":99.3700000000001,"d":"99.37"},"A"]
[{"v":99.3800000000001,"d":"99.38"},"A"]
[{"v":99.3900000000001,"d":"99.39"},"A"]
[{"v":99.4000000000001,"d":"99.40"},"A"]
[{"v":99.4100000000001,"d":"99.41"},"A"]
[{"v":99.4200000000001,"d":"99.42"},"A"]
[{"v":99.4300000000001,"d":"99.43"},"A"]
[{"v":99.4400000000001,"d":"99.44"},"A"]
[{"v":99.4500000000001,"d":"99.45"},"A"]
[{"v":99.4600000000001,"d":"99.46"},"A"]
[{"v":99.4700000000001,"d":"99.47"},"A"]
[{"v":99.4800000000001,"d":"99.48"},"A"]
[{"v":99.4900000000001,"d":"99.49"},"A"]
[{"v":99.5000000000001,"d":"99.50"},"A"]
[{"v":99.5100000000001,"d":"99.51"},"A"]
[{"v":99.5200000000001,"d":"99.52"},"A"]
[{"v":99.5300000000001,"d":"99.53"},"A"]
[{"v":99.5400000000001,"d":"99.54"},"A"]
[{"v":99.5500000000001,"d":"99.55"},"A"]
[{"v":99.5600000000001,"d":"99.56"},"A"]
[{"v":99.5700000000001,"d":"99.57"},"A"]
[{"v":99.5800000000001,"d":"99.58"},"A"]
[{"v":99.5900000000001,"d":"99.59"},"A"]
[{"v":99.6000000000001,"d":"99.60"},"A"]
[{"v":99.6100000000001,"d":"99.61"},"A"]
[{"v":99.6200000000001,"d":"99.62"},"A"]
[{"v":99.6300000000001,"d":"99.63"},"A"]
[{"v":99.6400000000001,"d":"99.64"},"A"]
[{"v":99.6500000000001,"d":"99.65"},"A"]
[{"v":99.6600000000001,"d":"99.66"},"A"]
[{"v":99.6700000000001,"d":"99.67"},"A"]
[{"v":99.6800000000001,"d":"99.68"},"A"]
[{"v":99.6900000000001,"d":"99.69"},"A"]
[{"v":99.7000000000001,"d":"99.70"},"A"]
[{"v":99.7100000000001,"d":"99.71"},"A"]
[{"v":99.7200000000001,"d":"99.72"},"A"]
[{"v":99.7300000000001,"d":"99.73"},"A"]
[{"v":99.7400000000001,"d":"99.74"},"A"]
[{"v":99.7500000000001,"d":"99.75"},"A"]
[{"v":99.7600000000001,"d":"99.76"},"A"]
[{"v":99.7700000000001,"d":"99.77"},"A"]
[{"v":99.7800000000001,"d":"99.78"},"A"]
[{"v":99.7900000000001,"d":"99.79"},"A"]
[{"v":99.8000000000001,"d":"99.80"},"A"]
[{"v":99.8100000000001,"d":"99.81"},"A"]
[{"v":99.8200000000001,"d":"99.82"},"A"]
[{"v":99.8300000000001,"d":"99.83"},"A"]
[{"v":99.8400000000001,"d":"99.84"},"A"]
[{"v":99.8500000000001,"d":"99.85"},"A"]
[{"v":99.8600000000001,"d":"99.86"},"A"]
[{"v":99.8700000000001,"d":"99.87"},"A"]
[{"v":99.8800000000001,"d":"99.88"},"A"]
[{"v":99.8900000000001,"d":"99.89"},"A"]
[{"v":99.9000000000001,"d":"99.90"},"A"]
[{"v":99.9100000000001,"d":"99.91"},"A"]
[{"v":99.9200000000001,"d":"99.92"},"A"]
[{"v":99.9300000000001,"d":"99.93"},"A"]
[{"v":99.9400000000001,"d":"99.94"},"A"]
[{"v":99.9500000000001,"d":"99.95"},"A"]
[{"v":99.9600000000001,"d":"99.96"},"A"]
[{"v":99.9700000000001,"d":"99.97"},"A"]
[{"v":99.9800000000001,"d":"99.98"},"A"]
[{"v":99.9900000000001,"d":"99.99"},"A"]
[{"v":100,"d":"100.00"},"A"]